{"text_format":"2","workbook":"xlsx","n_sheets":3,"sheets":["Summary","Picks","Chart"],"not_rendered":{"charts":2,"images":0,"macros":0,"external_links":0,"defined_names":17,"comments":0,"pivot_tables":0},"unopened":[{"sheet":"Chart","index":2,"reason":"not_a_worksheet"}],"bounds":{"document_bytes":16777216,"sheet_cells":100000,"run_cost":"one","rows_first":2000,"rows_last":500,"rows_between":2000,"halvings":0,"cell_chars":16384,"cell_head_chars":4096},"cells_cut":0,"cells_raw":0,"read":"whole","date_system":"1900"}

{"sheet":"Summary","index":0,"n_rows":48,"n_cols":10,"rows_kept":48,"cut":false,"hidden":false,"merged":[[2,1,12,1],[2,2,3,2],[5,2,6,2],[8,2,9,2],[11,2,12,2]]}
[]
[]
[null,"Picks","Selections","W","L","S/R","Plays","Days","Ave Plays","Ave Odds"]
[null,null,null,{"$f":"SUM(IF(Picks!$F$2:$F$1001=\"Y\",1,0))","v":35},{"$f":"SUM(IF(Picks!$F$2:$F$1001=\"N\",1,0))","v":71},{"$f":"IF(SUM(D4:E4)>0,D4/SUM(D4:E4),0)","v":0.330188679245283},{"$f":"SUM(IF(Picks!$B$2:$B$1001<>\"\",1,0))","v":85},{"$f":"SUM(IF(Picks!$K$2:$K$1001=\"Y\",1,0))","v":12},{"$f":"IF(H4>0,ROUND(G4/H4,0),0)","v":7},{"$f":"IF(D4>0,SUM(IF(Picks!$F$2:$F$1001=\"Y\",Picks!$E$2:$E$1001,0))/D4,0)","v":2.7557142857142858}]
[]
[null,null,"Rising Floor","Initial Bank","Current","Growth","Stakes","ROI","Ave Plays"]
[null,null,null,1000,{"$f":"Picks!$H$1001","v":1416.7000000000005},{"$f":"(E7-D7)/D7","v":0.41670000000000051},{"$f":"SUM(IF(Picks!$F$2:$F$1001<>\"\",Picks!$D$2:$D$1001,0))","v":1486},{"$f":"IF(G7>0,(Picks!$H$1001-D7)/G7,0)","v":0.28041722745625874},5]
[]
[null,null,"Even Stakes","Initial Bank","Current","Growth","Stakes","ROI"]
[null,null,null,{"$f":"D7","v":1000},{"$f":"IF(SUM(D4:E4)>0,D7+(D4*(J4-1)-E4)*G10/SUM(D4:E4),D7)","v":866.11981132075471},{"$f":"(E10-D7)/D7","v":-0.13388018867924528},{"$f":"G7","v":1486},{"$f":"IF(G10>0,(E10-D7)/G10,0)","v":-9.0094339622641517E-2}]
[]
[null,null,"Fixed Stakes","Initial Bank","Current","Growth","Stakes","ROI"]
[null,null,null,{"$f":"D10","v":1000},{"$f":"IF(SUM(D4:E4)>0,D13+(D4*(J4-1)-E4)*(G13/SUM(D4:E4)),D13)","v":904.5},{"$f":"(E13-D10)/D10","v":-9.5500000000000002E-2},{"$f":"SUM(IF(Picks!$F$2:$F$1001<>\"\",1,0)*1%*D10)","v":1060},{"$f":"IF(G13>0,(E13-D10)/G13,0)","v":-9.0094339622641503E-2}]
[]
[]
[]
[null,"Spreadsheet Operation: Summary Worksheet Currently set up for an initial bank"]
[null,"of 1000 units (cell D7) and with a divisor/ average plays;"]
[null,"loss recovery setting of 5 (cell I7) - simply amend these to"]
[null,"suit."]
[]
[null,"All cells shaded in yellow should be left untouched."]
[]
[null,"Note that the choice of divisor setting depends on a number of factors including"]
[null,"your strike rate, typical number of plays per day, attitude to risk,"]
[null,"typical odds of selections, however a setting of between 6 and 10"]
[null,"is usually a good starting point - if in doubt the best approach is to"]
[null,"paper trade for a period and then review which setting would have"]
[null,"produced the best profit without hitting the 5% cap on stake size, then"]
[null,"use this value or this value plus one or two for safety."]
[]
[null,"Selections Worksheet; Initially bets will be at 1% of the current floor value"]
[null,"(equal to starting bank) and are calculated once per day, such that on"]
[null,"days with multiple selections you will be staking the same on each"]
[null,"selection. If you make a profit that day the next set of stakes will"]
[null,"again be at 1% of the floor value (although this will now be a larger"]
[null,"monetary figure as the floor will have risen to the level of the now"]
[null,"larger bank)."]
[]
[null,"If you make a loss, the stakes for the next set of"]
[null,"selections are calculated as follows 1% of floor + (floor - current bank)"]
[null,"\"average plays\" setting, subject to a maximum value of 5% of current bank."]
[]
[null,"Simply enter the details of each bet in columns B and C,"]
[null,"the price in column E and use the stake calculated in column D."]
[null,"Enter \"Y\" & \"N\" or \"-\" in column F and the stake for the next bet"]
[null,"and the various elements of Chart graphs will be"]
[null,"automatically (re-)calculated."]

{"sheet":"Picks","index":1,"n_rows":1001,"n_cols":13,"rows_kept":1001,"cut":false,"hidden":false,"merged":[]}
["#","Date","Selection","Stake","Odds","Win","Return","Bank","Count","Floor","New","Stakes","Notes"]
[1,"2013-01-01",null,{"$f":"Summary!D7*1%","v":10},2.5,{"$f":"IF(E2>0,\"Y\",\"N\")","v":"Y"},{"$f":"IF(F2=\"Y\",D2*(E2-1),IF(F2=\"N\",-D2,0))","v":15},{"$f":"SUM(Summary!D7,G2)","v":1015},{"$f":"IF(B2<>\"\",IF(B2<>\"-\",1,I1+1),\"\")","v":1},{"$f":"Summary!D7","v":1000},{"$f":"IF(B2<>\"\",\"Y\",\"\")","v":"Y"},{"$f":"IF(D2<>0,D2/H2,\"\")","v":9.852216748768473E-3}]
[2,"2013-01-01",null,{"$f":"IF(B3<>\"\",IF(B3<>B2,ROUNDUP(MIN(1%*J3+(J3-H2)/Summary!$I$7,5%*H2),0),D2),0)","v":10},null,"N",-10,{"$f":"SUM(H2,G3)","v":1005},{"$f":"IF(B3<>\"\",IF(B3<>B2,1,I2+1),\"\")","v":2},{"$f":"IF(B3<>\"\",IF(K3=\"\",J2,IF((H2-J2)/H2<-0.5,MAX(H2,Summary!$D$7),MAX(H2,J2))),\"\")","v":1000},{"$f":"IF(AND(B3<>\"\",B3<>B2),\"Y\",\"\")","v":""},{"$f":"IF(D3<>0,D3/H3,\"\")","v":9.9502487562189053E-3}]
[3,"2013-01-01",null,{"$f":"IF(B4<>\"\",IF(B4<>B3,ROUNDUP(MIN(1%*J4+(J4-H3)/Summary!$I$7,5%*H3),0),D3),0)","v":10},1.3,"Y",3.0000000000000004,1008,3,{"$f":"IF(B4<>\"\",IF(K4=\"\",J3,IF((H3-J3)/H3<-0.5,MAX(H3,Summary!$D$7),MAX(H3,J3))),\"\")","v":1000},"",{"$f":"IF(D4<>0,D4/H4,\"\")","v":9.9206349206349201E-3}]
[4,"2013-01-01",null,{"$f":"IF(B5<>\"\",IF(B5<>B4,ROUNDUP(MIN(1%*J5+(J5-H4)/Summary!$I$7,5%*H4),0),D4),0)","v":10},null,"N",-10,998,4,{"$f":"IF(B5<>\"\",IF(K5=\"\",J4,IF((H4-J4)/H4<-0.5,MAX(H4,Summary!$D$7),MAX(H4,J4))),\"\")","v":1000},"",1.002004008016032E-2]
[5,"2013-01-01",null,{"$f":"IF(B6<>\"\",IF(B6<>B5,ROUNDUP(MIN(1%*J6+(J6-H5)/Summary!$I$7,5%*H5),0),D5),0)","v":10},null,"N",-10,988,5,{"$f":"IF(B6<>\"\",IF(K6=\"\",J5,IF((H5-J5)/H5<-0.5,MAX(H5,Summary!$D$7),MAX(H5,J5))),\"\")","v":1000},"",1.0121457489878543E-2]
[6,"2013-01-02",null,{"$f":"IF(B7<>\"\",IF(B7<>B6,ROUNDUP(MIN(1%*J7+(J7-H6)/Summary!$I$7,5%*H6),0),D6),0)","v":13},1.8,"Y",10.4,998.4,1,{"$f":"IF(B7<>\"\",IF(K7=\"\",J6,IF((H6-J6)/H6<-0.5,MAX(H6,Summary!$D$7),MAX(H6,J6))),\"\")","v":1000},"Y",1.3020833333333334E-2]
[7,"2013-01-02",null,{"$f":"IF(B8<>\"\",IF(B8<>B7,ROUNDUP(MIN(1%*J8+(J8-H7)/Summary!$I$7,5%*H7),0),D7),0)","v":13},null,"N",-13,985.4,2,{"$f":"IF(B8<>\"\",IF(K8=\"\",J7,IF((H7-J7)/H7<-0.5,MAX(H7,Summary!$D$7),MAX(H7,J7))),\"\")","v":1000},"",1.3192612137203167E-2]
[8,"2013-01-02",null,{"$f":"IF(B9<>\"\",IF(B9<>B8,ROUNDUP(MIN(1%*J9+(J9-H8)/Summary!$I$7,5%*H8),0),D8),0)","v":13},4.5999999999999996,"Y",46.8,1032.2,3,{"$f":"IF(B9<>\"\",IF(K9=\"\",J8,IF((H8-J8)/H8<-0.5,MAX(H8,Summary!$D$7),MAX(H8,J8))),\"\")","v":1000},"",1.2594458438287152E-2]
[9,"2013-01-02",null,{"$f":"IF(B10<>\"\",IF(B10<>B9,ROUNDUP(MIN(1%*J10+(J10-H9)/Summary!$I$7,5%*H9),0),D9),0)","v":13},1.8,"Y",10.4,1042.6000000000001,4,{"$f":"IF(B10<>\"\",IF(K10=\"\",J9,IF((H9-J9)/H9<-0.5,MAX(H9,Summary!$D$7),MAX(H9,J9))),\"\")","v":1000},"",1.2468827930174562E-2]
[10,"2013-01-02",null,{"$f":"IF(B11<>\"\",IF(B11<>B10,ROUNDUP(MIN(1%*J11+(J11-H10)/Summary!$I$7,5%*H10),0),D10),0)","v":13},null,"N",-13,1029.6000000000001,5,{"$f":"IF(B11<>\"\",IF(K11=\"\",J10,IF((H10-J10)/H10<-0.5,MAX(H10,Summary!$D$7),MAX(H10,J10))),\"\")","v":1000},"",1.2626262626262624E-2]
[11,"2013-01-02",null,{"$f":"IF(B12<>\"\",IF(B12<>B11,ROUNDUP(MIN(1%*J12+(J12-H11)/Summary!$I$7,5%*H11),0),D11),0)","v":13},null,"N",-13,1016.6000000000001,6,{"$f":"IF(B12<>\"\",IF(K12=\"\",J11,IF((H11-J11)/H11<-0.5,MAX(H11,Summary!$D$7),MAX(H11,J11))),\"\")","v":1000},"",1.2787723785166238E-2]
[12,"2013-01-02",null,{"$f":"IF(B13<>\"\",IF(B13<>B12,ROUNDUP(MIN(1%*J13+(J13-H12)/Summary!$I$7,5%*H12),0),D12),0)","v":13},null,"N",-13,1003.6000000000001,7,{"$f":"IF(B13<>\"\",IF(K13=\"\",J12,IF((H12-J12)/H12<-0.5,MAX(H12,Summary!$D$7),MAX(H12,J12))),\"\")","v":1000},"",1.2953367875647666E-2]
[13,"2013-01-02",null,{"$f":"IF(B14<>\"\",IF(B14<>B13,ROUNDUP(MIN(1%*J14+(J14-H13)/Summary!$I$7,5%*H13),0),D13),0)","v":13},6.5,"Y",71.5,1075.1000000000001,8,{"$f":"IF(B14<>\"\",IF(K14=\"\",J13,IF((H13-J13)/H13<-0.5,MAX(H13,Summary!$D$7),MAX(H13,J13))),\"\")","v":1000},"",1.2091898428053202E-2]
[14,"2013-01-02",null,{"$f":"IF(B15<>\"\",IF(B15<>B14,ROUNDUP(MIN(1%*J15+(J15-H14)/Summary!$I$7,5%*H14),0),D14),0)","v":13},1.6,"Y",7.8000000000000007,1082.9000000000001,9,{"$f":"IF(B15<>\"\",IF(K15=\"\",J14,IF((H14-J14)/H14<-0.5,MAX(H14,Summary!$D$7),MAX(H14,J14))),\"\")","v":1000},"",1.2004801920768306E-2]
[15,"2013-01-03",null,{"$f":"IF(B16<>\"\",IF(B16<>B15,ROUNDUP(MIN(1%*J16+(J16-H15)/Summary!$I$7,5%*H15),0),D15),0)","v":11},null,"N",-11,1071.9000000000001,1,{"$f":"IF(B16<>\"\",IF(K16=\"\",J15,IF((H15-J15)/H15<-0.5,MAX(H15,Summary!$D$7),MAX(H15,J15))),\"\")","v":1082.9000000000001},"Y",1.0262151320085828E-2]
[16,"2013-01-03",null,{"$f":"IF(B17<>\"\",IF(B17<>B16,ROUNDUP(MIN(1%*J17+(J17-H16)/Summary!$I$7,5%*H16),0),D16),0)","v":11},null,"N",-11,1060.9000000000001,2,{"$f":"IF(B17<>\"\",IF(K17=\"\",J16,IF((H16-J16)/H16<-0.5,MAX(H16,Summary!$D$7),MAX(H16,J16))),\"\")","v":1082.9000000000001},"",1.0368555000471296E-2]
[17,"2013-01-03",null,{"$f":"IF(B18<>\"\",IF(B18<>B17,ROUNDUP(MIN(1%*J18+(J18-H17)/Summary!$I$7,5%*H17),0),D17),0)","v":11},null,"N",-11,1049.9000000000001,3,{"$f":"IF(B18<>\"\",IF(K18=\"\",J17,IF((H17-J17)/H17<-0.5,MAX(H17,Summary!$D$7),MAX(H17,J17))),\"\")","v":1082.9000000000001},"",1.0477188303647966E-2]
[18,"2013-01-03",null,{"$f":"IF(B19<>\"\",IF(B19<>B18,ROUNDUP(MIN(1%*J19+(J19-H18)/Summary!$I$7,5%*H18),0),D18),0)","v":11},null,"N",-11,1038.9000000000001,4,{"$f":"IF(B19<>\"\",IF(K19=\"\",J18,IF((H18-J18)/H18<-0.5,MAX(H18,Summary!$D$7),MAX(H18,J18))),\"\")","v":1082.9000000000001},"",1.0588122052170565E-2]
[19,"2013-01-03",null,{"$f":"IF(B20<>\"\",IF(B20<>B19,ROUNDUP(MIN(1%*J20+(J20-H19)/Summary!$I$7,5%*H19),0),D19),0)","v":11},2.9,"Y",20.9,1059.8000000000002,5,{"$f":"IF(B20<>\"\",IF(K20=\"\",J19,IF((H19-J19)/H19<-0.5,MAX(H19,Summary!$D$7),MAX(H19,J19))),\"\")","v":1082.9000000000001},"",1.0379316852236269E-2]
[20,"2013-01-04",null,{"$f":"IF(B21<>\"\",IF(B21<>B20,ROUNDUP(MIN(1%*J21+(J21-H20)/Summary!$I$7,5%*H20),0),D20),0)","v":16},null,"N",-16,1043.8000000000002,1,{"$f":"IF(B21<>\"\",IF(K21=\"\",J20,IF((H20-J20)/H20<-0.5,MAX(H20,Summary!$D$7),MAX(H20,J20))),\"\")","v":1082.9000000000001},"Y",1.5328607012837706E-2]
[21,"2013-01-04",null,{"$f":"IF(B22<>\"\",IF(B22<>B21,ROUNDUP(MIN(1%*J22+(J22-H21)/Summary!$I$7,5%*H21),0),D21),0)","v":16},null,"N",-16,1027.8000000000002,2,{"$f":"IF(B22<>\"\",IF(K22=\"\",J21,IF((H21-J21)/H21<-0.5,MAX(H21,Summary!$D$7),MAX(H21,J21))),\"\")","v":1082.9000000000001},"",1.5567230978789644E-2]
[22,"2013-01-04",null,{"$f":"IF(B23<>\"\",IF(B23<>B22,ROUNDUP(MIN(1%*J23+(J23-H22)/Summary!$I$7,5%*H22),0),D22),0)","v":16},1.4,"Y",6.3999999999999986,1034.2000000000003,3,{"$f":"IF(B23<>\"\",IF(K23=\"\",J22,IF((H22-J22)/H22<-0.5,MAX(H22,Summary!$D$7),MAX(H22,J22))),\"\")","v":1082.9000000000001},"",1.5470895378070003E-2]
[23,"2013-01-04",null,{"$f":"IF(B24<>\"\",IF(B24<>B23,ROUNDUP(MIN(1%*J24+(J24-H23)/Summary!$I$7,5%*H23),0),D23),0)","v":16},null,"N",-16,1018.2000000000003,4,{"$f":"IF(B24<>\"\",IF(K24=\"\",J23,IF((H23-J23)/H23<-0.5,MAX(H23,Summary!$D$7),MAX(H23,J23))),\"\")","v":1082.9000000000001},"",1.5714005107051655E-2]
[24,"2013-01-04",null,{"$f":"IF(B25<>\"\",IF(B25<>B24,ROUNDUP(MIN(1%*J25+(J25-H24)/Summary!$I$7,5%*H24),0),D24),0)","v":16},2,"Y",16,1034.2000000000003,5,{"$f":"IF(B25<>\"\",IF(K25=\"\",J24,IF((H24-J24)/H24<-0.5,MAX(H24,Summary!$D$7),MAX(H24,J24))),\"\")","v":1082.9000000000001},"",1.5470895378070003E-2]
[25,"2013-01-04",null,{"$f":"IF(B26<>\"\",IF(B26<>B25,ROUNDUP(MIN(1%*J26+(J26-H25)/Summary!$I$7,5%*H25),0),D25),0)","v":16},5.3,"Y",68.8,1103.0000000000002,6,{"$f":"IF(B26<>\"\",IF(K26=\"\",J25,IF((H25-J25)/H25<-0.5,MAX(H25,Summary!$D$7),MAX(H25,J25))),\"\")","v":1082.9000000000001},"",1.4505893019038981E-2]
[26,"2013-01-05",null,{"$f":"IF(B27<>\"\",IF(B27<>B26,ROUNDUP(MIN(1%*J27+(J27-H26)/Summary!$I$7,5%*H26),0),D26),0)","v":12},2,"Y",12,1115.0000000000002,1,{"$f":"IF(B27<>\"\",IF(K27=\"\",J26,IF((H26-J26)/H26<-0.5,MAX(H26,Summary!$D$7),MAX(H26,J26))),\"\")","v":1103.0000000000002},"Y",1.0762331838565019E-2]
[27,"2013-01-05",null,{"$f":"IF(B28<>\"\",IF(B28<>B27,ROUNDUP(MIN(1%*J28+(J28-H27)/Summary!$I$7,5%*H27),0),D27),0)","v":12},1.3,"Y",3.6000000000000005,1118.6000000000001,2,{"$f":"IF(B28<>\"\",IF(K28=\"\",J27,IF((H27-J27)/H27<-0.5,MAX(H27,Summary!$D$7),MAX(H27,J27))),\"\")","v":1103.0000000000002},"",1.0727695333452528E-2]
[28,"2013-01-05",null,{"$f":"IF(B29<>\"\",IF(B29<>B28,ROUNDUP(MIN(1%*J29+(J29-H28)/Summary!$I$7,5%*H28),0),D28),0)","v":12},1.75,"Y",9,1127.6000000000001,3,{"$f":"IF(B29<>\"\",IF(K29=\"\",J28,IF((H28-J28)/H28<-0.5,MAX(H28,Summary!$D$7),MAX(H28,J28))),\"\")","v":1103.0000000000002},"",1.064207165661582E-2]
[29,"2013-01-05",null,{"$f":"IF(B30<>\"\",IF(B30<>B29,ROUNDUP(MIN(1%*J30+(J30-H29)/Summary!$I$7,5%*H29),0),D29),0)","v":12},null,"N",-12,1115.6000000000001,4,{"$f":"IF(B30<>\"\",IF(K30=\"\",J29,IF((H29-J29)/H29<-0.5,MAX(H29,Summary!$D$7),MAX(H29,J29))),\"\")","v":1103.0000000000002},"",1.0756543564001433E-2]
[30,"2013-01-05",null,{"$f":"IF(B31<>\"\",IF(B31<>B30,ROUNDUP(MIN(1%*J31+(J31-H30)/Summary!$I$7,5%*H30),0),D30),0)","v":12},null,"N",-12,1103.6000000000001,5,{"$f":"IF(B31<>\"\",IF(K31=\"\",J30,IF((H30-J30)/H30<-0.5,MAX(H30,Summary!$D$7),MAX(H30,J30))),\"\")","v":1103.0000000000002},"",1.08735048930772E-2]
[31,"2013-01-05",null,{"$f":"IF(B32<>\"\",IF(B32<>B31,ROUNDUP(MIN(1%*J32+(J32-H31)/Summary!$I$7,5%*H31),0),D31),0)","v":12},2,"Y",12,1115.6000000000001,6,{"$f":"IF(B32<>\"\",IF(K32=\"\",J31,IF((H31-J31)/H31<-0.5,MAX(H31,Summary!$D$7),MAX(H31,J31))),\"\")","v":1103.0000000000002},"",1.0756543564001433E-2]
[32,"2013-01-05",null,{"$f":"IF(B33<>\"\",IF(B33<>B32,ROUNDUP(MIN(1%*J33+(J33-H32)/Summary!$I$7,5%*H32),0),D32),0)","v":12},2.2000000000000002,"Y",14.400000000000002,1130.0000000000002,7,{"$f":"IF(B33<>\"\",IF(K33=\"\",J32,IF((H32-J32)/H32<-0.5,MAX(H32,Summary!$D$7),MAX(H32,J32))),\"\")","v":1103.0000000000002},"",1.0619469026548671E-2]
[33,"2013-01-05",null,{"$f":"IF(B34<>\"\",IF(B34<>B33,ROUNDUP(MIN(1%*J34+(J34-H33)/Summary!$I$7,5%*H33),0),D33),0)","v":12},1.7,"Y",8.3999999999999986,1138.4000000000003,8,{"$f":"IF(B34<>\"\",IF(K34=\"\",J33,IF((H33-J33)/H33<-0.5,MAX(H33,Summary!$D$7),MAX(H33,J33))),\"\")","v":1103.0000000000002},"",1.0541110330288121E-2]
[34,"2013-01-05",null,{"$f":"IF(B35<>\"\",IF(B35<>B34,ROUNDUP(MIN(1%*J35+(J35-H34)/Summary!$I$7,5%*H34),0),D34),0)","v":12},1.9,"Y",10.799999999999999,1149.2000000000003,9,{"$f":"IF(B35<>\"\",IF(K35=\"\",J34,IF((H34-J34)/H34<-0.5,MAX(H34,Summary!$D$7),MAX(H34,J34))),\"\")","v":1103.0000000000002},"",1.0442046641141661E-2]
[35,"2013-01-05",null,{"$f":"IF(B36<>\"\",IF(B36<>B35,ROUNDUP(MIN(1%*J36+(J36-H35)/Summary!$I$7,5%*H35),0),D35),0)","v":12},null,"N",-12,1137.2000000000003,10,{"$f":"IF(B36<>\"\",IF(K36=\"\",J35,IF((H35-J35)/H35<-0.5,MAX(H35,Summary!$D$7),MAX(H35,J35))),\"\")","v":1103.0000000000002},"",1.0552233556102707E-2]
[36,"2013-01-05",null,{"$f":"IF(B37<>\"\",IF(B37<>B36,ROUNDUP(MIN(1%*J37+(J37-H36)/Summary!$I$7,5%*H36),0),D36),0)","v":12},null,"N",-12,1125.2000000000003,11,{"$f":"IF(B37<>\"\",IF(K37=\"\",J36,IF((H36-J36)/H36<-0.5,MAX(H36,Summary!$D$7),MAX(H36,J36))),\"\")","v":1103.0000000000002},"",1.0664770707429787E-2]
[37,"2013-01-05",null,{"$f":"IF(B38<>\"\",IF(B38<>B37,ROUNDUP(MIN(1%*J38+(J38-H37)/Summary!$I$7,5%*H37),0),D37),0)","v":12},1.5,"Y",6,1131.2000000000003,12,{"$f":"IF(B38<>\"\",IF(K38=\"\",J37,IF((H37-J37)/H37<-0.5,MAX(H37,Summary!$D$7),MAX(H37,J37))),\"\")","v":1103.0000000000002},"",1.0608203677510605E-2]
[38,"2013-01-05",null,{"$f":"IF(B39<>\"\",IF(B39<>B38,ROUNDUP(MIN(1%*J39+(J39-H38)/Summary!$I$7,5%*H38),0),D38),0)","v":12},3,"Y",24,1155.2000000000003,13,{"$f":"IF(B39<>\"\",IF(K39=\"\",J38,IF((H38-J38)/H38<-0.5,MAX(H38,Summary!$D$7),MAX(H38,J38))),\"\")","v":1103.0000000000002},"",1.0387811634349028E-2]
[39,"2013-01-05",null,{"$f":"IF(B40<>\"\",IF(B40<>B39,ROUNDUP(MIN(1%*J40+(J40-H39)/Summary!$I$7,5%*H39),0),D39),0)","v":12},1.6,"Y",7.2000000000000011,1162.4000000000003,14,{"$f":"IF(B40<>\"\",IF(K40=\"\",J39,IF((H39-J39)/H39<-0.5,MAX(H39,Summary!$D$7),MAX(H39,J39))),\"\")","v":1103.0000000000002},"",1.0323468685478317E-2]
[40,"2013-01-05",null,{"$f":"IF(B41<>\"\",IF(B41<>B40,ROUNDUP(MIN(1%*J41+(J41-H40)/Summary!$I$7,5%*H40),0),D40),0)","v":12},null,"N",-12,1150.4000000000003,15,{"$f":"IF(B41<>\"\",IF(K41=\"\",J40,IF((H40-J40)/H40<-0.5,MAX(H40,Summary!$D$7),MAX(H40,J40))),\"\")","v":1103.0000000000002},"",1.0431154381084837E-2]
[41,"2013-01-05",null,{"$f":"IF(B42<>\"\",IF(B42<>B41,ROUNDUP(MIN(1%*J42+(J42-H41)/Summary!$I$7,5%*H41),0),D41),0)","v":12},null,"N",-12,1138.4000000000003,16,{"$f":"IF(B42<>\"\",IF(K42=\"\",J41,IF((H41-J41)/H41<-0.5,MAX(H41,Summary!$D$7),MAX(H41,J41))),\"\")","v":1103.0000000000002},"",1.0541110330288121E-2]
[42,"2013-01-05",null,{"$f":"IF(B43<>\"\",IF(B43<>B42,ROUNDUP(MIN(1%*J43+(J43-H42)/Summary!$I$7,5%*H42),0),D42),0)","v":12},null,"N",-12,1126.4000000000003,17,{"$f":"IF(B43<>\"\",IF(K43=\"\",J42,IF((H42-J42)/H42<-0.5,MAX(H42,Summary!$D$7),MAX(H42,J42))),\"\")","v":1103.0000000000002},"",1.0653409090909088E-2]
[43,"2013-01-05",null,{"$f":"IF(B44<>\"\",IF(B44<>B43,ROUNDUP(MIN(1%*J44+(J44-H43)/Summary!$I$7,5%*H43),0),D43),0)","v":12},null,"N",-12,1114.4000000000003,18,{"$f":"IF(B44<>\"\",IF(K44=\"\",J43,IF((H43-J43)/H43<-0.5,MAX(H43,Summary!$D$7),MAX(H43,J43))),\"\")","v":1103.0000000000002},"",1.076812634601579E-2]
[44,"2013-01-05",null,{"$f":"IF(B45<>\"\",IF(B45<>B44,ROUNDUP(MIN(1%*J45+(J45-H44)/Summary!$I$7,5%*H44),0),D44),0)","v":12},null,"N",-12,1102.4000000000003,19,{"$f":"IF(B45<>\"\",IF(K45=\"\",J44,IF((H44-J44)/H44<-0.5,MAX(H44,Summary!$D$7),MAX(H44,J44))),\"\")","v":1103.0000000000002},"",1.0885341074020316E-2]
[45,"2013-01-05",null,{"$f":"IF(B46<>\"\",IF(B46<>B45,ROUNDUP(MIN(1%*J46+(J46-H45)/Summary!$I$7,5%*H45),0),D45),0)","v":12},null,"N",-12,1090.4000000000003,20,{"$f":"IF(B46<>\"\",IF(K46=\"\",J45,IF((H45-J45)/H45<-0.5,MAX(H45,Summary!$D$7),MAX(H45,J45))),\"\")","v":1103.0000000000002},"",1.1005135730007333E-2]
[46,"2013-01-05",null,{"$f":"IF(B47<>\"\",IF(B47<>B46,ROUNDUP(MIN(1%*J47+(J47-H46)/Summary!$I$7,5%*H46),0),D46),0)","v":12},1.7,"Y",8.3999999999999986,1098.8000000000004,21,{"$f":"IF(B47<>\"\",IF(K47=\"\",J46,IF((H46-J46)/H46<-0.5,MAX(H46,Summary!$D$7),MAX(H46,J46))),\"\")","v":1103.0000000000002},"",1.0921004732435379E-2]
[47,"2013-01-06",null,{"$f":"IF(B48<>\"\",IF(B48<>B47,ROUNDUP(MIN(1%*J48+(J48-H47)/Summary!$I$7,5%*H47),0),D47),0)","v":12},null,"N",-12,1086.8000000000004,1,{"$f":"IF(B48<>\"\",IF(K48=\"\",J47,IF((H47-J47)/H47<-0.5,MAX(H47,Summary!$D$7),MAX(H47,J47))),\"\")","v":1103.0000000000002},"Y",1.1041589988958406E-2]
[48,"2013-01-06",null,{"$f":"IF(B49<>\"\",IF(B49<>B48,ROUNDUP(MIN(1%*J49+(J49-H48)/Summary!$I$7,5%*H48),0),D48),0)","v":12},null,"N",-12,1074.8000000000004,2,{"$f":"IF(B49<>\"\",IF(K49=\"\",J48,IF((H48-J48)/H48<-0.5,MAX(H48,Summary!$D$7),MAX(H48,J48))),\"\")","v":1103.0000000000002},"",1.116486788239672E-2]
[49,"2013-01-06",null,{"$f":"IF(B50<>\"\",IF(B50<>B49,ROUNDUP(MIN(1%*J50+(J50-H49)/Summary!$I$7,5%*H49),0),D49),0)","v":12},null,"N",-12,1062.8000000000004,3,{"$f":"IF(B50<>\"\",IF(K50=\"\",J49,IF((H49-J49)/H49<-0.5,MAX(H49,Summary!$D$7),MAX(H49,J49))),\"\")","v":1103.0000000000002},"",1.1290929619872032E-2]
[50,"2013-01-06",null,{"$f":"IF(B51<>\"\",IF(B51<>B50,ROUNDUP(MIN(1%*J51+(J51-H50)/Summary!$I$7,5%*H50),0),D50),0)","v":12},null,"N",-12,1050.8000000000004,4,{"$f":"IF(B51<>\"\",IF(K51=\"\",J50,IF((H50-J50)/H50<-0.5,MAX(H50,Summary!$D$7),MAX(H50,J50))),\"\")","v":1103.0000000000002},"",1.1419870574800147E-2]
[51,"2013-01-06",null,{"$f":"IF(B52<>\"\",IF(B52<>B51,ROUNDUP(MIN(1%*J52+(J52-H51)/Summary!$I$7,5%*H51),0),D51),0)","v":12},null,"N",-12,1038.8000000000004,5,{"$f":"IF(B52<>\"\",IF(K52=\"\",J51,IF((H51-J51)/H51<-0.5,MAX(H51,Summary!$D$7),MAX(H51,J51))),\"\")","v":1103.0000000000002},"",1.1551790527531762E-2]
[52,"2013-01-06",null,{"$f":"IF(B53<>\"\",IF(B53<>B52,ROUNDUP(MIN(1%*J53+(J53-H52)/Summary!$I$7,5%*H52),0),D52),0)","v":12},2.1,"Y",13.200000000000001,1052.0000000000005,6,{"$f":"IF(B53<>\"\",IF(K53=\"\",J52,IF((H52-J52)/H52<-0.5,MAX(H52,Summary!$D$7),MAX(H52,J52))),\"\")","v":1103.0000000000002},"",1.1406844106463873E-2]
[53,"2013-01-06",null,{"$f":"IF(B54<>\"\",IF(B54<>B53,ROUNDUP(MIN(1%*J54+(J54-H53)/Summary!$I$7,5%*H53),0),D53),0)","v":12},null,"N",-12,1040.0000000000005,7,{"$f":"IF(B54<>\"\",IF(K54=\"\",J53,IF((H53-J53)/H53<-0.5,MAX(H53,Summary!$D$7),MAX(H53,J53))),\"\")","v":1103.0000000000002},"",1.1538461538461534E-2]
[54,"2013-01-06",null,{"$f":"IF(B55<>\"\",IF(B55<>B54,ROUNDUP(MIN(1%*J55+(J55-H54)/Summary!$I$7,5%*H54),0),D54),0)","v":12},null,"N",-12,1028.0000000000005,8,{"$f":"IF(B55<>\"\",IF(K55=\"\",J54,IF((H54-J54)/H54<-0.5,MAX(H54,Summary!$D$7),MAX(H54,J54))),\"\")","v":1103.0000000000002},"",1.1673151750972758E-2]
[55,"2013-01-08",null,{"$f":"IF(B56<>\"\",IF(B56<>B55,ROUNDUP(MIN(1%*J56+(J56-H55)/Summary!$I$7,5%*H55),0),D55),0)","v":27},null,"N",-27,1001.0000000000005,1,{"$f":"IF(B56<>\"\",IF(K56=\"\",J55,IF((H55-J55)/H55<-0.5,MAX(H55,Summary!$D$7),MAX(H55,J55))),\"\")","v":1103.0000000000002},"Y",2.6973026973026962E-2]
[56,"2013-01-08",null,{"$f":"IF(B57<>\"\",IF(B57<>B56,ROUNDUP(MIN(1%*J57+(J57-H56)/Summary!$I$7,5%*H56),0),D56),0)","v":27},2.8,"Y",48.599999999999994,1049.6000000000004,2,{"$f":"IF(B57<>\"\",IF(K57=\"\",J56,IF((H56-J56)/H56<-0.5,MAX(H56,Summary!$D$7),MAX(H56,J56))),\"\")","v":1103.0000000000002},"",2.572408536585365E-2]
[57,"2013-01-09",null,{"$f":"IF(B58<>\"\",IF(B58<>B57,ROUNDUP(MIN(1%*J58+(J58-H57)/Summary!$I$7,5%*H57),0),D57),0)","v":22},null,"N",-22,1027.6000000000004,1,{"$f":"IF(B58<>\"\",IF(K58=\"\",J57,IF((H57-J57)/H57<-0.5,MAX(H57,Summary!$D$7),MAX(H57,J57))),\"\")","v":1103.0000000000002},"Y",2.1409108602569085E-2]
[58,"2013-01-09",null,{"$f":"IF(B59<>\"\",IF(B59<>B58,ROUNDUP(MIN(1%*J59+(J59-H58)/Summary!$I$7,5%*H58),0),D58),0)","v":22},null,"N",-22,1005.6000000000004,2,{"$f":"IF(B59<>\"\",IF(K59=\"\",J58,IF((H58-J58)/H58<-0.5,MAX(H58,Summary!$D$7),MAX(H58,J58))),\"\")","v":1103.0000000000002},"",2.1877486077963398E-2]
[59,"2013-01-09",null,{"$f":"IF(B60<>\"\",IF(B60<>B59,ROUNDUP(MIN(1%*J60+(J60-H59)/Summary!$I$7,5%*H59),0),D59),0)","v":22},5.7,"Y",103.4,1109.0000000000005,3,{"$f":"IF(B60<>\"\",IF(K60=\"\",J59,IF((H59-J59)/H59<-0.5,MAX(H59,Summary!$D$7),MAX(H59,J59))),\"\")","v":1103.0000000000002},"",1.9837691614066719E-2]
[60,"2013-01-09",null,{"$f":"IF(B61<>\"\",IF(B61<>B60,ROUNDUP(MIN(1%*J61+(J61-H60)/Summary!$I$7,5%*H60),0),D60),0)","v":22},null,"N",-22,1087.0000000000005,4,{"$f":"IF(B61<>\"\",IF(K61=\"\",J60,IF((H60-J60)/H60<-0.5,MAX(H60,Summary!$D$7),MAX(H60,J60))),\"\")","v":1103.0000000000002},"",2.0239190432382696E-2]
[61,"2013-01-09",null,{"$f":"IF(B62<>\"\",IF(B62<>B61,ROUNDUP(MIN(1%*J62+(J62-H61)/Summary!$I$7,5%*H61),0),D61),0)","v":22},null,"N",-22,1065.0000000000005,5,{"$f":"IF(B62<>\"\",IF(K62=\"\",J61,IF((H61-J61)/H61<-0.5,MAX(H61,Summary!$D$7),MAX(H61,J61))),\"\")","v":1103.0000000000002},"",2.0657276995305156E-2]
[62,"2013-01-10",null,{"$f":"IF(B63<>\"\",IF(B63<>B62,ROUNDUP(MIN(1%*J63+(J63-H62)/Summary!$I$7,5%*H62),0),D62),0)","v":19},null,"N",-19,1046.0000000000005,1,{"$f":"IF(B63<>\"\",IF(K63=\"\",J62,IF((H62-J62)/H62<-0.5,MAX(H62,Summary!$D$7),MAX(H62,J62))),\"\")","v":1103.0000000000002},"Y",1.8164435946462706E-2]
[63,"2013-01-10",null,{"$f":"IF(B64<>\"\",IF(B64<>B63,ROUNDUP(MIN(1%*J64+(J64-H63)/Summary!$I$7,5%*H63),0),D63),0)","v":19},null,"N",-19,1027.0000000000005,2,{"$f":"IF(B64<>\"\",IF(K64=\"\",J63,IF((H63-J63)/H63<-0.5,MAX(H63,Summary!$D$7),MAX(H63,J63))),\"\")","v":1103.0000000000002},"",1.8500486854917227E-2]
[64,"2013-01-10",null,{"$f":"IF(B65<>\"\",IF(B65<>B64,ROUNDUP(MIN(1%*J65+(J65-H64)/Summary!$I$7,5%*H64),0),D64),0)","v":19},null,"N",-19,1008.0000000000005,3,{"$f":"IF(B65<>\"\",IF(K65=\"\",J64,IF((H64-J64)/H64<-0.5,MAX(H64,Summary!$D$7),MAX(H64,J64))),\"\")","v":1103.0000000000002},"",1.8849206349206341E-2]
[65,"2013-01-10",null,{"$f":"IF(B66<>\"\",IF(B66<>B65,ROUNDUP(MIN(1%*J66+(J66-H65)/Summary!$I$7,5%*H65),0),D65),0)","v":19},3.1,{"$f":"IF(E66>0,\"Y\",\"N\")","v":"Y"},{"$f":"IF(F66=\"Y\",D66*(E66-1),IF(F66=\"N\",-D66,0))","v":39.9},1047.9000000000005,4,{"$f":"IF(B66<>\"\",IF(K66=\"\",J65,IF((H65-J65)/H65<-0.5,MAX(H65,Summary!$D$7),MAX(H65,J65))),\"\")","v":1103.0000000000002},"",1.8131501097432952E-2]
[66,"2013-01-10",null,{"$f":"IF(B67<>\"\",IF(B67<>B66,ROUNDUP(MIN(1%*J67+(J67-H66)/Summary!$I$7,5%*H66),0),D66),0)","v":19},null,"N",-19,{"$f":"SUM(H66,G67)","v":1028.9000000000005},{"$f":"IF(B67<>\"\",IF(B67<>B66,1,I66+1),\"\")","v":5},{"$f":"IF(B67<>\"\",IF(K67=\"\",J66,IF((H66-J66)/H66<-0.5,MAX(H66,Summary!$D$7),MAX(H66,J66))),\"\")","v":1103.0000000000002},{"$f":"IF(AND(B67<>\"\",B67<>B66),\"Y\",\"\")","v":""},1.8466323257848177E-2]
[67,"2013-01-11",null,{"$f":"IF(B68<>\"\",IF(B68<>B67,ROUNDUP(MIN(1%*J68+(J68-H67)/Summary!$I$7,5%*H67),0),D67),0)","v":26},2.8,"Y",46.8,1075.7000000000005,1,{"$f":"IF(B68<>\"\",IF(K68=\"\",J67,IF((H67-J67)/H67<-0.5,MAX(H67,Summary!$D$7),MAX(H67,J67))),\"\")","v":1103.0000000000002},"Y",{"$f":"IF(D68<>0,D68/H68,\"\")","v":2.4170307706609637E-2}]
[68,"2013-01-11",null,{"$f":"IF(B69<>\"\",IF(B69<>B68,ROUNDUP(MIN(1%*J69+(J69-H68)/Summary!$I$7,5%*H68),0),D68),0)","v":26},1.2,"Y",5.1999999999999993,1080.9000000000005,2,{"$f":"IF(B69<>\"\",IF(K69=\"\",J68,IF((H68-J68)/H68<-0.5,MAX(H68,Summary!$D$7),MAX(H68,J68))),\"\")","v":1103.0000000000002},"",2.4054029049865842E-2]
[69,"2013-01-11",null,{"$f":"IF(B70<>\"\",IF(B70<>B69,ROUNDUP(MIN(1%*J70+(J70-H69)/Summary!$I$7,5%*H69),0),D69),0)","v":26},null,"N",-26,1054.9000000000005,3,{"$f":"IF(B70<>\"\",IF(K70=\"\",J69,IF((H69-J69)/H69<-0.5,MAX(H69,Summary!$D$7),MAX(H69,J69))),\"\")","v":1103.0000000000002},"",2.464688596075456E-2]
[70,"2013-01-11",null,{"$f":"IF(B71<>\"\",IF(B71<>B70,ROUNDUP(MIN(1%*J71+(J71-H70)/Summary!$I$7,5%*H70),0),D70),0)","v":26},null,"N",-26,1028.9000000000005,4,{"$f":"IF(B71<>\"\",IF(K71=\"\",J70,IF((H70-J70)/H70<-0.5,MAX(H70,Summary!$D$7),MAX(H70,J70))),\"\")","v":1103.0000000000002},"",2.526970551073961E-2]
[71,"2013-01-11",null,{"$f":"IF(B72<>\"\",IF(B72<>B71,ROUNDUP(MIN(1%*J72+(J72-H71)/Summary!$I$7,5%*H71),0),D71),0)","v":26},null,"N",-26,1002.9000000000005,5,{"$f":"IF(B72<>\"\",IF(K72=\"\",J71,IF((H71-J71)/H71<-0.5,MAX(H71,Summary!$D$7),MAX(H71,J71))),\"\")","v":1103.0000000000002},"",2.59248180277196E-2]
[72,"2013-01-12",null,{"$f":"IF(B73<>\"\",IF(B73<>B72,ROUNDUP(MIN(1%*J73+(J73-H72)/Summary!$I$7,5%*H72),0),D72),0)","v":32},null,"N",-32,970.90000000000055,1,{"$f":"IF(B73<>\"\",IF(K73=\"\",J72,IF((H72-J72)/H72<-0.5,MAX(H72,Summary!$D$7),MAX(H72,J72))),\"\")","v":1103.0000000000002},"Y",3.2959110104027176E-2]
[73,"2013-01-12",null,{"$f":"IF(B74<>\"\",IF(B74<>B73,ROUNDUP(MIN(1%*J74+(J74-H73)/Summary!$I$7,5%*H73),0),D73),0)","v":32},null,"N",-32,938.90000000000055,2,{"$f":"IF(B74<>\"\",IF(K74=\"\",J73,IF((H73-J73)/H73<-0.5,MAX(H73,Summary!$D$7),MAX(H73,J73))),\"\")","v":1103.0000000000002},"",3.408243689423792E-2]
[74,"2013-01-12",null,{"$f":"IF(B75<>\"\",IF(B75<>B74,ROUNDUP(MIN(1%*J75+(J75-H74)/Summary!$I$7,5%*H74),0),D74),0)","v":32},5.8,"Y",153.6,1092.5000000000005,3,{"$f":"IF(B75<>\"\",IF(K75=\"\",J74,IF((H74-J74)/H74<-0.5,MAX(H74,Summary!$D$7),MAX(H74,J74))),\"\")","v":1103.0000000000002},"",2.9290617848970239E-2]
[75,"2013-01-12",null,{"$f":"IF(B76<>\"\",IF(B76<>B75,ROUNDUP(MIN(1%*J76+(J76-H75)/Summary!$I$7,5%*H75),0),D75),0)","v":32},null,"N",-32,1060.5000000000005,4,{"$f":"IF(B76<>\"\",IF(K76=\"\",J75,IF((H75-J75)/H75<-0.5,MAX(H75,Summary!$D$7),MAX(H75,J75))),\"\")","v":1103.0000000000002},"",3.017444601603016E-2]
[76,"2013-01-12",null,{"$f":"IF(B77<>\"\",IF(B77<>B76,ROUNDUP(MIN(1%*J77+(J77-H76)/Summary!$I$7,5%*H76),0),D76),0)","v":32},2.2999999999999998,"Y",41.599999999999994,1102.1000000000004,5,{"$f":"IF(B77<>\"\",IF(K77=\"\",J76,IF((H76-J76)/H76<-0.5,MAX(H76,Summary!$D$7),MAX(H76,J76))),\"\")","v":1103.0000000000002},"",2.9035477724344425E-2]
[77,"2013-01-12",null,{"$f":"IF(B78<>\"\",IF(B78<>B77,ROUNDUP(MIN(1%*J78+(J78-H77)/Summary!$I$7,5%*H77),0),D77),0)","v":32},null,"N",-32,1070.1000000000004,6,{"$f":"IF(B78<>\"\",IF(K78=\"\",J77,IF((H77-J77)/H77<-0.5,MAX(H77,Summary!$D$7),MAX(H77,J77))),\"\")","v":1103.0000000000002},"",2.9903747313335192E-2]
[78,"2013-01-12",null,{"$f":"IF(B79<>\"\",IF(B79<>B78,ROUNDUP(MIN(1%*J79+(J79-H78)/Summary!$I$7,5%*H78),0),D78),0)","v":32},null,"N",-32,1038.1000000000004,7,{"$f":"IF(B79<>\"\",IF(K79=\"\",J78,IF((H78-J78)/H78<-0.5,MAX(H78,Summary!$D$7),MAX(H78,J78))),\"\")","v":1103.0000000000002},"",3.0825546671804246E-2]
[79,"2013-01-12",null,{"$f":"IF(B80<>\"\",IF(B80<>B79,ROUNDUP(MIN(1%*J80+(J80-H79)/Summary!$I$7,5%*H79),0),D79),0)","v":32},3.7,"Y",86.4,1124.5000000000005,8,{"$f":"IF(B80<>\"\",IF(K80=\"\",J79,IF((H79-J79)/H79<-0.5,MAX(H79,Summary!$D$7),MAX(H79,J79))),\"\")","v":1103.0000000000002},"",2.8457092040907059E-2]
[80,"2013-01-12",null,{"$f":"IF(B81<>\"\",IF(B81<>B80,ROUNDUP(MIN(1%*J81+(J81-H80)/Summary!$I$7,5%*H80),0),D80),0)","v":32},3.5,"Y",80,1204.5000000000005,9,{"$f":"IF(B81<>\"\",IF(K81=\"\",J80,IF((H80-J80)/H80<-0.5,MAX(H80,Summary!$D$7),MAX(H80,J80))),\"\")","v":1103.0000000000002},"",2.6567040265670392E-2]
[81,"2013-01-12",null,{"$f":"IF(B82<>\"\",IF(B82<>B81,ROUNDUP(MIN(1%*J82+(J82-H81)/Summary!$I$7,5%*H81),0),D81),0)","v":32},5.8,"Y",153.6,1358.1000000000004,10,{"$f":"IF(B82<>\"\",IF(K82=\"\",J81,IF((H81-J81)/H81<-0.5,MAX(H81,Summary!$D$7),MAX(H81,J81))),\"\")","v":1103.0000000000002},"",2.3562329725351588E-2]
[82,"2013-01-12",null,{"$f":"IF(B83<>\"\",IF(B83<>B82,ROUNDUP(MIN(1%*J83+(J83-H82)/Summary!$I$7,5%*H82),0),D82),0)","v":32},3.1,"Y",67.2,1425.3000000000004,11,{"$f":"IF(B83<>\"\",IF(K83=\"\",J82,IF((H82-J82)/H82<-0.5,MAX(H82,Summary!$D$7),MAX(H82,J82))),\"\")","v":1103.0000000000002},"",2.2451413737458775E-2]
[83,"2013-01-12",null,{"$f":"IF(B84<>\"\",IF(B84<>B83,ROUNDUP(MIN(1%*J84+(J84-H83)/Summary!$I$7,5%*H83),0),D83),0)","v":32},null,"N",-32,1393.3000000000004,12,{"$f":"IF(B84<>\"\",IF(K84=\"\",J83,IF((H83-J83)/H83<-0.5,MAX(H83,Summary!$D$7),MAX(H83,J83))),\"\")","v":1103.0000000000002},"",2.2967056628148991E-2]
[84,"2013-01-12",null,{"$f":"IF(B85<>\"\",IF(B85<>B84,ROUNDUP(MIN(1%*J85+(J85-H84)/Summary!$I$7,5%*H84),0),D84),0)","v":32},2.2000000000000002,"Y",38.400000000000006,1431.7000000000005,13,{"$f":"IF(B85<>\"\",IF(K85=\"\",J84,IF((H84-J84)/H84<-0.5,MAX(H84,Summary!$D$7),MAX(H84,J84))),\"\")","v":1103.0000000000002},"",2.2351051197876642E-2]
[85,"2013-01-13",null,{"$f":"IF(B86<>\"\",IF(B86<>B85,ROUNDUP(MIN(1%*J86+(J86-H85)/Summary!$I$7,5%*H85),0),D85),0)","v":15},null,"N",-15,1416.7000000000005,1,{"$f":"IF(B86<>\"\",IF(K86=\"\",J85,IF((H85-J85)/H85<-0.5,MAX(H85,Summary!$D$7),MAX(H85,J85))),\"\")","v":1431.7000000000005},"Y",1.0587986165031408E-2]
[86,null,null,{"$f":"IF(B87<>\"\",IF(B87<>B86,ROUNDUP(MIN(1%*J87+(J87-H86)/Summary!$I$7,5%*H86),0),D86),0)","v":0},null,"N",0,1416.7000000000005,"",{"$f":"IF(B87<>\"\",IF(K87=\"\",J86,IF((H86-J86)/H86<-0.5,MAX(H86,Summary!$D$7),MAX(H86,J86))),\"\")","v":""},"",""]
[87,null,null,{"$f":"IF(B88<>\"\",IF(B88<>B87,ROUNDUP(MIN(1%*J88+(J88-H87)/Summary!$I$7,5%*H87),0),D87),0)","v":0},null,"N",0,1416.7000000000005,"",{"$f":"IF(B88<>\"\",IF(K88=\"\",J87,IF((H87-J87)/H87<-0.5,MAX(H87,Summary!$D$7),MAX(H87,J87))),\"\")","v":""},"",""]
[88,null,null,{"$f":"IF(B89<>\"\",IF(B89<>B88,ROUNDUP(MIN(1%*J89+(J89-H88)/Summary!$I$7,5%*H88),0),D88),0)","v":0},null,"N",0,1416.7000000000005,"",{"$f":"IF(B89<>\"\",IF(K89=\"\",J88,IF((H88-J88)/H88<-0.5,MAX(H88,Summary!$D$7),MAX(H88,J88))),\"\")","v":""},"",""]
[89,null,null,{"$f":"IF(B90<>\"\",IF(B90<>B89,ROUNDUP(MIN(1%*J90+(J90-H89)/Summary!$I$7,5%*H89),0),D89),0)","v":0},null,"N",0,1416.7000000000005,"",{"$f":"IF(B90<>\"\",IF(K90=\"\",J89,IF((H89-J89)/H89<-0.5,MAX(H89,Summary!$D$7),MAX(H89,J89))),\"\")","v":""},"",""]
[90,null,null,{"$f":"IF(B91<>\"\",IF(B91<>B90,ROUNDUP(MIN(1%*J91+(J91-H90)/Summary!$I$7,5%*H90),0),D90),0)","v":0},null,"N",0,1416.7000000000005,"",{"$f":"IF(B91<>\"\",IF(K91=\"\",J90,IF((H90-J90)/H90<-0.5,MAX(H90,Summary!$D$7),MAX(H90,J90))),\"\")","v":""},"",""]
[91,null,null,{"$f":"IF(B92<>\"\",IF(B92<>B91,ROUNDUP(MIN(1%*J92+(J92-H91)/Summary!$I$7,5%*H91),0),D91),0)","v":0},null,"N",0,1416.7000000000005,"",{"$f":"IF(B92<>\"\",IF(K92=\"\",J91,IF((H91-J91)/H91<-0.5,MAX(H91,Summary!$D$7),MAX(H91,J91))),\"\")","v":""},"",""]
[92,null,null,{"$f":"IF(B93<>\"\",IF(B93<>B92,ROUNDUP(MIN(1%*J93+(J93-H92)/Summary!$I$7,5%*H92),0),D92),0)","v":0},null,"N",0,1416.7000000000005,"",{"$f":"IF(B93<>\"\",IF(K93=\"\",J92,IF((H92-J92)/H92<-0.5,MAX(H92,Summary!$D$7),MAX(H92,J92))),\"\")","v":""},"",""]
[93,null,null,{"$f":"IF(B94<>\"\",IF(B94<>B93,ROUNDUP(MIN(1%*J94+(J94-H93)/Summary!$I$7,5%*H93),0),D93),0)","v":0},null,"N",0,1416.7000000000005,"",{"$f":"IF(B94<>\"\",IF(K94=\"\",J93,IF((H93-J93)/H93<-0.5,MAX(H93,Summary!$D$7),MAX(H93,J93))),\"\")","v":""},"",""]
[94,null,null,{"$f":"IF(B95<>\"\",IF(B95<>B94,ROUNDUP(MIN(1%*J95+(J95-H94)/Summary!$I$7,5%*H94),0),D94),0)","v":0},null,"N",0,1416.7000000000005,"",{"$f":"IF(B95<>\"\",IF(K95=\"\",J94,IF((H94-J94)/H94<-0.5,MAX(H94,Summary!$D$7),MAX(H94,J94))),\"\")","v":""},"",""]
[95,null,null,{"$f":"IF(B96<>\"\",IF(B96<>B95,ROUNDUP(MIN(1%*J96+(J96-H95)/Summary!$I$7,5%*H95),0),D95),0)","v":0},null,"N",0,1416.7000000000005,"",{"$f":"IF(B96<>\"\",IF(K96=\"\",J95,IF((H95-J95)/H95<-0.5,MAX(H95,Summary!$D$7),MAX(H95,J95))),\"\")","v":""},"",""]
[96,null,null,{"$f":"IF(B97<>\"\",IF(B97<>B96,ROUNDUP(MIN(1%*J97+(J97-H96)/Summary!$I$7,5%*H96),0),D96),0)","v":0},null,"N",0,1416.7000000000005,"",{"$f":"IF(B97<>\"\",IF(K97=\"\",J96,IF((H96-J96)/H96<-0.5,MAX(H96,Summary!$D$7),MAX(H96,J96))),\"\")","v":""},"",""]
[97,null,null,{"$f":"IF(B98<>\"\",IF(B98<>B97,ROUNDUP(MIN(1%*J98+(J98-H97)/Summary!$I$7,5%*H97),0),D97),0)","v":0},null,"N",0,1416.7000000000005,"",{"$f":"IF(B98<>\"\",IF(K98=\"\",J97,IF((H97-J97)/H97<-0.5,MAX(H97,Summary!$D$7),MAX(H97,J97))),\"\")","v":""},"",""]
[98,null,null,{"$f":"IF(B99<>\"\",IF(B99<>B98,ROUNDUP(MIN(1%*J99+(J99-H98)/Summary!$I$7,5%*H98),0),D98),0)","v":0},null,"N",0,1416.7000000000005,"",{"$f":"IF(B99<>\"\",IF(K99=\"\",J98,IF((H98-J98)/H98<-0.5,MAX(H98,Summary!$D$7),MAX(H98,J98))),\"\")","v":""},"",""]
[99,null,null,{"$f":"IF(B100<>\"\",IF(B100<>B99,ROUNDUP(MIN(1%*J100+(J100-H99)/Summary!$I$7,5%*H99),0),D99),0)","v":0},null,"N",0,1416.7000000000005,"",{"$f":"IF(B100<>\"\",IF(K100=\"\",J99,IF((H99-J99)/H99<-0.5,MAX(H99,Summary!$D$7),MAX(H99,J99))),\"\")","v":""},"",""]
[100,null,null,{"$f":"IF(B101<>\"\",IF(B101<>B100,ROUNDUP(MIN(1%*J101+(J101-H100)/Summary!$I$7,5%*H100),0),D100),0)","v":0},null,"N",0,1416.7000000000005,"",{"$f":"IF(B101<>\"\",IF(K101=\"\",J100,IF((H100-J100)/H100<-0.5,MAX(H100,Summary!$D$7),MAX(H100,J100))),\"\")","v":""},"",""]
[101,null,null,{"$f":"IF(B102<>\"\",IF(B102<>B101,ROUNDUP(MIN(1%*J102+(J102-H101)/Summary!$I$7,5%*H101),0),D101),0)","v":0},null,"N",0,1416.7000000000005,"",{"$f":"IF(B102<>\"\",IF(K102=\"\",J101,IF((H101-J101)/H101<-0.5,MAX(H101,Summary!$D$7),MAX(H101,J101))),\"\")","v":""},"",""]
[102,null,null,{"$f":"IF(B103<>\"\",IF(B103<>B102,ROUNDUP(MIN(1%*J103+(J103-H102)/Summary!$I$7,5%*H102),0),D102),0)","v":0},null,"N",0,1416.7000000000005,"",{"$f":"IF(B103<>\"\",IF(K103=\"\",J102,IF((H102-J102)/H102<-0.5,MAX(H102,Summary!$D$7),MAX(H102,J102))),\"\")","v":""},"",""]
[103,null,null,{"$f":"IF(B104<>\"\",IF(B104<>B103,ROUNDUP(MIN(1%*J104+(J104-H103)/Summary!$I$7,5%*H103),0),D103),0)","v":0},null,"N",0,1416.7000000000005,"",{"$f":"IF(B104<>\"\",IF(K104=\"\",J103,IF((H103-J103)/H103<-0.5,MAX(H103,Summary!$D$7),MAX(H103,J103))),\"\")","v":""},"",""]
[104,null,null,{"$f":"IF(B105<>\"\",IF(B105<>B104,ROUNDUP(MIN(1%*J105+(J105-H104)/Summary!$I$7,5%*H104),0),D104),0)","v":0},null,"N",0,1416.7000000000005,"",{"$f":"IF(B105<>\"\",IF(K105=\"\",J104,IF((H104-J104)/H104<-0.5,MAX(H104,Summary!$D$7),MAX(H104,J104))),\"\")","v":""},"",""]
[105,null,null,{"$f":"IF(B106<>\"\",IF(B106<>B105,ROUNDUP(MIN(1%*J106+(J106-H105)/Summary!$I$7,5%*H105),0),D105),0)","v":0},null,"N",0,1416.7000000000005,"",{"$f":"IF(B106<>\"\",IF(K106=\"\",J105,IF((H105-J105)/H105<-0.5,MAX(H105,Summary!$D$7),MAX(H105,J105))),\"\")","v":""},"",""]
[106,null,null,{"$f":"IF(B107<>\"\",IF(B107<>B106,ROUNDUP(MIN(1%*J107+(J107-H106)/Summary!$I$7,5%*H106),0),D106),0)","v":0},null,"N",0,1416.7000000000005,"",{"$f":"IF(B107<>\"\",IF(K107=\"\",J106,IF((H106-J106)/H106<-0.5,MAX(H106,Summary!$D$7),MAX(H106,J106))),\"\")","v":""},"",""]
[107,null,null,{"$f":"IF(B108<>\"\",IF(B108<>B107,ROUNDUP(MIN(1%*J108+(J108-H107)/Summary!$I$7,5%*H107),0),D107),0)","v":0},null,null,0,1416.7000000000005,"",{"$f":"IF(B108<>\"\",IF(K108=\"\",J107,IF((H107-J107)/H107<-0.5,MAX(H107,Summary!$D$7),MAX(H107,J107))),\"\")","v":""},"",""]
[108,null,null,{"$f":"IF(B109<>\"\",IF(B109<>B108,ROUNDUP(MIN(1%*J109+(J109-H108)/Summary!$I$7,5%*H108),0),D108),0)","v":0},null,null,0,1416.7000000000005,"",{"$f":"IF(B109<>\"\",IF(K109=\"\",J108,IF((H108-J108)/H108<-0.5,MAX(H108,Summary!$D$7),MAX(H108,J108))),\"\")","v":""},"",""]
[109,null,null,{"$f":"IF(B110<>\"\",IF(B110<>B109,ROUNDUP(MIN(1%*J110+(J110-H109)/Summary!$I$7,5%*H109),0),D109),0)","v":0},null,null,0,1416.7000000000005,"",{"$f":"IF(B110<>\"\",IF(K110=\"\",J109,IF((H109-J109)/H109<-0.5,MAX(H109,Summary!$D$7),MAX(H109,J109))),\"\")","v":""},"",""]
[110,null,null,{"$f":"IF(B111<>\"\",IF(B111<>B110,ROUNDUP(MIN(1%*J111+(J111-H110)/Summary!$I$7,5%*H110),0),D110),0)","v":0},null,null,0,1416.7000000000005,"",{"$f":"IF(B111<>\"\",IF(K111=\"\",J110,IF((H110-J110)/H110<-0.5,MAX(H110,Summary!$D$7),MAX(H110,J110))),\"\")","v":""},"",""]
[111,null,null,{"$f":"IF(B112<>\"\",IF(B112<>B111,ROUNDUP(MIN(1%*J112+(J112-H111)/Summary!$I$7,5%*H111),0),D111),0)","v":0},null,null,0,1416.7000000000005,"",{"$f":"IF(B112<>\"\",IF(K112=\"\",J111,IF((H111-J111)/H111<-0.5,MAX(H111,Summary!$D$7),MAX(H111,J111))),\"\")","v":""},"",""]
[112,null,null,{"$f":"IF(B113<>\"\",IF(B113<>B112,ROUNDUP(MIN(1%*J113+(J113-H112)/Summary!$I$7,5%*H112),0),D112),0)","v":0},null,null,0,1416.7000000000005,"",{"$f":"IF(B113<>\"\",IF(K113=\"\",J112,IF((H112-J112)/H112<-0.5,MAX(H112,Summary!$D$7),MAX(H112,J112))),\"\")","v":""},"",""]
[113,null,null,{"$f":"IF(B114<>\"\",IF(B114<>B113,ROUNDUP(MIN(1%*J114+(J114-H113)/Summary!$I$7,5%*H113),0),D113),0)","v":0},null,null,0,1416.7000000000005,"",{"$f":"IF(B114<>\"\",IF(K114=\"\",J113,IF((H113-J113)/H113<-0.5,MAX(H113,Summary!$D$7),MAX(H113,J113))),\"\")","v":""},"",""]
[114,null,null,{"$f":"IF(B115<>\"\",IF(B115<>B114,ROUNDUP(MIN(1%*J115+(J115-H114)/Summary!$I$7,5%*H114),0),D114),0)","v":0},null,null,0,1416.7000000000005,"",{"$f":"IF(B115<>\"\",IF(K115=\"\",J114,IF((H114-J114)/H114<-0.5,MAX(H114,Summary!$D$7),MAX(H114,J114))),\"\")","v":""},"",""]
[115,null,null,{"$f":"IF(B116<>\"\",IF(B116<>B115,ROUNDUP(MIN(1%*J116+(J116-H115)/Summary!$I$7,5%*H115),0),D115),0)","v":0},null,null,0,1416.7000000000005,"",{"$f":"IF(B116<>\"\",IF(K116=\"\",J115,IF((H115-J115)/H115<-0.5,MAX(H115,Summary!$D$7),MAX(H115,J115))),\"\")","v":""},"",""]
[116,null,null,{"$f":"IF(B117<>\"\",IF(B117<>B116,ROUNDUP(MIN(1%*J117+(J117-H116)/Summary!$I$7,5%*H116),0),D116),0)","v":0},null,null,0,1416.7000000000005,"",{"$f":"IF(B117<>\"\",IF(K117=\"\",J116,IF((H116-J116)/H116<-0.5,MAX(H116,Summary!$D$7),MAX(H116,J116))),\"\")","v":""},"",""]
[117,null,null,{"$f":"IF(B118<>\"\",IF(B118<>B117,ROUNDUP(MIN(1%*J118+(J118-H117)/Summary!$I$7,5%*H117),0),D117),0)","v":0},null,null,0,1416.7000000000005,"",{"$f":"IF(B118<>\"\",IF(K118=\"\",J117,IF((H117-J117)/H117<-0.5,MAX(H117,Summary!$D$7),MAX(H117,J117))),\"\")","v":""},"",""]
[118,null,null,{"$f":"IF(B119<>\"\",IF(B119<>B118,ROUNDUP(MIN(1%*J119+(J119-H118)/Summary!$I$7,5%*H118),0),D118),0)","v":0},null,null,0,1416.7000000000005,"",{"$f":"IF(B119<>\"\",IF(K119=\"\",J118,IF((H118-J118)/H118<-0.5,MAX(H118,Summary!$D$7),MAX(H118,J118))),\"\")","v":""},"",""]
[119,null,null,{"$f":"IF(B120<>\"\",IF(B120<>B119,ROUNDUP(MIN(1%*J120+(J120-H119)/Summary!$I$7,5%*H119),0),D119),0)","v":0},null,null,0,1416.7000000000005,"",{"$f":"IF(B120<>\"\",IF(K120=\"\",J119,IF((H119-J119)/H119<-0.5,MAX(H119,Summary!$D$7),MAX(H119,J119))),\"\")","v":""},"",""]
[120,null,null,{"$f":"IF(B121<>\"\",IF(B121<>B120,ROUNDUP(MIN(1%*J121+(J121-H120)/Summary!$I$7,5%*H120),0),D120),0)","v":0},null,null,0,1416.7000000000005,"",{"$f":"IF(B121<>\"\",IF(K121=\"\",J120,IF((H120-J120)/H120<-0.5,MAX(H120,Summary!$D$7),MAX(H120,J120))),\"\")","v":""},"",""]
[121,null,null,{"$f":"IF(B122<>\"\",IF(B122<>B121,ROUNDUP(MIN(1%*J122+(J122-H121)/Summary!$I$7,5%*H121),0),D121),0)","v":0},null,null,0,1416.7000000000005,"",{"$f":"IF(B122<>\"\",IF(K122=\"\",J121,IF((H121-J121)/H121<-0.5,MAX(H121,Summary!$D$7),MAX(H121,J121))),\"\")","v":""},"",""]
[122,null,null,{"$f":"IF(B123<>\"\",IF(B123<>B122,ROUNDUP(MIN(1%*J123+(J123-H122)/Summary!$I$7,5%*H122),0),D122),0)","v":0},null,null,0,1416.7000000000005,"",{"$f":"IF(B123<>\"\",IF(K123=\"\",J122,IF((H122-J122)/H122<-0.5,MAX(H122,Summary!$D$7),MAX(H122,J122))),\"\")","v":""},"",""]
[123,null,null,{"$f":"IF(B124<>\"\",IF(B124<>B123,ROUNDUP(MIN(1%*J124+(J124-H123)/Summary!$I$7,5%*H123),0),D123),0)","v":0},null,null,0,1416.7000000000005,"",{"$f":"IF(B124<>\"\",IF(K124=\"\",J123,IF((H123-J123)/H123<-0.5,MAX(H123,Summary!$D$7),MAX(H123,J123))),\"\")","v":""},"",""]
[124,null,null,{"$f":"IF(B125<>\"\",IF(B125<>B124,ROUNDUP(MIN(1%*J125+(J125-H124)/Summary!$I$7,5%*H124),0),D124),0)","v":0},null,null,0,1416.7000000000005,"",{"$f":"IF(B125<>\"\",IF(K125=\"\",J124,IF((H124-J124)/H124<-0.5,MAX(H124,Summary!$D$7),MAX(H124,J124))),\"\")","v":""},"",""]
[125,null,null,{"$f":"IF(B126<>\"\",IF(B126<>B125,ROUNDUP(MIN(1%*J126+(J126-H125)/Summary!$I$7,5%*H125),0),D125),0)","v":0},null,null,0,1416.7000000000005,"",{"$f":"IF(B126<>\"\",IF(K126=\"\",J125,IF((H125-J125)/H125<-0.5,MAX(H125,Summary!$D$7),MAX(H125,J125))),\"\")","v":""},"",""]
[126,null,null,{"$f":"IF(B127<>\"\",IF(B127<>B126,ROUNDUP(MIN(1%*J127+(J127-H126)/Summary!$I$7,5%*H126),0),D126),0)","v":0},null,null,0,1416.7000000000005,"",{"$f":"IF(B127<>\"\",IF(K127=\"\",J126,IF((H126-J126)/H126<-0.5,MAX(H126,Summary!$D$7),MAX(H126,J126))),\"\")","v":""},"",""]
[127,null,null,{"$f":"IF(B128<>\"\",IF(B128<>B127,ROUNDUP(MIN(1%*J128+(J128-H127)/Summary!$I$7,5%*H127),0),D127),0)","v":0},null,null,0,1416.7000000000005,"",{"$f":"IF(B128<>\"\",IF(K128=\"\",J127,IF((H127-J127)/H127<-0.5,MAX(H127,Summary!$D$7),MAX(H127,J127))),\"\")","v":""},"",""]
[128,null,null,{"$f":"IF(B129<>\"\",IF(B129<>B128,ROUNDUP(MIN(1%*J129+(J129-H128)/Summary!$I$7,5%*H128),0),D128),0)","v":0},null,null,0,1416.7000000000005,"",{"$f":"IF(B129<>\"\",IF(K129=\"\",J128,IF((H128-J128)/H128<-0.5,MAX(H128,Summary!$D$7),MAX(H128,J128))),\"\")","v":""},"",""]
[129,null,null,{"$f":"IF(B130<>\"\",IF(B130<>B129,ROUNDUP(MIN(1%*J130+(J130-H129)/Summary!$I$7,5%*H129),0),D129),0)","v":0},null,null,{"$f":"IF(F130=\"Y\",D130*(E130-1),IF(F130=\"N\",-D130,0))","v":0},1416.7000000000005,"",{"$f":"IF(B130<>\"\",IF(K130=\"\",J129,IF((H129-J129)/H129<-0.5,MAX(H129,Summary!$D$7),MAX(H129,J129))),\"\")","v":""},"",""]
[130,null,null,{"$f":"IF(B131<>\"\",IF(B131<>B130,ROUNDUP(MIN(1%*J131+(J131-H130)/Summary!$I$7,5%*H130),0),D130),0)","v":0},null,null,0,{"$f":"SUM(H130,G131)","v":1416.7000000000005},{"$f":"IF(B131<>\"\",IF(B131<>B130,1,I130+1),\"\")","v":""},{"$f":"IF(B131<>\"\",IF(K131=\"\",J130,IF((H130-J130)/H130<-0.5,MAX(H130,Summary!$D$7),MAX(H130,J130))),\"\")","v":""},{"$f":"IF(AND(B131<>\"\",B131<>B130),\"Y\",\"\")","v":""},""]
[131,null,null,{"$f":"IF(B132<>\"\",IF(B132<>B131,ROUNDUP(MIN(1%*J132+(J132-H131)/Summary!$I$7,5%*H131),0),D131),0)","v":0},null,null,0,1416.7000000000005,"",{"$f":"IF(B132<>\"\",IF(K132=\"\",J131,IF((H131-J131)/H131<-0.5,MAX(H131,Summary!$D$7),MAX(H131,J131))),\"\")","v":""},"",{"$f":"IF(D132<>0,D132/H132,\"\")","v":""}]
[132,null,null,{"$f":"IF(B133<>\"\",IF(B133<>B132,ROUNDUP(MIN(1%*J133+(J133-H132)/Summary!$I$7,5%*H132),0),D132),0)","v":0},null,null,0,1416.7000000000005,"",{"$f":"IF(B133<>\"\",IF(K133=\"\",J132,IF((H132-J132)/H132<-0.5,MAX(H132,Summary!$D$7),MAX(H132,J132))),\"\")","v":""},"",""]
[133,null,null,{"$f":"IF(B134<>\"\",IF(B134<>B133,ROUNDUP(MIN(1%*J134+(J134-H133)/Summary!$I$7,5%*H133),0),D133),0)","v":0},null,null,0,1416.7000000000005,"",{"$f":"IF(B134<>\"\",IF(K134=\"\",J133,IF((H133-J133)/H133<-0.5,MAX(H133,Summary!$D$7),MAX(H133,J133))),\"\")","v":""},"",""]
[134,null,null,{"$f":"IF(B135<>\"\",IF(B135<>B134,ROUNDUP(MIN(1%*J135+(J135-H134)/Summary!$I$7,5%*H134),0),D134),0)","v":0},null,null,0,1416.7000000000005,"",{"$f":"IF(B135<>\"\",IF(K135=\"\",J134,IF((H134-J134)/H134<-0.5,MAX(H134,Summary!$D$7),MAX(H134,J134))),\"\")","v":""},"",""]
[135,null,null,{"$f":"IF(B136<>\"\",IF(B136<>B135,ROUNDUP(MIN(1%*J136+(J136-H135)/Summary!$I$7,5%*H135),0),D135),0)","v":0},null,null,0,1416.7000000000005,"",{"$f":"IF(B136<>\"\",IF(K136=\"\",J135,IF((H135-J135)/H135<-0.5,MAX(H135,Summary!$D$7),MAX(H135,J135))),\"\")","v":""},"",""]
[136,null,null,{"$f":"IF(B137<>\"\",IF(B137<>B136,ROUNDUP(MIN(1%*J137+(J137-H136)/Summary!$I$7,5%*H136),0),D136),0)","v":0},null,null,0,1416.7000000000005,"",{"$f":"IF(B137<>\"\",IF(K137=\"\",J136,IF((H136-J136)/H136<-0.5,MAX(H136,Summary!$D$7),MAX(H136,J136))),\"\")","v":""},"",""]
[137,null,null,{"$f":"IF(B138<>\"\",IF(B138<>B137,ROUNDUP(MIN(1%*J138+(J138-H137)/Summary!$I$7,5%*H137),0),D137),0)","v":0},null,null,0,1416.7000000000005,"",{"$f":"IF(B138<>\"\",IF(K138=\"\",J137,IF((H137-J137)/H137<-0.5,MAX(H137,Summary!$D$7),MAX(H137,J137))),\"\")","v":""},"",""]
[138,null,null,{"$f":"IF(B139<>\"\",IF(B139<>B138,ROUNDUP(MIN(1%*J139+(J139-H138)/Summary!$I$7,5%*H138),0),D138),0)","v":0},null,null,0,1416.7000000000005,"",{"$f":"IF(B139<>\"\",IF(K139=\"\",J138,IF((H138-J138)/H138<-0.5,MAX(H138,Summary!$D$7),MAX(H138,J138))),\"\")","v":""},"",""]
[139,null,null,{"$f":"IF(B140<>\"\",IF(B140<>B139,ROUNDUP(MIN(1%*J140+(J140-H139)/Summary!$I$7,5%*H139),0),D139),0)","v":0},null,null,0,1416.7000000000005,"",{"$f":"IF(B140<>\"\",IF(K140=\"\",J139,IF((H139-J139)/H139<-0.5,MAX(H139,Summary!$D$7),MAX(H139,J139))),\"\")","v":""},"",""]
[140,null,null,{"$f":"IF(B141<>\"\",IF(B141<>B140,ROUNDUP(MIN(1%*J141+(J141-H140)/Summary!$I$7,5%*H140),0),D140),0)","v":0},null,null,0,1416.7000000000005,"",{"$f":"IF(B141<>\"\",IF(K141=\"\",J140,IF((H140-J140)/H140<-0.5,MAX(H140,Summary!$D$7),MAX(H140,J140))),\"\")","v":""},"",""]
[141,null,null,{"$f":"IF(B142<>\"\",IF(B142<>B141,ROUNDUP(MIN(1%*J142+(J142-H141)/Summary!$I$7,5%*H141),0),D141),0)","v":0},null,null,0,1416.7000000000005,"",{"$f":"IF(B142<>\"\",IF(K142=\"\",J141,IF((H141-J141)/H141<-0.5,MAX(H141,Summary!$D$7),MAX(H141,J141))),\"\")","v":""},"",""]
[142,null,null,{"$f":"IF(B143<>\"\",IF(B143<>B142,ROUNDUP(MIN(1%*J143+(J143-H142)/Summary!$I$7,5%*H142),0),D142),0)","v":0},null,null,0,1416.7000000000005,"",{"$f":"IF(B143<>\"\",IF(K143=\"\",J142,IF((H142-J142)/H142<-0.5,MAX(H142,Summary!$D$7),MAX(H142,J142))),\"\")","v":""},"",""]
[143,null,null,{"$f":"IF(B144<>\"\",IF(B144<>B143,ROUNDUP(MIN(1%*J144+(J144-H143)/Summary!$I$7,5%*H143),0),D143),0)","v":0},null,null,0,1416.7000000000005,"",{"$f":"IF(B144<>\"\",IF(K144=\"\",J143,IF((H143-J143)/H143<-0.5,MAX(H143,Summary!$D$7),MAX(H143,J143))),\"\")","v":""},"",""]
[144,null,null,{"$f":"IF(B145<>\"\",IF(B145<>B144,ROUNDUP(MIN(1%*J145+(J145-H144)/Summary!$I$7,5%*H144),0),D144),0)","v":0},null,null,0,1416.7000000000005,"",{"$f":"IF(B145<>\"\",IF(K145=\"\",J144,IF((H144-J144)/H144<-0.5,MAX(H144,Summary!$D$7),MAX(H144,J144))),\"\")","v":""},"",""]
[145,null,null,{"$f":"IF(B146<>\"\",IF(B146<>B145,ROUNDUP(MIN(1%*J146+(J146-H145)/Summary!$I$7,5%*H145),0),D145),0)","v":0},null,null,0,1416.7000000000005,"",{"$f":"IF(B146<>\"\",IF(K146=\"\",J145,IF((H145-J145)/H145<-0.5,MAX(H145,Summary!$D$7),MAX(H145,J145))),\"\")","v":""},"",""]
[146,null,null,{"$f":"IF(B147<>\"\",IF(B147<>B146,ROUNDUP(MIN(1%*J147+(J147-H146)/Summary!$I$7,5%*H146),0),D146),0)","v":0},null,null,0,1416.7000000000005,"",{"$f":"IF(B147<>\"\",IF(K147=\"\",J146,IF((H146-J146)/H146<-0.5,MAX(H146,Summary!$D$7),MAX(H146,J146))),\"\")","v":""},"",""]
[147,null,null,{"$f":"IF(B148<>\"\",IF(B148<>B147,ROUNDUP(MIN(1%*J148+(J148-H147)/Summary!$I$7,5%*H147),0),D147),0)","v":0},null,null,0,1416.7000000000005,"",{"$f":"IF(B148<>\"\",IF(K148=\"\",J147,IF((H147-J147)/H147<-0.5,MAX(H147,Summary!$D$7),MAX(H147,J147))),\"\")","v":""},"",""]
[148,null,null,{"$f":"IF(B149<>\"\",IF(B149<>B148,ROUNDUP(MIN(1%*J149+(J149-H148)/Summary!$I$7,5%*H148),0),D148),0)","v":0},null,null,0,1416.7000000000005,"",{"$f":"IF(B149<>\"\",IF(K149=\"\",J148,IF((H148-J148)/H148<-0.5,MAX(H148,Summary!$D$7),MAX(H148,J148))),\"\")","v":""},"",""]
[149,null,null,{"$f":"IF(B150<>\"\",IF(B150<>B149,ROUNDUP(MIN(1%*J150+(J150-H149)/Summary!$I$7,5%*H149),0),D149),0)","v":0},null,null,0,1416.7000000000005,"",{"$f":"IF(B150<>\"\",IF(K150=\"\",J149,IF((H149-J149)/H149<-0.5,MAX(H149,Summary!$D$7),MAX(H149,J149))),\"\")","v":""},"",""]
[150,null,null,{"$f":"IF(B151<>\"\",IF(B151<>B150,ROUNDUP(MIN(1%*J151+(J151-H150)/Summary!$I$7,5%*H150),0),D150),0)","v":0},null,null,0,1416.7000000000005,"",{"$f":"IF(B151<>\"\",IF(K151=\"\",J150,IF((H150-J150)/H150<-0.5,MAX(H150,Summary!$D$7),MAX(H150,J150))),\"\")","v":""},"",""]
[151,null,null,{"$f":"IF(B152<>\"\",IF(B152<>B151,ROUNDUP(MIN(1%*J152+(J152-H151)/Summary!$I$7,5%*H151),0),D151),0)","v":0},null,null,0,1416.7000000000005,"",{"$f":"IF(B152<>\"\",IF(K152=\"\",J151,IF((H151-J151)/H151<-0.5,MAX(H151,Summary!$D$7),MAX(H151,J151))),\"\")","v":""},"",""]
[152,null,null,{"$f":"IF(B153<>\"\",IF(B153<>B152,ROUNDUP(MIN(1%*J153+(J153-H152)/Summary!$I$7,5%*H152),0),D152),0)","v":0},null,null,0,1416.7000000000005,"",{"$f":"IF(B153<>\"\",IF(K153=\"\",J152,IF((H152-J152)/H152<-0.5,MAX(H152,Summary!$D$7),MAX(H152,J152))),\"\")","v":""},"",""]
[153,null,null,{"$f":"IF(B154<>\"\",IF(B154<>B153,ROUNDUP(MIN(1%*J154+(J154-H153)/Summary!$I$7,5%*H153),0),D153),0)","v":0},null,null,0,1416.7000000000005,"",{"$f":"IF(B154<>\"\",IF(K154=\"\",J153,IF((H153-J153)/H153<-0.5,MAX(H153,Summary!$D$7),MAX(H153,J153))),\"\")","v":""},"",""]
[154,null,null,{"$f":"IF(B155<>\"\",IF(B155<>B154,ROUNDUP(MIN(1%*J155+(J155-H154)/Summary!$I$7,5%*H154),0),D154),0)","v":0},null,null,0,1416.7000000000005,"",{"$f":"IF(B155<>\"\",IF(K155=\"\",J154,IF((H154-J154)/H154<-0.5,MAX(H154,Summary!$D$7),MAX(H154,J154))),\"\")","v":""},"",""]
[155,null,null,{"$f":"IF(B156<>\"\",IF(B156<>B155,ROUNDUP(MIN(1%*J156+(J156-H155)/Summary!$I$7,5%*H155),0),D155),0)","v":0},null,null,0,1416.7000000000005,"",{"$f":"IF(B156<>\"\",IF(K156=\"\",J155,IF((H155-J155)/H155<-0.5,MAX(H155,Summary!$D$7),MAX(H155,J155))),\"\")","v":""},"",""]
[156,null,null,{"$f":"IF(B157<>\"\",IF(B157<>B156,ROUNDUP(MIN(1%*J157+(J157-H156)/Summary!$I$7,5%*H156),0),D156),0)","v":0},null,null,0,1416.7000000000005,"",{"$f":"IF(B157<>\"\",IF(K157=\"\",J156,IF((H156-J156)/H156<-0.5,MAX(H156,Summary!$D$7),MAX(H156,J156))),\"\")","v":""},"",""]
[157,null,null,{"$f":"IF(B158<>\"\",IF(B158<>B157,ROUNDUP(MIN(1%*J158+(J158-H157)/Summary!$I$7,5%*H157),0),D157),0)","v":0},null,null,0,1416.7000000000005,"",{"$f":"IF(B158<>\"\",IF(K158=\"\",J157,IF((H157-J157)/H157<-0.5,MAX(H157,Summary!$D$7),MAX(H157,J157))),\"\")","v":""},"",""]
[158,null,null,{"$f":"IF(B159<>\"\",IF(B159<>B158,ROUNDUP(MIN(1%*J159+(J159-H158)/Summary!$I$7,5%*H158),0),D158),0)","v":0},null,null,0,1416.7000000000005,"",{"$f":"IF(B159<>\"\",IF(K159=\"\",J158,IF((H158-J158)/H158<-0.5,MAX(H158,Summary!$D$7),MAX(H158,J158))),\"\")","v":""},"",""]
[159,null,null,{"$f":"IF(B160<>\"\",IF(B160<>B159,ROUNDUP(MIN(1%*J160+(J160-H159)/Summary!$I$7,5%*H159),0),D159),0)","v":0},null,null,0,1416.7000000000005,"",{"$f":"IF(B160<>\"\",IF(K160=\"\",J159,IF((H159-J159)/H159<-0.5,MAX(H159,Summary!$D$7),MAX(H159,J159))),\"\")","v":""},"",""]
[160,null,null,{"$f":"IF(B161<>\"\",IF(B161<>B160,ROUNDUP(MIN(1%*J161+(J161-H160)/Summary!$I$7,5%*H160),0),D160),0)","v":0},null,null,0,1416.7000000000005,"",{"$f":"IF(B161<>\"\",IF(K161=\"\",J160,IF((H160-J160)/H160<-0.5,MAX(H160,Summary!$D$7),MAX(H160,J160))),\"\")","v":""},"",""]
[161,null,null,{"$f":"IF(B162<>\"\",IF(B162<>B161,ROUNDUP(MIN(1%*J162+(J162-H161)/Summary!$I$7,5%*H161),0),D161),0)","v":0},null,null,0,1416.7000000000005,"",{"$f":"IF(B162<>\"\",IF(K162=\"\",J161,IF((H161-J161)/H161<-0.5,MAX(H161,Summary!$D$7),MAX(H161,J161))),\"\")","v":""},"",""]
[162,null,null,{"$f":"IF(B163<>\"\",IF(B163<>B162,ROUNDUP(MIN(1%*J163+(J163-H162)/Summary!$I$7,5%*H162),0),D162),0)","v":0},null,null,0,1416.7000000000005,"",{"$f":"IF(B163<>\"\",IF(K163=\"\",J162,IF((H162-J162)/H162<-0.5,MAX(H162,Summary!$D$7),MAX(H162,J162))),\"\")","v":""},"",""]
[163,null,null,{"$f":"IF(B164<>\"\",IF(B164<>B163,ROUNDUP(MIN(1%*J164+(J164-H163)/Summary!$I$7,5%*H163),0),D163),0)","v":0},null,null,0,1416.7000000000005,"",{"$f":"IF(B164<>\"\",IF(K164=\"\",J163,IF((H163-J163)/H163<-0.5,MAX(H163,Summary!$D$7),MAX(H163,J163))),\"\")","v":""},"",""]
[164,null,null,{"$f":"IF(B165<>\"\",IF(B165<>B164,ROUNDUP(MIN(1%*J165+(J165-H164)/Summary!$I$7,5%*H164),0),D164),0)","v":0},null,null,0,1416.7000000000005,"",{"$f":"IF(B165<>\"\",IF(K165=\"\",J164,IF((H164-J164)/H164<-0.5,MAX(H164,Summary!$D$7),MAX(H164,J164))),\"\")","v":""},"",""]
[165,null,null,{"$f":"IF(B166<>\"\",IF(B166<>B165,ROUNDUP(MIN(1%*J166+(J166-H165)/Summary!$I$7,5%*H165),0),D165),0)","v":0},null,null,0,1416.7000000000005,"",{"$f":"IF(B166<>\"\",IF(K166=\"\",J165,IF((H165-J165)/H165<-0.5,MAX(H165,Summary!$D$7),MAX(H165,J165))),\"\")","v":""},"",""]
[166,null,null,{"$f":"IF(B167<>\"\",IF(B167<>B166,ROUNDUP(MIN(1%*J167+(J167-H166)/Summary!$I$7,5%*H166),0),D166),0)","v":0},null,null,0,1416.7000000000005,"",{"$f":"IF(B167<>\"\",IF(K167=\"\",J166,IF((H166-J166)/H166<-0.5,MAX(H166,Summary!$D$7),MAX(H166,J166))),\"\")","v":""},"",""]
[167,null,null,{"$f":"IF(B168<>\"\",IF(B168<>B167,ROUNDUP(MIN(1%*J168+(J168-H167)/Summary!$I$7,5%*H167),0),D167),0)","v":0},null,null,0,1416.7000000000005,"",{"$f":"IF(B168<>\"\",IF(K168=\"\",J167,IF((H167-J167)/H167<-0.5,MAX(H167,Summary!$D$7),MAX(H167,J167))),\"\")","v":""},"",""]
[168,null,null,{"$f":"IF(B169<>\"\",IF(B169<>B168,ROUNDUP(MIN(1%*J169+(J169-H168)/Summary!$I$7,5%*H168),0),D168),0)","v":0},null,null,0,1416.7000000000005,"",{"$f":"IF(B169<>\"\",IF(K169=\"\",J168,IF((H168-J168)/H168<-0.5,MAX(H168,Summary!$D$7),MAX(H168,J168))),\"\")","v":""},"",""]
[169,null,null,{"$f":"IF(B170<>\"\",IF(B170<>B169,ROUNDUP(MIN(1%*J170+(J170-H169)/Summary!$I$7,5%*H169),0),D169),0)","v":0},null,null,0,1416.7000000000005,"",{"$f":"IF(B170<>\"\",IF(K170=\"\",J169,IF((H169-J169)/H169<-0.5,MAX(H169,Summary!$D$7),MAX(H169,J169))),\"\")","v":""},"",""]
[170,null,null,{"$f":"IF(B171<>\"\",IF(B171<>B170,ROUNDUP(MIN(1%*J171+(J171-H170)/Summary!$I$7,5%*H170),0),D170),0)","v":0},null,null,0,1416.7000000000005,"",{"$f":"IF(B171<>\"\",IF(K171=\"\",J170,IF((H170-J170)/H170<-0.5,MAX(H170,Summary!$D$7),MAX(H170,J170))),\"\")","v":""},"",""]
[171,null,null,{"$f":"IF(B172<>\"\",IF(B172<>B171,ROUNDUP(MIN(1%*J172+(J172-H171)/Summary!$I$7,5%*H171),0),D171),0)","v":0},null,null,0,1416.7000000000005,"",{"$f":"IF(B172<>\"\",IF(K172=\"\",J171,IF((H171-J171)/H171<-0.5,MAX(H171,Summary!$D$7),MAX(H171,J171))),\"\")","v":""},"",""]
[172,null,null,{"$f":"IF(B173<>\"\",IF(B173<>B172,ROUNDUP(MIN(1%*J173+(J173-H172)/Summary!$I$7,5%*H172),0),D172),0)","v":0},null,null,0,1416.7000000000005,"",{"$f":"IF(B173<>\"\",IF(K173=\"\",J172,IF((H172-J172)/H172<-0.5,MAX(H172,Summary!$D$7),MAX(H172,J172))),\"\")","v":""},"",""]
[173,null,null,{"$f":"IF(B174<>\"\",IF(B174<>B173,ROUNDUP(MIN(1%*J174+(J174-H173)/Summary!$I$7,5%*H173),0),D173),0)","v":0},null,null,0,1416.7000000000005,"",{"$f":"IF(B174<>\"\",IF(K174=\"\",J173,IF((H173-J173)/H173<-0.5,MAX(H173,Summary!$D$7),MAX(H173,J173))),\"\")","v":""},"",""]
[174,null,null,{"$f":"IF(B175<>\"\",IF(B175<>B174,ROUNDUP(MIN(1%*J175+(J175-H174)/Summary!$I$7,5%*H174),0),D174),0)","v":0},null,null,0,1416.7000000000005,"",{"$f":"IF(B175<>\"\",IF(K175=\"\",J174,IF((H174-J174)/H174<-0.5,MAX(H174,Summary!$D$7),MAX(H174,J174))),\"\")","v":""},"",""]
[175,null,null,{"$f":"IF(B176<>\"\",IF(B176<>B175,ROUNDUP(MIN(1%*J176+(J176-H175)/Summary!$I$7,5%*H175),0),D175),0)","v":0},null,null,0,1416.7000000000005,"",{"$f":"IF(B176<>\"\",IF(K176=\"\",J175,IF((H175-J175)/H175<-0.5,MAX(H175,Summary!$D$7),MAX(H175,J175))),\"\")","v":""},"",""]
[176,null,null,{"$f":"IF(B177<>\"\",IF(B177<>B176,ROUNDUP(MIN(1%*J177+(J177-H176)/Summary!$I$7,5%*H176),0),D176),0)","v":0},null,null,0,1416.7000000000005,"",{"$f":"IF(B177<>\"\",IF(K177=\"\",J176,IF((H176-J176)/H176<-0.5,MAX(H176,Summary!$D$7),MAX(H176,J176))),\"\")","v":""},"",""]
[177,null,null,{"$f":"IF(B178<>\"\",IF(B178<>B177,ROUNDUP(MIN(1%*J178+(J178-H177)/Summary!$I$7,5%*H177),0),D177),0)","v":0},null,null,0,1416.7000000000005,"",{"$f":"IF(B178<>\"\",IF(K178=\"\",J177,IF((H177-J177)/H177<-0.5,MAX(H177,Summary!$D$7),MAX(H177,J177))),\"\")","v":""},"",""]
[178,null,null,{"$f":"IF(B179<>\"\",IF(B179<>B178,ROUNDUP(MIN(1%*J179+(J179-H178)/Summary!$I$7,5%*H178),0),D178),0)","v":0},null,null,0,1416.7000000000005,"",{"$f":"IF(B179<>\"\",IF(K179=\"\",J178,IF((H178-J178)/H178<-0.5,MAX(H178,Summary!$D$7),MAX(H178,J178))),\"\")","v":""},"",""]
[179,null,null,{"$f":"IF(B180<>\"\",IF(B180<>B179,ROUNDUP(MIN(1%*J180+(J180-H179)/Summary!$I$7,5%*H179),0),D179),0)","v":0},null,null,0,1416.7000000000005,"",{"$f":"IF(B180<>\"\",IF(K180=\"\",J179,IF((H179-J179)/H179<-0.5,MAX(H179,Summary!$D$7),MAX(H179,J179))),\"\")","v":""},"",""]
[180,null,null,{"$f":"IF(B181<>\"\",IF(B181<>B180,ROUNDUP(MIN(1%*J181+(J181-H180)/Summary!$I$7,5%*H180),0),D180),0)","v":0},null,null,0,1416.7000000000005,"",{"$f":"IF(B181<>\"\",IF(K181=\"\",J180,IF((H180-J180)/H180<-0.5,MAX(H180,Summary!$D$7),MAX(H180,J180))),\"\")","v":""},"",""]
[181,null,null,{"$f":"IF(B182<>\"\",IF(B182<>B181,ROUNDUP(MIN(1%*J182+(J182-H181)/Summary!$I$7,5%*H181),0),D181),0)","v":0},null,null,0,1416.7000000000005,"",{"$f":"IF(B182<>\"\",IF(K182=\"\",J181,IF((H181-J181)/H181<-0.5,MAX(H181,Summary!$D$7),MAX(H181,J181))),\"\")","v":""},"",""]
[182,null,null,{"$f":"IF(B183<>\"\",IF(B183<>B182,ROUNDUP(MIN(1%*J183+(J183-H182)/Summary!$I$7,5%*H182),0),D182),0)","v":0},null,null,0,1416.7000000000005,"",{"$f":"IF(B183<>\"\",IF(K183=\"\",J182,IF((H182-J182)/H182<-0.5,MAX(H182,Summary!$D$7),MAX(H182,J182))),\"\")","v":""},"",""]
[183,null,null,{"$f":"IF(B184<>\"\",IF(B184<>B183,ROUNDUP(MIN(1%*J184+(J184-H183)/Summary!$I$7,5%*H183),0),D183),0)","v":0},null,null,0,1416.7000000000005,"",{"$f":"IF(B184<>\"\",IF(K184=\"\",J183,IF((H183-J183)/H183<-0.5,MAX(H183,Summary!$D$7),MAX(H183,J183))),\"\")","v":""},"",""]
[184,null,null,{"$f":"IF(B185<>\"\",IF(B185<>B184,ROUNDUP(MIN(1%*J185+(J185-H184)/Summary!$I$7,5%*H184),0),D184),0)","v":0},null,null,0,1416.7000000000005,"",{"$f":"IF(B185<>\"\",IF(K185=\"\",J184,IF((H184-J184)/H184<-0.5,MAX(H184,Summary!$D$7),MAX(H184,J184))),\"\")","v":""},"",""]
[185,null,null,{"$f":"IF(B186<>\"\",IF(B186<>B185,ROUNDUP(MIN(1%*J186+(J186-H185)/Summary!$I$7,5%*H185),0),D185),0)","v":0},null,null,0,1416.7000000000005,"",{"$f":"IF(B186<>\"\",IF(K186=\"\",J185,IF((H185-J185)/H185<-0.5,MAX(H185,Summary!$D$7),MAX(H185,J185))),\"\")","v":""},"",""]
[186,null,null,{"$f":"IF(B187<>\"\",IF(B187<>B186,ROUNDUP(MIN(1%*J187+(J187-H186)/Summary!$I$7,5%*H186),0),D186),0)","v":0},null,null,0,1416.7000000000005,"",{"$f":"IF(B187<>\"\",IF(K187=\"\",J186,IF((H186-J186)/H186<-0.5,MAX(H186,Summary!$D$7),MAX(H186,J186))),\"\")","v":""},"",""]
[187,null,null,{"$f":"IF(B188<>\"\",IF(B188<>B187,ROUNDUP(MIN(1%*J188+(J188-H187)/Summary!$I$7,5%*H187),0),D187),0)","v":0},null,null,0,1416.7000000000005,"",{"$f":"IF(B188<>\"\",IF(K188=\"\",J187,IF((H187-J187)/H187<-0.5,MAX(H187,Summary!$D$7),MAX(H187,J187))),\"\")","v":""},"",""]
[188,null,null,{"$f":"IF(B189<>\"\",IF(B189<>B188,ROUNDUP(MIN(1%*J189+(J189-H188)/Summary!$I$7,5%*H188),0),D188),0)","v":0},null,null,0,1416.7000000000005,"",{"$f":"IF(B189<>\"\",IF(K189=\"\",J188,IF((H188-J188)/H188<-0.5,MAX(H188,Summary!$D$7),MAX(H188,J188))),\"\")","v":""},"",""]
[189,null,null,{"$f":"IF(B190<>\"\",IF(B190<>B189,ROUNDUP(MIN(1%*J190+(J190-H189)/Summary!$I$7,5%*H189),0),D189),0)","v":0},null,null,0,1416.7000000000005,"",{"$f":"IF(B190<>\"\",IF(K190=\"\",J189,IF((H189-J189)/H189<-0.5,MAX(H189,Summary!$D$7),MAX(H189,J189))),\"\")","v":""},"",""]
[190,null,null,{"$f":"IF(B191<>\"\",IF(B191<>B190,ROUNDUP(MIN(1%*J191+(J191-H190)/Summary!$I$7,5%*H190),0),D190),0)","v":0},null,null,0,1416.7000000000005,"",{"$f":"IF(B191<>\"\",IF(K191=\"\",J190,IF((H190-J190)/H190<-0.5,MAX(H190,Summary!$D$7),MAX(H190,J190))),\"\")","v":""},"",""]
[191,null,null,{"$f":"IF(B192<>\"\",IF(B192<>B191,ROUNDUP(MIN(1%*J192+(J192-H191)/Summary!$I$7,5%*H191),0),D191),0)","v":0},null,null,0,1416.7000000000005,"",{"$f":"IF(B192<>\"\",IF(K192=\"\",J191,IF((H191-J191)/H191<-0.5,MAX(H191,Summary!$D$7),MAX(H191,J191))),\"\")","v":""},"",""]
[192,null,null,{"$f":"IF(B193<>\"\",IF(B193<>B192,ROUNDUP(MIN(1%*J193+(J193-H192)/Summary!$I$7,5%*H192),0),D192),0)","v":0},null,null,0,1416.7000000000005,"",{"$f":"IF(B193<>\"\",IF(K193=\"\",J192,IF((H192-J192)/H192<-0.5,MAX(H192,Summary!$D$7),MAX(H192,J192))),\"\")","v":""},"",""]
[193,null,null,{"$f":"IF(B194<>\"\",IF(B194<>B193,ROUNDUP(MIN(1%*J194+(J194-H193)/Summary!$I$7,5%*H193),0),D193),0)","v":0},null,null,{"$f":"IF(F194=\"Y\",D194*(E194-1),IF(F194=\"N\",-D194,0))","v":0},1416.7000000000005,"",{"$f":"IF(B194<>\"\",IF(K194=\"\",J193,IF((H193-J193)/H193<-0.5,MAX(H193,Summary!$D$7),MAX(H193,J193))),\"\")","v":""},"",""]
[194,null,null,{"$f":"IF(B195<>\"\",IF(B195<>B194,ROUNDUP(MIN(1%*J195+(J195-H194)/Summary!$I$7,5%*H194),0),D194),0)","v":0},null,null,0,{"$f":"SUM(H194,G195)","v":1416.7000000000005},{"$f":"IF(B195<>\"\",IF(B195<>B194,1,I194+1),\"\")","v":""},{"$f":"IF(B195<>\"\",IF(K195=\"\",J194,IF((H194-J194)/H194<-0.5,MAX(H194,Summary!$D$7),MAX(H194,J194))),\"\")","v":""},{"$f":"IF(AND(B195<>\"\",B195<>B194),\"Y\",\"\")","v":""},""]
[195,null,null,{"$f":"IF(B196<>\"\",IF(B196<>B195,ROUNDUP(MIN(1%*J196+(J196-H195)/Summary!$I$7,5%*H195),0),D195),0)","v":0},null,null,0,1416.7000000000005,"",{"$f":"IF(B196<>\"\",IF(K196=\"\",J195,IF((H195-J195)/H195<-0.5,MAX(H195,Summary!$D$7),MAX(H195,J195))),\"\")","v":""},"",{"$f":"IF(D196<>0,D196/H196,\"\")","v":""}]
[196,null,null,{"$f":"IF(B197<>\"\",IF(B197<>B196,ROUNDUP(MIN(1%*J197+(J197-H196)/Summary!$I$7,5%*H196),0),D196),0)","v":0},null,null,0,1416.7000000000005,"",{"$f":"IF(B197<>\"\",IF(K197=\"\",J196,IF((H196-J196)/H196<-0.5,MAX(H196,Summary!$D$7),MAX(H196,J196))),\"\")","v":""},"",""]
[197,null,null,{"$f":"IF(B198<>\"\",IF(B198<>B197,ROUNDUP(MIN(1%*J198+(J198-H197)/Summary!$I$7,5%*H197),0),D197),0)","v":0},null,null,0,1416.7000000000005,"",{"$f":"IF(B198<>\"\",IF(K198=\"\",J197,IF((H197-J197)/H197<-0.5,MAX(H197,Summary!$D$7),MAX(H197,J197))),\"\")","v":""},"",""]
[198,null,null,{"$f":"IF(B199<>\"\",IF(B199<>B198,ROUNDUP(MIN(1%*J199+(J199-H198)/Summary!$I$7,5%*H198),0),D198),0)","v":0},null,null,0,1416.7000000000005,"",{"$f":"IF(B199<>\"\",IF(K199=\"\",J198,IF((H198-J198)/H198<-0.5,MAX(H198,Summary!$D$7),MAX(H198,J198))),\"\")","v":""},"",""]
[199,null,null,{"$f":"IF(B200<>\"\",IF(B200<>B199,ROUNDUP(MIN(1%*J200+(J200-H199)/Summary!$I$7,5%*H199),0),D199),0)","v":0},null,null,0,1416.7000000000005,"",{"$f":"IF(B200<>\"\",IF(K200=\"\",J199,IF((H199-J199)/H199<-0.5,MAX(H199,Summary!$D$7),MAX(H199,J199))),\"\")","v":""},"",""]
[200,null,null,{"$f":"IF(B201<>\"\",IF(B201<>B200,ROUNDUP(MIN(1%*J201+(J201-H200)/Summary!$I$7,5%*H200),0),D200),0)","v":0},null,null,0,1416.7000000000005,"",{"$f":"IF(B201<>\"\",IF(K201=\"\",J200,IF((H200-J200)/H200<-0.5,MAX(H200,Summary!$D$7),MAX(H200,J200))),\"\")","v":""},"",""]
[201,null,null,{"$f":"IF(B202<>\"\",IF(B202<>B201,ROUNDUP(MIN(1%*J202+(J202-H201)/Summary!$I$7,5%*H201),0),D201),0)","v":0},null,null,0,1416.7000000000005,"",{"$f":"IF(B202<>\"\",IF(K202=\"\",J201,IF((H201-J201)/H201<-0.5,MAX(H201,Summary!$D$7),MAX(H201,J201))),\"\")","v":""},"",""]
[202,null,null,{"$f":"IF(B203<>\"\",IF(B203<>B202,ROUNDUP(MIN(1%*J203+(J203-H202)/Summary!$I$7,5%*H202),0),D202),0)","v":0},null,null,0,1416.7000000000005,"",{"$f":"IF(B203<>\"\",IF(K203=\"\",J202,IF((H202-J202)/H202<-0.5,MAX(H202,Summary!$D$7),MAX(H202,J202))),\"\")","v":""},"",""]
[203,null,null,{"$f":"IF(B204<>\"\",IF(B204<>B203,ROUNDUP(MIN(1%*J204+(J204-H203)/Summary!$I$7,5%*H203),0),D203),0)","v":0},null,null,0,1416.7000000000005,"",{"$f":"IF(B204<>\"\",IF(K204=\"\",J203,IF((H203-J203)/H203<-0.5,MAX(H203,Summary!$D$7),MAX(H203,J203))),\"\")","v":""},"",""]
[204,null,null,{"$f":"IF(B205<>\"\",IF(B205<>B204,ROUNDUP(MIN(1%*J205+(J205-H204)/Summary!$I$7,5%*H204),0),D204),0)","v":0},null,null,0,1416.7000000000005,"",{"$f":"IF(B205<>\"\",IF(K205=\"\",J204,IF((H204-J204)/H204<-0.5,MAX(H204,Summary!$D$7),MAX(H204,J204))),\"\")","v":""},"",""]
[205,null,null,{"$f":"IF(B206<>\"\",IF(B206<>B205,ROUNDUP(MIN(1%*J206+(J206-H205)/Summary!$I$7,5%*H205),0),D205),0)","v":0},null,null,0,1416.7000000000005,"",{"$f":"IF(B206<>\"\",IF(K206=\"\",J205,IF((H205-J205)/H205<-0.5,MAX(H205,Summary!$D$7),MAX(H205,J205))),\"\")","v":""},"",""]
[206,null,null,{"$f":"IF(B207<>\"\",IF(B207<>B206,ROUNDUP(MIN(1%*J207+(J207-H206)/Summary!$I$7,5%*H206),0),D206),0)","v":0},null,null,0,1416.7000000000005,"",{"$f":"IF(B207<>\"\",IF(K207=\"\",J206,IF((H206-J206)/H206<-0.5,MAX(H206,Summary!$D$7),MAX(H206,J206))),\"\")","v":""},"",""]
[207,null,null,{"$f":"IF(B208<>\"\",IF(B208<>B207,ROUNDUP(MIN(1%*J208+(J208-H207)/Summary!$I$7,5%*H207),0),D207),0)","v":0},null,null,0,1416.7000000000005,"",{"$f":"IF(B208<>\"\",IF(K208=\"\",J207,IF((H207-J207)/H207<-0.5,MAX(H207,Summary!$D$7),MAX(H207,J207))),\"\")","v":""},"",""]
[208,null,null,{"$f":"IF(B209<>\"\",IF(B209<>B208,ROUNDUP(MIN(1%*J209+(J209-H208)/Summary!$I$7,5%*H208),0),D208),0)","v":0},null,null,0,1416.7000000000005,"",{"$f":"IF(B209<>\"\",IF(K209=\"\",J208,IF((H208-J208)/H208<-0.5,MAX(H208,Summary!$D$7),MAX(H208,J208))),\"\")","v":""},"",""]
[209,null,null,{"$f":"IF(B210<>\"\",IF(B210<>B209,ROUNDUP(MIN(1%*J210+(J210-H209)/Summary!$I$7,5%*H209),0),D209),0)","v":0},null,null,0,1416.7000000000005,"",{"$f":"IF(B210<>\"\",IF(K210=\"\",J209,IF((H209-J209)/H209<-0.5,MAX(H209,Summary!$D$7),MAX(H209,J209))),\"\")","v":""},"",""]
[210,null,null,{"$f":"IF(B211<>\"\",IF(B211<>B210,ROUNDUP(MIN(1%*J211+(J211-H210)/Summary!$I$7,5%*H210),0),D210),0)","v":0},null,null,0,1416.7000000000005,"",{"$f":"IF(B211<>\"\",IF(K211=\"\",J210,IF((H210-J210)/H210<-0.5,MAX(H210,Summary!$D$7),MAX(H210,J210))),\"\")","v":""},"",""]
[211,null,null,{"$f":"IF(B212<>\"\",IF(B212<>B211,ROUNDUP(MIN(1%*J212+(J212-H211)/Summary!$I$7,5%*H211),0),D211),0)","v":0},null,null,0,1416.7000000000005,"",{"$f":"IF(B212<>\"\",IF(K212=\"\",J211,IF((H211-J211)/H211<-0.5,MAX(H211,Summary!$D$7),MAX(H211,J211))),\"\")","v":""},"",""]
[212,null,null,{"$f":"IF(B213<>\"\",IF(B213<>B212,ROUNDUP(MIN(1%*J213+(J213-H212)/Summary!$I$7,5%*H212),0),D212),0)","v":0},null,null,0,1416.7000000000005,"",{"$f":"IF(B213<>\"\",IF(K213=\"\",J212,IF((H212-J212)/H212<-0.5,MAX(H212,Summary!$D$7),MAX(H212,J212))),\"\")","v":""},"",""]
[213,null,null,{"$f":"IF(B214<>\"\",IF(B214<>B213,ROUNDUP(MIN(1%*J214+(J214-H213)/Summary!$I$7,5%*H213),0),D213),0)","v":0},null,null,0,1416.7000000000005,"",{"$f":"IF(B214<>\"\",IF(K214=\"\",J213,IF((H213-J213)/H213<-0.5,MAX(H213,Summary!$D$7),MAX(H213,J213))),\"\")","v":""},"",""]
[214,null,null,{"$f":"IF(B215<>\"\",IF(B215<>B214,ROUNDUP(MIN(1%*J215+(J215-H214)/Summary!$I$7,5%*H214),0),D214),0)","v":0},null,null,0,1416.7000000000005,"",{"$f":"IF(B215<>\"\",IF(K215=\"\",J214,IF((H214-J214)/H214<-0.5,MAX(H214,Summary!$D$7),MAX(H214,J214))),\"\")","v":""},"",""]
[215,null,null,{"$f":"IF(B216<>\"\",IF(B216<>B215,ROUNDUP(MIN(1%*J216+(J216-H215)/Summary!$I$7,5%*H215),0),D215),0)","v":0},null,null,0,1416.7000000000005,"",{"$f":"IF(B216<>\"\",IF(K216=\"\",J215,IF((H215-J215)/H215<-0.5,MAX(H215,Summary!$D$7),MAX(H215,J215))),\"\")","v":""},"",""]
[216,null,null,{"$f":"IF(B217<>\"\",IF(B217<>B216,ROUNDUP(MIN(1%*J217+(J217-H216)/Summary!$I$7,5%*H216),0),D216),0)","v":0},null,null,0,1416.7000000000005,"",{"$f":"IF(B217<>\"\",IF(K217=\"\",J216,IF((H216-J216)/H216<-0.5,MAX(H216,Summary!$D$7),MAX(H216,J216))),\"\")","v":""},"",""]
[217,null,null,{"$f":"IF(B218<>\"\",IF(B218<>B217,ROUNDUP(MIN(1%*J218+(J218-H217)/Summary!$I$7,5%*H217),0),D217),0)","v":0},null,null,0,1416.7000000000005,"",{"$f":"IF(B218<>\"\",IF(K218=\"\",J217,IF((H217-J217)/H217<-0.5,MAX(H217,Summary!$D$7),MAX(H217,J217))),\"\")","v":""},"",""]
[218,null,null,{"$f":"IF(B219<>\"\",IF(B219<>B218,ROUNDUP(MIN(1%*J219+(J219-H218)/Summary!$I$7,5%*H218),0),D218),0)","v":0},null,null,0,1416.7000000000005,"",{"$f":"IF(B219<>\"\",IF(K219=\"\",J218,IF((H218-J218)/H218<-0.5,MAX(H218,Summary!$D$7),MAX(H218,J218))),\"\")","v":""},"",""]
[219,null,null,{"$f":"IF(B220<>\"\",IF(B220<>B219,ROUNDUP(MIN(1%*J220+(J220-H219)/Summary!$I$7,5%*H219),0),D219),0)","v":0},null,null,0,1416.7000000000005,"",{"$f":"IF(B220<>\"\",IF(K220=\"\",J219,IF((H219-J219)/H219<-0.5,MAX(H219,Summary!$D$7),MAX(H219,J219))),\"\")","v":""},"",""]
[220,null,null,{"$f":"IF(B221<>\"\",IF(B221<>B220,ROUNDUP(MIN(1%*J221+(J221-H220)/Summary!$I$7,5%*H220),0),D220),0)","v":0},null,null,0,1416.7000000000005,"",{"$f":"IF(B221<>\"\",IF(K221=\"\",J220,IF((H220-J220)/H220<-0.5,MAX(H220,Summary!$D$7),MAX(H220,J220))),\"\")","v":""},"",""]
[221,null,null,{"$f":"IF(B222<>\"\",IF(B222<>B221,ROUNDUP(MIN(1%*J222+(J222-H221)/Summary!$I$7,5%*H221),0),D221),0)","v":0},null,null,0,1416.7000000000005,"",{"$f":"IF(B222<>\"\",IF(K222=\"\",J221,IF((H221-J221)/H221<-0.5,MAX(H221,Summary!$D$7),MAX(H221,J221))),\"\")","v":""},"",""]
[222,null,null,{"$f":"IF(B223<>\"\",IF(B223<>B222,ROUNDUP(MIN(1%*J223+(J223-H222)/Summary!$I$7,5%*H222),0),D222),0)","v":0},null,null,0,1416.7000000000005,"",{"$f":"IF(B223<>\"\",IF(K223=\"\",J222,IF((H222-J222)/H222<-0.5,MAX(H222,Summary!$D$7),MAX(H222,J222))),\"\")","v":""},"",""]
[223,null,null,{"$f":"IF(B224<>\"\",IF(B224<>B223,ROUNDUP(MIN(1%*J224+(J224-H223)/Summary!$I$7,5%*H223),0),D223),0)","v":0},null,null,0,1416.7000000000005,"",{"$f":"IF(B224<>\"\",IF(K224=\"\",J223,IF((H223-J223)/H223<-0.5,MAX(H223,Summary!$D$7),MAX(H223,J223))),\"\")","v":""},"",""]
[224,null,null,{"$f":"IF(B225<>\"\",IF(B225<>B224,ROUNDUP(MIN(1%*J225+(J225-H224)/Summary!$I$7,5%*H224),0),D224),0)","v":0},null,null,0,1416.7000000000005,"",{"$f":"IF(B225<>\"\",IF(K225=\"\",J224,IF((H224-J224)/H224<-0.5,MAX(H224,Summary!$D$7),MAX(H224,J224))),\"\")","v":""},"",""]
[225,null,null,{"$f":"IF(B226<>\"\",IF(B226<>B225,ROUNDUP(MIN(1%*J226+(J226-H225)/Summary!$I$7,5%*H225),0),D225),0)","v":0},null,null,0,1416.7000000000005,"",{"$f":"IF(B226<>\"\",IF(K226=\"\",J225,IF((H225-J225)/H225<-0.5,MAX(H225,Summary!$D$7),MAX(H225,J225))),\"\")","v":""},"",""]
[226,null,null,{"$f":"IF(B227<>\"\",IF(B227<>B226,ROUNDUP(MIN(1%*J227+(J227-H226)/Summary!$I$7,5%*H226),0),D226),0)","v":0},null,null,0,1416.7000000000005,"",{"$f":"IF(B227<>\"\",IF(K227=\"\",J226,IF((H226-J226)/H226<-0.5,MAX(H226,Summary!$D$7),MAX(H226,J226))),\"\")","v":""},"",""]
[227,null,null,{"$f":"IF(B228<>\"\",IF(B228<>B227,ROUNDUP(MIN(1%*J228+(J228-H227)/Summary!$I$7,5%*H227),0),D227),0)","v":0},null,null,0,1416.7000000000005,"",{"$f":"IF(B228<>\"\",IF(K228=\"\",J227,IF((H227-J227)/H227<-0.5,MAX(H227,Summary!$D$7),MAX(H227,J227))),\"\")","v":""},"",""]
[228,null,null,{"$f":"IF(B229<>\"\",IF(B229<>B228,ROUNDUP(MIN(1%*J229+(J229-H228)/Summary!$I$7,5%*H228),0),D228),0)","v":0},null,null,0,1416.7000000000005,"",{"$f":"IF(B229<>\"\",IF(K229=\"\",J228,IF((H228-J228)/H228<-0.5,MAX(H228,Summary!$D$7),MAX(H228,J228))),\"\")","v":""},"",""]
[229,null,null,{"$f":"IF(B230<>\"\",IF(B230<>B229,ROUNDUP(MIN(1%*J230+(J230-H229)/Summary!$I$7,5%*H229),0),D229),0)","v":0},null,null,0,1416.7000000000005,"",{"$f":"IF(B230<>\"\",IF(K230=\"\",J229,IF((H229-J229)/H229<-0.5,MAX(H229,Summary!$D$7),MAX(H229,J229))),\"\")","v":""},"",""]
[230,null,null,{"$f":"IF(B231<>\"\",IF(B231<>B230,ROUNDUP(MIN(1%*J231+(J231-H230)/Summary!$I$7,5%*H230),0),D230),0)","v":0},null,null,0,1416.7000000000005,"",{"$f":"IF(B231<>\"\",IF(K231=\"\",J230,IF((H230-J230)/H230<-0.5,MAX(H230,Summary!$D$7),MAX(H230,J230))),\"\")","v":""},"",""]
[231,null,null,{"$f":"IF(B232<>\"\",IF(B232<>B231,ROUNDUP(MIN(1%*J232+(J232-H231)/Summary!$I$7,5%*H231),0),D231),0)","v":0},null,null,0,1416.7000000000005,"",{"$f":"IF(B232<>\"\",IF(K232=\"\",J231,IF((H231-J231)/H231<-0.5,MAX(H231,Summary!$D$7),MAX(H231,J231))),\"\")","v":""},"",""]
[232,null,null,{"$f":"IF(B233<>\"\",IF(B233<>B232,ROUNDUP(MIN(1%*J233+(J233-H232)/Summary!$I$7,5%*H232),0),D232),0)","v":0},null,null,0,1416.7000000000005,"",{"$f":"IF(B233<>\"\",IF(K233=\"\",J232,IF((H232-J232)/H232<-0.5,MAX(H232,Summary!$D$7),MAX(H232,J232))),\"\")","v":""},"",""]
[233,null,null,{"$f":"IF(B234<>\"\",IF(B234<>B233,ROUNDUP(MIN(1%*J234+(J234-H233)/Summary!$I$7,5%*H233),0),D233),0)","v":0},null,null,0,1416.7000000000005,"",{"$f":"IF(B234<>\"\",IF(K234=\"\",J233,IF((H233-J233)/H233<-0.5,MAX(H233,Summary!$D$7),MAX(H233,J233))),\"\")","v":""},"",""]
[234,null,null,{"$f":"IF(B235<>\"\",IF(B235<>B234,ROUNDUP(MIN(1%*J235+(J235-H234)/Summary!$I$7,5%*H234),0),D234),0)","v":0},null,null,0,1416.7000000000005,"",{"$f":"IF(B235<>\"\",IF(K235=\"\",J234,IF((H234-J234)/H234<-0.5,MAX(H234,Summary!$D$7),MAX(H234,J234))),\"\")","v":""},"",""]
[235,null,null,{"$f":"IF(B236<>\"\",IF(B236<>B235,ROUNDUP(MIN(1%*J236+(J236-H235)/Summary!$I$7,5%*H235),0),D235),0)","v":0},null,null,0,1416.7000000000005,"",{"$f":"IF(B236<>\"\",IF(K236=\"\",J235,IF((H235-J235)/H235<-0.5,MAX(H235,Summary!$D$7),MAX(H235,J235))),\"\")","v":""},"",""]
[236,null,null,{"$f":"IF(B237<>\"\",IF(B237<>B236,ROUNDUP(MIN(1%*J237+(J237-H236)/Summary!$I$7,5%*H236),0),D236),0)","v":0},null,null,0,1416.7000000000005,"",{"$f":"IF(B237<>\"\",IF(K237=\"\",J236,IF((H236-J236)/H236<-0.5,MAX(H236,Summary!$D$7),MAX(H236,J236))),\"\")","v":""},"",""]
[237,null,null,{"$f":"IF(B238<>\"\",IF(B238<>B237,ROUNDUP(MIN(1%*J238+(J238-H237)/Summary!$I$7,5%*H237),0),D237),0)","v":0},null,null,0,1416.7000000000005,"",{"$f":"IF(B238<>\"\",IF(K238=\"\",J237,IF((H237-J237)/H237<-0.5,MAX(H237,Summary!$D$7),MAX(H237,J237))),\"\")","v":""},"",""]
[238,null,null,{"$f":"IF(B239<>\"\",IF(B239<>B238,ROUNDUP(MIN(1%*J239+(J239-H238)/Summary!$I$7,5%*H238),0),D238),0)","v":0},null,null,0,1416.7000000000005,"",{"$f":"IF(B239<>\"\",IF(K239=\"\",J238,IF((H238-J238)/H238<-0.5,MAX(H238,Summary!$D$7),MAX(H238,J238))),\"\")","v":""},"",""]
[239,null,null,{"$f":"IF(B240<>\"\",IF(B240<>B239,ROUNDUP(MIN(1%*J240+(J240-H239)/Summary!$I$7,5%*H239),0),D239),0)","v":0},null,null,0,1416.7000000000005,"",{"$f":"IF(B240<>\"\",IF(K240=\"\",J239,IF((H239-J239)/H239<-0.5,MAX(H239,Summary!$D$7),MAX(H239,J239))),\"\")","v":""},"",""]
[240,null,null,{"$f":"IF(B241<>\"\",IF(B241<>B240,ROUNDUP(MIN(1%*J241+(J241-H240)/Summary!$I$7,5%*H240),0),D240),0)","v":0},null,null,0,1416.7000000000005,"",{"$f":"IF(B241<>\"\",IF(K241=\"\",J240,IF((H240-J240)/H240<-0.5,MAX(H240,Summary!$D$7),MAX(H240,J240))),\"\")","v":""},"",""]
[241,null,null,{"$f":"IF(B242<>\"\",IF(B242<>B241,ROUNDUP(MIN(1%*J242+(J242-H241)/Summary!$I$7,5%*H241),0),D241),0)","v":0},null,null,0,1416.7000000000005,"",{"$f":"IF(B242<>\"\",IF(K242=\"\",J241,IF((H241-J241)/H241<-0.5,MAX(H241,Summary!$D$7),MAX(H241,J241))),\"\")","v":""},"",""]
[242,null,null,{"$f":"IF(B243<>\"\",IF(B243<>B242,ROUNDUP(MIN(1%*J243+(J243-H242)/Summary!$I$7,5%*H242),0),D242),0)","v":0},null,null,0,1416.7000000000005,"",{"$f":"IF(B243<>\"\",IF(K243=\"\",J242,IF((H242-J242)/H242<-0.5,MAX(H242,Summary!$D$7),MAX(H242,J242))),\"\")","v":""},"",""]
[243,null,null,{"$f":"IF(B244<>\"\",IF(B244<>B243,ROUNDUP(MIN(1%*J244+(J244-H243)/Summary!$I$7,5%*H243),0),D243),0)","v":0},null,null,0,1416.7000000000005,"",{"$f":"IF(B244<>\"\",IF(K244=\"\",J243,IF((H243-J243)/H243<-0.5,MAX(H243,Summary!$D$7),MAX(H243,J243))),\"\")","v":""},"",""]
[244,null,null,{"$f":"IF(B245<>\"\",IF(B245<>B244,ROUNDUP(MIN(1%*J245+(J245-H244)/Summary!$I$7,5%*H244),0),D244),0)","v":0},null,null,0,1416.7000000000005,"",{"$f":"IF(B245<>\"\",IF(K245=\"\",J244,IF((H244-J244)/H244<-0.5,MAX(H244,Summary!$D$7),MAX(H244,J244))),\"\")","v":""},"",""]
[245,null,null,{"$f":"IF(B246<>\"\",IF(B246<>B245,ROUNDUP(MIN(1%*J246+(J246-H245)/Summary!$I$7,5%*H245),0),D245),0)","v":0},null,null,0,1416.7000000000005,"",{"$f":"IF(B246<>\"\",IF(K246=\"\",J245,IF((H245-J245)/H245<-0.5,MAX(H245,Summary!$D$7),MAX(H245,J245))),\"\")","v":""},"",""]
[246,null,null,{"$f":"IF(B247<>\"\",IF(B247<>B246,ROUNDUP(MIN(1%*J247+(J247-H246)/Summary!$I$7,5%*H246),0),D246),0)","v":0},null,null,0,1416.7000000000005,"",{"$f":"IF(B247<>\"\",IF(K247=\"\",J246,IF((H246-J246)/H246<-0.5,MAX(H246,Summary!$D$7),MAX(H246,J246))),\"\")","v":""},"",""]
[247,null,null,{"$f":"IF(B248<>\"\",IF(B248<>B247,ROUNDUP(MIN(1%*J248+(J248-H247)/Summary!$I$7,5%*H247),0),D247),0)","v":0},null,null,0,1416.7000000000005,"",{"$f":"IF(B248<>\"\",IF(K248=\"\",J247,IF((H247-J247)/H247<-0.5,MAX(H247,Summary!$D$7),MAX(H247,J247))),\"\")","v":""},"",""]
[248,null,null,{"$f":"IF(B249<>\"\",IF(B249<>B248,ROUNDUP(MIN(1%*J249+(J249-H248)/Summary!$I$7,5%*H248),0),D248),0)","v":0},null,null,0,1416.7000000000005,"",{"$f":"IF(B249<>\"\",IF(K249=\"\",J248,IF((H248-J248)/H248<-0.5,MAX(H248,Summary!$D$7),MAX(H248,J248))),\"\")","v":""},"",""]
[249,null,null,{"$f":"IF(B250<>\"\",IF(B250<>B249,ROUNDUP(MIN(1%*J250+(J250-H249)/Summary!$I$7,5%*H249),0),D249),0)","v":0},null,null,0,1416.7000000000005,"",{"$f":"IF(B250<>\"\",IF(K250=\"\",J249,IF((H249-J249)/H249<-0.5,MAX(H249,Summary!$D$7),MAX(H249,J249))),\"\")","v":""},"",""]
[250,null,null,{"$f":"IF(B251<>\"\",IF(B251<>B250,ROUNDUP(MIN(1%*J251+(J251-H250)/Summary!$I$7,5%*H250),0),D250),0)","v":0},null,null,0,1416.7000000000005,"",{"$f":"IF(B251<>\"\",IF(K251=\"\",J250,IF((H250-J250)/H250<-0.5,MAX(H250,Summary!$D$7),MAX(H250,J250))),\"\")","v":""},"",""]
[251,null,null,{"$f":"IF(B252<>\"\",IF(B252<>B251,ROUNDUP(MIN(1%*J252+(J252-H251)/Summary!$I$7,5%*H251),0),D251),0)","v":0},null,null,0,1416.7000000000005,"",{"$f":"IF(B252<>\"\",IF(K252=\"\",J251,IF((H251-J251)/H251<-0.5,MAX(H251,Summary!$D$7),MAX(H251,J251))),\"\")","v":""},"",""]
[252,null,null,{"$f":"IF(B253<>\"\",IF(B253<>B252,ROUNDUP(MIN(1%*J253+(J253-H252)/Summary!$I$7,5%*H252),0),D252),0)","v":0},null,null,0,1416.7000000000005,"",{"$f":"IF(B253<>\"\",IF(K253=\"\",J252,IF((H252-J252)/H252<-0.5,MAX(H252,Summary!$D$7),MAX(H252,J252))),\"\")","v":""},"",""]
[253,null,null,{"$f":"IF(B254<>\"\",IF(B254<>B253,ROUNDUP(MIN(1%*J254+(J254-H253)/Summary!$I$7,5%*H253),0),D253),0)","v":0},null,null,0,1416.7000000000005,"",{"$f":"IF(B254<>\"\",IF(K254=\"\",J253,IF((H253-J253)/H253<-0.5,MAX(H253,Summary!$D$7),MAX(H253,J253))),\"\")","v":""},"",""]
[254,null,null,{"$f":"IF(B255<>\"\",IF(B255<>B254,ROUNDUP(MIN(1%*J255+(J255-H254)/Summary!$I$7,5%*H254),0),D254),0)","v":0},null,null,0,1416.7000000000005,"",{"$f":"IF(B255<>\"\",IF(K255=\"\",J254,IF((H254-J254)/H254<-0.5,MAX(H254,Summary!$D$7),MAX(H254,J254))),\"\")","v":""},"",""]
[255,null,null,{"$f":"IF(B256<>\"\",IF(B256<>B255,ROUNDUP(MIN(1%*J256+(J256-H255)/Summary!$I$7,5%*H255),0),D255),0)","v":0},null,null,0,1416.7000000000005,"",{"$f":"IF(B256<>\"\",IF(K256=\"\",J255,IF((H255-J255)/H255<-0.5,MAX(H255,Summary!$D$7),MAX(H255,J255))),\"\")","v":""},"",""]
[256,null,null,{"$f":"IF(B257<>\"\",IF(B257<>B256,ROUND(MIN(1%*J257+(J257-H256)/Summary!$I$7,5%*H256),2),D256),0)","v":0},null,null,0,1416.7000000000005,"",{"$f":"IF(B257<>\"\",IF(K257=\"\",J256,IF((H256-J256)/H256<-0.5,MAX(H256,Summary!$D$7),MAX(H256,J256))),\"\")","v":""},"",""]
[257,null,null,{"$f":"IF(B258<>\"\",IF(B258<>B257,ROUND(MIN(1%*J258+(J258-H257)/Summary!$I$7,5%*H257),2),D257),0)","v":0},null,null,{"$f":"IF(F258=\"Y\",D258*(E258-1),IF(F258=\"N\",-D258,0))","v":0},1416.7000000000005,"",{"$f":"IF(B258<>\"\",IF(K258=\"\",J257,IF((H257-J257)/H257<-0.5,MAX(H257,Summary!$D$7),MAX(H257,J257))),\"\")","v":""},"",""]
[258,null,null,{"$f":"IF(B259<>\"\",IF(B259<>B258,ROUND(MIN(1%*J259+(J259-H258)/Summary!$I$7,5%*H258),2),D258),0)","v":0},null,null,0,{"$f":"SUM(H258,G259)","v":1416.7000000000005},{"$f":"IF(B259<>\"\",IF(B259<>B258,1,I258+1),\"\")","v":""},{"$f":"IF(B259<>\"\",IF(K259=\"\",J258,IF((H258-J258)/H258<-0.5,MAX(H258,Summary!$D$7),MAX(H258,J258))),\"\")","v":""},{"$f":"IF(AND(B259<>\"\",B259<>B258),\"Y\",\"\")","v":""},""]
[259,null,null,{"$f":"IF(B260<>\"\",IF(B260<>B259,ROUND(MIN(1%*J260+(J260-H259)/Summary!$I$7,5%*H259),2),D259),0)","v":0},null,null,0,1416.7000000000005,"",{"$f":"IF(B260<>\"\",IF(K260=\"\",J259,IF((H259-J259)/H259<-0.5,MAX(H259,Summary!$D$7),MAX(H259,J259))),\"\")","v":""},"",{"$f":"IF(D260<>0,D260/H260,\"\")","v":""}]
[260,null,null,{"$f":"IF(B261<>\"\",IF(B261<>B260,ROUND(MIN(1%*J261+(J261-H260)/Summary!$I$7,5%*H260),2),D260),0)","v":0},null,null,0,1416.7000000000005,"",{"$f":"IF(B261<>\"\",IF(K261=\"\",J260,IF((H260-J260)/H260<-0.5,MAX(H260,Summary!$D$7),MAX(H260,J260))),\"\")","v":""},"",""]
[261,null,null,{"$f":"IF(B262<>\"\",IF(B262<>B261,ROUND(MIN(1%*J262+(J262-H261)/Summary!$I$7,5%*H261),2),D261),0)","v":0},null,null,0,1416.7000000000005,"",{"$f":"IF(B262<>\"\",IF(K262=\"\",J261,IF((H261-J261)/H261<-0.5,MAX(H261,Summary!$D$7),MAX(H261,J261))),\"\")","v":""},"",""]
[262,null,null,{"$f":"IF(B263<>\"\",IF(B263<>B262,ROUND(MIN(1%*J263+(J263-H262)/Summary!$I$7,5%*H262),2),D262),0)","v":0},null,null,0,1416.7000000000005,"",{"$f":"IF(B263<>\"\",IF(K263=\"\",J262,IF((H262-J262)/H262<-0.5,MAX(H262,Summary!$D$7),MAX(H262,J262))),\"\")","v":""},"",""]
[263,null,null,{"$f":"IF(B264<>\"\",IF(B264<>B263,ROUND(MIN(1%*J264+(J264-H263)/Summary!$I$7,5%*H263),2),D263),0)","v":0},null,null,0,1416.7000000000005,"",{"$f":"IF(B264<>\"\",IF(K264=\"\",J263,IF((H263-J263)/H263<-0.5,MAX(H263,Summary!$D$7),MAX(H263,J263))),\"\")","v":""},"",""]
[264,null,null,{"$f":"IF(B265<>\"\",IF(B265<>B264,ROUND(MIN(1%*J265+(J265-H264)/Summary!$I$7,5%*H264),2),D264),0)","v":0},null,null,0,1416.7000000000005,"",{"$f":"IF(B265<>\"\",IF(K265=\"\",J264,IF((H264-J264)/H264<-0.5,MAX(H264,Summary!$D$7),MAX(H264,J264))),\"\")","v":""},"",""]
[265,null,null,{"$f":"IF(B266<>\"\",IF(B266<>B265,ROUND(MIN(1%*J266+(J266-H265)/Summary!$I$7,5%*H265),2),D265),0)","v":0},null,null,0,1416.7000000000005,"",{"$f":"IF(B266<>\"\",IF(K266=\"\",J265,IF((H265-J265)/H265<-0.5,MAX(H265,Summary!$D$7),MAX(H265,J265))),\"\")","v":""},"",""]
[266,null,null,{"$f":"IF(B267<>\"\",IF(B267<>B266,ROUND(MIN(1%*J267+(J267-H266)/Summary!$I$7,5%*H266),2),D266),0)","v":0},null,null,0,1416.7000000000005,"",{"$f":"IF(B267<>\"\",IF(K267=\"\",J266,IF((H266-J266)/H266<-0.5,MAX(H266,Summary!$D$7),MAX(H266,J266))),\"\")","v":""},"",""]
[267,null,null,{"$f":"IF(B268<>\"\",IF(B268<>B267,ROUND(MIN(1%*J268+(J268-H267)/Summary!$I$7,5%*H267),2),D267),0)","v":0},null,null,0,1416.7000000000005,"",{"$f":"IF(B268<>\"\",IF(K268=\"\",J267,IF((H267-J267)/H267<-0.5,MAX(H267,Summary!$D$7),MAX(H267,J267))),\"\")","v":""},"",""]
[268,null,null,{"$f":"IF(B269<>\"\",IF(B269<>B268,ROUND(MIN(1%*J269+(J269-H268)/Summary!$I$7,5%*H268),2),D268),0)","v":0},null,null,0,1416.7000000000005,"",{"$f":"IF(B269<>\"\",IF(K269=\"\",J268,IF((H268-J268)/H268<-0.5,MAX(H268,Summary!$D$7),MAX(H268,J268))),\"\")","v":""},"",""]
[269,null,null,{"$f":"IF(B270<>\"\",IF(B270<>B269,ROUND(MIN(1%*J270+(J270-H269)/Summary!$I$7,5%*H269),2),D269),0)","v":0},null,null,0,1416.7000000000005,"",{"$f":"IF(B270<>\"\",IF(K270=\"\",J269,IF((H269-J269)/H269<-0.5,MAX(H269,Summary!$D$7),MAX(H269,J269))),\"\")","v":""},"",""]
[270,null,null,{"$f":"IF(B271<>\"\",IF(B271<>B270,ROUND(MIN(1%*J271+(J271-H270)/Summary!$I$7,5%*H270),2),D270),0)","v":0},null,null,0,1416.7000000000005,"",{"$f":"IF(B271<>\"\",IF(K271=\"\",J270,IF((H270-J270)/H270<-0.5,MAX(H270,Summary!$D$7),MAX(H270,J270))),\"\")","v":""},"",""]
[271,null,null,{"$f":"IF(B272<>\"\",IF(B272<>B271,ROUND(MIN(1%*J272+(J272-H271)/Summary!$I$7,5%*H271),2),D271),0)","v":0},null,null,0,1416.7000000000005,"",{"$f":"IF(B272<>\"\",IF(K272=\"\",J271,IF((H271-J271)/H271<-0.5,MAX(H271,Summary!$D$7),MAX(H271,J271))),\"\")","v":""},"",""]
[272,null,null,{"$f":"IF(B273<>\"\",IF(B273<>B272,ROUND(MIN(1%*J273+(J273-H272)/Summary!$I$7,5%*H272),2),D272),0)","v":0},null,null,0,1416.7000000000005,"",{"$f":"IF(B273<>\"\",IF(K273=\"\",J272,IF((H272-J272)/H272<-0.5,MAX(H272,Summary!$D$7),MAX(H272,J272))),\"\")","v":""},"",""]
[273,null,null,{"$f":"IF(B274<>\"\",IF(B274<>B273,ROUND(MIN(1%*J274+(J274-H273)/Summary!$I$7,5%*H273),2),D273),0)","v":0},null,null,0,1416.7000000000005,"",{"$f":"IF(B274<>\"\",IF(K274=\"\",J273,IF((H273-J273)/H273<-0.5,MAX(H273,Summary!$D$7),MAX(H273,J273))),\"\")","v":""},"",""]
[274,null,null,{"$f":"IF(B275<>\"\",IF(B275<>B274,ROUND(MIN(1%*J275+(J275-H274)/Summary!$I$7,5%*H274),2),D274),0)","v":0},null,null,0,1416.7000000000005,"",{"$f":"IF(B275<>\"\",IF(K275=\"\",J274,IF((H274-J274)/H274<-0.5,MAX(H274,Summary!$D$7),MAX(H274,J274))),\"\")","v":""},"",""]
[275,null,null,{"$f":"IF(B276<>\"\",IF(B276<>B275,ROUND(MIN(1%*J276+(J276-H275)/Summary!$I$7,5%*H275),2),D275),0)","v":0},null,null,0,1416.7000000000005,"",{"$f":"IF(B276<>\"\",IF(K276=\"\",J275,IF((H275-J275)/H275<-0.5,MAX(H275,Summary!$D$7),MAX(H275,J275))),\"\")","v":""},"",""]
[276,null,null,{"$f":"IF(B277<>\"\",IF(B277<>B276,ROUND(MIN(1%*J277+(J277-H276)/Summary!$I$7,5%*H276),2),D276),0)","v":0},null,null,0,1416.7000000000005,"",{"$f":"IF(B277<>\"\",IF(K277=\"\",J276,IF((H276-J276)/H276<-0.5,MAX(H276,Summary!$D$7),MAX(H276,J276))),\"\")","v":""},"",""]
[277,null,null,{"$f":"IF(B278<>\"\",IF(B278<>B277,ROUND(MIN(1%*J278+(J278-H277)/Summary!$I$7,5%*H277),2),D277),0)","v":0},null,null,0,1416.7000000000005,"",{"$f":"IF(B278<>\"\",IF(K278=\"\",J277,IF((H277-J277)/H277<-0.5,MAX(H277,Summary!$D$7),MAX(H277,J277))),\"\")","v":""},"",""]
[278,null,null,{"$f":"IF(B279<>\"\",IF(B279<>B278,ROUND(MIN(1%*J279+(J279-H278)/Summary!$I$7,5%*H278),2),D278),0)","v":0},null,null,0,1416.7000000000005,"",{"$f":"IF(B279<>\"\",IF(K279=\"\",J278,IF((H278-J278)/H278<-0.5,MAX(H278,Summary!$D$7),MAX(H278,J278))),\"\")","v":""},"",""]
[279,null,null,{"$f":"IF(B280<>\"\",IF(B280<>B279,ROUND(MIN(1%*J280+(J280-H279)/Summary!$I$7,5%*H279),2),D279),0)","v":0},null,null,0,1416.7000000000005,"",{"$f":"IF(B280<>\"\",IF(K280=\"\",J279,IF((H279-J279)/H279<-0.5,MAX(H279,Summary!$D$7),MAX(H279,J279))),\"\")","v":""},"",""]
[280,null,null,{"$f":"IF(B281<>\"\",IF(B281<>B280,ROUND(MIN(1%*J281+(J281-H280)/Summary!$I$7,5%*H280),2),D280),0)","v":0},null,null,0,1416.7000000000005,"",{"$f":"IF(B281<>\"\",IF(K281=\"\",J280,IF((H280-J280)/H280<-0.5,MAX(H280,Summary!$D$7),MAX(H280,J280))),\"\")","v":""},"",""]
[281,null,null,{"$f":"IF(B282<>\"\",IF(B282<>B281,ROUND(MIN(1%*J282+(J282-H281)/Summary!$I$7,5%*H281),2),D281),0)","v":0},null,null,0,1416.7000000000005,"",{"$f":"IF(B282<>\"\",IF(K282=\"\",J281,IF((H281-J281)/H281<-0.5,MAX(H281,Summary!$D$7),MAX(H281,J281))),\"\")","v":""},"",""]
[282,null,null,{"$f":"IF(B283<>\"\",IF(B283<>B282,ROUND(MIN(1%*J283+(J283-H282)/Summary!$I$7,5%*H282),2),D282),0)","v":0},null,null,0,1416.7000000000005,"",{"$f":"IF(B283<>\"\",IF(K283=\"\",J282,IF((H282-J282)/H282<-0.5,MAX(H282,Summary!$D$7),MAX(H282,J282))),\"\")","v":""},"",""]
[283,null,null,{"$f":"IF(B284<>\"\",IF(B284<>B283,ROUND(MIN(1%*J284+(J284-H283)/Summary!$I$7,5%*H283),2),D283),0)","v":0},null,null,0,1416.7000000000005,"",{"$f":"IF(B284<>\"\",IF(K284=\"\",J283,IF((H283-J283)/H283<-0.5,MAX(H283,Summary!$D$7),MAX(H283,J283))),\"\")","v":""},"",""]
[284,null,null,{"$f":"IF(B285<>\"\",IF(B285<>B284,ROUND(MIN(1%*J285+(J285-H284)/Summary!$I$7,5%*H284),2),D284),0)","v":0},null,null,0,1416.7000000000005,"",{"$f":"IF(B285<>\"\",IF(K285=\"\",J284,IF((H284-J284)/H284<-0.5,MAX(H284,Summary!$D$7),MAX(H284,J284))),\"\")","v":""},"",""]
[285,null,null,{"$f":"IF(B286<>\"\",IF(B286<>B285,ROUND(MIN(1%*J286+(J286-H285)/Summary!$I$7,5%*H285),2),D285),0)","v":0},null,null,0,1416.7000000000005,"",{"$f":"IF(B286<>\"\",IF(K286=\"\",J285,IF((H285-J285)/H285<-0.5,MAX(H285,Summary!$D$7),MAX(H285,J285))),\"\")","v":""},"",""]
[286,null,null,{"$f":"IF(B287<>\"\",IF(B287<>B286,ROUND(MIN(1%*J287+(J287-H286)/Summary!$I$7,5%*H286),2),D286),0)","v":0},null,null,0,1416.7000000000005,"",{"$f":"IF(B287<>\"\",IF(K287=\"\",J286,IF((H286-J286)/H286<-0.5,MAX(H286,Summary!$D$7),MAX(H286,J286))),\"\")","v":""},"",""]
[287,null,null,{"$f":"IF(B288<>\"\",IF(B288<>B287,ROUND(MIN(1%*J288+(J288-H287)/Summary!$I$7,5%*H287),2),D287),0)","v":0},null,null,0,1416.7000000000005,"",{"$f":"IF(B288<>\"\",IF(K288=\"\",J287,IF((H287-J287)/H287<-0.5,MAX(H287,Summary!$D$7),MAX(H287,J287))),\"\")","v":""},"",""]
[288,null,null,{"$f":"IF(B289<>\"\",IF(B289<>B288,ROUND(MIN(1%*J289+(J289-H288)/Summary!$I$7,5%*H288),2),D288),0)","v":0},null,null,0,1416.7000000000005,"",{"$f":"IF(B289<>\"\",IF(K289=\"\",J288,IF((H288-J288)/H288<-0.5,MAX(H288,Summary!$D$7),MAX(H288,J288))),\"\")","v":""},"",""]
[289,null,null,{"$f":"IF(B290<>\"\",IF(B290<>B289,ROUND(MIN(1%*J290+(J290-H289)/Summary!$I$7,5%*H289),2),D289),0)","v":0},null,null,0,1416.7000000000005,"",{"$f":"IF(B290<>\"\",IF(K290=\"\",J289,IF((H289-J289)/H289<-0.5,MAX(H289,Summary!$D$7),MAX(H289,J289))),\"\")","v":""},"",""]
[290,null,null,{"$f":"IF(B291<>\"\",IF(B291<>B290,ROUND(MIN(1%*J291+(J291-H290)/Summary!$I$7,5%*H290),2),D290),0)","v":0},null,null,0,1416.7000000000005,"",{"$f":"IF(B291<>\"\",IF(K291=\"\",J290,IF((H290-J290)/H290<-0.5,MAX(H290,Summary!$D$7),MAX(H290,J290))),\"\")","v":""},"",""]
[291,null,null,{"$f":"IF(B292<>\"\",IF(B292<>B291,ROUND(MIN(1%*J292+(J292-H291)/Summary!$I$7,5%*H291),2),D291),0)","v":0},null,null,0,1416.7000000000005,"",{"$f":"IF(B292<>\"\",IF(K292=\"\",J291,IF((H291-J291)/H291<-0.5,MAX(H291,Summary!$D$7),MAX(H291,J291))),\"\")","v":""},"",""]
[292,null,null,{"$f":"IF(B293<>\"\",IF(B293<>B292,ROUND(MIN(1%*J293+(J293-H292)/Summary!$I$7,5%*H292),2),D292),0)","v":0},null,null,0,1416.7000000000005,"",{"$f":"IF(B293<>\"\",IF(K293=\"\",J292,IF((H292-J292)/H292<-0.5,MAX(H292,Summary!$D$7),MAX(H292,J292))),\"\")","v":""},"",""]
[293,null,null,{"$f":"IF(B294<>\"\",IF(B294<>B293,ROUND(MIN(1%*J294+(J294-H293)/Summary!$I$7,5%*H293),2),D293),0)","v":0},null,null,0,1416.7000000000005,"",{"$f":"IF(B294<>\"\",IF(K294=\"\",J293,IF((H293-J293)/H293<-0.5,MAX(H293,Summary!$D$7),MAX(H293,J293))),\"\")","v":""},"",""]
[294,null,null,{"$f":"IF(B295<>\"\",IF(B295<>B294,ROUND(MIN(1%*J295+(J295-H294)/Summary!$I$7,5%*H294),2),D294),0)","v":0},null,null,0,1416.7000000000005,"",{"$f":"IF(B295<>\"\",IF(K295=\"\",J294,IF((H294-J294)/H294<-0.5,MAX(H294,Summary!$D$7),MAX(H294,J294))),\"\")","v":""},"",""]
[295,null,null,{"$f":"IF(B296<>\"\",IF(B296<>B295,ROUND(MIN(1%*J296+(J296-H295)/Summary!$I$7,5%*H295),2),D295),0)","v":0},null,null,0,1416.7000000000005,"",{"$f":"IF(B296<>\"\",IF(K296=\"\",J295,IF((H295-J295)/H295<-0.5,MAX(H295,Summary!$D$7),MAX(H295,J295))),\"\")","v":""},"",""]
[296,null,null,{"$f":"IF(B297<>\"\",IF(B297<>B296,ROUND(MIN(1%*J297+(J297-H296)/Summary!$I$7,5%*H296),2),D296),0)","v":0},null,null,0,1416.7000000000005,"",{"$f":"IF(B297<>\"\",IF(K297=\"\",J296,IF((H296-J296)/H296<-0.5,MAX(H296,Summary!$D$7),MAX(H296,J296))),\"\")","v":""},"",""]
[297,null,null,{"$f":"IF(B298<>\"\",IF(B298<>B297,ROUND(MIN(1%*J298+(J298-H297)/Summary!$I$7,5%*H297),2),D297),0)","v":0},null,null,0,1416.7000000000005,"",{"$f":"IF(B298<>\"\",IF(K298=\"\",J297,IF((H297-J297)/H297<-0.5,MAX(H297,Summary!$D$7),MAX(H297,J297))),\"\")","v":""},"",""]
[298,null,null,{"$f":"IF(B299<>\"\",IF(B299<>B298,ROUND(MIN(1%*J299+(J299-H298)/Summary!$I$7,5%*H298),2),D298),0)","v":0},null,null,0,1416.7000000000005,"",{"$f":"IF(B299<>\"\",IF(K299=\"\",J298,IF((H298-J298)/H298<-0.5,MAX(H298,Summary!$D$7),MAX(H298,J298))),\"\")","v":""},"",""]
[299,null,null,{"$f":"IF(B300<>\"\",IF(B300<>B299,ROUND(MIN(1%*J300+(J300-H299)/Summary!$I$7,5%*H299),2),D299),0)","v":0},null,null,0,1416.7000000000005,"",{"$f":"IF(B300<>\"\",IF(K300=\"\",J299,IF((H299-J299)/H299<-0.5,MAX(H299,Summary!$D$7),MAX(H299,J299))),\"\")","v":""},"",""]
[300,null,null,{"$f":"IF(B301<>\"\",IF(B301<>B300,ROUND(MIN(1%*J301+(J301-H300)/Summary!$I$7,5%*H300),2),D300),0)","v":0},null,null,0,1416.7000000000005,"",{"$f":"IF(B301<>\"\",IF(K301=\"\",J300,IF((H300-J300)/H300<-0.5,MAX(H300,Summary!$D$7),MAX(H300,J300))),\"\")","v":""},"",""]
[301,null,null,{"$f":"IF(B302<>\"\",IF(B302<>B301,ROUND(MIN(1%*J302+(J302-H301)/Summary!$I$7,5%*H301),2),D301),0)","v":0},null,null,0,1416.7000000000005,"",{"$f":"IF(B302<>\"\",IF(K302=\"\",J301,IF((H301-J301)/H301<-0.5,MAX(H301,Summary!$D$7),MAX(H301,J301))),\"\")","v":""},"",""]
[302,null,null,{"$f":"IF(B303<>\"\",IF(B303<>B302,ROUND(MIN(1%*J303+(J303-H302)/Summary!$I$7,5%*H302),2),D302),0)","v":0},null,null,0,1416.7000000000005,"",{"$f":"IF(B303<>\"\",IF(K303=\"\",J302,IF((H302-J302)/H302<-0.5,MAX(H302,Summary!$D$7),MAX(H302,J302))),\"\")","v":""},"",""]
[303,null,null,{"$f":"IF(B304<>\"\",IF(B304<>B303,ROUND(MIN(1%*J304+(J304-H303)/Summary!$I$7,5%*H303),2),D303),0)","v":0},null,null,0,1416.7000000000005,"",{"$f":"IF(B304<>\"\",IF(K304=\"\",J303,IF((H303-J303)/H303<-0.5,MAX(H303,Summary!$D$7),MAX(H303,J303))),\"\")","v":""},"",""]
[304,null,null,{"$f":"IF(B305<>\"\",IF(B305<>B304,ROUND(MIN(1%*J305+(J305-H304)/Summary!$I$7,5%*H304),2),D304),0)","v":0},null,null,0,1416.7000000000005,"",{"$f":"IF(B305<>\"\",IF(K305=\"\",J304,IF((H304-J304)/H304<-0.5,MAX(H304,Summary!$D$7),MAX(H304,J304))),\"\")","v":""},"",""]
[305,null,null,{"$f":"IF(B306<>\"\",IF(B306<>B305,ROUND(MIN(1%*J306+(J306-H305)/Summary!$I$7,5%*H305),2),D305),0)","v":0},null,null,0,1416.7000000000005,"",{"$f":"IF(B306<>\"\",IF(K306=\"\",J305,IF((H305-J305)/H305<-0.5,MAX(H305,Summary!$D$7),MAX(H305,J305))),\"\")","v":""},"",""]
[306,null,null,{"$f":"IF(B307<>\"\",IF(B307<>B306,ROUND(MIN(1%*J307+(J307-H306)/Summary!$I$7,5%*H306),2),D306),0)","v":0},null,null,0,1416.7000000000005,"",{"$f":"IF(B307<>\"\",IF(K307=\"\",J306,IF((H306-J306)/H306<-0.5,MAX(H306,Summary!$D$7),MAX(H306,J306))),\"\")","v":""},"",""]
[307,null,null,{"$f":"IF(B308<>\"\",IF(B308<>B307,ROUND(MIN(1%*J308+(J308-H307)/Summary!$I$7,5%*H307),2),D307),0)","v":0},null,null,0,1416.7000000000005,"",{"$f":"IF(B308<>\"\",IF(K308=\"\",J307,IF((H307-J307)/H307<-0.5,MAX(H307,Summary!$D$7),MAX(H307,J307))),\"\")","v":""},"",""]
[308,null,null,{"$f":"IF(B309<>\"\",IF(B309<>B308,ROUND(MIN(1%*J309+(J309-H308)/Summary!$I$7,5%*H308),2),D308),0)","v":0},null,null,0,1416.7000000000005,"",{"$f":"IF(B309<>\"\",IF(K309=\"\",J308,IF((H308-J308)/H308<-0.5,MAX(H308,Summary!$D$7),MAX(H308,J308))),\"\")","v":""},"",""]
[309,null,null,{"$f":"IF(B310<>\"\",IF(B310<>B309,ROUND(MIN(1%*J310+(J310-H309)/Summary!$I$7,5%*H309),2),D309),0)","v":0},null,null,0,1416.7000000000005,"",{"$f":"IF(B310<>\"\",IF(K310=\"\",J309,IF((H309-J309)/H309<-0.5,MAX(H309,Summary!$D$7),MAX(H309,J309))),\"\")","v":""},"",""]
[310,null,null,{"$f":"IF(B311<>\"\",IF(B311<>B310,ROUND(MIN(1%*J311+(J311-H310)/Summary!$I$7,5%*H310),2),D310),0)","v":0},null,null,0,1416.7000000000005,"",{"$f":"IF(B311<>\"\",IF(K311=\"\",J310,IF((H310-J310)/H310<-0.5,MAX(H310,Summary!$D$7),MAX(H310,J310))),\"\")","v":""},"",""]
[311,null,null,{"$f":"IF(B312<>\"\",IF(B312<>B311,ROUND(MIN(1%*J312+(J312-H311)/Summary!$I$7,5%*H311),2),D311),0)","v":0},null,null,0,1416.7000000000005,"",{"$f":"IF(B312<>\"\",IF(K312=\"\",J311,IF((H311-J311)/H311<-0.5,MAX(H311,Summary!$D$7),MAX(H311,J311))),\"\")","v":""},"",""]
[312,null,null,{"$f":"IF(B313<>\"\",IF(B313<>B312,ROUND(MIN(1%*J313+(J313-H312)/Summary!$I$7,5%*H312),2),D312),0)","v":0},null,null,0,1416.7000000000005,"",{"$f":"IF(B313<>\"\",IF(K313=\"\",J312,IF((H312-J312)/H312<-0.5,MAX(H312,Summary!$D$7),MAX(H312,J312))),\"\")","v":""},"",""]
[313,null,null,{"$f":"IF(B314<>\"\",IF(B314<>B313,ROUND(MIN(1%*J314+(J314-H313)/Summary!$I$7,5%*H313),2),D313),0)","v":0},null,null,0,1416.7000000000005,"",{"$f":"IF(B314<>\"\",IF(K314=\"\",J313,IF((H313-J313)/H313<-0.5,MAX(H313,Summary!$D$7),MAX(H313,J313))),\"\")","v":""},"",""]
[314,null,null,{"$f":"IF(B315<>\"\",IF(B315<>B314,ROUND(MIN(1%*J315+(J315-H314)/Summary!$I$7,5%*H314),2),D314),0)","v":0},null,null,0,1416.7000000000005,"",{"$f":"IF(B315<>\"\",IF(K315=\"\",J314,IF((H314-J314)/H314<-0.5,MAX(H314,Summary!$D$7),MAX(H314,J314))),\"\")","v":""},"",""]
[315,null,null,{"$f":"IF(B316<>\"\",IF(B316<>B315,ROUND(MIN(1%*J316+(J316-H315)/Summary!$I$7,5%*H315),2),D315),0)","v":0},null,null,0,1416.7000000000005,"",{"$f":"IF(B316<>\"\",IF(K316=\"\",J315,IF((H315-J315)/H315<-0.5,MAX(H315,Summary!$D$7),MAX(H315,J315))),\"\")","v":""},"",""]
[316,null,null,{"$f":"IF(B317<>\"\",IF(B317<>B316,ROUND(MIN(1%*J317+(J317-H316)/Summary!$I$7,5%*H316),2),D316),0)","v":0},null,null,0,1416.7000000000005,"",{"$f":"IF(B317<>\"\",IF(K317=\"\",J316,IF((H316-J316)/H316<-0.5,MAX(H316,Summary!$D$7),MAX(H316,J316))),\"\")","v":""},"",""]
[317,null,null,{"$f":"IF(B318<>\"\",IF(B318<>B317,ROUND(MIN(1%*J318+(J318-H317)/Summary!$I$7,5%*H317),2),D317),0)","v":0},null,null,0,1416.7000000000005,"",{"$f":"IF(B318<>\"\",IF(K318=\"\",J317,IF((H317-J317)/H317<-0.5,MAX(H317,Summary!$D$7),MAX(H317,J317))),\"\")","v":""},"",""]
[318,null,null,{"$f":"IF(B319<>\"\",IF(B319<>B318,ROUND(MIN(1%*J319+(J319-H318)/Summary!$I$7,5%*H318),2),D318),0)","v":0},null,null,0,1416.7000000000005,"",{"$f":"IF(B319<>\"\",IF(K319=\"\",J318,IF((H318-J318)/H318<-0.5,MAX(H318,Summary!$D$7),MAX(H318,J318))),\"\")","v":""},"",""]
[319,null,null,{"$f":"IF(B320<>\"\",IF(B320<>B319,ROUND(MIN(1%*J320+(J320-H319)/Summary!$I$7,5%*H319),2),D319),0)","v":0},null,null,0,1416.7000000000005,"",{"$f":"IF(B320<>\"\",IF(K320=\"\",J319,IF((H319-J319)/H319<-0.5,MAX(H319,Summary!$D$7),MAX(H319,J319))),\"\")","v":""},"",""]
[320,null,null,{"$f":"IF(B321<>\"\",IF(B321<>B320,ROUND(MIN(1%*J321+(J321-H320)/Summary!$I$7,5%*H320),2),D320),0)","v":0},null,null,0,1416.7000000000005,"",{"$f":"IF(B321<>\"\",IF(K321=\"\",J320,IF((H320-J320)/H320<-0.5,MAX(H320,Summary!$D$7),MAX(H320,J320))),\"\")","v":""},"",""]
[321,null,null,{"$f":"IF(B322<>\"\",IF(B322<>B321,ROUND(MIN(1%*J322+(J322-H321)/Summary!$I$7,5%*H321),2),D321),0)","v":0},null,null,{"$f":"IF(F322=\"Y\",D322*(E322-1),IF(F322=\"N\",-D322,0))","v":0},1416.7000000000005,"",{"$f":"IF(B322<>\"\",IF(K322=\"\",J321,IF((H321-J321)/H321<-0.5,MAX(H321,Summary!$D$7),MAX(H321,J321))),\"\")","v":""},"",""]
[322,null,null,{"$f":"IF(B323<>\"\",IF(B323<>B322,ROUND(MIN(1%*J323+(J323-H322)/Summary!$I$7,5%*H322),2),D322),0)","v":0},null,null,0,{"$f":"SUM(H322,G323)","v":1416.7000000000005},{"$f":"IF(B323<>\"\",IF(B323<>B322,1,I322+1),\"\")","v":""},{"$f":"IF(B323<>\"\",IF(K323=\"\",J322,IF((H322-J322)/H322<-0.5,MAX(H322,Summary!$D$7),MAX(H322,J322))),\"\")","v":""},{"$f":"IF(AND(B323<>\"\",B323<>B322),\"Y\",\"\")","v":""},""]
[323,null,null,{"$f":"IF(B324<>\"\",IF(B324<>B323,ROUND(MIN(1%*J324+(J324-H323)/Summary!$I$7,5%*H323),2),D323),0)","v":0},null,null,0,1416.7000000000005,"",{"$f":"IF(B324<>\"\",IF(K324=\"\",J323,IF((H323-J323)/H323<-0.5,MAX(H323,Summary!$D$7),MAX(H323,J323))),\"\")","v":""},"",{"$f":"IF(D324<>0,D324/H324,\"\")","v":""}]
[324,null,null,{"$f":"IF(B325<>\"\",IF(B325<>B324,ROUND(MIN(1%*J325+(J325-H324)/Summary!$I$7,5%*H324),2),D324),0)","v":0},null,null,0,1416.7000000000005,"",{"$f":"IF(B325<>\"\",IF(K325=\"\",J324,IF((H324-J324)/H324<-0.5,MAX(H324,Summary!$D$7),MAX(H324,J324))),\"\")","v":""},"",""]
[325,null,null,{"$f":"IF(B326<>\"\",IF(B326<>B325,ROUND(MIN(1%*J326+(J326-H325)/Summary!$I$7,5%*H325),2),D325),0)","v":0},null,null,0,1416.7000000000005,"",{"$f":"IF(B326<>\"\",IF(K326=\"\",J325,IF((H325-J325)/H325<-0.5,MAX(H325,Summary!$D$7),MAX(H325,J325))),\"\")","v":""},"",""]
[326,null,null,{"$f":"IF(B327<>\"\",IF(B327<>B326,ROUND(MIN(1%*J327+(J327-H326)/Summary!$I$7,5%*H326),2),D326),0)","v":0},null,null,0,1416.7000000000005,"",{"$f":"IF(B327<>\"\",IF(K327=\"\",J326,IF((H326-J326)/H326<-0.5,MAX(H326,Summary!$D$7),MAX(H326,J326))),\"\")","v":""},"",""]
[327,null,null,{"$f":"IF(B328<>\"\",IF(B328<>B327,ROUND(MIN(1%*J328+(J328-H327)/Summary!$I$7,5%*H327),2),D327),0)","v":0},null,null,0,1416.7000000000005,"",{"$f":"IF(B328<>\"\",IF(K328=\"\",J327,IF((H327-J327)/H327<-0.5,MAX(H327,Summary!$D$7),MAX(H327,J327))),\"\")","v":""},"",""]
[328,null,null,{"$f":"IF(B329<>\"\",IF(B329<>B328,ROUND(MIN(1%*J329+(J329-H328)/Summary!$I$7,5%*H328),2),D328),0)","v":0},null,null,0,1416.7000000000005,"",{"$f":"IF(B329<>\"\",IF(K329=\"\",J328,IF((H328-J328)/H328<-0.5,MAX(H328,Summary!$D$7),MAX(H328,J328))),\"\")","v":""},"",""]
[329,null,null,{"$f":"IF(B330<>\"\",IF(B330<>B329,ROUND(MIN(1%*J330+(J330-H329)/Summary!$I$7,5%*H329),2),D329),0)","v":0},null,null,0,1416.7000000000005,"",{"$f":"IF(B330<>\"\",IF(K330=\"\",J329,IF((H329-J329)/H329<-0.5,MAX(H329,Summary!$D$7),MAX(H329,J329))),\"\")","v":""},"",""]
[330,null,null,{"$f":"IF(B331<>\"\",IF(B331<>B330,ROUND(MIN(1%*J331+(J331-H330)/Summary!$I$7,5%*H330),2),D330),0)","v":0},null,null,0,1416.7000000000005,"",{"$f":"IF(B331<>\"\",IF(K331=\"\",J330,IF((H330-J330)/H330<-0.5,MAX(H330,Summary!$D$7),MAX(H330,J330))),\"\")","v":""},"",""]
[331,null,null,{"$f":"IF(B332<>\"\",IF(B332<>B331,ROUND(MIN(1%*J332+(J332-H331)/Summary!$I$7,5%*H331),2),D331),0)","v":0},null,null,0,1416.7000000000005,"",{"$f":"IF(B332<>\"\",IF(K332=\"\",J331,IF((H331-J331)/H331<-0.5,MAX(H331,Summary!$D$7),MAX(H331,J331))),\"\")","v":""},"",""]
[332,null,null,{"$f":"IF(B333<>\"\",IF(B333<>B332,ROUND(MIN(1%*J333+(J333-H332)/Summary!$I$7,5%*H332),2),D332),0)","v":0},null,null,0,1416.7000000000005,"",{"$f":"IF(B333<>\"\",IF(K333=\"\",J332,IF((H332-J332)/H332<-0.5,MAX(H332,Summary!$D$7),MAX(H332,J332))),\"\")","v":""},"",""]
[333,null,null,{"$f":"IF(B334<>\"\",IF(B334<>B333,ROUND(MIN(1%*J334+(J334-H333)/Summary!$I$7,5%*H333),2),D333),0)","v":0},null,null,0,1416.7000000000005,"",{"$f":"IF(B334<>\"\",IF(K334=\"\",J333,IF((H333-J333)/H333<-0.5,MAX(H333,Summary!$D$7),MAX(H333,J333))),\"\")","v":""},"",""]
[334,null,null,{"$f":"IF(B335<>\"\",IF(B335<>B334,ROUND(MIN(1%*J335+(J335-H334)/Summary!$I$7,5%*H334),2),D334),0)","v":0},null,null,0,1416.7000000000005,"",{"$f":"IF(B335<>\"\",IF(K335=\"\",J334,IF((H334-J334)/H334<-0.5,MAX(H334,Summary!$D$7),MAX(H334,J334))),\"\")","v":""},"",""]
[335,null,null,{"$f":"IF(B336<>\"\",IF(B336<>B335,ROUND(MIN(1%*J336+(J336-H335)/Summary!$I$7,5%*H335),2),D335),0)","v":0},null,null,0,1416.7000000000005,"",{"$f":"IF(B336<>\"\",IF(K336=\"\",J335,IF((H335-J335)/H335<-0.5,MAX(H335,Summary!$D$7),MAX(H335,J335))),\"\")","v":""},"",""]
[336,null,null,{"$f":"IF(B337<>\"\",IF(B337<>B336,ROUND(MIN(1%*J337+(J337-H336)/Summary!$I$7,5%*H336),2),D336),0)","v":0},null,null,0,1416.7000000000005,"",{"$f":"IF(B337<>\"\",IF(K337=\"\",J336,IF((H336-J336)/H336<-0.5,MAX(H336,Summary!$D$7),MAX(H336,J336))),\"\")","v":""},"",""]
[337,null,null,{"$f":"IF(B338<>\"\",IF(B338<>B337,ROUND(MIN(1%*J338+(J338-H337)/Summary!$I$7,5%*H337),2),D337),0)","v":0},null,null,0,1416.7000000000005,"",{"$f":"IF(B338<>\"\",IF(K338=\"\",J337,IF((H337-J337)/H337<-0.5,MAX(H337,Summary!$D$7),MAX(H337,J337))),\"\")","v":""},"",""]
[338,null,null,{"$f":"IF(B339<>\"\",IF(B339<>B338,ROUND(MIN(1%*J339+(J339-H338)/Summary!$I$7,5%*H338),2),D338),0)","v":0},null,null,0,1416.7000000000005,"",{"$f":"IF(B339<>\"\",IF(K339=\"\",J338,IF((H338-J338)/H338<-0.5,MAX(H338,Summary!$D$7),MAX(H338,J338))),\"\")","v":""},"",""]
[339,null,null,{"$f":"IF(B340<>\"\",IF(B340<>B339,ROUND(MIN(1%*J340+(J340-H339)/Summary!$I$7,5%*H339),2),D339),0)","v":0},null,null,0,1416.7000000000005,"",{"$f":"IF(B340<>\"\",IF(K340=\"\",J339,IF((H339-J339)/H339<-0.5,MAX(H339,Summary!$D$7),MAX(H339,J339))),\"\")","v":""},"",""]
[340,null,null,{"$f":"IF(B341<>\"\",IF(B341<>B340,ROUND(MIN(1%*J341+(J341-H340)/Summary!$I$7,5%*H340),2),D340),0)","v":0},null,null,0,1416.7000000000005,"",{"$f":"IF(B341<>\"\",IF(K341=\"\",J340,IF((H340-J340)/H340<-0.5,MAX(H340,Summary!$D$7),MAX(H340,J340))),\"\")","v":""},"",""]
[341,null,null,{"$f":"IF(B342<>\"\",IF(B342<>B341,ROUND(MIN(1%*J342+(J342-H341)/Summary!$I$7,5%*H341),2),D341),0)","v":0},null,null,0,1416.7000000000005,"",{"$f":"IF(B342<>\"\",IF(K342=\"\",J341,IF((H341-J341)/H341<-0.5,MAX(H341,Summary!$D$7),MAX(H341,J341))),\"\")","v":""},"",""]
[342,null,null,{"$f":"IF(B343<>\"\",IF(B343<>B342,ROUND(MIN(1%*J343+(J343-H342)/Summary!$I$7,5%*H342),2),D342),0)","v":0},null,null,0,1416.7000000000005,"",{"$f":"IF(B343<>\"\",IF(K343=\"\",J342,IF((H342-J342)/H342<-0.5,MAX(H342,Summary!$D$7),MAX(H342,J342))),\"\")","v":""},"",""]
[343,null,null,{"$f":"IF(B344<>\"\",IF(B344<>B343,ROUND(MIN(1%*J344+(J344-H343)/Summary!$I$7,5%*H343),2),D343),0)","v":0},null,null,0,1416.7000000000005,"",{"$f":"IF(B344<>\"\",IF(K344=\"\",J343,IF((H343-J343)/H343<-0.5,MAX(H343,Summary!$D$7),MAX(H343,J343))),\"\")","v":""},"",""]
[344,null,null,{"$f":"IF(B345<>\"\",IF(B345<>B344,ROUND(MIN(1%*J345+(J345-H344)/Summary!$I$7,5%*H344),2),D344),0)","v":0},null,null,0,1416.7000000000005,"",{"$f":"IF(B345<>\"\",IF(K345=\"\",J344,IF((H344-J344)/H344<-0.5,MAX(H344,Summary!$D$7),MAX(H344,J344))),\"\")","v":""},"",""]
[345,null,null,{"$f":"IF(B346<>\"\",IF(B346<>B345,ROUND(MIN(1%*J346+(J346-H345)/Summary!$I$7,5%*H345),2),D345),0)","v":0},null,null,0,1416.7000000000005,"",{"$f":"IF(B346<>\"\",IF(K346=\"\",J345,IF((H345-J345)/H345<-0.5,MAX(H345,Summary!$D$7),MAX(H345,J345))),\"\")","v":""},"",""]
[346,null,null,{"$f":"IF(B347<>\"\",IF(B347<>B346,ROUND(MIN(1%*J347+(J347-H346)/Summary!$I$7,5%*H346),2),D346),0)","v":0},null,null,0,1416.7000000000005,"",{"$f":"IF(B347<>\"\",IF(K347=\"\",J346,IF((H346-J346)/H346<-0.5,MAX(H346,Summary!$D$7),MAX(H346,J346))),\"\")","v":""},"",""]
[347,null,null,{"$f":"IF(B348<>\"\",IF(B348<>B347,ROUND(MIN(1%*J348+(J348-H347)/Summary!$I$7,5%*H347),2),D347),0)","v":0},null,null,0,1416.7000000000005,"",{"$f":"IF(B348<>\"\",IF(K348=\"\",J347,IF((H347-J347)/H347<-0.5,MAX(H347,Summary!$D$7),MAX(H347,J347))),\"\")","v":""},"",""]
[348,null,null,{"$f":"IF(B349<>\"\",IF(B349<>B348,ROUND(MIN(1%*J349+(J349-H348)/Summary!$I$7,5%*H348),2),D348),0)","v":0},null,null,0,1416.7000000000005,"",{"$f":"IF(B349<>\"\",IF(K349=\"\",J348,IF((H348-J348)/H348<-0.5,MAX(H348,Summary!$D$7),MAX(H348,J348))),\"\")","v":""},"",""]
[349,null,null,{"$f":"IF(B350<>\"\",IF(B350<>B349,ROUND(MIN(1%*J350+(J350-H349)/Summary!$I$7,5%*H349),2),D349),0)","v":0},null,null,0,1416.7000000000005,"",{"$f":"IF(B350<>\"\",IF(K350=\"\",J349,IF((H349-J349)/H349<-0.5,MAX(H349,Summary!$D$7),MAX(H349,J349))),\"\")","v":""},"",""]
[350,null,null,{"$f":"IF(B351<>\"\",IF(B351<>B350,ROUND(MIN(1%*J351+(J351-H350)/Summary!$I$7,5%*H350),2),D350),0)","v":0},null,null,0,1416.7000000000005,"",{"$f":"IF(B351<>\"\",IF(K351=\"\",J350,IF((H350-J350)/H350<-0.5,MAX(H350,Summary!$D$7),MAX(H350,J350))),\"\")","v":""},"",""]
[351,null,null,{"$f":"IF(B352<>\"\",IF(B352<>B351,ROUND(MIN(1%*J352+(J352-H351)/Summary!$I$7,5%*H351),2),D351),0)","v":0},null,null,0,1416.7000000000005,"",{"$f":"IF(B352<>\"\",IF(K352=\"\",J351,IF((H351-J351)/H351<-0.5,MAX(H351,Summary!$D$7),MAX(H351,J351))),\"\")","v":""},"",""]
[352,null,null,{"$f":"IF(B353<>\"\",IF(B353<>B352,ROUND(MIN(1%*J353+(J353-H352)/Summary!$I$7,5%*H352),2),D352),0)","v":0},null,null,0,1416.7000000000005,"",{"$f":"IF(B353<>\"\",IF(K353=\"\",J352,IF((H352-J352)/H352<-0.5,MAX(H352,Summary!$D$7),MAX(H352,J352))),\"\")","v":""},"",""]
[353,null,null,{"$f":"IF(B354<>\"\",IF(B354<>B353,ROUND(MIN(1%*J354+(J354-H353)/Summary!$I$7,5%*H353),2),D353),0)","v":0},null,null,0,1416.7000000000005,"",{"$f":"IF(B354<>\"\",IF(K354=\"\",J353,IF((H353-J353)/H353<-0.5,MAX(H353,Summary!$D$7),MAX(H353,J353))),\"\")","v":""},"",""]
[354,null,null,{"$f":"IF(B355<>\"\",IF(B355<>B354,ROUND(MIN(1%*J355+(J355-H354)/Summary!$I$7,5%*H354),2),D354),0)","v":0},null,null,0,1416.7000000000005,"",{"$f":"IF(B355<>\"\",IF(K355=\"\",J354,IF((H354-J354)/H354<-0.5,MAX(H354,Summary!$D$7),MAX(H354,J354))),\"\")","v":""},"",""]
[355,null,null,{"$f":"IF(B356<>\"\",IF(B356<>B355,ROUND(MIN(1%*J356+(J356-H355)/Summary!$I$7,5%*H355),2),D355),0)","v":0},null,null,0,1416.7000000000005,"",{"$f":"IF(B356<>\"\",IF(K356=\"\",J355,IF((H355-J355)/H355<-0.5,MAX(H355,Summary!$D$7),MAX(H355,J355))),\"\")","v":""},"",""]
[356,null,null,{"$f":"IF(B357<>\"\",IF(B357<>B356,ROUND(MIN(1%*J357+(J357-H356)/Summary!$I$7,5%*H356),2),D356),0)","v":0},null,null,0,1416.7000000000005,"",{"$f":"IF(B357<>\"\",IF(K357=\"\",J356,IF((H356-J356)/H356<-0.5,MAX(H356,Summary!$D$7),MAX(H356,J356))),\"\")","v":""},"",""]
[357,null,null,{"$f":"IF(B358<>\"\",IF(B358<>B357,ROUND(MIN(1%*J358+(J358-H357)/Summary!$I$7,5%*H357),2),D357),0)","v":0},null,null,0,1416.7000000000005,"",{"$f":"IF(B358<>\"\",IF(K358=\"\",J357,IF((H357-J357)/H357<-0.5,MAX(H357,Summary!$D$7),MAX(H357,J357))),\"\")","v":""},"",""]
[358,null,null,{"$f":"IF(B359<>\"\",IF(B359<>B358,ROUND(MIN(1%*J359+(J359-H358)/Summary!$I$7,5%*H358),2),D358),0)","v":0},null,null,0,1416.7000000000005,"",{"$f":"IF(B359<>\"\",IF(K359=\"\",J358,IF((H358-J358)/H358<-0.5,MAX(H358,Summary!$D$7),MAX(H358,J358))),\"\")","v":""},"",""]
[359,null,null,{"$f":"IF(B360<>\"\",IF(B360<>B359,ROUND(MIN(1%*J360+(J360-H359)/Summary!$I$7,5%*H359),2),D359),0)","v":0},null,null,0,1416.7000000000005,"",{"$f":"IF(B360<>\"\",IF(K360=\"\",J359,IF((H359-J359)/H359<-0.5,MAX(H359,Summary!$D$7),MAX(H359,J359))),\"\")","v":""},"",""]
[360,null,null,{"$f":"IF(B361<>\"\",IF(B361<>B360,ROUND(MIN(1%*J361+(J361-H360)/Summary!$I$7,5%*H360),2),D360),0)","v":0},null,null,0,1416.7000000000005,"",{"$f":"IF(B361<>\"\",IF(K361=\"\",J360,IF((H360-J360)/H360<-0.5,MAX(H360,Summary!$D$7),MAX(H360,J360))),\"\")","v":""},"",""]
[361,null,null,{"$f":"IF(B362<>\"\",IF(B362<>B361,ROUND(MIN(1%*J362+(J362-H361)/Summary!$I$7,5%*H361),2),D361),0)","v":0},null,null,0,1416.7000000000005,"",{"$f":"IF(B362<>\"\",IF(K362=\"\",J361,IF((H361-J361)/H361<-0.5,MAX(H361,Summary!$D$7),MAX(H361,J361))),\"\")","v":""},"",""]
[362,null,null,{"$f":"IF(B363<>\"\",IF(B363<>B362,ROUND(MIN(1%*J363+(J363-H362)/Summary!$I$7,5%*H362),2),D362),0)","v":0},null,null,0,1416.7000000000005,"",{"$f":"IF(B363<>\"\",IF(K363=\"\",J362,IF((H362-J362)/H362<-0.5,MAX(H362,Summary!$D$7),MAX(H362,J362))),\"\")","v":""},"",""]
[363,null,null,{"$f":"IF(B364<>\"\",IF(B364<>B363,ROUND(MIN(1%*J364+(J364-H363)/Summary!$I$7,5%*H363),2),D363),0)","v":0},null,null,0,1416.7000000000005,"",{"$f":"IF(B364<>\"\",IF(K364=\"\",J363,IF((H363-J363)/H363<-0.5,MAX(H363,Summary!$D$7),MAX(H363,J363))),\"\")","v":""},"",""]
[364,null,null,{"$f":"IF(B365<>\"\",IF(B365<>B364,ROUND(MIN(1%*J365+(J365-H364)/Summary!$I$7,5%*H364),2),D364),0)","v":0},null,null,0,1416.7000000000005,"",{"$f":"IF(B365<>\"\",IF(K365=\"\",J364,IF((H364-J364)/H364<-0.5,MAX(H364,Summary!$D$7),MAX(H364,J364))),\"\")","v":""},"",""]
[365,null,null,{"$f":"IF(B366<>\"\",IF(B366<>B365,ROUND(MIN(1%*J366+(J366-H365)/Summary!$I$7,5%*H365),2),D365),0)","v":0},null,null,0,1416.7000000000005,"",{"$f":"IF(B366<>\"\",IF(K366=\"\",J365,IF((H365-J365)/H365<-0.5,MAX(H365,Summary!$D$7),MAX(H365,J365))),\"\")","v":""},"",""]
[366,null,null,{"$f":"IF(B367<>\"\",IF(B367<>B366,ROUND(MIN(1%*J367+(J367-H366)/Summary!$I$7,5%*H366),2),D366),0)","v":0},null,null,0,1416.7000000000005,"",{"$f":"IF(B367<>\"\",IF(K367=\"\",J366,IF((H366-J366)/H366<-0.5,MAX(H366,Summary!$D$7),MAX(H366,J366))),\"\")","v":""},"",""]
[367,null,null,{"$f":"IF(B368<>\"\",IF(B368<>B367,ROUND(MIN(1%*J368+(J368-H367)/Summary!$I$7,5%*H367),2),D367),0)","v":0},null,null,0,1416.7000000000005,"",{"$f":"IF(B368<>\"\",IF(K368=\"\",J367,IF((H367-J367)/H367<-0.5,MAX(H367,Summary!$D$7),MAX(H367,J367))),\"\")","v":""},"",""]
[368,null,null,{"$f":"IF(B369<>\"\",IF(B369<>B368,ROUND(MIN(1%*J369+(J369-H368)/Summary!$I$7,5%*H368),2),D368),0)","v":0},null,null,0,1416.7000000000005,"",{"$f":"IF(B369<>\"\",IF(K369=\"\",J368,IF((H368-J368)/H368<-0.5,MAX(H368,Summary!$D$7),MAX(H368,J368))),\"\")","v":""},"",""]
[369,null,null,{"$f":"IF(B370<>\"\",IF(B370<>B369,ROUND(MIN(1%*J370+(J370-H369)/Summary!$I$7,5%*H369),2),D369),0)","v":0},null,null,0,1416.7000000000005,"",{"$f":"IF(B370<>\"\",IF(K370=\"\",J369,IF((H369-J369)/H369<-0.5,MAX(H369,Summary!$D$7),MAX(H369,J369))),\"\")","v":""},"",""]
[370,null,null,{"$f":"IF(B371<>\"\",IF(B371<>B370,ROUND(MIN(1%*J371+(J371-H370)/Summary!$I$7,5%*H370),2),D370),0)","v":0},null,null,0,1416.7000000000005,"",{"$f":"IF(B371<>\"\",IF(K371=\"\",J370,IF((H370-J370)/H370<-0.5,MAX(H370,Summary!$D$7),MAX(H370,J370))),\"\")","v":""},"",""]
[371,null,null,{"$f":"IF(B372<>\"\",IF(B372<>B371,ROUND(MIN(1%*J372+(J372-H371)/Summary!$I$7,5%*H371),2),D371),0)","v":0},null,null,0,1416.7000000000005,"",{"$f":"IF(B372<>\"\",IF(K372=\"\",J371,IF((H371-J371)/H371<-0.5,MAX(H371,Summary!$D$7),MAX(H371,J371))),\"\")","v":""},"",""]
[372,null,null,{"$f":"IF(B373<>\"\",IF(B373<>B372,ROUND(MIN(1%*J373+(J373-H372)/Summary!$I$7,5%*H372),2),D372),0)","v":0},null,null,0,1416.7000000000005,"",{"$f":"IF(B373<>\"\",IF(K373=\"\",J372,IF((H372-J372)/H372<-0.5,MAX(H372,Summary!$D$7),MAX(H372,J372))),\"\")","v":""},"",""]
[373,null,null,{"$f":"IF(B374<>\"\",IF(B374<>B373,ROUND(MIN(1%*J374+(J374-H373)/Summary!$I$7,5%*H373),2),D373),0)","v":0},null,null,0,1416.7000000000005,"",{"$f":"IF(B374<>\"\",IF(K374=\"\",J373,IF((H373-J373)/H373<-0.5,MAX(H373,Summary!$D$7),MAX(H373,J373))),\"\")","v":""},"",""]
[374,null,null,{"$f":"IF(B375<>\"\",IF(B375<>B374,ROUND(MIN(1%*J375+(J375-H374)/Summary!$I$7,5%*H374),2),D374),0)","v":0},null,null,0,1416.7000000000005,"",{"$f":"IF(B375<>\"\",IF(K375=\"\",J374,IF((H374-J374)/H374<-0.5,MAX(H374,Summary!$D$7),MAX(H374,J374))),\"\")","v":""},"",""]
[375,null,null,{"$f":"IF(B376<>\"\",IF(B376<>B375,ROUND(MIN(1%*J376+(J376-H375)/Summary!$I$7,5%*H375),2),D375),0)","v":0},null,null,0,1416.7000000000005,"",{"$f":"IF(B376<>\"\",IF(K376=\"\",J375,IF((H375-J375)/H375<-0.5,MAX(H375,Summary!$D$7),MAX(H375,J375))),\"\")","v":""},"",""]
[376,null,null,{"$f":"IF(B377<>\"\",IF(B377<>B376,ROUND(MIN(1%*J377+(J377-H376)/Summary!$I$7,5%*H376),2),D376),0)","v":0},null,null,0,1416.7000000000005,"",{"$f":"IF(B377<>\"\",IF(K377=\"\",J376,IF((H376-J376)/H376<-0.5,MAX(H376,Summary!$D$7),MAX(H376,J376))),\"\")","v":""},"",""]
[377,null,null,{"$f":"IF(B378<>\"\",IF(B378<>B377,ROUND(MIN(1%*J378+(J378-H377)/Summary!$I$7,5%*H377),2),D377),0)","v":0},null,null,0,1416.7000000000005,"",{"$f":"IF(B378<>\"\",IF(K378=\"\",J377,IF((H377-J377)/H377<-0.5,MAX(H377,Summary!$D$7),MAX(H377,J377))),\"\")","v":""},"",""]
[378,null,null,{"$f":"IF(B379<>\"\",IF(B379<>B378,ROUND(MIN(1%*J379+(J379-H378)/Summary!$I$7,5%*H378),2),D378),0)","v":0},null,null,0,1416.7000000000005,"",{"$f":"IF(B379<>\"\",IF(K379=\"\",J378,IF((H378-J378)/H378<-0.5,MAX(H378,Summary!$D$7),MAX(H378,J378))),\"\")","v":""},"",""]
[379,null,null,{"$f":"IF(B380<>\"\",IF(B380<>B379,ROUND(MIN(1%*J380+(J380-H379)/Summary!$I$7,5%*H379),2),D379),0)","v":0},null,null,0,1416.7000000000005,"",{"$f":"IF(B380<>\"\",IF(K380=\"\",J379,IF((H379-J379)/H379<-0.5,MAX(H379,Summary!$D$7),MAX(H379,J379))),\"\")","v":""},"",""]
[380,null,null,{"$f":"IF(B381<>\"\",IF(B381<>B380,ROUND(MIN(1%*J381+(J381-H380)/Summary!$I$7,5%*H380),2),D380),0)","v":0},null,null,0,1416.7000000000005,"",{"$f":"IF(B381<>\"\",IF(K381=\"\",J380,IF((H380-J380)/H380<-0.5,MAX(H380,Summary!$D$7),MAX(H380,J380))),\"\")","v":""},"",""]
[381,null,null,{"$f":"IF(B382<>\"\",IF(B382<>B381,ROUND(MIN(1%*J382+(J382-H381)/Summary!$I$7,5%*H381),2),D381),0)","v":0},null,null,0,1416.7000000000005,"",{"$f":"IF(B382<>\"\",IF(K382=\"\",J381,IF((H381-J381)/H381<-0.5,MAX(H381,Summary!$D$7),MAX(H381,J381))),\"\")","v":""},"",""]
[382,null,null,{"$f":"IF(B383<>\"\",IF(B383<>B382,ROUND(MIN(1%*J383+(J383-H382)/Summary!$I$7,5%*H382),2),D382),0)","v":0},null,null,0,1416.7000000000005,"",{"$f":"IF(B383<>\"\",IF(K383=\"\",J382,IF((H382-J382)/H382<-0.5,MAX(H382,Summary!$D$7),MAX(H382,J382))),\"\")","v":""},"",""]
[383,null,null,{"$f":"IF(B384<>\"\",IF(B384<>B383,ROUND(MIN(1%*J384+(J384-H383)/Summary!$I$7,5%*H383),2),D383),0)","v":0},null,null,0,1416.7000000000005,"",{"$f":"IF(B384<>\"\",IF(K384=\"\",J383,IF((H383-J383)/H383<-0.5,MAX(H383,Summary!$D$7),MAX(H383,J383))),\"\")","v":""},"",""]
[384,null,null,{"$f":"IF(B385<>\"\",IF(B385<>B384,ROUND(MIN(1%*J385+(J385-H384)/Summary!$I$7,5%*H384),2),D384),0)","v":0},null,null,0,1416.7000000000005,"",{"$f":"IF(B385<>\"\",IF(K385=\"\",J384,IF((H384-J384)/H384<-0.5,MAX(H384,Summary!$D$7),MAX(H384,J384))),\"\")","v":""},"",""]
[385,null,null,{"$f":"IF(B386<>\"\",IF(B386<>B385,ROUND(MIN(1%*J386+(J386-H385)/Summary!$I$7,5%*H385),2),D385),0)","v":0},null,null,{"$f":"IF(F386=\"Y\",D386*(E386-1),IF(F386=\"N\",-D386,0))","v":0},1416.7000000000005,"",{"$f":"IF(B386<>\"\",IF(K386=\"\",J385,IF((H385-J385)/H385<-0.5,MAX(H385,Summary!$D$7),MAX(H385,J385))),\"\")","v":""},"",""]
[386,null,null,{"$f":"IF(B387<>\"\",IF(B387<>B386,ROUND(MIN(1%*J387+(J387-H386)/Summary!$I$7,5%*H386),2),D386),0)","v":0},null,null,0,{"$f":"SUM(H386,G387)","v":1416.7000000000005},{"$f":"IF(B387<>\"\",IF(B387<>B386,1,I386+1),\"\")","v":""},{"$f":"IF(B387<>\"\",IF(K387=\"\",J386,IF((H386-J386)/H386<-0.5,MAX(H386,Summary!$D$7),MAX(H386,J386))),\"\")","v":""},{"$f":"IF(AND(B387<>\"\",B387<>B386),\"Y\",\"\")","v":""},""]
[387,null,null,{"$f":"IF(B388<>\"\",IF(B388<>B387,ROUND(MIN(1%*J388+(J388-H387)/Summary!$I$7,5%*H387),2),D387),0)","v":0},null,null,0,1416.7000000000005,"",{"$f":"IF(B388<>\"\",IF(K388=\"\",J387,IF((H387-J387)/H387<-0.5,MAX(H387,Summary!$D$7),MAX(H387,J387))),\"\")","v":""},"",{"$f":"IF(D388<>0,D388/H388,\"\")","v":""}]
[388,null,null,{"$f":"IF(B389<>\"\",IF(B389<>B388,ROUND(MIN(1%*J389+(J389-H388)/Summary!$I$7,5%*H388),2),D388),0)","v":0},null,null,0,1416.7000000000005,"",{"$f":"IF(B389<>\"\",IF(K389=\"\",J388,IF((H388-J388)/H388<-0.5,MAX(H388,Summary!$D$7),MAX(H388,J388))),\"\")","v":""},"",""]
[389,null,null,{"$f":"IF(B390<>\"\",IF(B390<>B389,ROUND(MIN(1%*J390+(J390-H389)/Summary!$I$7,5%*H389),2),D389),0)","v":0},null,null,0,1416.7000000000005,"",{"$f":"IF(B390<>\"\",IF(K390=\"\",J389,IF((H389-J389)/H389<-0.5,MAX(H389,Summary!$D$7),MAX(H389,J389))),\"\")","v":""},"",""]
[390,null,null,{"$f":"IF(B391<>\"\",IF(B391<>B390,ROUND(MIN(1%*J391+(J391-H390)/Summary!$I$7,5%*H390),2),D390),0)","v":0},null,null,0,1416.7000000000005,"",{"$f":"IF(B391<>\"\",IF(K391=\"\",J390,IF((H390-J390)/H390<-0.5,MAX(H390,Summary!$D$7),MAX(H390,J390))),\"\")","v":""},"",""]
[391,null,null,{"$f":"IF(B392<>\"\",IF(B392<>B391,ROUND(MIN(1%*J392+(J392-H391)/Summary!$I$7,5%*H391),2),D391),0)","v":0},null,null,0,1416.7000000000005,"",{"$f":"IF(B392<>\"\",IF(K392=\"\",J391,IF((H391-J391)/H391<-0.5,MAX(H391,Summary!$D$7),MAX(H391,J391))),\"\")","v":""},"",""]
[392,null,null,{"$f":"IF(B393<>\"\",IF(B393<>B392,ROUND(MIN(1%*J393+(J393-H392)/Summary!$I$7,5%*H392),2),D392),0)","v":0},null,null,0,1416.7000000000005,"",{"$f":"IF(B393<>\"\",IF(K393=\"\",J392,IF((H392-J392)/H392<-0.5,MAX(H392,Summary!$D$7),MAX(H392,J392))),\"\")","v":""},"",""]
[393,null,null,{"$f":"IF(B394<>\"\",IF(B394<>B393,ROUND(MIN(1%*J394+(J394-H393)/Summary!$I$7,5%*H393),2),D393),0)","v":0},null,null,0,1416.7000000000005,"",{"$f":"IF(B394<>\"\",IF(K394=\"\",J393,IF((H393-J393)/H393<-0.5,MAX(H393,Summary!$D$7),MAX(H393,J393))),\"\")","v":""},"",""]
[394,null,null,{"$f":"IF(B395<>\"\",IF(B395<>B394,ROUND(MIN(1%*J395+(J395-H394)/Summary!$I$7,5%*H394),2),D394),0)","v":0},null,null,0,1416.7000000000005,"",{"$f":"IF(B395<>\"\",IF(K395=\"\",J394,IF((H394-J394)/H394<-0.5,MAX(H394,Summary!$D$7),MAX(H394,J394))),\"\")","v":""},"",""]
[395,null,null,{"$f":"IF(B396<>\"\",IF(B396<>B395,ROUND(MIN(1%*J396+(J396-H395)/Summary!$I$7,5%*H395),2),D395),0)","v":0},null,null,0,1416.7000000000005,"",{"$f":"IF(B396<>\"\",IF(K396=\"\",J395,IF((H395-J395)/H395<-0.5,MAX(H395,Summary!$D$7),MAX(H395,J395))),\"\")","v":""},"",""]
[396,null,null,{"$f":"IF(B397<>\"\",IF(B397<>B396,ROUND(MIN(1%*J397+(J397-H396)/Summary!$I$7,5%*H396),2),D396),0)","v":0},null,null,0,1416.7000000000005,"",{"$f":"IF(B397<>\"\",IF(K397=\"\",J396,IF((H396-J396)/H396<-0.5,MAX(H396,Summary!$D$7),MAX(H396,J396))),\"\")","v":""},"",""]
[397,null,null,{"$f":"IF(B398<>\"\",IF(B398<>B397,ROUND(MIN(1%*J398+(J398-H397)/Summary!$I$7,5%*H397),2),D397),0)","v":0},null,null,0,1416.7000000000005,"",{"$f":"IF(B398<>\"\",IF(K398=\"\",J397,IF((H397-J397)/H397<-0.5,MAX(H397,Summary!$D$7),MAX(H397,J397))),\"\")","v":""},"",""]
[398,null,null,{"$f":"IF(B399<>\"\",IF(B399<>B398,ROUND(MIN(1%*J399+(J399-H398)/Summary!$I$7,5%*H398),2),D398),0)","v":0},null,null,0,1416.7000000000005,"",{"$f":"IF(B399<>\"\",IF(K399=\"\",J398,IF((H398-J398)/H398<-0.5,MAX(H398,Summary!$D$7),MAX(H398,J398))),\"\")","v":""},"",""]
[399,null,null,{"$f":"IF(B400<>\"\",IF(B400<>B399,ROUND(MIN(1%*J400+(J400-H399)/Summary!$I$7,5%*H399),2),D399),0)","v":0},null,null,0,1416.7000000000005,"",{"$f":"IF(B400<>\"\",IF(K400=\"\",J399,IF((H399-J399)/H399<-0.5,MAX(H399,Summary!$D$7),MAX(H399,J399))),\"\")","v":""},"",""]
[400,null,null,{"$f":"IF(B401<>\"\",IF(B401<>B400,ROUND(MIN(1%*J401+(J401-H400)/Summary!$I$7,5%*H400),2),D400),0)","v":0},null,null,0,1416.7000000000005,"",{"$f":"IF(B401<>\"\",IF(K401=\"\",J400,IF((H400-J400)/H400<-0.5,MAX(H400,Summary!$D$7),MAX(H400,J400))),\"\")","v":""},"",""]
[401,null,null,{"$f":"IF(B402<>\"\",IF(B402<>B401,ROUND(MIN(1%*J402+(J402-H401)/Summary!$I$7,5%*H401),2),D401),0)","v":0},null,null,0,1416.7000000000005,"",{"$f":"IF(B402<>\"\",IF(K402=\"\",J401,IF((H401-J401)/H401<-0.5,MAX(H401,Summary!$D$7),MAX(H401,J401))),\"\")","v":""},"",""]
[402,null,null,{"$f":"IF(B403<>\"\",IF(B403<>B402,ROUND(MIN(1%*J403+(J403-H402)/Summary!$I$7,5%*H402),2),D402),0)","v":0},null,null,0,1416.7000000000005,"",{"$f":"IF(B403<>\"\",IF(K403=\"\",J402,IF((H402-J402)/H402<-0.5,MAX(H402,Summary!$D$7),MAX(H402,J402))),\"\")","v":""},"",""]
[403,null,null,{"$f":"IF(B404<>\"\",IF(B404<>B403,ROUND(MIN(1%*J404+(J404-H403)/Summary!$I$7,5%*H403),2),D403),0)","v":0},null,null,0,1416.7000000000005,"",{"$f":"IF(B404<>\"\",IF(K404=\"\",J403,IF((H403-J403)/H403<-0.5,MAX(H403,Summary!$D$7),MAX(H403,J403))),\"\")","v":""},"",""]
[404,null,null,{"$f":"IF(B405<>\"\",IF(B405<>B404,ROUND(MIN(1%*J405+(J405-H404)/Summary!$I$7,5%*H404),2),D404),0)","v":0},null,null,0,1416.7000000000005,"",{"$f":"IF(B405<>\"\",IF(K405=\"\",J404,IF((H404-J404)/H404<-0.5,MAX(H404,Summary!$D$7),MAX(H404,J404))),\"\")","v":""},"",""]
[405,null,null,{"$f":"IF(B406<>\"\",IF(B406<>B405,ROUND(MIN(1%*J406+(J406-H405)/Summary!$I$7,5%*H405),2),D405),0)","v":0},null,null,0,1416.7000000000005,"",{"$f":"IF(B406<>\"\",IF(K406=\"\",J405,IF((H405-J405)/H405<-0.5,MAX(H405,Summary!$D$7),MAX(H405,J405))),\"\")","v":""},"",""]
[406,null,null,{"$f":"IF(B407<>\"\",IF(B407<>B406,ROUND(MIN(1%*J407+(J407-H406)/Summary!$I$7,5%*H406),2),D406),0)","v":0},null,null,0,1416.7000000000005,"",{"$f":"IF(B407<>\"\",IF(K407=\"\",J406,IF((H406-J406)/H406<-0.5,MAX(H406,Summary!$D$7),MAX(H406,J406))),\"\")","v":""},"",""]
[407,null,null,{"$f":"IF(B408<>\"\",IF(B408<>B407,ROUND(MIN(1%*J408+(J408-H407)/Summary!$I$7,5%*H407),2),D407),0)","v":0},null,null,0,1416.7000000000005,"",{"$f":"IF(B408<>\"\",IF(K408=\"\",J407,IF((H407-J407)/H407<-0.5,MAX(H407,Summary!$D$7),MAX(H407,J407))),\"\")","v":""},"",""]
[408,null,null,{"$f":"IF(B409<>\"\",IF(B409<>B408,ROUND(MIN(1%*J409+(J409-H408)/Summary!$I$7,5%*H408),2),D408),0)","v":0},null,null,0,1416.7000000000005,"",{"$f":"IF(B409<>\"\",IF(K409=\"\",J408,IF((H408-J408)/H408<-0.5,MAX(H408,Summary!$D$7),MAX(H408,J408))),\"\")","v":""},"",""]
[409,null,null,{"$f":"IF(B410<>\"\",IF(B410<>B409,ROUND(MIN(1%*J410+(J410-H409)/Summary!$I$7,5%*H409),2),D409),0)","v":0},null,null,0,1416.7000000000005,"",{"$f":"IF(B410<>\"\",IF(K410=\"\",J409,IF((H409-J409)/H409<-0.5,MAX(H409,Summary!$D$7),MAX(H409,J409))),\"\")","v":""},"",""]
[410,null,null,{"$f":"IF(B411<>\"\",IF(B411<>B410,ROUND(MIN(1%*J411+(J411-H410)/Summary!$I$7,5%*H410),2),D410),0)","v":0},null,null,0,1416.7000000000005,"",{"$f":"IF(B411<>\"\",IF(K411=\"\",J410,IF((H410-J410)/H410<-0.5,MAX(H410,Summary!$D$7),MAX(H410,J410))),\"\")","v":""},"",""]
[411,null,null,{"$f":"IF(B412<>\"\",IF(B412<>B411,ROUND(MIN(1%*J412+(J412-H411)/Summary!$I$7,5%*H411),2),D411),0)","v":0},null,null,0,1416.7000000000005,"",{"$f":"IF(B412<>\"\",IF(K412=\"\",J411,IF((H411-J411)/H411<-0.5,MAX(H411,Summary!$D$7),MAX(H411,J411))),\"\")","v":""},"",""]
[412,null,null,{"$f":"IF(B413<>\"\",IF(B413<>B412,ROUND(MIN(1%*J413+(J413-H412)/Summary!$I$7,5%*H412),2),D412),0)","v":0},null,null,0,1416.7000000000005,"",{"$f":"IF(B413<>\"\",IF(K413=\"\",J412,IF((H412-J412)/H412<-0.5,MAX(H412,Summary!$D$7),MAX(H412,J412))),\"\")","v":""},"",""]
[413,null,null,{"$f":"IF(B414<>\"\",IF(B414<>B413,ROUND(MIN(1%*J414+(J414-H413)/Summary!$I$7,5%*H413),2),D413),0)","v":0},null,null,0,1416.7000000000005,"",{"$f":"IF(B414<>\"\",IF(K414=\"\",J413,IF((H413-J413)/H413<-0.5,MAX(H413,Summary!$D$7),MAX(H413,J413))),\"\")","v":""},"",""]
[414,null,null,{"$f":"IF(B415<>\"\",IF(B415<>B414,ROUND(MIN(1%*J415+(J415-H414)/Summary!$I$7,5%*H414),2),D414),0)","v":0},null,null,0,1416.7000000000005,"",{"$f":"IF(B415<>\"\",IF(K415=\"\",J414,IF((H414-J414)/H414<-0.5,MAX(H414,Summary!$D$7),MAX(H414,J414))),\"\")","v":""},"",""]
[415,null,null,{"$f":"IF(B416<>\"\",IF(B416<>B415,ROUND(MIN(1%*J416+(J416-H415)/Summary!$I$7,5%*H415),2),D415),0)","v":0},null,null,0,1416.7000000000005,"",{"$f":"IF(B416<>\"\",IF(K416=\"\",J415,IF((H415-J415)/H415<-0.5,MAX(H415,Summary!$D$7),MAX(H415,J415))),\"\")","v":""},"",""]
[416,null,null,{"$f":"IF(B417<>\"\",IF(B417<>B416,ROUND(MIN(1%*J417+(J417-H416)/Summary!$I$7,5%*H416),2),D416),0)","v":0},null,null,0,1416.7000000000005,"",{"$f":"IF(B417<>\"\",IF(K417=\"\",J416,IF((H416-J416)/H416<-0.5,MAX(H416,Summary!$D$7),MAX(H416,J416))),\"\")","v":""},"",""]
[417,null,null,{"$f":"IF(B418<>\"\",IF(B418<>B417,ROUND(MIN(1%*J418+(J418-H417)/Summary!$I$7,5%*H417),2),D417),0)","v":0},null,null,0,1416.7000000000005,"",{"$f":"IF(B418<>\"\",IF(K418=\"\",J417,IF((H417-J417)/H417<-0.5,MAX(H417,Summary!$D$7),MAX(H417,J417))),\"\")","v":""},"",""]
[418,null,null,{"$f":"IF(B419<>\"\",IF(B419<>B418,ROUND(MIN(1%*J419+(J419-H418)/Summary!$I$7,5%*H418),2),D418),0)","v":0},null,null,0,1416.7000000000005,"",{"$f":"IF(B419<>\"\",IF(K419=\"\",J418,IF((H418-J418)/H418<-0.5,MAX(H418,Summary!$D$7),MAX(H418,J418))),\"\")","v":""},"",""]
[419,null,null,{"$f":"IF(B420<>\"\",IF(B420<>B419,ROUND(MIN(1%*J420+(J420-H419)/Summary!$I$7,5%*H419),2),D419),0)","v":0},null,null,0,1416.7000000000005,"",{"$f":"IF(B420<>\"\",IF(K420=\"\",J419,IF((H419-J419)/H419<-0.5,MAX(H419,Summary!$D$7),MAX(H419,J419))),\"\")","v":""},"",""]
[420,null,null,{"$f":"IF(B421<>\"\",IF(B421<>B420,ROUND(MIN(1%*J421+(J421-H420)/Summary!$I$7,5%*H420),2),D420),0)","v":0},null,null,0,1416.7000000000005,"",{"$f":"IF(B421<>\"\",IF(K421=\"\",J420,IF((H420-J420)/H420<-0.5,MAX(H420,Summary!$D$7),MAX(H420,J420))),\"\")","v":""},"",""]
[421,null,null,{"$f":"IF(B422<>\"\",IF(B422<>B421,ROUND(MIN(1%*J422+(J422-H421)/Summary!$I$7,5%*H421),2),D421),0)","v":0},null,null,0,1416.7000000000005,"",{"$f":"IF(B422<>\"\",IF(K422=\"\",J421,IF((H421-J421)/H421<-0.5,MAX(H421,Summary!$D$7),MAX(H421,J421))),\"\")","v":""},"",""]
[422,null,null,{"$f":"IF(B423<>\"\",IF(B423<>B422,ROUND(MIN(1%*J423+(J423-H422)/Summary!$I$7,5%*H422),2),D422),0)","v":0},null,null,0,1416.7000000000005,"",{"$f":"IF(B423<>\"\",IF(K423=\"\",J422,IF((H422-J422)/H422<-0.5,MAX(H422,Summary!$D$7),MAX(H422,J422))),\"\")","v":""},"",""]
[423,null,null,{"$f":"IF(B424<>\"\",IF(B424<>B423,ROUND(MIN(1%*J424+(J424-H423)/Summary!$I$7,5%*H423),2),D423),0)","v":0},null,null,0,1416.7000000000005,"",{"$f":"IF(B424<>\"\",IF(K424=\"\",J423,IF((H423-J423)/H423<-0.5,MAX(H423,Summary!$D$7),MAX(H423,J423))),\"\")","v":""},"",""]
[424,null,null,{"$f":"IF(B425<>\"\",IF(B425<>B424,ROUND(MIN(1%*J425+(J425-H424)/Summary!$I$7,5%*H424),2),D424),0)","v":0},null,null,0,1416.7000000000005,"",{"$f":"IF(B425<>\"\",IF(K425=\"\",J424,IF((H424-J424)/H424<-0.5,MAX(H424,Summary!$D$7),MAX(H424,J424))),\"\")","v":""},"",""]
[425,null,null,{"$f":"IF(B426<>\"\",IF(B426<>B425,ROUND(MIN(1%*J426+(J426-H425)/Summary!$I$7,5%*H425),2),D425),0)","v":0},null,null,0,1416.7000000000005,"",{"$f":"IF(B426<>\"\",IF(K426=\"\",J425,IF((H425-J425)/H425<-0.5,MAX(H425,Summary!$D$7),MAX(H425,J425))),\"\")","v":""},"",""]
[426,null,null,{"$f":"IF(B427<>\"\",IF(B427<>B426,ROUND(MIN(1%*J427+(J427-H426)/Summary!$I$7,5%*H426),2),D426),0)","v":0},null,null,0,1416.7000000000005,"",{"$f":"IF(B427<>\"\",IF(K427=\"\",J426,IF((H426-J426)/H426<-0.5,MAX(H426,Summary!$D$7),MAX(H426,J426))),\"\")","v":""},"",""]
[427,null,null,{"$f":"IF(B428<>\"\",IF(B428<>B427,ROUND(MIN(1%*J428+(J428-H427)/Summary!$I$7,5%*H427),2),D427),0)","v":0},null,null,0,1416.7000000000005,"",{"$f":"IF(B428<>\"\",IF(K428=\"\",J427,IF((H427-J427)/H427<-0.5,MAX(H427,Summary!$D$7),MAX(H427,J427))),\"\")","v":""},"",""]
[428,null,null,{"$f":"IF(B429<>\"\",IF(B429<>B428,ROUND(MIN(1%*J429+(J429-H428)/Summary!$I$7,5%*H428),2),D428),0)","v":0},null,null,0,1416.7000000000005,"",{"$f":"IF(B429<>\"\",IF(K429=\"\",J428,IF((H428-J428)/H428<-0.5,MAX(H428,Summary!$D$7),MAX(H428,J428))),\"\")","v":""},"",""]
[429,null,null,{"$f":"IF(B430<>\"\",IF(B430<>B429,ROUND(MIN(1%*J430+(J430-H429)/Summary!$I$7,5%*H429),2),D429),0)","v":0},null,null,0,1416.7000000000005,"",{"$f":"IF(B430<>\"\",IF(K430=\"\",J429,IF((H429-J429)/H429<-0.5,MAX(H429,Summary!$D$7),MAX(H429,J429))),\"\")","v":""},"",""]
[430,null,null,{"$f":"IF(B431<>\"\",IF(B431<>B430,ROUND(MIN(1%*J431+(J431-H430)/Summary!$I$7,5%*H430),2),D430),0)","v":0},null,null,0,1416.7000000000005,"",{"$f":"IF(B431<>\"\",IF(K431=\"\",J430,IF((H430-J430)/H430<-0.5,MAX(H430,Summary!$D$7),MAX(H430,J430))),\"\")","v":""},"",""]
[431,null,null,{"$f":"IF(B432<>\"\",IF(B432<>B431,ROUND(MIN(1%*J432+(J432-H431)/Summary!$I$7,5%*H431),2),D431),0)","v":0},null,null,0,1416.7000000000005,"",{"$f":"IF(B432<>\"\",IF(K432=\"\",J431,IF((H431-J431)/H431<-0.5,MAX(H431,Summary!$D$7),MAX(H431,J431))),\"\")","v":""},"",""]
[432,null,null,{"$f":"IF(B433<>\"\",IF(B433<>B432,ROUND(MIN(1%*J433+(J433-H432)/Summary!$I$7,5%*H432),2),D432),0)","v":0},null,null,0,1416.7000000000005,"",{"$f":"IF(B433<>\"\",IF(K433=\"\",J432,IF((H432-J432)/H432<-0.5,MAX(H432,Summary!$D$7),MAX(H432,J432))),\"\")","v":""},"",""]
[433,null,null,{"$f":"IF(B434<>\"\",IF(B434<>B433,ROUND(MIN(1%*J434+(J434-H433)/Summary!$I$7,5%*H433),2),D433),0)","v":0},null,null,0,1416.7000000000005,"",{"$f":"IF(B434<>\"\",IF(K434=\"\",J433,IF((H433-J433)/H433<-0.5,MAX(H433,Summary!$D$7),MAX(H433,J433))),\"\")","v":""},"",""]
[434,null,null,{"$f":"IF(B435<>\"\",IF(B435<>B434,ROUND(MIN(1%*J435+(J435-H434)/Summary!$I$7,5%*H434),2),D434),0)","v":0},null,null,0,1416.7000000000005,"",{"$f":"IF(B435<>\"\",IF(K435=\"\",J434,IF((H434-J434)/H434<-0.5,MAX(H434,Summary!$D$7),MAX(H434,J434))),\"\")","v":""},"",""]
[435,null,null,{"$f":"IF(B436<>\"\",IF(B436<>B435,ROUND(MIN(1%*J436+(J436-H435)/Summary!$I$7,5%*H435),2),D435),0)","v":0},null,null,0,1416.7000000000005,"",{"$f":"IF(B436<>\"\",IF(K436=\"\",J435,IF((H435-J435)/H435<-0.5,MAX(H435,Summary!$D$7),MAX(H435,J435))),\"\")","v":""},"",""]
[436,null,null,{"$f":"IF(B437<>\"\",IF(B437<>B436,ROUND(MIN(1%*J437+(J437-H436)/Summary!$I$7,5%*H436),2),D436),0)","v":0},null,null,0,1416.7000000000005,"",{"$f":"IF(B437<>\"\",IF(K437=\"\",J436,IF((H436-J436)/H436<-0.5,MAX(H436,Summary!$D$7),MAX(H436,J436))),\"\")","v":""},"",""]
[437,null,null,{"$f":"IF(B438<>\"\",IF(B438<>B437,ROUND(MIN(1%*J438+(J438-H437)/Summary!$I$7,5%*H437),2),D437),0)","v":0},null,null,0,1416.7000000000005,"",{"$f":"IF(B438<>\"\",IF(K438=\"\",J437,IF((H437-J437)/H437<-0.5,MAX(H437,Summary!$D$7),MAX(H437,J437))),\"\")","v":""},"",""]
[438,null,null,{"$f":"IF(B439<>\"\",IF(B439<>B438,ROUND(MIN(1%*J439+(J439-H438)/Summary!$I$7,5%*H438),2),D438),0)","v":0},null,null,0,1416.7000000000005,"",{"$f":"IF(B439<>\"\",IF(K439=\"\",J438,IF((H438-J438)/H438<-0.5,MAX(H438,Summary!$D$7),MAX(H438,J438))),\"\")","v":""},"",""]
[439,null,null,{"$f":"IF(B440<>\"\",IF(B440<>B439,ROUND(MIN(1%*J440+(J440-H439)/Summary!$I$7,5%*H439),2),D439),0)","v":0},null,null,0,1416.7000000000005,"",{"$f":"IF(B440<>\"\",IF(K440=\"\",J439,IF((H439-J439)/H439<-0.5,MAX(H439,Summary!$D$7),MAX(H439,J439))),\"\")","v":""},"",""]
[440,null,null,{"$f":"IF(B441<>\"\",IF(B441<>B440,ROUND(MIN(1%*J441+(J441-H440)/Summary!$I$7,5%*H440),2),D440),0)","v":0},null,null,0,1416.7000000000005,"",{"$f":"IF(B441<>\"\",IF(K441=\"\",J440,IF((H440-J440)/H440<-0.5,MAX(H440,Summary!$D$7),MAX(H440,J440))),\"\")","v":""},"",""]
[441,null,null,{"$f":"IF(B442<>\"\",IF(B442<>B441,ROUND(MIN(1%*J442+(J442-H441)/Summary!$I$7,5%*H441),2),D441),0)","v":0},null,null,0,1416.7000000000005,"",{"$f":"IF(B442<>\"\",IF(K442=\"\",J441,IF((H441-J441)/H441<-0.5,MAX(H441,Summary!$D$7),MAX(H441,J441))),\"\")","v":""},"",""]
[442,null,null,{"$f":"IF(B443<>\"\",IF(B443<>B442,ROUND(MIN(1%*J443+(J443-H442)/Summary!$I$7,5%*H442),2),D442),0)","v":0},null,null,0,1416.7000000000005,"",{"$f":"IF(B443<>\"\",IF(K443=\"\",J442,IF((H442-J442)/H442<-0.5,MAX(H442,Summary!$D$7),MAX(H442,J442))),\"\")","v":""},"",""]
[443,null,null,{"$f":"IF(B444<>\"\",IF(B444<>B443,ROUND(MIN(1%*J444+(J444-H443)/Summary!$I$7,5%*H443),2),D443),0)","v":0},null,null,0,1416.7000000000005,"",{"$f":"IF(B444<>\"\",IF(K444=\"\",J443,IF((H443-J443)/H443<-0.5,MAX(H443,Summary!$D$7),MAX(H443,J443))),\"\")","v":""},"",""]
[444,null,null,{"$f":"IF(B445<>\"\",IF(B445<>B444,ROUND(MIN(1%*J445+(J445-H444)/Summary!$I$7,5%*H444),2),D444),0)","v":0},null,null,0,1416.7000000000005,"",{"$f":"IF(B445<>\"\",IF(K445=\"\",J444,IF((H444-J444)/H444<-0.5,MAX(H444,Summary!$D$7),MAX(H444,J444))),\"\")","v":""},"",""]
[445,null,null,{"$f":"IF(B446<>\"\",IF(B446<>B445,ROUND(MIN(1%*J446+(J446-H445)/Summary!$I$7,5%*H445),2),D445),0)","v":0},null,null,0,1416.7000000000005,"",{"$f":"IF(B446<>\"\",IF(K446=\"\",J445,IF((H445-J445)/H445<-0.5,MAX(H445,Summary!$D$7),MAX(H445,J445))),\"\")","v":""},"",""]
[446,null,null,{"$f":"IF(B447<>\"\",IF(B447<>B446,ROUND(MIN(1%*J447+(J447-H446)/Summary!$I$7,5%*H446),2),D446),0)","v":0},null,null,0,1416.7000000000005,"",{"$f":"IF(B447<>\"\",IF(K447=\"\",J446,IF((H446-J446)/H446<-0.5,MAX(H446,Summary!$D$7),MAX(H446,J446))),\"\")","v":""},"",""]
[447,null,null,{"$f":"IF(B448<>\"\",IF(B448<>B447,ROUND(MIN(1%*J448+(J448-H447)/Summary!$I$7,5%*H447),2),D447),0)","v":0},null,null,0,1416.7000000000005,"",{"$f":"IF(B448<>\"\",IF(K448=\"\",J447,IF((H447-J447)/H447<-0.5,MAX(H447,Summary!$D$7),MAX(H447,J447))),\"\")","v":""},"",""]
[448,null,null,{"$f":"IF(B449<>\"\",IF(B449<>B448,ROUND(MIN(1%*J449+(J449-H448)/Summary!$I$7,5%*H448),2),D448),0)","v":0},null,null,0,1416.7000000000005,"",{"$f":"IF(B449<>\"\",IF(K449=\"\",J448,IF((H448-J448)/H448<-0.5,MAX(H448,Summary!$D$7),MAX(H448,J448))),\"\")","v":""},"",""]
[449,null,null,{"$f":"IF(B450<>\"\",IF(B450<>B449,ROUND(MIN(1%*J450+(J450-H449)/Summary!$I$7,5%*H449),2),D449),0)","v":0},null,null,{"$f":"IF(F450=\"Y\",D450*(E450-1),IF(F450=\"N\",-D450,0))","v":0},1416.7000000000005,"",{"$f":"IF(B450<>\"\",IF(K450=\"\",J449,IF((H449-J449)/H449<-0.5,MAX(H449,Summary!$D$7),MAX(H449,J449))),\"\")","v":""},"",""]
[450,null,null,{"$f":"IF(B451<>\"\",IF(B451<>B450,ROUND(MIN(1%*J451+(J451-H450)/Summary!$I$7,5%*H450),2),D450),0)","v":0},null,null,0,{"$f":"SUM(H450,G451)","v":1416.7000000000005},{"$f":"IF(B451<>\"\",IF(B451<>B450,1,I450+1),\"\")","v":""},{"$f":"IF(B451<>\"\",IF(K451=\"\",J450,IF((H450-J450)/H450<-0.5,MAX(H450,Summary!$D$7),MAX(H450,J450))),\"\")","v":""},{"$f":"IF(AND(B451<>\"\",B451<>B450),\"Y\",\"\")","v":""},""]
[451,null,null,{"$f":"IF(B452<>\"\",IF(B452<>B451,ROUND(MIN(1%*J452+(J452-H451)/Summary!$I$7,5%*H451),2),D451),0)","v":0},null,null,0,1416.7000000000005,"",{"$f":"IF(B452<>\"\",IF(K452=\"\",J451,IF((H451-J451)/H451<-0.5,MAX(H451,Summary!$D$7),MAX(H451,J451))),\"\")","v":""},"",{"$f":"IF(D452<>0,D452/H452,\"\")","v":""}]
[452,null,null,{"$f":"IF(B453<>\"\",IF(B453<>B452,ROUND(MIN(1%*J453+(J453-H452)/Summary!$I$7,5%*H452),2),D452),0)","v":0},null,null,0,1416.7000000000005,"",{"$f":"IF(B453<>\"\",IF(K453=\"\",J452,IF((H452-J452)/H452<-0.5,MAX(H452,Summary!$D$7),MAX(H452,J452))),\"\")","v":""},"",""]
[453,null,null,{"$f":"IF(B454<>\"\",IF(B454<>B453,ROUND(MIN(1%*J454+(J454-H453)/Summary!$I$7,5%*H453),2),D453),0)","v":0},null,null,0,1416.7000000000005,"",{"$f":"IF(B454<>\"\",IF(K454=\"\",J453,IF((H453-J453)/H453<-0.5,MAX(H453,Summary!$D$7),MAX(H453,J453))),\"\")","v":""},"",""]
[454,null,null,{"$f":"IF(B455<>\"\",IF(B455<>B454,ROUND(MIN(1%*J455+(J455-H454)/Summary!$I$7,5%*H454),2),D454),0)","v":0},null,null,0,1416.7000000000005,"",{"$f":"IF(B455<>\"\",IF(K455=\"\",J454,IF((H454-J454)/H454<-0.5,MAX(H454,Summary!$D$7),MAX(H454,J454))),\"\")","v":""},"",""]
[455,null,null,{"$f":"IF(B456<>\"\",IF(B456<>B455,ROUND(MIN(1%*J456+(J456-H455)/Summary!$I$7,5%*H455),2),D455),0)","v":0},null,null,0,1416.7000000000005,"",{"$f":"IF(B456<>\"\",IF(K456=\"\",J455,IF((H455-J455)/H455<-0.5,MAX(H455,Summary!$D$7),MAX(H455,J455))),\"\")","v":""},"",""]
[456,null,null,{"$f":"IF(B457<>\"\",IF(B457<>B456,ROUND(MIN(1%*J457+(J457-H456)/Summary!$I$7,5%*H456),2),D456),0)","v":0},null,null,0,1416.7000000000005,"",{"$f":"IF(B457<>\"\",IF(K457=\"\",J456,IF((H456-J456)/H456<-0.5,MAX(H456,Summary!$D$7),MAX(H456,J456))),\"\")","v":""},"",""]
[457,null,null,{"$f":"IF(B458<>\"\",IF(B458<>B457,ROUND(MIN(1%*J458+(J458-H457)/Summary!$I$7,5%*H457),2),D457),0)","v":0},null,null,0,1416.7000000000005,"",{"$f":"IF(B458<>\"\",IF(K458=\"\",J457,IF((H457-J457)/H457<-0.5,MAX(H457,Summary!$D$7),MAX(H457,J457))),\"\")","v":""},"",""]
[458,null,null,{"$f":"IF(B459<>\"\",IF(B459<>B458,ROUND(MIN(1%*J459+(J459-H458)/Summary!$I$7,5%*H458),2),D458),0)","v":0},null,null,0,1416.7000000000005,"",{"$f":"IF(B459<>\"\",IF(K459=\"\",J458,IF((H458-J458)/H458<-0.5,MAX(H458,Summary!$D$7),MAX(H458,J458))),\"\")","v":""},"",""]
[459,null,null,{"$f":"IF(B460<>\"\",IF(B460<>B459,ROUND(MIN(1%*J460+(J460-H459)/Summary!$I$7,5%*H459),2),D459),0)","v":0},null,null,0,1416.7000000000005,"",{"$f":"IF(B460<>\"\",IF(K460=\"\",J459,IF((H459-J459)/H459<-0.5,MAX(H459,Summary!$D$7),MAX(H459,J459))),\"\")","v":""},"",""]
[460,null,null,{"$f":"IF(B461<>\"\",IF(B461<>B460,ROUND(MIN(1%*J461+(J461-H460)/Summary!$I$7,5%*H460),2),D460),0)","v":0},null,null,0,1416.7000000000005,"",{"$f":"IF(B461<>\"\",IF(K461=\"\",J460,IF((H460-J460)/H460<-0.5,MAX(H460,Summary!$D$7),MAX(H460,J460))),\"\")","v":""},"",""]
[461,null,null,{"$f":"IF(B462<>\"\",IF(B462<>B461,ROUND(MIN(1%*J462+(J462-H461)/Summary!$I$7,5%*H461),2),D461),0)","v":0},null,null,0,1416.7000000000005,"",{"$f":"IF(B462<>\"\",IF(K462=\"\",J461,IF((H461-J461)/H461<-0.5,MAX(H461,Summary!$D$7),MAX(H461,J461))),\"\")","v":""},"",""]
[462,null,null,{"$f":"IF(B463<>\"\",IF(B463<>B462,ROUND(MIN(1%*J463+(J463-H462)/Summary!$I$7,5%*H462),2),D462),0)","v":0},null,null,0,1416.7000000000005,"",{"$f":"IF(B463<>\"\",IF(K463=\"\",J462,IF((H462-J462)/H462<-0.5,MAX(H462,Summary!$D$7),MAX(H462,J462))),\"\")","v":""},"",""]
[463,null,null,{"$f":"IF(B464<>\"\",IF(B464<>B463,ROUND(MIN(1%*J464+(J464-H463)/Summary!$I$7,5%*H463),2),D463),0)","v":0},null,null,0,1416.7000000000005,"",{"$f":"IF(B464<>\"\",IF(K464=\"\",J463,IF((H463-J463)/H463<-0.5,MAX(H463,Summary!$D$7),MAX(H463,J463))),\"\")","v":""},"",""]
[464,null,null,{"$f":"IF(B465<>\"\",IF(B465<>B464,ROUND(MIN(1%*J465+(J465-H464)/Summary!$I$7,5%*H464),2),D464),0)","v":0},null,null,0,1416.7000000000005,"",{"$f":"IF(B465<>\"\",IF(K465=\"\",J464,IF((H464-J464)/H464<-0.5,MAX(H464,Summary!$D$7),MAX(H464,J464))),\"\")","v":""},"",""]
[465,null,null,{"$f":"IF(B466<>\"\",IF(B466<>B465,ROUND(MIN(1%*J466+(J466-H465)/Summary!$I$7,5%*H465),2),D465),0)","v":0},null,null,0,1416.7000000000005,"",{"$f":"IF(B466<>\"\",IF(K466=\"\",J465,IF((H465-J465)/H465<-0.5,MAX(H465,Summary!$D$7),MAX(H465,J465))),\"\")","v":""},"",""]
[466,null,null,{"$f":"IF(B467<>\"\",IF(B467<>B466,ROUND(MIN(1%*J467+(J467-H466)/Summary!$I$7,5%*H466),2),D466),0)","v":0},null,null,0,1416.7000000000005,"",{"$f":"IF(B467<>\"\",IF(K467=\"\",J466,IF((H466-J466)/H466<-0.5,MAX(H466,Summary!$D$7),MAX(H466,J466))),\"\")","v":""},"",""]
[467,null,null,{"$f":"IF(B468<>\"\",IF(B468<>B467,ROUND(MIN(1%*J468+(J468-H467)/Summary!$I$7,5%*H467),2),D467),0)","v":0},null,null,0,1416.7000000000005,"",{"$f":"IF(B468<>\"\",IF(K468=\"\",J467,IF((H467-J467)/H467<-0.5,MAX(H467,Summary!$D$7),MAX(H467,J467))),\"\")","v":""},"",""]
[468,null,null,{"$f":"IF(B469<>\"\",IF(B469<>B468,ROUND(MIN(1%*J469+(J469-H468)/Summary!$I$7,5%*H468),2),D468),0)","v":0},null,null,0,1416.7000000000005,"",{"$f":"IF(B469<>\"\",IF(K469=\"\",J468,IF((H468-J468)/H468<-0.5,MAX(H468,Summary!$D$7),MAX(H468,J468))),\"\")","v":""},"",""]
[469,null,null,{"$f":"IF(B470<>\"\",IF(B470<>B469,ROUND(MIN(1%*J470+(J470-H469)/Summary!$I$7,5%*H469),2),D469),0)","v":0},null,null,0,1416.7000000000005,"",{"$f":"IF(B470<>\"\",IF(K470=\"\",J469,IF((H469-J469)/H469<-0.5,MAX(H469,Summary!$D$7),MAX(H469,J469))),\"\")","v":""},"",""]
[470,null,null,{"$f":"IF(B471<>\"\",IF(B471<>B470,ROUND(MIN(1%*J471+(J471-H470)/Summary!$I$7,5%*H470),2),D470),0)","v":0},null,null,0,1416.7000000000005,"",{"$f":"IF(B471<>\"\",IF(K471=\"\",J470,IF((H470-J470)/H470<-0.5,MAX(H470,Summary!$D$7),MAX(H470,J470))),\"\")","v":""},"",""]
[471,null,null,{"$f":"IF(B472<>\"\",IF(B472<>B471,ROUND(MIN(1%*J472+(J472-H471)/Summary!$I$7,5%*H471),2),D471),0)","v":0},null,null,0,1416.7000000000005,"",{"$f":"IF(B472<>\"\",IF(K472=\"\",J471,IF((H471-J471)/H471<-0.5,MAX(H471,Summary!$D$7),MAX(H471,J471))),\"\")","v":""},"",""]
[472,null,null,{"$f":"IF(B473<>\"\",IF(B473<>B472,ROUND(MIN(1%*J473+(J473-H472)/Summary!$I$7,5%*H472),2),D472),0)","v":0},null,null,0,1416.7000000000005,"",{"$f":"IF(B473<>\"\",IF(K473=\"\",J472,IF((H472-J472)/H472<-0.5,MAX(H472,Summary!$D$7),MAX(H472,J472))),\"\")","v":""},"",""]
[473,null,null,{"$f":"IF(B474<>\"\",IF(B474<>B473,ROUND(MIN(1%*J474+(J474-H473)/Summary!$I$7,5%*H473),2),D473),0)","v":0},null,null,0,1416.7000000000005,"",{"$f":"IF(B474<>\"\",IF(K474=\"\",J473,IF((H473-J473)/H473<-0.5,MAX(H473,Summary!$D$7),MAX(H473,J473))),\"\")","v":""},"",""]
[474,null,null,{"$f":"IF(B475<>\"\",IF(B475<>B474,ROUND(MIN(1%*J475+(J475-H474)/Summary!$I$7,5%*H474),2),D474),0)","v":0},null,null,0,1416.7000000000005,"",{"$f":"IF(B475<>\"\",IF(K475=\"\",J474,IF((H474-J474)/H474<-0.5,MAX(H474,Summary!$D$7),MAX(H474,J474))),\"\")","v":""},"",""]
[475,null,null,{"$f":"IF(B476<>\"\",IF(B476<>B475,ROUND(MIN(1%*J476+(J476-H475)/Summary!$I$7,5%*H475),2),D475),0)","v":0},null,null,0,1416.7000000000005,"",{"$f":"IF(B476<>\"\",IF(K476=\"\",J475,IF((H475-J475)/H475<-0.5,MAX(H475,Summary!$D$7),MAX(H475,J475))),\"\")","v":""},"",""]
[476,null,null,{"$f":"IF(B477<>\"\",IF(B477<>B476,ROUND(MIN(1%*J477+(J477-H476)/Summary!$I$7,5%*H476),2),D476),0)","v":0},null,null,0,1416.7000000000005,"",{"$f":"IF(B477<>\"\",IF(K477=\"\",J476,IF((H476-J476)/H476<-0.5,MAX(H476,Summary!$D$7),MAX(H476,J476))),\"\")","v":""},"",""]
[477,null,null,{"$f":"IF(B478<>\"\",IF(B478<>B477,ROUND(MIN(1%*J478+(J478-H477)/Summary!$I$7,5%*H477),2),D477),0)","v":0},null,null,0,1416.7000000000005,"",{"$f":"IF(B478<>\"\",IF(K478=\"\",J477,IF((H477-J477)/H477<-0.5,MAX(H477,Summary!$D$7),MAX(H477,J477))),\"\")","v":""},"",""]
[478,null,null,{"$f":"IF(B479<>\"\",IF(B479<>B478,ROUND(MIN(1%*J479+(J479-H478)/Summary!$I$7,5%*H478),2),D478),0)","v":0},null,null,0,1416.7000000000005,"",{"$f":"IF(B479<>\"\",IF(K479=\"\",J478,IF((H478-J478)/H478<-0.5,MAX(H478,Summary!$D$7),MAX(H478,J478))),\"\")","v":""},"",""]
[479,null,null,{"$f":"IF(B480<>\"\",IF(B480<>B479,ROUND(MIN(1%*J480+(J480-H479)/Summary!$I$7,5%*H479),2),D479),0)","v":0},null,null,0,1416.7000000000005,"",{"$f":"IF(B480<>\"\",IF(K480=\"\",J479,IF((H479-J479)/H479<-0.5,MAX(H479,Summary!$D$7),MAX(H479,J479))),\"\")","v":""},"",""]
[480,null,null,{"$f":"IF(B481<>\"\",IF(B481<>B480,ROUND(MIN(1%*J481+(J481-H480)/Summary!$I$7,5%*H480),2),D480),0)","v":0},null,null,0,1416.7000000000005,"",{"$f":"IF(B481<>\"\",IF(K481=\"\",J480,IF((H480-J480)/H480<-0.5,MAX(H480,Summary!$D$7),MAX(H480,J480))),\"\")","v":""},"",""]
[481,null,null,{"$f":"IF(B482<>\"\",IF(B482<>B481,ROUND(MIN(1%*J482+(J482-H481)/Summary!$I$7,5%*H481),2),D481),0)","v":0},null,null,0,1416.7000000000005,"",{"$f":"IF(B482<>\"\",IF(K482=\"\",J481,IF((H481-J481)/H481<-0.5,MAX(H481,Summary!$D$7),MAX(H481,J481))),\"\")","v":""},"",""]
[482,null,null,{"$f":"IF(B483<>\"\",IF(B483<>B482,ROUND(MIN(1%*J483+(J483-H482)/Summary!$I$7,5%*H482),2),D482),0)","v":0},null,null,0,1416.7000000000005,"",{"$f":"IF(B483<>\"\",IF(K483=\"\",J482,IF((H482-J482)/H482<-0.5,MAX(H482,Summary!$D$7),MAX(H482,J482))),\"\")","v":""},"",""]
[483,null,null,{"$f":"IF(B484<>\"\",IF(B484<>B483,ROUND(MIN(1%*J484+(J484-H483)/Summary!$I$7,5%*H483),2),D483),0)","v":0},null,null,0,1416.7000000000005,"",{"$f":"IF(B484<>\"\",IF(K484=\"\",J483,IF((H483-J483)/H483<-0.5,MAX(H483,Summary!$D$7),MAX(H483,J483))),\"\")","v":""},"",""]
[484,null,null,{"$f":"IF(B485<>\"\",IF(B485<>B484,ROUND(MIN(1%*J485+(J485-H484)/Summary!$I$7,5%*H484),2),D484),0)","v":0},null,null,0,1416.7000000000005,"",{"$f":"IF(B485<>\"\",IF(K485=\"\",J484,IF((H484-J484)/H484<-0.5,MAX(H484,Summary!$D$7),MAX(H484,J484))),\"\")","v":""},"",""]
[485,null,null,{"$f":"IF(B486<>\"\",IF(B486<>B485,ROUND(MIN(1%*J486+(J486-H485)/Summary!$I$7,5%*H485),2),D485),0)","v":0},null,null,0,1416.7000000000005,"",{"$f":"IF(B486<>\"\",IF(K486=\"\",J485,IF((H485-J485)/H485<-0.5,MAX(H485,Summary!$D$7),MAX(H485,J485))),\"\")","v":""},"",""]
[486,null,null,{"$f":"IF(B487<>\"\",IF(B487<>B486,ROUND(MIN(1%*J487+(J487-H486)/Summary!$I$7,5%*H486),2),D486),0)","v":0},null,null,0,1416.7000000000005,"",{"$f":"IF(B487<>\"\",IF(K487=\"\",J486,IF((H486-J486)/H486<-0.5,MAX(H486,Summary!$D$7),MAX(H486,J486))),\"\")","v":""},"",""]
[487,null,null,{"$f":"IF(B488<>\"\",IF(B488<>B487,ROUND(MIN(1%*J488+(J488-H487)/Summary!$I$7,5%*H487),2),D487),0)","v":0},null,null,0,1416.7000000000005,"",{"$f":"IF(B488<>\"\",IF(K488=\"\",J487,IF((H487-J487)/H487<-0.5,MAX(H487,Summary!$D$7),MAX(H487,J487))),\"\")","v":""},"",""]
[488,null,null,{"$f":"IF(B489<>\"\",IF(B489<>B488,ROUND(MIN(1%*J489+(J489-H488)/Summary!$I$7,5%*H488),2),D488),0)","v":0},null,null,0,1416.7000000000005,"",{"$f":"IF(B489<>\"\",IF(K489=\"\",J488,IF((H488-J488)/H488<-0.5,MAX(H488,Summary!$D$7),MAX(H488,J488))),\"\")","v":""},"",""]
[489,null,null,{"$f":"IF(B490<>\"\",IF(B490<>B489,ROUND(MIN(1%*J490+(J490-H489)/Summary!$I$7,5%*H489),2),D489),0)","v":0},null,null,0,1416.7000000000005,"",{"$f":"IF(B490<>\"\",IF(K490=\"\",J489,IF((H489-J489)/H489<-0.5,MAX(H489,Summary!$D$7),MAX(H489,J489))),\"\")","v":""},"",""]
[490,null,null,{"$f":"IF(B491<>\"\",IF(B491<>B490,ROUND(MIN(1%*J491+(J491-H490)/Summary!$I$7,5%*H490),2),D490),0)","v":0},null,null,0,1416.7000000000005,"",{"$f":"IF(B491<>\"\",IF(K491=\"\",J490,IF((H490-J490)/H490<-0.5,MAX(H490,Summary!$D$7),MAX(H490,J490))),\"\")","v":""},"",""]
[491,null,null,{"$f":"IF(B492<>\"\",IF(B492<>B491,ROUND(MIN(1%*J492+(J492-H491)/Summary!$I$7,5%*H491),2),D491),0)","v":0},null,null,0,1416.7000000000005,"",{"$f":"IF(B492<>\"\",IF(K492=\"\",J491,IF((H491-J491)/H491<-0.5,MAX(H491,Summary!$D$7),MAX(H491,J491))),\"\")","v":""},"",""]
[492,null,null,{"$f":"IF(B493<>\"\",IF(B493<>B492,ROUND(MIN(1%*J493+(J493-H492)/Summary!$I$7,5%*H492),2),D492),0)","v":0},null,null,0,1416.7000000000005,"",{"$f":"IF(B493<>\"\",IF(K493=\"\",J492,IF((H492-J492)/H492<-0.5,MAX(H492,Summary!$D$7),MAX(H492,J492))),\"\")","v":""},"",""]
[493,null,null,{"$f":"IF(B494<>\"\",IF(B494<>B493,ROUND(MIN(1%*J494+(J494-H493)/Summary!$I$7,5%*H493),2),D493),0)","v":0},null,null,0,1416.7000000000005,"",{"$f":"IF(B494<>\"\",IF(K494=\"\",J493,IF((H493-J493)/H493<-0.5,MAX(H493,Summary!$D$7),MAX(H493,J493))),\"\")","v":""},"",""]
[494,null,null,{"$f":"IF(B495<>\"\",IF(B495<>B494,ROUND(MIN(1%*J495+(J495-H494)/Summary!$I$7,5%*H494),2),D494),0)","v":0},null,null,0,1416.7000000000005,"",{"$f":"IF(B495<>\"\",IF(K495=\"\",J494,IF((H494-J494)/H494<-0.5,MAX(H494,Summary!$D$7),MAX(H494,J494))),\"\")","v":""},"",""]
[495,null,null,{"$f":"IF(B496<>\"\",IF(B496<>B495,ROUND(MIN(1%*J496+(J496-H495)/Summary!$I$7,5%*H495),2),D495),0)","v":0},null,null,0,1416.7000000000005,"",{"$f":"IF(B496<>\"\",IF(K496=\"\",J495,IF((H495-J495)/H495<-0.5,MAX(H495,Summary!$D$7),MAX(H495,J495))),\"\")","v":""},"",""]
[496,null,null,{"$f":"IF(B497<>\"\",IF(B497<>B496,ROUND(MIN(1%*J497+(J497-H496)/Summary!$I$7,5%*H496),2),D496),0)","v":0},null,null,0,1416.7000000000005,"",{"$f":"IF(B497<>\"\",IF(K497=\"\",J496,IF((H496-J496)/H496<-0.5,MAX(H496,Summary!$D$7),MAX(H496,J496))),\"\")","v":""},"",""]
[497,null,null,{"$f":"IF(B498<>\"\",IF(B498<>B497,ROUND(MIN(1%*J498+(J498-H497)/Summary!$I$7,5%*H497),2),D497),0)","v":0},null,null,0,1416.7000000000005,"",{"$f":"IF(B498<>\"\",IF(K498=\"\",J497,IF((H497-J497)/H497<-0.5,MAX(H497,Summary!$D$7),MAX(H497,J497))),\"\")","v":""},"",""]
[498,null,null,{"$f":"IF(B499<>\"\",IF(B499<>B498,ROUND(MIN(1%*J499+(J499-H498)/Summary!$I$7,5%*H498),2),D498),0)","v":0},null,null,0,1416.7000000000005,"",{"$f":"IF(B499<>\"\",IF(K499=\"\",J498,IF((H498-J498)/H498<-0.5,MAX(H498,Summary!$D$7),MAX(H498,J498))),\"\")","v":""},"",""]
[499,null,null,{"$f":"IF(B500<>\"\",IF(B500<>B499,ROUND(MIN(1%*J500+(J500-H499)/Summary!$I$7,5%*H499),2),D499),0)","v":0},null,null,0,1416.7000000000005,"",{"$f":"IF(B500<>\"\",IF(K500=\"\",J499,IF((H499-J499)/H499<-0.5,MAX(H499,Summary!$D$7),MAX(H499,J499))),\"\")","v":""},"",""]
[500,null,null,{"$f":"IF(B501<>\"\",IF(B501<>B500,ROUND(MIN(1%*J501+(J501-H500)/Summary!$I$7,5%*H500),2),D500),0)","v":0},null,null,0,1416.7000000000005,"",{"$f":"IF(B501<>\"\",IF(K501=\"\",J500,IF((H500-J500)/H500<-0.5,MAX(H500,Summary!$D$7),MAX(H500,J500))),\"\")","v":""},"",""]
[501,null,null,{"$f":"IF(B502<>\"\",IF(B502<>B501,ROUND(MIN(1%*J502+(J502-H501)/Summary!$I$7,5%*H501),2),D501),0)","v":0},null,null,0,1416.7000000000005,"",{"$f":"IF(B502<>\"\",IF(K502=\"\",J501,IF((H501-J501)/H501<-0.5,MAX(H501,Summary!$D$7),MAX(H501,J501))),\"\")","v":""},"",""]
[502,null,null,{"$f":"IF(B503<>\"\",IF(B503<>B502,ROUND(MIN(1%*J503+(J503-H502)/Summary!$I$7,5%*H502),2),D502),0)","v":0},null,null,0,1416.7000000000005,"",{"$f":"IF(B503<>\"\",IF(K503=\"\",J502,IF((H502-J502)/H502<-0.5,MAX(H502,Summary!$D$7),MAX(H502,J502))),\"\")","v":""},"",""]
[503,null,null,{"$f":"IF(B504<>\"\",IF(B504<>B503,ROUND(MIN(1%*J504+(J504-H503)/Summary!$I$7,5%*H503),2),D503),0)","v":0},null,null,0,1416.7000000000005,"",{"$f":"IF(B504<>\"\",IF(K504=\"\",J503,IF((H503-J503)/H503<-0.5,MAX(H503,Summary!$D$7),MAX(H503,J503))),\"\")","v":""},"",""]
[504,null,null,{"$f":"IF(B505<>\"\",IF(B505<>B504,ROUND(MIN(1%*J505+(J505-H504)/Summary!$I$7,5%*H504),2),D504),0)","v":0},null,null,0,1416.7000000000005,"",{"$f":"IF(B505<>\"\",IF(K505=\"\",J504,IF((H504-J504)/H504<-0.5,MAX(H504,Summary!$D$7),MAX(H504,J504))),\"\")","v":""},"",""]
[505,null,null,{"$f":"IF(B506<>\"\",IF(B506<>B505,ROUND(MIN(1%*J506+(J506-H505)/Summary!$I$7,5%*H505),2),D505),0)","v":0},null,null,0,1416.7000000000005,"",{"$f":"IF(B506<>\"\",IF(K506=\"\",J505,IF((H505-J505)/H505<-0.5,MAX(H505,Summary!$D$7),MAX(H505,J505))),\"\")","v":""},"",""]
[506,null,null,{"$f":"IF(B507<>\"\",IF(B507<>B506,ROUND(MIN(1%*J507+(J507-H506)/Summary!$I$7,5%*H506),2),D506),0)","v":0},null,null,0,1416.7000000000005,"",{"$f":"IF(B507<>\"\",IF(K507=\"\",J506,IF((H506-J506)/H506<-0.5,MAX(H506,Summary!$D$7),MAX(H506,J506))),\"\")","v":""},"",""]
[507,null,null,{"$f":"IF(B508<>\"\",IF(B508<>B507,ROUND(MIN(1%*J508+(J508-H507)/Summary!$I$7,5%*H507),2),D507),0)","v":0},null,null,0,1416.7000000000005,"",{"$f":"IF(B508<>\"\",IF(K508=\"\",J507,IF((H507-J507)/H507<-0.5,MAX(H507,Summary!$D$7),MAX(H507,J507))),\"\")","v":""},"",""]
[508,null,null,{"$f":"IF(B509<>\"\",IF(B509<>B508,ROUND(MIN(1%*J509+(J509-H508)/Summary!$I$7,5%*H508),2),D508),0)","v":0},null,null,0,1416.7000000000005,"",{"$f":"IF(B509<>\"\",IF(K509=\"\",J508,IF((H508-J508)/H508<-0.5,MAX(H508,Summary!$D$7),MAX(H508,J508))),\"\")","v":""},"",""]
[509,null,null,{"$f":"IF(B510<>\"\",IF(B510<>B509,ROUND(MIN(1%*J510+(J510-H509)/Summary!$I$7,5%*H509),2),D509),0)","v":0},null,null,0,1416.7000000000005,"",{"$f":"IF(B510<>\"\",IF(K510=\"\",J509,IF((H509-J509)/H509<-0.5,MAX(H509,Summary!$D$7),MAX(H509,J509))),\"\")","v":""},"",""]
[510,null,null,{"$f":"IF(B511<>\"\",IF(B511<>B510,ROUND(MIN(1%*J511+(J511-H510)/Summary!$I$7,5%*H510),2),D510),0)","v":0},null,null,0,1416.7000000000005,"",{"$f":"IF(B511<>\"\",IF(K511=\"\",J510,IF((H510-J510)/H510<-0.5,MAX(H510,Summary!$D$7),MAX(H510,J510))),\"\")","v":""},"",""]
[511,null,null,{"$f":"IF(B512<>\"\",IF(B512<>B511,ROUND(MIN(1%*J512+(J512-H511)/Summary!$I$7,5%*H511),2),D511),0)","v":0},null,null,0,1416.7000000000005,"",{"$f":"IF(B512<>\"\",IF(K512=\"\",J511,IF((H511-J511)/H511<-0.5,MAX(H511,Summary!$D$7),MAX(H511,J511))),\"\")","v":""},"",""]
[512,null,null,{"$f":"IF(B513<>\"\",IF(B513<>B512,ROUND(MIN(1%*J513+(J513-H512)/Summary!$I$7,5%*H512),2),D512),0)","v":0},null,null,0,1416.7000000000005,"",{"$f":"IF(B513<>\"\",IF(K513=\"\",J512,IF((H512-J512)/H512<-0.5,MAX(H512,Summary!$D$7),MAX(H512,J512))),\"\")","v":""},"",""]
[513,null,null,{"$f":"IF(B514<>\"\",IF(B514<>B513,ROUND(MIN(1%*J514+(J514-H513)/Summary!$I$7,5%*H513),2),D513),0)","v":0},null,null,{"$f":"IF(F514=\"Y\",D514*(E514-1),IF(F514=\"N\",-D514,0))","v":0},1416.7000000000005,"",{"$f":"IF(B514<>\"\",IF(K514=\"\",J513,IF((H513-J513)/H513<-0.5,MAX(H513,Summary!$D$7),MAX(H513,J513))),\"\")","v":""},"",""]
[514,null,null,{"$f":"IF(B515<>\"\",IF(B515<>B514,ROUND(MIN(1%*J515+(J515-H514)/Summary!$I$7,5%*H514),2),D514),0)","v":0},null,null,0,{"$f":"SUM(H514,G515)","v":1416.7000000000005},{"$f":"IF(B515<>\"\",IF(B515<>B514,1,I514+1),\"\")","v":""},{"$f":"IF(B515<>\"\",IF(K515=\"\",J514,IF((H514-J514)/H514<-0.5,MAX(H514,Summary!$D$7),MAX(H514,J514))),\"\")","v":""},{"$f":"IF(AND(B515<>\"\",B515<>B514),\"Y\",\"\")","v":""},""]
[515,null,null,{"$f":"IF(B516<>\"\",IF(B516<>B515,ROUND(MIN(1%*J516+(J516-H515)/Summary!$I$7,5%*H515),2),D515),0)","v":0},null,null,0,1416.7000000000005,"",{"$f":"IF(B516<>\"\",IF(K516=\"\",J515,IF((H515-J515)/H515<-0.5,MAX(H515,Summary!$D$7),MAX(H515,J515))),\"\")","v":""},"",{"$f":"IF(D516<>0,D516/H516,\"\")","v":""}]
[516,null,null,{"$f":"IF(B517<>\"\",IF(B517<>B516,ROUND(MIN(1%*J517+(J517-H516)/Summary!$I$7,5%*H516),2),D516),0)","v":0},null,null,0,1416.7000000000005,"",{"$f":"IF(B517<>\"\",IF(K517=\"\",J516,IF((H516-J516)/H516<-0.5,MAX(H516,Summary!$D$7),MAX(H516,J516))),\"\")","v":""},"",""]
[517,null,null,{"$f":"IF(B518<>\"\",IF(B518<>B517,ROUND(MIN(1%*J518+(J518-H517)/Summary!$I$7,5%*H517),2),D517),0)","v":0},null,null,0,1416.7000000000005,"",{"$f":"IF(B518<>\"\",IF(K518=\"\",J517,IF((H517-J517)/H517<-0.5,MAX(H517,Summary!$D$7),MAX(H517,J517))),\"\")","v":""},"",""]
[518,null,null,{"$f":"IF(B519<>\"\",IF(B519<>B518,ROUND(MIN(1%*J519+(J519-H518)/Summary!$I$7,5%*H518),2),D518),0)","v":0},null,null,0,1416.7000000000005,"",{"$f":"IF(B519<>\"\",IF(K519=\"\",J518,IF((H518-J518)/H518<-0.5,MAX(H518,Summary!$D$7),MAX(H518,J518))),\"\")","v":""},"",""]
[519,null,null,{"$f":"IF(B520<>\"\",IF(B520<>B519,ROUND(MIN(1%*J520+(J520-H519)/Summary!$I$7,5%*H519),2),D519),0)","v":0},null,null,0,1416.7000000000005,"",{"$f":"IF(B520<>\"\",IF(K520=\"\",J519,IF((H519-J519)/H519<-0.5,MAX(H519,Summary!$D$7),MAX(H519,J519))),\"\")","v":""},"",""]
[520,null,null,{"$f":"IF(B521<>\"\",IF(B521<>B520,ROUND(MIN(1%*J521+(J521-H520)/Summary!$I$7,5%*H520),2),D520),0)","v":0},null,null,0,1416.7000000000005,"",{"$f":"IF(B521<>\"\",IF(K521=\"\",J520,IF((H520-J520)/H520<-0.5,MAX(H520,Summary!$D$7),MAX(H520,J520))),\"\")","v":""},"",""]
[521,null,null,{"$f":"IF(B522<>\"\",IF(B522<>B521,ROUND(MIN(1%*J522+(J522-H521)/Summary!$I$7,5%*H521),2),D521),0)","v":0},null,null,0,1416.7000000000005,"",{"$f":"IF(B522<>\"\",IF(K522=\"\",J521,IF((H521-J521)/H521<-0.5,MAX(H521,Summary!$D$7),MAX(H521,J521))),\"\")","v":""},"",""]
[522,null,null,{"$f":"IF(B523<>\"\",IF(B523<>B522,ROUND(MIN(1%*J523+(J523-H522)/Summary!$I$7,5%*H522),2),D522),0)","v":0},null,null,0,1416.7000000000005,"",{"$f":"IF(B523<>\"\",IF(K523=\"\",J522,IF((H522-J522)/H522<-0.5,MAX(H522,Summary!$D$7),MAX(H522,J522))),\"\")","v":""},"",""]
[523,null,null,{"$f":"IF(B524<>\"\",IF(B524<>B523,ROUND(MIN(1%*J524+(J524-H523)/Summary!$I$7,5%*H523),2),D523),0)","v":0},null,null,0,1416.7000000000005,"",{"$f":"IF(B524<>\"\",IF(K524=\"\",J523,IF((H523-J523)/H523<-0.5,MAX(H523,Summary!$D$7),MAX(H523,J523))),\"\")","v":""},"",""]
[524,null,null,{"$f":"IF(B525<>\"\",IF(B525<>B524,ROUND(MIN(1%*J525+(J525-H524)/Summary!$I$7,5%*H524),2),D524),0)","v":0},null,null,0,1416.7000000000005,"",{"$f":"IF(B525<>\"\",IF(K525=\"\",J524,IF((H524-J524)/H524<-0.5,MAX(H524,Summary!$D$7),MAX(H524,J524))),\"\")","v":""},"",""]
[525,null,null,{"$f":"IF(B526<>\"\",IF(B526<>B525,ROUND(MIN(1%*J526+(J526-H525)/Summary!$I$7,5%*H525),2),D525),0)","v":0},null,null,0,1416.7000000000005,"",{"$f":"IF(B526<>\"\",IF(K526=\"\",J525,IF((H525-J525)/H525<-0.5,MAX(H525,Summary!$D$7),MAX(H525,J525))),\"\")","v":""},"",""]
[526,null,null,{"$f":"IF(B527<>\"\",IF(B527<>B526,ROUND(MIN(1%*J527+(J527-H526)/Summary!$I$7,5%*H526),2),D526),0)","v":0},null,null,0,1416.7000000000005,"",{"$f":"IF(B527<>\"\",IF(K527=\"\",J526,IF((H526-J526)/H526<-0.5,MAX(H526,Summary!$D$7),MAX(H526,J526))),\"\")","v":""},"",""]
[527,null,null,{"$f":"IF(B528<>\"\",IF(B528<>B527,ROUND(MIN(1%*J528+(J528-H527)/Summary!$I$7,5%*H527),2),D527),0)","v":0},null,null,0,1416.7000000000005,"",{"$f":"IF(B528<>\"\",IF(K528=\"\",J527,IF((H527-J527)/H527<-0.5,MAX(H527,Summary!$D$7),MAX(H527,J527))),\"\")","v":""},"",""]
[528,null,null,{"$f":"IF(B529<>\"\",IF(B529<>B528,ROUND(MIN(1%*J529+(J529-H528)/Summary!$I$7,5%*H528),2),D528),0)","v":0},null,null,0,1416.7000000000005,"",{"$f":"IF(B529<>\"\",IF(K529=\"\",J528,IF((H528-J528)/H528<-0.5,MAX(H528,Summary!$D$7),MAX(H528,J528))),\"\")","v":""},"",""]
[529,null,null,{"$f":"IF(B530<>\"\",IF(B530<>B529,ROUND(MIN(1%*J530+(J530-H529)/Summary!$I$7,5%*H529),2),D529),0)","v":0},null,null,0,1416.7000000000005,"",{"$f":"IF(B530<>\"\",IF(K530=\"\",J529,IF((H529-J529)/H529<-0.5,MAX(H529,Summary!$D$7),MAX(H529,J529))),\"\")","v":""},"",""]
[530,null,null,{"$f":"IF(B531<>\"\",IF(B531<>B530,ROUND(MIN(1%*J531+(J531-H530)/Summary!$I$7,5%*H530),2),D530),0)","v":0},null,null,0,1416.7000000000005,"",{"$f":"IF(B531<>\"\",IF(K531=\"\",J530,IF((H530-J530)/H530<-0.5,MAX(H530,Summary!$D$7),MAX(H530,J530))),\"\")","v":""},"",""]
[531,null,null,{"$f":"IF(B532<>\"\",IF(B532<>B531,ROUND(MIN(1%*J532+(J532-H531)/Summary!$I$7,5%*H531),2),D531),0)","v":0},null,null,0,1416.7000000000005,"",{"$f":"IF(B532<>\"\",IF(K532=\"\",J531,IF((H531-J531)/H531<-0.5,MAX(H531,Summary!$D$7),MAX(H531,J531))),\"\")","v":""},"",""]
[532,null,null,{"$f":"IF(B533<>\"\",IF(B533<>B532,ROUND(MIN(1%*J533+(J533-H532)/Summary!$I$7,5%*H532),2),D532),0)","v":0},null,null,0,1416.7000000000005,"",{"$f":"IF(B533<>\"\",IF(K533=\"\",J532,IF((H532-J532)/H532<-0.5,MAX(H532,Summary!$D$7),MAX(H532,J532))),\"\")","v":""},"",""]
[533,null,null,{"$f":"IF(B534<>\"\",IF(B534<>B533,ROUND(MIN(1%*J534+(J534-H533)/Summary!$I$7,5%*H533),2),D533),0)","v":0},null,null,0,1416.7000000000005,"",{"$f":"IF(B534<>\"\",IF(K534=\"\",J533,IF((H533-J533)/H533<-0.5,MAX(H533,Summary!$D$7),MAX(H533,J533))),\"\")","v":""},"",""]
[534,null,null,{"$f":"IF(B535<>\"\",IF(B535<>B534,ROUND(MIN(1%*J535+(J535-H534)/Summary!$I$7,5%*H534),2),D534),0)","v":0},null,null,0,1416.7000000000005,"",{"$f":"IF(B535<>\"\",IF(K535=\"\",J534,IF((H534-J534)/H534<-0.5,MAX(H534,Summary!$D$7),MAX(H534,J534))),\"\")","v":""},"",""]
[535,null,null,{"$f":"IF(B536<>\"\",IF(B536<>B535,ROUND(MIN(1%*J536+(J536-H535)/Summary!$I$7,5%*H535),2),D535),0)","v":0},null,null,0,1416.7000000000005,"",{"$f":"IF(B536<>\"\",IF(K536=\"\",J535,IF((H535-J535)/H535<-0.5,MAX(H535,Summary!$D$7),MAX(H535,J535))),\"\")","v":""},"",""]
[536,null,null,{"$f":"IF(B537<>\"\",IF(B537<>B536,ROUND(MIN(1%*J537+(J537-H536)/Summary!$I$7,5%*H536),2),D536),0)","v":0},null,null,0,1416.7000000000005,"",{"$f":"IF(B537<>\"\",IF(K537=\"\",J536,IF((H536-J536)/H536<-0.5,MAX(H536,Summary!$D$7),MAX(H536,J536))),\"\")","v":""},"",""]
[537,null,null,{"$f":"IF(B538<>\"\",IF(B538<>B537,ROUND(MIN(1%*J538+(J538-H537)/Summary!$I$7,5%*H537),2),D537),0)","v":0},null,null,0,1416.7000000000005,"",{"$f":"IF(B538<>\"\",IF(K538=\"\",J537,IF((H537-J537)/H537<-0.5,MAX(H537,Summary!$D$7),MAX(H537,J537))),\"\")","v":""},"",""]
[538,null,null,{"$f":"IF(B539<>\"\",IF(B539<>B538,ROUND(MIN(1%*J539+(J539-H538)/Summary!$I$7,5%*H538),2),D538),0)","v":0},null,null,0,1416.7000000000005,"",{"$f":"IF(B539<>\"\",IF(K539=\"\",J538,IF((H538-J538)/H538<-0.5,MAX(H538,Summary!$D$7),MAX(H538,J538))),\"\")","v":""},"",""]
[539,null,null,{"$f":"IF(B540<>\"\",IF(B540<>B539,ROUND(MIN(1%*J540+(J540-H539)/Summary!$I$7,5%*H539),2),D539),0)","v":0},null,null,0,1416.7000000000005,"",{"$f":"IF(B540<>\"\",IF(K540=\"\",J539,IF((H539-J539)/H539<-0.5,MAX(H539,Summary!$D$7),MAX(H539,J539))),\"\")","v":""},"",""]
[540,null,null,{"$f":"IF(B541<>\"\",IF(B541<>B540,ROUND(MIN(1%*J541+(J541-H540)/Summary!$I$7,5%*H540),2),D540),0)","v":0},null,null,0,1416.7000000000005,"",{"$f":"IF(B541<>\"\",IF(K541=\"\",J540,IF((H540-J540)/H540<-0.5,MAX(H540,Summary!$D$7),MAX(H540,J540))),\"\")","v":""},"",""]
[541,null,null,{"$f":"IF(B542<>\"\",IF(B542<>B541,ROUND(MIN(1%*J542+(J542-H541)/Summary!$I$7,5%*H541),2),D541),0)","v":0},null,null,0,1416.7000000000005,"",{"$f":"IF(B542<>\"\",IF(K542=\"\",J541,IF((H541-J541)/H541<-0.5,MAX(H541,Summary!$D$7),MAX(H541,J541))),\"\")","v":""},"",""]
[542,null,null,{"$f":"IF(B543<>\"\",IF(B543<>B542,ROUND(MIN(1%*J543+(J543-H542)/Summary!$I$7,5%*H542),2),D542),0)","v":0},null,null,0,1416.7000000000005,"",{"$f":"IF(B543<>\"\",IF(K543=\"\",J542,IF((H542-J542)/H542<-0.5,MAX(H542,Summary!$D$7),MAX(H542,J542))),\"\")","v":""},"",""]
[543,null,null,{"$f":"IF(B544<>\"\",IF(B544<>B543,ROUND(MIN(1%*J544+(J544-H543)/Summary!$I$7,5%*H543),2),D543),0)","v":0},null,null,0,1416.7000000000005,"",{"$f":"IF(B544<>\"\",IF(K544=\"\",J543,IF((H543-J543)/H543<-0.5,MAX(H543,Summary!$D$7),MAX(H543,J543))),\"\")","v":""},"",""]
[544,null,null,{"$f":"IF(B545<>\"\",IF(B545<>B544,ROUND(MIN(1%*J545+(J545-H544)/Summary!$I$7,5%*H544),2),D544),0)","v":0},null,null,0,1416.7000000000005,"",{"$f":"IF(B545<>\"\",IF(K545=\"\",J544,IF((H544-J544)/H544<-0.5,MAX(H544,Summary!$D$7),MAX(H544,J544))),\"\")","v":""},"",""]
[545,null,null,{"$f":"IF(B546<>\"\",IF(B546<>B545,ROUND(MIN(1%*J546+(J546-H545)/Summary!$I$7,5%*H545),2),D545),0)","v":0},null,null,0,1416.7000000000005,"",{"$f":"IF(B546<>\"\",IF(K546=\"\",J545,IF((H545-J545)/H545<-0.5,MAX(H545,Summary!$D$7),MAX(H545,J545))),\"\")","v":""},"",""]
[546,null,null,{"$f":"IF(B547<>\"\",IF(B547<>B546,ROUND(MIN(1%*J547+(J547-H546)/Summary!$I$7,5%*H546),2),D546),0)","v":0},null,null,0,1416.7000000000005,"",{"$f":"IF(B547<>\"\",IF(K547=\"\",J546,IF((H546-J546)/H546<-0.5,MAX(H546,Summary!$D$7),MAX(H546,J546))),\"\")","v":""},"",""]
[547,null,null,{"$f":"IF(B548<>\"\",IF(B548<>B547,ROUND(MIN(1%*J548+(J548-H547)/Summary!$I$7,5%*H547),2),D547),0)","v":0},null,null,0,1416.7000000000005,"",{"$f":"IF(B548<>\"\",IF(K548=\"\",J547,IF((H547-J547)/H547<-0.5,MAX(H547,Summary!$D$7),MAX(H547,J547))),\"\")","v":""},"",""]
[548,null,null,{"$f":"IF(B549<>\"\",IF(B549<>B548,ROUND(MIN(1%*J549+(J549-H548)/Summary!$I$7,5%*H548),2),D548),0)","v":0},null,null,0,1416.7000000000005,"",{"$f":"IF(B549<>\"\",IF(K549=\"\",J548,IF((H548-J548)/H548<-0.5,MAX(H548,Summary!$D$7),MAX(H548,J548))),\"\")","v":""},"",""]
[549,null,null,{"$f":"IF(B550<>\"\",IF(B550<>B549,ROUND(MIN(1%*J550+(J550-H549)/Summary!$I$7,5%*H549),2),D549),0)","v":0},null,null,0,1416.7000000000005,"",{"$f":"IF(B550<>\"\",IF(K550=\"\",J549,IF((H549-J549)/H549<-0.5,MAX(H549,Summary!$D$7),MAX(H549,J549))),\"\")","v":""},"",""]
[550,null,null,{"$f":"IF(B551<>\"\",IF(B551<>B550,ROUND(MIN(1%*J551+(J551-H550)/Summary!$I$7,5%*H550),2),D550),0)","v":0},null,null,0,1416.7000000000005,"",{"$f":"IF(B551<>\"\",IF(K551=\"\",J550,IF((H550-J550)/H550<-0.5,MAX(H550,Summary!$D$7),MAX(H550,J550))),\"\")","v":""},"",""]
[551,null,null,{"$f":"IF(B552<>\"\",IF(B552<>B551,ROUND(MIN(1%*J552+(J552-H551)/Summary!$I$7,5%*H551),2),D551),0)","v":0},null,null,0,1416.7000000000005,"",{"$f":"IF(B552<>\"\",IF(K552=\"\",J551,IF((H551-J551)/H551<-0.5,MAX(H551,Summary!$D$7),MAX(H551,J551))),\"\")","v":""},"",""]
[552,null,null,{"$f":"IF(B553<>\"\",IF(B553<>B552,ROUND(MIN(1%*J553+(J553-H552)/Summary!$I$7,5%*H552),2),D552),0)","v":0},null,null,0,1416.7000000000005,"",{"$f":"IF(B553<>\"\",IF(K553=\"\",J552,IF((H552-J552)/H552<-0.5,MAX(H552,Summary!$D$7),MAX(H552,J552))),\"\")","v":""},"",""]
[553,null,null,{"$f":"IF(B554<>\"\",IF(B554<>B553,ROUND(MIN(1%*J554+(J554-H553)/Summary!$I$7,5%*H553),2),D553),0)","v":0},null,null,0,1416.7000000000005,"",{"$f":"IF(B554<>\"\",IF(K554=\"\",J553,IF((H553-J553)/H553<-0.5,MAX(H553,Summary!$D$7),MAX(H553,J553))),\"\")","v":""},"",""]
[554,null,null,{"$f":"IF(B555<>\"\",IF(B555<>B554,ROUND(MIN(1%*J555+(J555-H554)/Summary!$I$7,5%*H554),2),D554),0)","v":0},null,null,0,1416.7000000000005,"",{"$f":"IF(B555<>\"\",IF(K555=\"\",J554,IF((H554-J554)/H554<-0.5,MAX(H554,Summary!$D$7),MAX(H554,J554))),\"\")","v":""},"",""]
[555,null,null,{"$f":"IF(B556<>\"\",IF(B556<>B555,ROUND(MIN(1%*J556+(J556-H555)/Summary!$I$7,5%*H555),2),D555),0)","v":0},null,null,0,1416.7000000000005,"",{"$f":"IF(B556<>\"\",IF(K556=\"\",J555,IF((H555-J555)/H555<-0.5,MAX(H555,Summary!$D$7),MAX(H555,J555))),\"\")","v":""},"",""]
[556,null,null,{"$f":"IF(B557<>\"\",IF(B557<>B556,ROUND(MIN(1%*J557+(J557-H556)/Summary!$I$7,5%*H556),2),D556),0)","v":0},null,null,0,1416.7000000000005,"",{"$f":"IF(B557<>\"\",IF(K557=\"\",J556,IF((H556-J556)/H556<-0.5,MAX(H556,Summary!$D$7),MAX(H556,J556))),\"\")","v":""},"",""]
[557,null,null,{"$f":"IF(B558<>\"\",IF(B558<>B557,ROUND(MIN(1%*J558+(J558-H557)/Summary!$I$7,5%*H557),2),D557),0)","v":0},null,null,0,1416.7000000000005,"",{"$f":"IF(B558<>\"\",IF(K558=\"\",J557,IF((H557-J557)/H557<-0.5,MAX(H557,Summary!$D$7),MAX(H557,J557))),\"\")","v":""},"",""]
[558,null,null,{"$f":"IF(B559<>\"\",IF(B559<>B558,ROUND(MIN(1%*J559+(J559-H558)/Summary!$I$7,5%*H558),2),D558),0)","v":0},null,null,0,1416.7000000000005,"",{"$f":"IF(B559<>\"\",IF(K559=\"\",J558,IF((H558-J558)/H558<-0.5,MAX(H558,Summary!$D$7),MAX(H558,J558))),\"\")","v":""},"",""]
[559,null,null,{"$f":"IF(B560<>\"\",IF(B560<>B559,ROUND(MIN(1%*J560+(J560-H559)/Summary!$I$7,5%*H559),2),D559),0)","v":0},null,null,0,1416.7000000000005,"",{"$f":"IF(B560<>\"\",IF(K560=\"\",J559,IF((H559-J559)/H559<-0.5,MAX(H559,Summary!$D$7),MAX(H559,J559))),\"\")","v":""},"",""]
[560,null,null,{"$f":"IF(B561<>\"\",IF(B561<>B560,ROUND(MIN(1%*J561+(J561-H560)/Summary!$I$7,5%*H560),2),D560),0)","v":0},null,null,0,1416.7000000000005,"",{"$f":"IF(B561<>\"\",IF(K561=\"\",J560,IF((H560-J560)/H560<-0.5,MAX(H560,Summary!$D$7),MAX(H560,J560))),\"\")","v":""},"",""]
[561,null,null,{"$f":"IF(B562<>\"\",IF(B562<>B561,ROUND(MIN(1%*J562+(J562-H561)/Summary!$I$7,5%*H561),2),D561),0)","v":0},null,null,0,1416.7000000000005,"",{"$f":"IF(B562<>\"\",IF(K562=\"\",J561,IF((H561-J561)/H561<-0.5,MAX(H561,Summary!$D$7),MAX(H561,J561))),\"\")","v":""},"",""]
[562,null,null,{"$f":"IF(B563<>\"\",IF(B563<>B562,ROUND(MIN(1%*J563+(J563-H562)/Summary!$I$7,5%*H562),2),D562),0)","v":0},null,null,0,1416.7000000000005,"",{"$f":"IF(B563<>\"\",IF(K563=\"\",J562,IF((H562-J562)/H562<-0.5,MAX(H562,Summary!$D$7),MAX(H562,J562))),\"\")","v":""},"",""]
[563,null,null,{"$f":"IF(B564<>\"\",IF(B564<>B563,ROUND(MIN(1%*J564+(J564-H563)/Summary!$I$7,5%*H563),2),D563),0)","v":0},null,null,0,1416.7000000000005,"",{"$f":"IF(B564<>\"\",IF(K564=\"\",J563,IF((H563-J563)/H563<-0.5,MAX(H563,Summary!$D$7),MAX(H563,J563))),\"\")","v":""},"",""]
[564,null,null,{"$f":"IF(B565<>\"\",IF(B565<>B564,ROUND(MIN(1%*J565+(J565-H564)/Summary!$I$7,5%*H564),2),D564),0)","v":0},null,null,0,1416.7000000000005,"",{"$f":"IF(B565<>\"\",IF(K565=\"\",J564,IF((H564-J564)/H564<-0.5,MAX(H564,Summary!$D$7),MAX(H564,J564))),\"\")","v":""},"",""]
[565,null,null,{"$f":"IF(B566<>\"\",IF(B566<>B565,ROUND(MIN(1%*J566+(J566-H565)/Summary!$I$7,5%*H565),2),D565),0)","v":0},null,null,0,1416.7000000000005,"",{"$f":"IF(B566<>\"\",IF(K566=\"\",J565,IF((H565-J565)/H565<-0.5,MAX(H565,Summary!$D$7),MAX(H565,J565))),\"\")","v":""},"",""]
[566,null,null,{"$f":"IF(B567<>\"\",IF(B567<>B566,ROUND(MIN(1%*J567+(J567-H566)/Summary!$I$7,5%*H566),2),D566),0)","v":0},null,null,0,1416.7000000000005,"",{"$f":"IF(B567<>\"\",IF(K567=\"\",J566,IF((H566-J566)/H566<-0.5,MAX(H566,Summary!$D$7),MAX(H566,J566))),\"\")","v":""},"",""]
[567,null,null,{"$f":"IF(B568<>\"\",IF(B568<>B567,ROUND(MIN(1%*J568+(J568-H567)/Summary!$I$7,5%*H567),2),D567),0)","v":0},null,null,0,1416.7000000000005,"",{"$f":"IF(B568<>\"\",IF(K568=\"\",J567,IF((H567-J567)/H567<-0.5,MAX(H567,Summary!$D$7),MAX(H567,J567))),\"\")","v":""},"",""]
[568,null,null,{"$f":"IF(B569<>\"\",IF(B569<>B568,ROUND(MIN(1%*J569+(J569-H568)/Summary!$I$7,5%*H568),2),D568),0)","v":0},null,null,0,1416.7000000000005,"",{"$f":"IF(B569<>\"\",IF(K569=\"\",J568,IF((H568-J568)/H568<-0.5,MAX(H568,Summary!$D$7),MAX(H568,J568))),\"\")","v":""},"",""]
[569,null,null,{"$f":"IF(B570<>\"\",IF(B570<>B569,ROUND(MIN(1%*J570+(J570-H569)/Summary!$I$7,5%*H569),2),D569),0)","v":0},null,null,0,1416.7000000000005,"",{"$f":"IF(B570<>\"\",IF(K570=\"\",J569,IF((H569-J569)/H569<-0.5,MAX(H569,Summary!$D$7),MAX(H569,J569))),\"\")","v":""},"",""]
[570,null,null,{"$f":"IF(B571<>\"\",IF(B571<>B570,ROUND(MIN(1%*J571+(J571-H570)/Summary!$I$7,5%*H570),2),D570),0)","v":0},null,null,0,1416.7000000000005,"",{"$f":"IF(B571<>\"\",IF(K571=\"\",J570,IF((H570-J570)/H570<-0.5,MAX(H570,Summary!$D$7),MAX(H570,J570))),\"\")","v":""},"",""]
[571,null,null,{"$f":"IF(B572<>\"\",IF(B572<>B571,ROUND(MIN(1%*J572+(J572-H571)/Summary!$I$7,5%*H571),2),D571),0)","v":0},null,null,0,1416.7000000000005,"",{"$f":"IF(B572<>\"\",IF(K572=\"\",J571,IF((H571-J571)/H571<-0.5,MAX(H571,Summary!$D$7),MAX(H571,J571))),\"\")","v":""},"",""]
[572,null,null,{"$f":"IF(B573<>\"\",IF(B573<>B572,ROUND(MIN(1%*J573+(J573-H572)/Summary!$I$7,5%*H572),2),D572),0)","v":0},null,null,0,1416.7000000000005,"",{"$f":"IF(B573<>\"\",IF(K573=\"\",J572,IF((H572-J572)/H572<-0.5,MAX(H572,Summary!$D$7),MAX(H572,J572))),\"\")","v":""},"",""]
[573,null,null,{"$f":"IF(B574<>\"\",IF(B574<>B573,ROUND(MIN(1%*J574+(J574-H573)/Summary!$I$7,5%*H573),2),D573),0)","v":0},null,null,0,1416.7000000000005,"",{"$f":"IF(B574<>\"\",IF(K574=\"\",J573,IF((H573-J573)/H573<-0.5,MAX(H573,Summary!$D$7),MAX(H573,J573))),\"\")","v":""},"",""]
[574,null,null,{"$f":"IF(B575<>\"\",IF(B575<>B574,ROUND(MIN(1%*J575+(J575-H574)/Summary!$I$7,5%*H574),2),D574),0)","v":0},null,null,0,1416.7000000000005,"",{"$f":"IF(B575<>\"\",IF(K575=\"\",J574,IF((H574-J574)/H574<-0.5,MAX(H574,Summary!$D$7),MAX(H574,J574))),\"\")","v":""},"",""]
[575,null,null,{"$f":"IF(B576<>\"\",IF(B576<>B575,ROUND(MIN(1%*J576+(J576-H575)/Summary!$I$7,5%*H575),2),D575),0)","v":0},null,null,0,1416.7000000000005,"",{"$f":"IF(B576<>\"\",IF(K576=\"\",J575,IF((H575-J575)/H575<-0.5,MAX(H575,Summary!$D$7),MAX(H575,J575))),\"\")","v":""},"",""]
[576,null,null,{"$f":"IF(B577<>\"\",IF(B577<>B576,ROUND(MIN(1%*J577+(J577-H576)/Summary!$I$7,5%*H576),2),D576),0)","v":0},null,null,0,1416.7000000000005,"",{"$f":"IF(B577<>\"\",IF(K577=\"\",J576,IF((H576-J576)/H576<-0.5,MAX(H576,Summary!$D$7),MAX(H576,J576))),\"\")","v":""},"",""]
[577,null,null,{"$f":"IF(B578<>\"\",IF(B578<>B577,ROUND(MIN(1%*J578+(J578-H577)/Summary!$I$7,5%*H577),2),D577),0)","v":0},null,null,{"$f":"IF(F578=\"Y\",D578*(E578-1),IF(F578=\"N\",-D578,0))","v":0},1416.7000000000005,"",{"$f":"IF(B578<>\"\",IF(K578=\"\",J577,IF((H577-J577)/H577<-0.5,MAX(H577,Summary!$D$7),MAX(H577,J577))),\"\")","v":""},"",""]
[578,null,null,{"$f":"IF(B579<>\"\",IF(B579<>B578,ROUND(MIN(1%*J579+(J579-H578)/Summary!$I$7,5%*H578),2),D578),0)","v":0},null,null,0,{"$f":"SUM(H578,G579)","v":1416.7000000000005},{"$f":"IF(B579<>\"\",IF(B579<>B578,1,I578+1),\"\")","v":""},{"$f":"IF(B579<>\"\",IF(K579=\"\",J578,IF((H578-J578)/H578<-0.5,MAX(H578,Summary!$D$7),MAX(H578,J578))),\"\")","v":""},{"$f":"IF(AND(B579<>\"\",B579<>B578),\"Y\",\"\")","v":""},""]
[579,null,null,{"$f":"IF(B580<>\"\",IF(B580<>B579,ROUND(MIN(1%*J580+(J580-H579)/Summary!$I$7,5%*H579),2),D579),0)","v":0},null,null,0,1416.7000000000005,"",{"$f":"IF(B580<>\"\",IF(K580=\"\",J579,IF((H579-J579)/H579<-0.5,MAX(H579,Summary!$D$7),MAX(H579,J579))),\"\")","v":""},"",{"$f":"IF(D580<>0,D580/H580,\"\")","v":""}]
[580,null,null,{"$f":"IF(B581<>\"\",IF(B581<>B580,ROUND(MIN(1%*J581+(J581-H580)/Summary!$I$7,5%*H580),2),D580),0)","v":0},null,null,0,1416.7000000000005,"",{"$f":"IF(B581<>\"\",IF(K581=\"\",J580,IF((H580-J580)/H580<-0.5,MAX(H580,Summary!$D$7),MAX(H580,J580))),\"\")","v":""},"",""]
[581,null,null,{"$f":"IF(B582<>\"\",IF(B582<>B581,ROUND(MIN(1%*J582+(J582-H581)/Summary!$I$7,5%*H581),2),D581),0)","v":0},null,null,0,1416.7000000000005,"",{"$f":"IF(B582<>\"\",IF(K582=\"\",J581,IF((H581-J581)/H581<-0.5,MAX(H581,Summary!$D$7),MAX(H581,J581))),\"\")","v":""},"",""]
[582,null,null,{"$f":"IF(B583<>\"\",IF(B583<>B582,ROUND(MIN(1%*J583+(J583-H582)/Summary!$I$7,5%*H582),2),D582),0)","v":0},null,null,0,1416.7000000000005,"",{"$f":"IF(B583<>\"\",IF(K583=\"\",J582,IF((H582-J582)/H582<-0.5,MAX(H582,Summary!$D$7),MAX(H582,J582))),\"\")","v":""},"",""]
[583,null,null,{"$f":"IF(B584<>\"\",IF(B584<>B583,ROUND(MIN(1%*J584+(J584-H583)/Summary!$I$7,5%*H583),2),D583),0)","v":0},null,null,0,1416.7000000000005,"",{"$f":"IF(B584<>\"\",IF(K584=\"\",J583,IF((H583-J583)/H583<-0.5,MAX(H583,Summary!$D$7),MAX(H583,J583))),\"\")","v":""},"",""]
[584,null,null,{"$f":"IF(B585<>\"\",IF(B585<>B584,ROUND(MIN(1%*J585+(J585-H584)/Summary!$I$7,5%*H584),2),D584),0)","v":0},null,null,0,1416.7000000000005,"",{"$f":"IF(B585<>\"\",IF(K585=\"\",J584,IF((H584-J584)/H584<-0.5,MAX(H584,Summary!$D$7),MAX(H584,J584))),\"\")","v":""},"",""]
[585,null,null,{"$f":"IF(B586<>\"\",IF(B586<>B585,ROUND(MIN(1%*J586+(J586-H585)/Summary!$I$7,5%*H585),2),D585),0)","v":0},null,null,0,1416.7000000000005,"",{"$f":"IF(B586<>\"\",IF(K586=\"\",J585,IF((H585-J585)/H585<-0.5,MAX(H585,Summary!$D$7),MAX(H585,J585))),\"\")","v":""},"",""]
[586,null,null,{"$f":"IF(B587<>\"\",IF(B587<>B586,ROUND(MIN(1%*J587+(J587-H586)/Summary!$I$7,5%*H586),2),D586),0)","v":0},null,null,0,1416.7000000000005,"",{"$f":"IF(B587<>\"\",IF(K587=\"\",J586,IF((H586-J586)/H586<-0.5,MAX(H586,Summary!$D$7),MAX(H586,J586))),\"\")","v":""},"",""]
[587,null,null,{"$f":"IF(B588<>\"\",IF(B588<>B587,ROUND(MIN(1%*J588+(J588-H587)/Summary!$I$7,5%*H587),2),D587),0)","v":0},null,null,0,1416.7000000000005,"",{"$f":"IF(B588<>\"\",IF(K588=\"\",J587,IF((H587-J587)/H587<-0.5,MAX(H587,Summary!$D$7),MAX(H587,J587))),\"\")","v":""},"",""]
[588,null,null,{"$f":"IF(B589<>\"\",IF(B589<>B588,ROUND(MIN(1%*J589+(J589-H588)/Summary!$I$7,5%*H588),2),D588),0)","v":0},null,null,0,1416.7000000000005,"",{"$f":"IF(B589<>\"\",IF(K589=\"\",J588,IF((H588-J588)/H588<-0.5,MAX(H588,Summary!$D$7),MAX(H588,J588))),\"\")","v":""},"",""]
[589,null,null,{"$f":"IF(B590<>\"\",IF(B590<>B589,ROUND(MIN(1%*J590+(J590-H589)/Summary!$I$7,5%*H589),2),D589),0)","v":0},null,null,0,1416.7000000000005,"",{"$f":"IF(B590<>\"\",IF(K590=\"\",J589,IF((H589-J589)/H589<-0.5,MAX(H589,Summary!$D$7),MAX(H589,J589))),\"\")","v":""},"",""]
[590,null,null,{"$f":"IF(B591<>\"\",IF(B591<>B590,ROUND(MIN(1%*J591+(J591-H590)/Summary!$I$7,5%*H590),2),D590),0)","v":0},null,null,0,1416.7000000000005,"",{"$f":"IF(B591<>\"\",IF(K591=\"\",J590,IF((H590-J590)/H590<-0.5,MAX(H590,Summary!$D$7),MAX(H590,J590))),\"\")","v":""},"",""]
[591,null,null,{"$f":"IF(B592<>\"\",IF(B592<>B591,ROUND(MIN(1%*J592+(J592-H591)/Summary!$I$7,5%*H591),2),D591),0)","v":0},null,null,0,1416.7000000000005,"",{"$f":"IF(B592<>\"\",IF(K592=\"\",J591,IF((H591-J591)/H591<-0.5,MAX(H591,Summary!$D$7),MAX(H591,J591))),\"\")","v":""},"",""]
[592,null,null,{"$f":"IF(B593<>\"\",IF(B593<>B592,ROUND(MIN(1%*J593+(J593-H592)/Summary!$I$7,5%*H592),2),D592),0)","v":0},null,null,0,1416.7000000000005,"",{"$f":"IF(B593<>\"\",IF(K593=\"\",J592,IF((H592-J592)/H592<-0.5,MAX(H592,Summary!$D$7),MAX(H592,J592))),\"\")","v":""},"",""]
[593,null,null,{"$f":"IF(B594<>\"\",IF(B594<>B593,ROUND(MIN(1%*J594+(J594-H593)/Summary!$I$7,5%*H593),2),D593),0)","v":0},null,null,0,1416.7000000000005,"",{"$f":"IF(B594<>\"\",IF(K594=\"\",J593,IF((H593-J593)/H593<-0.5,MAX(H593,Summary!$D$7),MAX(H593,J593))),\"\")","v":""},"",""]
[594,null,null,{"$f":"IF(B595<>\"\",IF(B595<>B594,ROUND(MIN(1%*J595+(J595-H594)/Summary!$I$7,5%*H594),2),D594),0)","v":0},null,null,0,1416.7000000000005,"",{"$f":"IF(B595<>\"\",IF(K595=\"\",J594,IF((H594-J594)/H594<-0.5,MAX(H594,Summary!$D$7),MAX(H594,J594))),\"\")","v":""},"",""]
[595,null,null,{"$f":"IF(B596<>\"\",IF(B596<>B595,ROUND(MIN(1%*J596+(J596-H595)/Summary!$I$7,5%*H595),2),D595),0)","v":0},null,null,0,1416.7000000000005,"",{"$f":"IF(B596<>\"\",IF(K596=\"\",J595,IF((H595-J595)/H595<-0.5,MAX(H595,Summary!$D$7),MAX(H595,J595))),\"\")","v":""},"",""]
[596,null,null,{"$f":"IF(B597<>\"\",IF(B597<>B596,ROUND(MIN(1%*J597+(J597-H596)/Summary!$I$7,5%*H596),2),D596),0)","v":0},null,null,0,1416.7000000000005,"",{"$f":"IF(B597<>\"\",IF(K597=\"\",J596,IF((H596-J596)/H596<-0.5,MAX(H596,Summary!$D$7),MAX(H596,J596))),\"\")","v":""},"",""]
[597,null,null,{"$f":"IF(B598<>\"\",IF(B598<>B597,ROUND(MIN(1%*J598+(J598-H597)/Summary!$I$7,5%*H597),2),D597),0)","v":0},null,null,0,1416.7000000000005,"",{"$f":"IF(B598<>\"\",IF(K598=\"\",J597,IF((H597-J597)/H597<-0.5,MAX(H597,Summary!$D$7),MAX(H597,J597))),\"\")","v":""},"",""]
[598,null,null,{"$f":"IF(B599<>\"\",IF(B599<>B598,ROUND(MIN(1%*J599+(J599-H598)/Summary!$I$7,5%*H598),2),D598),0)","v":0},null,null,0,1416.7000000000005,"",{"$f":"IF(B599<>\"\",IF(K599=\"\",J598,IF((H598-J598)/H598<-0.5,MAX(H598,Summary!$D$7),MAX(H598,J598))),\"\")","v":""},"",""]
[599,null,null,{"$f":"IF(B600<>\"\",IF(B600<>B599,ROUND(MIN(1%*J600+(J600-H599)/Summary!$I$7,5%*H599),2),D599),0)","v":0},null,null,0,1416.7000000000005,"",{"$f":"IF(B600<>\"\",IF(K600=\"\",J599,IF((H599-J599)/H599<-0.5,MAX(H599,Summary!$D$7),MAX(H599,J599))),\"\")","v":""},"",""]
[600,null,null,{"$f":"IF(B601<>\"\",IF(B601<>B600,ROUND(MIN(1%*J601+(J601-H600)/Summary!$I$7,5%*H600),2),D600),0)","v":0},null,null,0,1416.7000000000005,"",{"$f":"IF(B601<>\"\",IF(K601=\"\",J600,IF((H600-J600)/H600<-0.5,MAX(H600,Summary!$D$7),MAX(H600,J600))),\"\")","v":""},"",""]
[601,null,null,{"$f":"IF(B602<>\"\",IF(B602<>B601,ROUND(MIN(1%*J602+(J602-H601)/Summary!$I$7,5%*H601),2),D601),0)","v":0},null,null,0,1416.7000000000005,"",{"$f":"IF(B602<>\"\",IF(K602=\"\",J601,IF((H601-J601)/H601<-0.5,MAX(H601,Summary!$D$7),MAX(H601,J601))),\"\")","v":""},"",""]
[602,null,null,{"$f":"IF(B603<>\"\",IF(B603<>B602,ROUND(MIN(1%*J603+(J603-H602)/Summary!$I$7,5%*H602),2),D602),0)","v":0},null,null,0,1416.7000000000005,"",{"$f":"IF(B603<>\"\",IF(K603=\"\",J602,IF((H602-J602)/H602<-0.5,MAX(H602,Summary!$D$7),MAX(H602,J602))),\"\")","v":""},"",""]
[603,null,null,{"$f":"IF(B604<>\"\",IF(B604<>B603,ROUND(MIN(1%*J604+(J604-H603)/Summary!$I$7,5%*H603),2),D603),0)","v":0},null,null,0,1416.7000000000005,"",{"$f":"IF(B604<>\"\",IF(K604=\"\",J603,IF((H603-J603)/H603<-0.5,MAX(H603,Summary!$D$7),MAX(H603,J603))),\"\")","v":""},"",""]
[604,null,null,{"$f":"IF(B605<>\"\",IF(B605<>B604,ROUND(MIN(1%*J605+(J605-H604)/Summary!$I$7,5%*H604),2),D604),0)","v":0},null,null,0,1416.7000000000005,"",{"$f":"IF(B605<>\"\",IF(K605=\"\",J604,IF((H604-J604)/H604<-0.5,MAX(H604,Summary!$D$7),MAX(H604,J604))),\"\")","v":""},"",""]
[605,null,null,{"$f":"IF(B606<>\"\",IF(B606<>B605,ROUND(MIN(1%*J606+(J606-H605)/Summary!$I$7,5%*H605),2),D605),0)","v":0},null,null,0,1416.7000000000005,"",{"$f":"IF(B606<>\"\",IF(K606=\"\",J605,IF((H605-J605)/H605<-0.5,MAX(H605,Summary!$D$7),MAX(H605,J605))),\"\")","v":""},"",""]
[606,null,null,{"$f":"IF(B607<>\"\",IF(B607<>B606,ROUND(MIN(1%*J607+(J607-H606)/Summary!$I$7,5%*H606),2),D606),0)","v":0},null,null,0,1416.7000000000005,"",{"$f":"IF(B607<>\"\",IF(K607=\"\",J606,IF((H606-J606)/H606<-0.5,MAX(H606,Summary!$D$7),MAX(H606,J606))),\"\")","v":""},"",""]
[607,null,null,{"$f":"IF(B608<>\"\",IF(B608<>B607,ROUND(MIN(1%*J608+(J608-H607)/Summary!$I$7,5%*H607),2),D607),0)","v":0},null,null,0,1416.7000000000005,"",{"$f":"IF(B608<>\"\",IF(K608=\"\",J607,IF((H607-J607)/H607<-0.5,MAX(H607,Summary!$D$7),MAX(H607,J607))),\"\")","v":""},"",""]
[608,null,null,{"$f":"IF(B609<>\"\",IF(B609<>B608,ROUND(MIN(1%*J609+(J609-H608)/Summary!$I$7,5%*H608),2),D608),0)","v":0},null,null,0,1416.7000000000005,"",{"$f":"IF(B609<>\"\",IF(K609=\"\",J608,IF((H608-J608)/H608<-0.5,MAX(H608,Summary!$D$7),MAX(H608,J608))),\"\")","v":""},"",""]
[609,null,null,{"$f":"IF(B610<>\"\",IF(B610<>B609,ROUND(MIN(1%*J610+(J610-H609)/Summary!$I$7,5%*H609),2),D609),0)","v":0},null,null,0,1416.7000000000005,"",{"$f":"IF(B610<>\"\",IF(K610=\"\",J609,IF((H609-J609)/H609<-0.5,MAX(H609,Summary!$D$7),MAX(H609,J609))),\"\")","v":""},"",""]
[610,null,null,{"$f":"IF(B611<>\"\",IF(B611<>B610,ROUND(MIN(1%*J611+(J611-H610)/Summary!$I$7,5%*H610),2),D610),0)","v":0},null,null,0,1416.7000000000005,"",{"$f":"IF(B611<>\"\",IF(K611=\"\",J610,IF((H610-J610)/H610<-0.5,MAX(H610,Summary!$D$7),MAX(H610,J610))),\"\")","v":""},"",""]
[611,null,null,{"$f":"IF(B612<>\"\",IF(B612<>B611,ROUND(MIN(1%*J612+(J612-H611)/Summary!$I$7,5%*H611),2),D611),0)","v":0},null,null,0,1416.7000000000005,"",{"$f":"IF(B612<>\"\",IF(K612=\"\",J611,IF((H611-J611)/H611<-0.5,MAX(H611,Summary!$D$7),MAX(H611,J611))),\"\")","v":""},"",""]
[612,null,null,{"$f":"IF(B613<>\"\",IF(B613<>B612,ROUND(MIN(1%*J613+(J613-H612)/Summary!$I$7,5%*H612),2),D612),0)","v":0},null,null,0,1416.7000000000005,"",{"$f":"IF(B613<>\"\",IF(K613=\"\",J612,IF((H612-J612)/H612<-0.5,MAX(H612,Summary!$D$7),MAX(H612,J612))),\"\")","v":""},"",""]
[613,null,null,{"$f":"IF(B614<>\"\",IF(B614<>B613,ROUND(MIN(1%*J614+(J614-H613)/Summary!$I$7,5%*H613),2),D613),0)","v":0},null,null,0,1416.7000000000005,"",{"$f":"IF(B614<>\"\",IF(K614=\"\",J613,IF((H613-J613)/H613<-0.5,MAX(H613,Summary!$D$7),MAX(H613,J613))),\"\")","v":""},"",""]
[614,null,null,{"$f":"IF(B615<>\"\",IF(B615<>B614,ROUND(MIN(1%*J615+(J615-H614)/Summary!$I$7,5%*H614),2),D614),0)","v":0},null,null,0,1416.7000000000005,"",{"$f":"IF(B615<>\"\",IF(K615=\"\",J614,IF((H614-J614)/H614<-0.5,MAX(H614,Summary!$D$7),MAX(H614,J614))),\"\")","v":""},"",""]
[615,null,null,{"$f":"IF(B616<>\"\",IF(B616<>B615,ROUND(MIN(1%*J616+(J616-H615)/Summary!$I$7,5%*H615),2),D615),0)","v":0},null,null,0,1416.7000000000005,"",{"$f":"IF(B616<>\"\",IF(K616=\"\",J615,IF((H615-J615)/H615<-0.5,MAX(H615,Summary!$D$7),MAX(H615,J615))),\"\")","v":""},"",""]
[616,null,null,{"$f":"IF(B617<>\"\",IF(B617<>B616,ROUND(MIN(1%*J617+(J617-H616)/Summary!$I$7,5%*H616),2),D616),0)","v":0},null,null,0,1416.7000000000005,"",{"$f":"IF(B617<>\"\",IF(K617=\"\",J616,IF((H616-J616)/H616<-0.5,MAX(H616,Summary!$D$7),MAX(H616,J616))),\"\")","v":""},"",""]
[617,null,null,{"$f":"IF(B618<>\"\",IF(B618<>B617,ROUND(MIN(1%*J618+(J618-H617)/Summary!$I$7,5%*H617),2),D617),0)","v":0},null,null,0,1416.7000000000005,"",{"$f":"IF(B618<>\"\",IF(K618=\"\",J617,IF((H617-J617)/H617<-0.5,MAX(H617,Summary!$D$7),MAX(H617,J617))),\"\")","v":""},"",""]
[618,null,null,{"$f":"IF(B619<>\"\",IF(B619<>B618,ROUND(MIN(1%*J619+(J619-H618)/Summary!$I$7,5%*H618),2),D618),0)","v":0},null,null,0,1416.7000000000005,"",{"$f":"IF(B619<>\"\",IF(K619=\"\",J618,IF((H618-J618)/H618<-0.5,MAX(H618,Summary!$D$7),MAX(H618,J618))),\"\")","v":""},"",""]
[619,null,null,{"$f":"IF(B620<>\"\",IF(B620<>B619,ROUND(MIN(1%*J620+(J620-H619)/Summary!$I$7,5%*H619),2),D619),0)","v":0},null,null,0,1416.7000000000005,"",{"$f":"IF(B620<>\"\",IF(K620=\"\",J619,IF((H619-J619)/H619<-0.5,MAX(H619,Summary!$D$7),MAX(H619,J619))),\"\")","v":""},"",""]
[620,null,null,{"$f":"IF(B621<>\"\",IF(B621<>B620,ROUND(MIN(1%*J621+(J621-H620)/Summary!$I$7,5%*H620),2),D620),0)","v":0},null,null,0,1416.7000000000005,"",{"$f":"IF(B621<>\"\",IF(K621=\"\",J620,IF((H620-J620)/H620<-0.5,MAX(H620,Summary!$D$7),MAX(H620,J620))),\"\")","v":""},"",""]
[621,null,null,{"$f":"IF(B622<>\"\",IF(B622<>B621,ROUND(MIN(1%*J622+(J622-H621)/Summary!$I$7,5%*H621),2),D621),0)","v":0},null,null,0,1416.7000000000005,"",{"$f":"IF(B622<>\"\",IF(K622=\"\",J621,IF((H621-J621)/H621<-0.5,MAX(H621,Summary!$D$7),MAX(H621,J621))),\"\")","v":""},"",""]
[622,null,null,{"$f":"IF(B623<>\"\",IF(B623<>B622,ROUND(MIN(1%*J623+(J623-H622)/Summary!$I$7,5%*H622),2),D622),0)","v":0},null,null,0,1416.7000000000005,"",{"$f":"IF(B623<>\"\",IF(K623=\"\",J622,IF((H622-J622)/H622<-0.5,MAX(H622,Summary!$D$7),MAX(H622,J622))),\"\")","v":""},"",""]
[623,null,null,{"$f":"IF(B624<>\"\",IF(B624<>B623,ROUND(MIN(1%*J624+(J624-H623)/Summary!$I$7,5%*H623),2),D623),0)","v":0},null,null,0,1416.7000000000005,"",{"$f":"IF(B624<>\"\",IF(K624=\"\",J623,IF((H623-J623)/H623<-0.5,MAX(H623,Summary!$D$7),MAX(H623,J623))),\"\")","v":""},"",""]
[624,null,null,{"$f":"IF(B625<>\"\",IF(B625<>B624,ROUND(MIN(1%*J625+(J625-H624)/Summary!$I$7,5%*H624),2),D624),0)","v":0},null,null,0,1416.7000000000005,"",{"$f":"IF(B625<>\"\",IF(K625=\"\",J624,IF((H624-J624)/H624<-0.5,MAX(H624,Summary!$D$7),MAX(H624,J624))),\"\")","v":""},"",""]
[625,null,null,{"$f":"IF(B626<>\"\",IF(B626<>B625,ROUND(MIN(1%*J626+(J626-H625)/Summary!$I$7,5%*H625),2),D625),0)","v":0},null,null,0,1416.7000000000005,"",{"$f":"IF(B626<>\"\",IF(K626=\"\",J625,IF((H625-J625)/H625<-0.5,MAX(H625,Summary!$D$7),MAX(H625,J625))),\"\")","v":""},"",""]
[626,null,null,{"$f":"IF(B627<>\"\",IF(B627<>B626,ROUND(MIN(1%*J627+(J627-H626)/Summary!$I$7,5%*H626),2),D626),0)","v":0},null,null,0,1416.7000000000005,"",{"$f":"IF(B627<>\"\",IF(K627=\"\",J626,IF((H626-J626)/H626<-0.5,MAX(H626,Summary!$D$7),MAX(H626,J626))),\"\")","v":""},"",""]
[627,null,null,{"$f":"IF(B628<>\"\",IF(B628<>B627,ROUND(MIN(1%*J628+(J628-H627)/Summary!$I$7,5%*H627),2),D627),0)","v":0},null,null,0,1416.7000000000005,"",{"$f":"IF(B628<>\"\",IF(K628=\"\",J627,IF((H627-J627)/H627<-0.5,MAX(H627,Summary!$D$7),MAX(H627,J627))),\"\")","v":""},"",""]
[628,null,null,{"$f":"IF(B629<>\"\",IF(B629<>B628,ROUND(MIN(1%*J629+(J629-H628)/Summary!$I$7,5%*H628),2),D628),0)","v":0},null,null,0,1416.7000000000005,"",{"$f":"IF(B629<>\"\",IF(K629=\"\",J628,IF((H628-J628)/H628<-0.5,MAX(H628,Summary!$D$7),MAX(H628,J628))),\"\")","v":""},"",""]
[629,null,null,{"$f":"IF(B630<>\"\",IF(B630<>B629,ROUND(MIN(1%*J630+(J630-H629)/Summary!$I$7,5%*H629),2),D629),0)","v":0},null,null,0,1416.7000000000005,"",{"$f":"IF(B630<>\"\",IF(K630=\"\",J629,IF((H629-J629)/H629<-0.5,MAX(H629,Summary!$D$7),MAX(H629,J629))),\"\")","v":""},"",""]
[630,null,null,{"$f":"IF(B631<>\"\",IF(B631<>B630,ROUND(MIN(1%*J631+(J631-H630)/Summary!$I$7,5%*H630),2),D630),0)","v":0},null,null,0,1416.7000000000005,"",{"$f":"IF(B631<>\"\",IF(K631=\"\",J630,IF((H630-J630)/H630<-0.5,MAX(H630,Summary!$D$7),MAX(H630,J630))),\"\")","v":""},"",""]
[631,null,null,{"$f":"IF(B632<>\"\",IF(B632<>B631,ROUND(MIN(1%*J632+(J632-H631)/Summary!$I$7,5%*H631),2),D631),0)","v":0},null,null,0,1416.7000000000005,"",{"$f":"IF(B632<>\"\",IF(K632=\"\",J631,IF((H631-J631)/H631<-0.5,MAX(H631,Summary!$D$7),MAX(H631,J631))),\"\")","v":""},"",""]
[632,null,null,{"$f":"IF(B633<>\"\",IF(B633<>B632,ROUND(MIN(1%*J633+(J633-H632)/Summary!$I$7,5%*H632),2),D632),0)","v":0},null,null,0,1416.7000000000005,"",{"$f":"IF(B633<>\"\",IF(K633=\"\",J632,IF((H632-J632)/H632<-0.5,MAX(H632,Summary!$D$7),MAX(H632,J632))),\"\")","v":""},"",""]
[633,null,null,{"$f":"IF(B634<>\"\",IF(B634<>B633,ROUND(MIN(1%*J634+(J634-H633)/Summary!$I$7,5%*H633),2),D633),0)","v":0},null,null,0,1416.7000000000005,"",{"$f":"IF(B634<>\"\",IF(K634=\"\",J633,IF((H633-J633)/H633<-0.5,MAX(H633,Summary!$D$7),MAX(H633,J633))),\"\")","v":""},"",""]
[634,null,null,{"$f":"IF(B635<>\"\",IF(B635<>B634,ROUND(MIN(1%*J635+(J635-H634)/Summary!$I$7,5%*H634),2),D634),0)","v":0},null,null,0,1416.7000000000005,"",{"$f":"IF(B635<>\"\",IF(K635=\"\",J634,IF((H634-J634)/H634<-0.5,MAX(H634,Summary!$D$7),MAX(H634,J634))),\"\")","v":""},"",""]
[635,null,null,{"$f":"IF(B636<>\"\",IF(B636<>B635,ROUND(MIN(1%*J636+(J636-H635)/Summary!$I$7,5%*H635),2),D635),0)","v":0},null,null,0,1416.7000000000005,"",{"$f":"IF(B636<>\"\",IF(K636=\"\",J635,IF((H635-J635)/H635<-0.5,MAX(H635,Summary!$D$7),MAX(H635,J635))),\"\")","v":""},"",""]
[636,null,null,{"$f":"IF(B637<>\"\",IF(B637<>B636,ROUND(MIN(1%*J637+(J637-H636)/Summary!$I$7,5%*H636),2),D636),0)","v":0},null,null,0,1416.7000000000005,"",{"$f":"IF(B637<>\"\",IF(K637=\"\",J636,IF((H636-J636)/H636<-0.5,MAX(H636,Summary!$D$7),MAX(H636,J636))),\"\")","v":""},"",""]
[637,null,null,{"$f":"IF(B638<>\"\",IF(B638<>B637,ROUND(MIN(1%*J638+(J638-H637)/Summary!$I$7,5%*H637),2),D637),0)","v":0},null,null,0,1416.7000000000005,"",{"$f":"IF(B638<>\"\",IF(K638=\"\",J637,IF((H637-J637)/H637<-0.5,MAX(H637,Summary!$D$7),MAX(H637,J637))),\"\")","v":""},"",""]
[638,null,null,{"$f":"IF(B639<>\"\",IF(B639<>B638,ROUND(MIN(1%*J639+(J639-H638)/Summary!$I$7,5%*H638),2),D638),0)","v":0},null,null,0,1416.7000000000005,"",{"$f":"IF(B639<>\"\",IF(K639=\"\",J638,IF((H638-J638)/H638<-0.5,MAX(H638,Summary!$D$7),MAX(H638,J638))),\"\")","v":""},"",""]
[639,null,null,{"$f":"IF(B640<>\"\",IF(B640<>B639,ROUND(MIN(1%*J640+(J640-H639)/Summary!$I$7,5%*H639),2),D639),0)","v":0},null,null,0,1416.7000000000005,"",{"$f":"IF(B640<>\"\",IF(K640=\"\",J639,IF((H639-J639)/H639<-0.5,MAX(H639,Summary!$D$7),MAX(H639,J639))),\"\")","v":""},"",""]
[640,null,null,{"$f":"IF(B641<>\"\",IF(B641<>B640,ROUND(MIN(1%*J641+(J641-H640)/Summary!$I$7,5%*H640),2),D640),0)","v":0},null,null,0,1416.7000000000005,"",{"$f":"IF(B641<>\"\",IF(K641=\"\",J640,IF((H640-J640)/H640<-0.5,MAX(H640,Summary!$D$7),MAX(H640,J640))),\"\")","v":""},"",""]
[641,null,null,{"$f":"IF(B642<>\"\",IF(B642<>B641,ROUND(MIN(1%*J642+(J642-H641)/Summary!$I$7,5%*H641),2),D641),0)","v":0},null,null,{"$f":"IF(F642=\"Y\",D642*(E642-1),IF(F642=\"N\",-D642,0))","v":0},1416.7000000000005,"",{"$f":"IF(B642<>\"\",IF(K642=\"\",J641,IF((H641-J641)/H641<-0.5,MAX(H641,Summary!$D$7),MAX(H641,J641))),\"\")","v":""},"",""]
[642,null,null,{"$f":"IF(B643<>\"\",IF(B643<>B642,ROUND(MIN(1%*J643+(J643-H642)/Summary!$I$7,5%*H642),2),D642),0)","v":0},null,null,0,{"$f":"SUM(H642,G643)","v":1416.7000000000005},{"$f":"IF(B643<>\"\",IF(B643<>B642,1,I642+1),\"\")","v":""},{"$f":"IF(B643<>\"\",IF(K643=\"\",J642,IF((H642-J642)/H642<-0.5,MAX(H642,Summary!$D$7),MAX(H642,J642))),\"\")","v":""},{"$f":"IF(AND(B643<>\"\",B643<>B642),\"Y\",\"\")","v":""},""]
[643,null,null,{"$f":"IF(B644<>\"\",IF(B644<>B643,ROUND(MIN(1%*J644+(J644-H643)/Summary!$I$7,5%*H643),2),D643),0)","v":0},null,null,0,1416.7000000000005,"",{"$f":"IF(B644<>\"\",IF(K644=\"\",J643,IF((H643-J643)/H643<-0.5,MAX(H643,Summary!$D$7),MAX(H643,J643))),\"\")","v":""},"",{"$f":"IF(D644<>0,D644/H644,\"\")","v":""}]
[644,null,null,{"$f":"IF(B645<>\"\",IF(B645<>B644,ROUND(MIN(1%*J645+(J645-H644)/Summary!$I$7,5%*H644),2),D644),0)","v":0},null,null,0,1416.7000000000005,"",{"$f":"IF(B645<>\"\",IF(K645=\"\",J644,IF((H644-J644)/H644<-0.5,MAX(H644,Summary!$D$7),MAX(H644,J644))),\"\")","v":""},"",""]
[645,null,null,{"$f":"IF(B646<>\"\",IF(B646<>B645,ROUND(MIN(1%*J646+(J646-H645)/Summary!$I$7,5%*H645),2),D645),0)","v":0},null,null,0,1416.7000000000005,"",{"$f":"IF(B646<>\"\",IF(K646=\"\",J645,IF((H645-J645)/H645<-0.5,MAX(H645,Summary!$D$7),MAX(H645,J645))),\"\")","v":""},"",""]
[646,null,null,{"$f":"IF(B647<>\"\",IF(B647<>B646,ROUND(MIN(1%*J647+(J647-H646)/Summary!$I$7,5%*H646),2),D646),0)","v":0},null,null,0,1416.7000000000005,"",{"$f":"IF(B647<>\"\",IF(K647=\"\",J646,IF((H646-J646)/H646<-0.5,MAX(H646,Summary!$D$7),MAX(H646,J646))),\"\")","v":""},"",""]
[647,null,null,{"$f":"IF(B648<>\"\",IF(B648<>B647,ROUND(MIN(1%*J648+(J648-H647)/Summary!$I$7,5%*H647),2),D647),0)","v":0},null,null,0,1416.7000000000005,"",{"$f":"IF(B648<>\"\",IF(K648=\"\",J647,IF((H647-J647)/H647<-0.5,MAX(H647,Summary!$D$7),MAX(H647,J647))),\"\")","v":""},"",""]
[648,null,null,{"$f":"IF(B649<>\"\",IF(B649<>B648,ROUND(MIN(1%*J649+(J649-H648)/Summary!$I$7,5%*H648),2),D648),0)","v":0},null,null,0,1416.7000000000005,"",{"$f":"IF(B649<>\"\",IF(K649=\"\",J648,IF((H648-J648)/H648<-0.5,MAX(H648,Summary!$D$7),MAX(H648,J648))),\"\")","v":""},"",""]
[649,null,null,{"$f":"IF(B650<>\"\",IF(B650<>B649,ROUND(MIN(1%*J650+(J650-H649)/Summary!$I$7,5%*H649),2),D649),0)","v":0},null,null,0,1416.7000000000005,"",{"$f":"IF(B650<>\"\",IF(K650=\"\",J649,IF((H649-J649)/H649<-0.5,MAX(H649,Summary!$D$7),MAX(H649,J649))),\"\")","v":""},"",""]
[650,null,null,{"$f":"IF(B651<>\"\",IF(B651<>B650,ROUND(MIN(1%*J651+(J651-H650)/Summary!$I$7,5%*H650),2),D650),0)","v":0},null,null,0,1416.7000000000005,"",{"$f":"IF(B651<>\"\",IF(K651=\"\",J650,IF((H650-J650)/H650<-0.5,MAX(H650,Summary!$D$7),MAX(H650,J650))),\"\")","v":""},"",""]
[651,null,null,{"$f":"IF(B652<>\"\",IF(B652<>B651,ROUND(MIN(1%*J652+(J652-H651)/Summary!$I$7,5%*H651),2),D651),0)","v":0},null,null,0,1416.7000000000005,"",{"$f":"IF(B652<>\"\",IF(K652=\"\",J651,IF((H651-J651)/H651<-0.5,MAX(H651,Summary!$D$7),MAX(H651,J651))),\"\")","v":""},"",""]
[652,null,null,{"$f":"IF(B653<>\"\",IF(B653<>B652,ROUND(MIN(1%*J653+(J653-H652)/Summary!$I$7,5%*H652),2),D652),0)","v":0},null,null,0,1416.7000000000005,"",{"$f":"IF(B653<>\"\",IF(K653=\"\",J652,IF((H652-J652)/H652<-0.5,MAX(H652,Summary!$D$7),MAX(H652,J652))),\"\")","v":""},"",""]
[653,null,null,{"$f":"IF(B654<>\"\",IF(B654<>B653,ROUND(MIN(1%*J654+(J654-H653)/Summary!$I$7,5%*H653),2),D653),0)","v":0},null,null,0,1416.7000000000005,"",{"$f":"IF(B654<>\"\",IF(K654=\"\",J653,IF((H653-J653)/H653<-0.5,MAX(H653,Summary!$D$7),MAX(H653,J653))),\"\")","v":""},"",""]
[654,null,null,{"$f":"IF(B655<>\"\",IF(B655<>B654,ROUND(MIN(1%*J655+(J655-H654)/Summary!$I$7,5%*H654),2),D654),0)","v":0},null,null,0,1416.7000000000005,"",{"$f":"IF(B655<>\"\",IF(K655=\"\",J654,IF((H654-J654)/H654<-0.5,MAX(H654,Summary!$D$7),MAX(H654,J654))),\"\")","v":""},"",""]
[655,null,null,{"$f":"IF(B656<>\"\",IF(B656<>B655,ROUND(MIN(1%*J656+(J656-H655)/Summary!$I$7,5%*H655),2),D655),0)","v":0},null,null,0,1416.7000000000005,"",{"$f":"IF(B656<>\"\",IF(K656=\"\",J655,IF((H655-J655)/H655<-0.5,MAX(H655,Summary!$D$7),MAX(H655,J655))),\"\")","v":""},"",""]
[656,null,null,{"$f":"IF(B657<>\"\",IF(B657<>B656,ROUND(MIN(1%*J657+(J657-H656)/Summary!$I$7,5%*H656),2),D656),0)","v":0},null,null,0,1416.7000000000005,"",{"$f":"IF(B657<>\"\",IF(K657=\"\",J656,IF((H656-J656)/H656<-0.5,MAX(H656,Summary!$D$7),MAX(H656,J656))),\"\")","v":""},"",""]
[657,null,null,{"$f":"IF(B658<>\"\",IF(B658<>B657,ROUND(MIN(1%*J658+(J658-H657)/Summary!$I$7,5%*H657),2),D657),0)","v":0},null,null,0,1416.7000000000005,"",{"$f":"IF(B658<>\"\",IF(K658=\"\",J657,IF((H657-J657)/H657<-0.5,MAX(H657,Summary!$D$7),MAX(H657,J657))),\"\")","v":""},"",""]
[658,null,null,{"$f":"IF(B659<>\"\",IF(B659<>B658,ROUND(MIN(1%*J659+(J659-H658)/Summary!$I$7,5%*H658),2),D658),0)","v":0},null,null,0,1416.7000000000005,"",{"$f":"IF(B659<>\"\",IF(K659=\"\",J658,IF((H658-J658)/H658<-0.5,MAX(H658,Summary!$D$7),MAX(H658,J658))),\"\")","v":""},"",""]
[659,null,null,{"$f":"IF(B660<>\"\",IF(B660<>B659,ROUND(MIN(1%*J660+(J660-H659)/Summary!$I$7,5%*H659),2),D659),0)","v":0},null,null,0,1416.7000000000005,"",{"$f":"IF(B660<>\"\",IF(K660=\"\",J659,IF((H659-J659)/H659<-0.5,MAX(H659,Summary!$D$7),MAX(H659,J659))),\"\")","v":""},"",""]
[660,null,null,{"$f":"IF(B661<>\"\",IF(B661<>B660,ROUND(MIN(1%*J661+(J661-H660)/Summary!$I$7,5%*H660),2),D660),0)","v":0},null,null,0,1416.7000000000005,"",{"$f":"IF(B661<>\"\",IF(K661=\"\",J660,IF((H660-J660)/H660<-0.5,MAX(H660,Summary!$D$7),MAX(H660,J660))),\"\")","v":""},"",""]
[661,null,null,{"$f":"IF(B662<>\"\",IF(B662<>B661,ROUND(MIN(1%*J662+(J662-H661)/Summary!$I$7,5%*H661),2),D661),0)","v":0},null,null,0,1416.7000000000005,"",{"$f":"IF(B662<>\"\",IF(K662=\"\",J661,IF((H661-J661)/H661<-0.5,MAX(H661,Summary!$D$7),MAX(H661,J661))),\"\")","v":""},"",""]
[662,null,null,{"$f":"IF(B663<>\"\",IF(B663<>B662,ROUND(MIN(1%*J663+(J663-H662)/Summary!$I$7,5%*H662),2),D662),0)","v":0},null,null,0,1416.7000000000005,"",{"$f":"IF(B663<>\"\",IF(K663=\"\",J662,IF((H662-J662)/H662<-0.5,MAX(H662,Summary!$D$7),MAX(H662,J662))),\"\")","v":""},"",""]
[663,null,null,{"$f":"IF(B664<>\"\",IF(B664<>B663,ROUND(MIN(1%*J664+(J664-H663)/Summary!$I$7,5%*H663),2),D663),0)","v":0},null,null,0,1416.7000000000005,"",{"$f":"IF(B664<>\"\",IF(K664=\"\",J663,IF((H663-J663)/H663<-0.5,MAX(H663,Summary!$D$7),MAX(H663,J663))),\"\")","v":""},"",""]
[664,null,null,{"$f":"IF(B665<>\"\",IF(B665<>B664,ROUND(MIN(1%*J665+(J665-H664)/Summary!$I$7,5%*H664),2),D664),0)","v":0},null,null,0,1416.7000000000005,"",{"$f":"IF(B665<>\"\",IF(K665=\"\",J664,IF((H664-J664)/H664<-0.5,MAX(H664,Summary!$D$7),MAX(H664,J664))),\"\")","v":""},"",""]
[665,null,null,{"$f":"IF(B666<>\"\",IF(B666<>B665,ROUND(MIN(1%*J666+(J666-H665)/Summary!$I$7,5%*H665),2),D665),0)","v":0},null,null,0,1416.7000000000005,"",{"$f":"IF(B666<>\"\",IF(K666=\"\",J665,IF((H665-J665)/H665<-0.5,MAX(H665,Summary!$D$7),MAX(H665,J665))),\"\")","v":""},"",""]
[666,null,null,{"$f":"IF(B667<>\"\",IF(B667<>B666,ROUND(MIN(1%*J667+(J667-H666)/Summary!$I$7,5%*H666),2),D666),0)","v":0},null,null,0,1416.7000000000005,"",{"$f":"IF(B667<>\"\",IF(K667=\"\",J666,IF((H666-J666)/H666<-0.5,MAX(H666,Summary!$D$7),MAX(H666,J666))),\"\")","v":""},"",""]
[667,null,null,{"$f":"IF(B668<>\"\",IF(B668<>B667,ROUND(MIN(1%*J668+(J668-H667)/Summary!$I$7,5%*H667),2),D667),0)","v":0},null,null,0,1416.7000000000005,"",{"$f":"IF(B668<>\"\",IF(K668=\"\",J667,IF((H667-J667)/H667<-0.5,MAX(H667,Summary!$D$7),MAX(H667,J667))),\"\")","v":""},"",""]
[668,null,null,{"$f":"IF(B669<>\"\",IF(B669<>B668,ROUND(MIN(1%*J669+(J669-H668)/Summary!$I$7,5%*H668),2),D668),0)","v":0},null,null,0,1416.7000000000005,"",{"$f":"IF(B669<>\"\",IF(K669=\"\",J668,IF((H668-J668)/H668<-0.5,MAX(H668,Summary!$D$7),MAX(H668,J668))),\"\")","v":""},"",""]
[669,null,null,{"$f":"IF(B670<>\"\",IF(B670<>B669,ROUND(MIN(1%*J670+(J670-H669)/Summary!$I$7,5%*H669),2),D669),0)","v":0},null,null,0,1416.7000000000005,"",{"$f":"IF(B670<>\"\",IF(K670=\"\",J669,IF((H669-J669)/H669<-0.5,MAX(H669,Summary!$D$7),MAX(H669,J669))),\"\")","v":""},"",""]
[670,null,null,{"$f":"IF(B671<>\"\",IF(B671<>B670,ROUND(MIN(1%*J671+(J671-H670)/Summary!$I$7,5%*H670),2),D670),0)","v":0},null,null,0,1416.7000000000005,"",{"$f":"IF(B671<>\"\",IF(K671=\"\",J670,IF((H670-J670)/H670<-0.5,MAX(H670,Summary!$D$7),MAX(H670,J670))),\"\")","v":""},"",""]
[671,null,null,{"$f":"IF(B672<>\"\",IF(B672<>B671,ROUND(MIN(1%*J672+(J672-H671)/Summary!$I$7,5%*H671),2),D671),0)","v":0},null,null,0,1416.7000000000005,"",{"$f":"IF(B672<>\"\",IF(K672=\"\",J671,IF((H671-J671)/H671<-0.5,MAX(H671,Summary!$D$7),MAX(H671,J671))),\"\")","v":""},"",""]
[672,null,null,{"$f":"IF(B673<>\"\",IF(B673<>B672,ROUND(MIN(1%*J673+(J673-H672)/Summary!$I$7,5%*H672),2),D672),0)","v":0},null,null,0,1416.7000000000005,"",{"$f":"IF(B673<>\"\",IF(K673=\"\",J672,IF((H672-J672)/H672<-0.5,MAX(H672,Summary!$D$7),MAX(H672,J672))),\"\")","v":""},"",""]
[673,null,null,{"$f":"IF(B674<>\"\",IF(B674<>B673,ROUND(MIN(1%*J674+(J674-H673)/Summary!$I$7,5%*H673),2),D673),0)","v":0},null,null,0,1416.7000000000005,"",{"$f":"IF(B674<>\"\",IF(K674=\"\",J673,IF((H673-J673)/H673<-0.5,MAX(H673,Summary!$D$7),MAX(H673,J673))),\"\")","v":""},"",""]
[674,null,null,{"$f":"IF(B675<>\"\",IF(B675<>B674,ROUND(MIN(1%*J675+(J675-H674)/Summary!$I$7,5%*H674),2),D674),0)","v":0},null,null,0,1416.7000000000005,"",{"$f":"IF(B675<>\"\",IF(K675=\"\",J674,IF((H674-J674)/H674<-0.5,MAX(H674,Summary!$D$7),MAX(H674,J674))),\"\")","v":""},"",""]
[675,null,null,{"$f":"IF(B676<>\"\",IF(B676<>B675,ROUND(MIN(1%*J676+(J676-H675)/Summary!$I$7,5%*H675),2),D675),0)","v":0},null,null,0,1416.7000000000005,"",{"$f":"IF(B676<>\"\",IF(K676=\"\",J675,IF((H675-J675)/H675<-0.5,MAX(H675,Summary!$D$7),MAX(H675,J675))),\"\")","v":""},"",""]
[676,null,null,{"$f":"IF(B677<>\"\",IF(B677<>B676,ROUND(MIN(1%*J677+(J677-H676)/Summary!$I$7,5%*H676),2),D676),0)","v":0},null,null,0,1416.7000000000005,"",{"$f":"IF(B677<>\"\",IF(K677=\"\",J676,IF((H676-J676)/H676<-0.5,MAX(H676,Summary!$D$7),MAX(H676,J676))),\"\")","v":""},"",""]
[677,null,null,{"$f":"IF(B678<>\"\",IF(B678<>B677,ROUND(MIN(1%*J678+(J678-H677)/Summary!$I$7,5%*H677),2),D677),0)","v":0},null,null,0,1416.7000000000005,"",{"$f":"IF(B678<>\"\",IF(K678=\"\",J677,IF((H677-J677)/H677<-0.5,MAX(H677,Summary!$D$7),MAX(H677,J677))),\"\")","v":""},"",""]
[678,null,null,{"$f":"IF(B679<>\"\",IF(B679<>B678,ROUND(MIN(1%*J679+(J679-H678)/Summary!$I$7,5%*H678),2),D678),0)","v":0},null,null,0,1416.7000000000005,"",{"$f":"IF(B679<>\"\",IF(K679=\"\",J678,IF((H678-J678)/H678<-0.5,MAX(H678,Summary!$D$7),MAX(H678,J678))),\"\")","v":""},"",""]
[679,null,null,{"$f":"IF(B680<>\"\",IF(B680<>B679,ROUND(MIN(1%*J680+(J680-H679)/Summary!$I$7,5%*H679),2),D679),0)","v":0},null,null,0,1416.7000000000005,"",{"$f":"IF(B680<>\"\",IF(K680=\"\",J679,IF((H679-J679)/H679<-0.5,MAX(H679,Summary!$D$7),MAX(H679,J679))),\"\")","v":""},"",""]
[680,null,null,{"$f":"IF(B681<>\"\",IF(B681<>B680,ROUND(MIN(1%*J681+(J681-H680)/Summary!$I$7,5%*H680),2),D680),0)","v":0},null,null,0,1416.7000000000005,"",{"$f":"IF(B681<>\"\",IF(K681=\"\",J680,IF((H680-J680)/H680<-0.5,MAX(H680,Summary!$D$7),MAX(H680,J680))),\"\")","v":""},"",""]
[681,null,null,{"$f":"IF(B682<>\"\",IF(B682<>B681,ROUND(MIN(1%*J682+(J682-H681)/Summary!$I$7,5%*H681),2),D681),0)","v":0},null,null,0,1416.7000000000005,"",{"$f":"IF(B682<>\"\",IF(K682=\"\",J681,IF((H681-J681)/H681<-0.5,MAX(H681,Summary!$D$7),MAX(H681,J681))),\"\")","v":""},"",""]
[682,null,null,{"$f":"IF(B683<>\"\",IF(B683<>B682,ROUND(MIN(1%*J683+(J683-H682)/Summary!$I$7,5%*H682),2),D682),0)","v":0},null,null,0,1416.7000000000005,"",{"$f":"IF(B683<>\"\",IF(K683=\"\",J682,IF((H682-J682)/H682<-0.5,MAX(H682,Summary!$D$7),MAX(H682,J682))),\"\")","v":""},"",""]
[683,null,null,{"$f":"IF(B684<>\"\",IF(B684<>B683,ROUND(MIN(1%*J684+(J684-H683)/Summary!$I$7,5%*H683),2),D683),0)","v":0},null,null,0,1416.7000000000005,"",{"$f":"IF(B684<>\"\",IF(K684=\"\",J683,IF((H683-J683)/H683<-0.5,MAX(H683,Summary!$D$7),MAX(H683,J683))),\"\")","v":""},"",""]
[684,null,null,{"$f":"IF(B685<>\"\",IF(B685<>B684,ROUND(MIN(1%*J685+(J685-H684)/Summary!$I$7,5%*H684),2),D684),0)","v":0},null,null,0,1416.7000000000005,"",{"$f":"IF(B685<>\"\",IF(K685=\"\",J684,IF((H684-J684)/H684<-0.5,MAX(H684,Summary!$D$7),MAX(H684,J684))),\"\")","v":""},"",""]
[685,null,null,{"$f":"IF(B686<>\"\",IF(B686<>B685,ROUND(MIN(1%*J686+(J686-H685)/Summary!$I$7,5%*H685),2),D685),0)","v":0},null,null,0,1416.7000000000005,"",{"$f":"IF(B686<>\"\",IF(K686=\"\",J685,IF((H685-J685)/H685<-0.5,MAX(H685,Summary!$D$7),MAX(H685,J685))),\"\")","v":""},"",""]
[686,null,null,{"$f":"IF(B687<>\"\",IF(B687<>B686,ROUND(MIN(1%*J687+(J687-H686)/Summary!$I$7,5%*H686),2),D686),0)","v":0},null,null,0,1416.7000000000005,"",{"$f":"IF(B687<>\"\",IF(K687=\"\",J686,IF((H686-J686)/H686<-0.5,MAX(H686,Summary!$D$7),MAX(H686,J686))),\"\")","v":""},"",""]
[687,null,null,{"$f":"IF(B688<>\"\",IF(B688<>B687,ROUND(MIN(1%*J688+(J688-H687)/Summary!$I$7,5%*H687),2),D687),0)","v":0},null,null,0,1416.7000000000005,"",{"$f":"IF(B688<>\"\",IF(K688=\"\",J687,IF((H687-J687)/H687<-0.5,MAX(H687,Summary!$D$7),MAX(H687,J687))),\"\")","v":""},"",""]
[688,null,null,{"$f":"IF(B689<>\"\",IF(B689<>B688,ROUND(MIN(1%*J689+(J689-H688)/Summary!$I$7,5%*H688),2),D688),0)","v":0},null,null,0,1416.7000000000005,"",{"$f":"IF(B689<>\"\",IF(K689=\"\",J688,IF((H688-J688)/H688<-0.5,MAX(H688,Summary!$D$7),MAX(H688,J688))),\"\")","v":""},"",""]
[689,null,null,{"$f":"IF(B690<>\"\",IF(B690<>B689,ROUND(MIN(1%*J690+(J690-H689)/Summary!$I$7,5%*H689),2),D689),0)","v":0},null,null,0,1416.7000000000005,"",{"$f":"IF(B690<>\"\",IF(K690=\"\",J689,IF((H689-J689)/H689<-0.5,MAX(H689,Summary!$D$7),MAX(H689,J689))),\"\")","v":""},"",""]
[690,null,null,{"$f":"IF(B691<>\"\",IF(B691<>B690,ROUND(MIN(1%*J691+(J691-H690)/Summary!$I$7,5%*H690),2),D690),0)","v":0},null,null,0,1416.7000000000005,"",{"$f":"IF(B691<>\"\",IF(K691=\"\",J690,IF((H690-J690)/H690<-0.5,MAX(H690,Summary!$D$7),MAX(H690,J690))),\"\")","v":""},"",""]
[691,null,null,{"$f":"IF(B692<>\"\",IF(B692<>B691,ROUND(MIN(1%*J692+(J692-H691)/Summary!$I$7,5%*H691),2),D691),0)","v":0},null,null,0,1416.7000000000005,"",{"$f":"IF(B692<>\"\",IF(K692=\"\",J691,IF((H691-J691)/H691<-0.5,MAX(H691,Summary!$D$7),MAX(H691,J691))),\"\")","v":""},"",""]
[692,null,null,{"$f":"IF(B693<>\"\",IF(B693<>B692,ROUND(MIN(1%*J693+(J693-H692)/Summary!$I$7,5%*H692),2),D692),0)","v":0},null,null,0,1416.7000000000005,"",{"$f":"IF(B693<>\"\",IF(K693=\"\",J692,IF((H692-J692)/H692<-0.5,MAX(H692,Summary!$D$7),MAX(H692,J692))),\"\")","v":""},"",""]
[693,null,null,{"$f":"IF(B694<>\"\",IF(B694<>B693,ROUND(MIN(1%*J694+(J694-H693)/Summary!$I$7,5%*H693),2),D693),0)","v":0},null,null,0,1416.7000000000005,"",{"$f":"IF(B694<>\"\",IF(K694=\"\",J693,IF((H693-J693)/H693<-0.5,MAX(H693,Summary!$D$7),MAX(H693,J693))),\"\")","v":""},"",""]
[694,null,null,{"$f":"IF(B695<>\"\",IF(B695<>B694,ROUND(MIN(1%*J695+(J695-H694)/Summary!$I$7,5%*H694),2),D694),0)","v":0},null,null,0,1416.7000000000005,"",{"$f":"IF(B695<>\"\",IF(K695=\"\",J694,IF((H694-J694)/H694<-0.5,MAX(H694,Summary!$D$7),MAX(H694,J694))),\"\")","v":""},"",""]
[695,null,null,{"$f":"IF(B696<>\"\",IF(B696<>B695,ROUND(MIN(1%*J696+(J696-H695)/Summary!$I$7,5%*H695),2),D695),0)","v":0},null,null,0,1416.7000000000005,"",{"$f":"IF(B696<>\"\",IF(K696=\"\",J695,IF((H695-J695)/H695<-0.5,MAX(H695,Summary!$D$7),MAX(H695,J695))),\"\")","v":""},"",""]
[696,null,null,{"$f":"IF(B697<>\"\",IF(B697<>B696,ROUND(MIN(1%*J697+(J697-H696)/Summary!$I$7,5%*H696),2),D696),0)","v":0},null,null,0,1416.7000000000005,"",{"$f":"IF(B697<>\"\",IF(K697=\"\",J696,IF((H696-J696)/H696<-0.5,MAX(H696,Summary!$D$7),MAX(H696,J696))),\"\")","v":""},"",""]
[697,null,null,{"$f":"IF(B698<>\"\",IF(B698<>B697,ROUND(MIN(1%*J698+(J698-H697)/Summary!$I$7,5%*H697),2),D697),0)","v":0},null,null,0,1416.7000000000005,"",{"$f":"IF(B698<>\"\",IF(K698=\"\",J697,IF((H697-J697)/H697<-0.5,MAX(H697,Summary!$D$7),MAX(H697,J697))),\"\")","v":""},"",""]
[698,null,null,{"$f":"IF(B699<>\"\",IF(B699<>B698,ROUND(MIN(1%*J699+(J699-H698)/Summary!$I$7,5%*H698),2),D698),0)","v":0},null,null,0,1416.7000000000005,"",{"$f":"IF(B699<>\"\",IF(K699=\"\",J698,IF((H698-J698)/H698<-0.5,MAX(H698,Summary!$D$7),MAX(H698,J698))),\"\")","v":""},"",""]
[699,null,null,{"$f":"IF(B700<>\"\",IF(B700<>B699,ROUND(MIN(1%*J700+(J700-H699)/Summary!$I$7,5%*H699),2),D699),0)","v":0},null,null,0,1416.7000000000005,"",{"$f":"IF(B700<>\"\",IF(K700=\"\",J699,IF((H699-J699)/H699<-0.5,MAX(H699,Summary!$D$7),MAX(H699,J699))),\"\")","v":""},"",""]
[700,null,null,{"$f":"IF(B701<>\"\",IF(B701<>B700,ROUND(MIN(1%*J701+(J701-H700)/Summary!$I$7,5%*H700),2),D700),0)","v":0},null,null,0,1416.7000000000005,"",{"$f":"IF(B701<>\"\",IF(K701=\"\",J700,IF((H700-J700)/H700<-0.5,MAX(H700,Summary!$D$7),MAX(H700,J700))),\"\")","v":""},"",""]
[701,null,null,{"$f":"IF(B702<>\"\",IF(B702<>B701,ROUND(MIN(1%*J702+(J702-H701)/Summary!$I$7,5%*H701),2),D701),0)","v":0},null,null,0,1416.7000000000005,"",{"$f":"IF(B702<>\"\",IF(K702=\"\",J701,IF((H701-J701)/H701<-0.5,MAX(H701,Summary!$D$7),MAX(H701,J701))),\"\")","v":""},"",""]
[702,null,null,{"$f":"IF(B703<>\"\",IF(B703<>B702,ROUND(MIN(1%*J703+(J703-H702)/Summary!$I$7,5%*H702),2),D702),0)","v":0},null,null,0,1416.7000000000005,"",{"$f":"IF(B703<>\"\",IF(K703=\"\",J702,IF((H702-J702)/H702<-0.5,MAX(H702,Summary!$D$7),MAX(H702,J702))),\"\")","v":""},"",""]
[703,null,null,{"$f":"IF(B704<>\"\",IF(B704<>B703,ROUND(MIN(1%*J704+(J704-H703)/Summary!$I$7,5%*H703),2),D703),0)","v":0},null,null,0,1416.7000000000005,"",{"$f":"IF(B704<>\"\",IF(K704=\"\",J703,IF((H703-J703)/H703<-0.5,MAX(H703,Summary!$D$7),MAX(H703,J703))),\"\")","v":""},"",""]
[704,null,null,{"$f":"IF(B705<>\"\",IF(B705<>B704,ROUND(MIN(1%*J705+(J705-H704)/Summary!$I$7,5%*H704),2),D704),0)","v":0},null,null,0,1416.7000000000005,"",{"$f":"IF(B705<>\"\",IF(K705=\"\",J704,IF((H704-J704)/H704<-0.5,MAX(H704,Summary!$D$7),MAX(H704,J704))),\"\")","v":""},"",""]
[705,null,null,{"$f":"IF(B706<>\"\",IF(B706<>B705,ROUND(MIN(1%*J706+(J706-H705)/Summary!$I$7,5%*H705),2),D705),0)","v":0},null,null,{"$f":"IF(F706=\"Y\",D706*(E706-1),IF(F706=\"N\",-D706,0))","v":0},1416.7000000000005,"",{"$f":"IF(B706<>\"\",IF(K706=\"\",J705,IF((H705-J705)/H705<-0.5,MAX(H705,Summary!$D$7),MAX(H705,J705))),\"\")","v":""},"",""]
[706,null,null,{"$f":"IF(B707<>\"\",IF(B707<>B706,ROUND(MIN(1%*J707+(J707-H706)/Summary!$I$7,5%*H706),2),D706),0)","v":0},null,null,0,{"$f":"SUM(H706,G707)","v":1416.7000000000005},{"$f":"IF(B707<>\"\",IF(B707<>B706,1,I706+1),\"\")","v":""},{"$f":"IF(B707<>\"\",IF(K707=\"\",J706,IF((H706-J706)/H706<-0.5,MAX(H706,Summary!$D$7),MAX(H706,J706))),\"\")","v":""},{"$f":"IF(AND(B707<>\"\",B707<>B706),\"Y\",\"\")","v":""},""]
[707,null,null,{"$f":"IF(B708<>\"\",IF(B708<>B707,ROUND(MIN(1%*J708+(J708-H707)/Summary!$I$7,5%*H707),2),D707),0)","v":0},null,null,0,1416.7000000000005,"",{"$f":"IF(B708<>\"\",IF(K708=\"\",J707,IF((H707-J707)/H707<-0.5,MAX(H707,Summary!$D$7),MAX(H707,J707))),\"\")","v":""},"",{"$f":"IF(D708<>0,D708/H708,\"\")","v":""}]
[708,null,null,{"$f":"IF(B709<>\"\",IF(B709<>B708,ROUND(MIN(1%*J709+(J709-H708)/Summary!$I$7,5%*H708),2),D708),0)","v":0},null,null,0,1416.7000000000005,"",{"$f":"IF(B709<>\"\",IF(K709=\"\",J708,IF((H708-J708)/H708<-0.5,MAX(H708,Summary!$D$7),MAX(H708,J708))),\"\")","v":""},"",""]
[709,null,null,{"$f":"IF(B710<>\"\",IF(B710<>B709,ROUND(MIN(1%*J710+(J710-H709)/Summary!$I$7,5%*H709),2),D709),0)","v":0},null,null,0,1416.7000000000005,"",{"$f":"IF(B710<>\"\",IF(K710=\"\",J709,IF((H709-J709)/H709<-0.5,MAX(H709,Summary!$D$7),MAX(H709,J709))),\"\")","v":""},"",""]
[710,null,null,{"$f":"IF(B711<>\"\",IF(B711<>B710,ROUND(MIN(1%*J711+(J711-H710)/Summary!$I$7,5%*H710),2),D710),0)","v":0},null,null,0,1416.7000000000005,"",{"$f":"IF(B711<>\"\",IF(K711=\"\",J710,IF((H710-J710)/H710<-0.5,MAX(H710,Summary!$D$7),MAX(H710,J710))),\"\")","v":""},"",""]
[711,null,null,{"$f":"IF(B712<>\"\",IF(B712<>B711,ROUND(MIN(1%*J712+(J712-H711)/Summary!$I$7,5%*H711),2),D711),0)","v":0},null,null,0,1416.7000000000005,"",{"$f":"IF(B712<>\"\",IF(K712=\"\",J711,IF((H711-J711)/H711<-0.5,MAX(H711,Summary!$D$7),MAX(H711,J711))),\"\")","v":""},"",""]
[712,null,null,{"$f":"IF(B713<>\"\",IF(B713<>B712,ROUND(MIN(1%*J713+(J713-H712)/Summary!$I$7,5%*H712),2),D712),0)","v":0},null,null,0,1416.7000000000005,"",{"$f":"IF(B713<>\"\",IF(K713=\"\",J712,IF((H712-J712)/H712<-0.5,MAX(H712,Summary!$D$7),MAX(H712,J712))),\"\")","v":""},"",""]
[713,null,null,{"$f":"IF(B714<>\"\",IF(B714<>B713,ROUND(MIN(1%*J714+(J714-H713)/Summary!$I$7,5%*H713),2),D713),0)","v":0},null,null,0,1416.7000000000005,"",{"$f":"IF(B714<>\"\",IF(K714=\"\",J713,IF((H713-J713)/H713<-0.5,MAX(H713,Summary!$D$7),MAX(H713,J713))),\"\")","v":""},"",""]
[714,null,null,{"$f":"IF(B715<>\"\",IF(B715<>B714,ROUND(MIN(1%*J715+(J715-H714)/Summary!$I$7,5%*H714),2),D714),0)","v":0},null,null,0,1416.7000000000005,"",{"$f":"IF(B715<>\"\",IF(K715=\"\",J714,IF((H714-J714)/H714<-0.5,MAX(H714,Summary!$D$7),MAX(H714,J714))),\"\")","v":""},"",""]
[715,null,null,{"$f":"IF(B716<>\"\",IF(B716<>B715,ROUND(MIN(1%*J716+(J716-H715)/Summary!$I$7,5%*H715),2),D715),0)","v":0},null,null,0,1416.7000000000005,"",{"$f":"IF(B716<>\"\",IF(K716=\"\",J715,IF((H715-J715)/H715<-0.5,MAX(H715,Summary!$D$7),MAX(H715,J715))),\"\")","v":""},"",""]
[716,null,null,{"$f":"IF(B717<>\"\",IF(B717<>B716,ROUND(MIN(1%*J717+(J717-H716)/Summary!$I$7,5%*H716),2),D716),0)","v":0},null,null,0,1416.7000000000005,"",{"$f":"IF(B717<>\"\",IF(K717=\"\",J716,IF((H716-J716)/H716<-0.5,MAX(H716,Summary!$D$7),MAX(H716,J716))),\"\")","v":""},"",""]
[717,null,null,{"$f":"IF(B718<>\"\",IF(B718<>B717,ROUND(MIN(1%*J718+(J718-H717)/Summary!$I$7,5%*H717),2),D717),0)","v":0},null,null,0,1416.7000000000005,"",{"$f":"IF(B718<>\"\",IF(K718=\"\",J717,IF((H717-J717)/H717<-0.5,MAX(H717,Summary!$D$7),MAX(H717,J717))),\"\")","v":""},"",""]
[718,null,null,{"$f":"IF(B719<>\"\",IF(B719<>B718,ROUND(MIN(1%*J719+(J719-H718)/Summary!$I$7,5%*H718),2),D718),0)","v":0},null,null,0,1416.7000000000005,"",{"$f":"IF(B719<>\"\",IF(K719=\"\",J718,IF((H718-J718)/H718<-0.5,MAX(H718,Summary!$D$7),MAX(H718,J718))),\"\")","v":""},"",""]
[719,null,null,{"$f":"IF(B720<>\"\",IF(B720<>B719,ROUND(MIN(1%*J720+(J720-H719)/Summary!$I$7,5%*H719),2),D719),0)","v":0},null,null,0,1416.7000000000005,"",{"$f":"IF(B720<>\"\",IF(K720=\"\",J719,IF((H719-J719)/H719<-0.5,MAX(H719,Summary!$D$7),MAX(H719,J719))),\"\")","v":""},"",""]
[720,null,null,{"$f":"IF(B721<>\"\",IF(B721<>B720,ROUND(MIN(1%*J721+(J721-H720)/Summary!$I$7,5%*H720),2),D720),0)","v":0},null,null,0,1416.7000000000005,"",{"$f":"IF(B721<>\"\",IF(K721=\"\",J720,IF((H720-J720)/H720<-0.5,MAX(H720,Summary!$D$7),MAX(H720,J720))),\"\")","v":""},"",""]
[721,null,null,{"$f":"IF(B722<>\"\",IF(B722<>B721,ROUND(MIN(1%*J722+(J722-H721)/Summary!$I$7,5%*H721),2),D721),0)","v":0},null,null,0,1416.7000000000005,"",{"$f":"IF(B722<>\"\",IF(K722=\"\",J721,IF((H721-J721)/H721<-0.5,MAX(H721,Summary!$D$7),MAX(H721,J721))),\"\")","v":""},"",""]
[722,null,null,{"$f":"IF(B723<>\"\",IF(B723<>B722,ROUND(MIN(1%*J723+(J723-H722)/Summary!$I$7,5%*H722),2),D722),0)","v":0},null,null,0,1416.7000000000005,"",{"$f":"IF(B723<>\"\",IF(K723=\"\",J722,IF((H722-J722)/H722<-0.5,MAX(H722,Summary!$D$7),MAX(H722,J722))),\"\")","v":""},"",""]
[723,null,null,{"$f":"IF(B724<>\"\",IF(B724<>B723,ROUND(MIN(1%*J724+(J724-H723)/Summary!$I$7,5%*H723),2),D723),0)","v":0},null,null,0,1416.7000000000005,"",{"$f":"IF(B724<>\"\",IF(K724=\"\",J723,IF((H723-J723)/H723<-0.5,MAX(H723,Summary!$D$7),MAX(H723,J723))),\"\")","v":""},"",""]
[724,null,null,{"$f":"IF(B725<>\"\",IF(B725<>B724,ROUND(MIN(1%*J725+(J725-H724)/Summary!$I$7,5%*H724),2),D724),0)","v":0},null,null,0,1416.7000000000005,"",{"$f":"IF(B725<>\"\",IF(K725=\"\",J724,IF((H724-J724)/H724<-0.5,MAX(H724,Summary!$D$7),MAX(H724,J724))),\"\")","v":""},"",""]
[725,null,null,{"$f":"IF(B726<>\"\",IF(B726<>B725,ROUND(MIN(1%*J726+(J726-H725)/Summary!$I$7,5%*H725),2),D725),0)","v":0},null,null,0,1416.7000000000005,"",{"$f":"IF(B726<>\"\",IF(K726=\"\",J725,IF((H725-J725)/H725<-0.5,MAX(H725,Summary!$D$7),MAX(H725,J725))),\"\")","v":""},"",""]
[726,null,null,{"$f":"IF(B727<>\"\",IF(B727<>B726,ROUND(MIN(1%*J727+(J727-H726)/Summary!$I$7,5%*H726),2),D726),0)","v":0},null,null,0,1416.7000000000005,"",{"$f":"IF(B727<>\"\",IF(K727=\"\",J726,IF((H726-J726)/H726<-0.5,MAX(H726,Summary!$D$7),MAX(H726,J726))),\"\")","v":""},"",""]
[727,null,null,{"$f":"IF(B728<>\"\",IF(B728<>B727,ROUND(MIN(1%*J728+(J728-H727)/Summary!$I$7,5%*H727),2),D727),0)","v":0},null,null,0,1416.7000000000005,"",{"$f":"IF(B728<>\"\",IF(K728=\"\",J727,IF((H727-J727)/H727<-0.5,MAX(H727,Summary!$D$7),MAX(H727,J727))),\"\")","v":""},"",""]
[728,null,null,{"$f":"IF(B729<>\"\",IF(B729<>B728,ROUND(MIN(1%*J729+(J729-H728)/Summary!$I$7,5%*H728),2),D728),0)","v":0},null,null,0,1416.7000000000005,"",{"$f":"IF(B729<>\"\",IF(K729=\"\",J728,IF((H728-J728)/H728<-0.5,MAX(H728,Summary!$D$7),MAX(H728,J728))),\"\")","v":""},"",""]
[729,null,null,{"$f":"IF(B730<>\"\",IF(B730<>B729,ROUND(MIN(1%*J730+(J730-H729)/Summary!$I$7,5%*H729),2),D729),0)","v":0},null,null,0,1416.7000000000005,"",{"$f":"IF(B730<>\"\",IF(K730=\"\",J729,IF((H729-J729)/H729<-0.5,MAX(H729,Summary!$D$7),MAX(H729,J729))),\"\")","v":""},"",""]
[730,null,null,{"$f":"IF(B731<>\"\",IF(B731<>B730,ROUND(MIN(1%*J731+(J731-H730)/Summary!$I$7,5%*H730),2),D730),0)","v":0},null,null,0,1416.7000000000005,"",{"$f":"IF(B731<>\"\",IF(K731=\"\",J730,IF((H730-J730)/H730<-0.5,MAX(H730,Summary!$D$7),MAX(H730,J730))),\"\")","v":""},"",""]
[731,null,null,{"$f":"IF(B732<>\"\",IF(B732<>B731,ROUND(MIN(1%*J732+(J732-H731)/Summary!$I$7,5%*H731),2),D731),0)","v":0},null,null,0,1416.7000000000005,"",{"$f":"IF(B732<>\"\",IF(K732=\"\",J731,IF((H731-J731)/H731<-0.5,MAX(H731,Summary!$D$7),MAX(H731,J731))),\"\")","v":""},"",""]
[732,null,null,{"$f":"IF(B733<>\"\",IF(B733<>B732,ROUND(MIN(1%*J733+(J733-H732)/Summary!$I$7,5%*H732),2),D732),0)","v":0},null,null,0,1416.7000000000005,"",{"$f":"IF(B733<>\"\",IF(K733=\"\",J732,IF((H732-J732)/H732<-0.5,MAX(H732,Summary!$D$7),MAX(H732,J732))),\"\")","v":""},"",""]
[733,null,null,{"$f":"IF(B734<>\"\",IF(B734<>B733,ROUND(MIN(1%*J734+(J734-H733)/Summary!$I$7,5%*H733),2),D733),0)","v":0},null,null,0,1416.7000000000005,"",{"$f":"IF(B734<>\"\",IF(K734=\"\",J733,IF((H733-J733)/H733<-0.5,MAX(H733,Summary!$D$7),MAX(H733,J733))),\"\")","v":""},"",""]
[734,null,null,{"$f":"IF(B735<>\"\",IF(B735<>B734,ROUND(MIN(1%*J735+(J735-H734)/Summary!$I$7,5%*H734),2),D734),0)","v":0},null,null,0,1416.7000000000005,"",{"$f":"IF(B735<>\"\",IF(K735=\"\",J734,IF((H734-J734)/H734<-0.5,MAX(H734,Summary!$D$7),MAX(H734,J734))),\"\")","v":""},"",""]
[735,null,null,{"$f":"IF(B736<>\"\",IF(B736<>B735,ROUND(MIN(1%*J736+(J736-H735)/Summary!$I$7,5%*H735),2),D735),0)","v":0},null,null,0,1416.7000000000005,"",{"$f":"IF(B736<>\"\",IF(K736=\"\",J735,IF((H735-J735)/H735<-0.5,MAX(H735,Summary!$D$7),MAX(H735,J735))),\"\")","v":""},"",""]
[736,null,null,{"$f":"IF(B737<>\"\",IF(B737<>B736,ROUND(MIN(1%*J737+(J737-H736)/Summary!$I$7,5%*H736),2),D736),0)","v":0},null,null,0,1416.7000000000005,"",{"$f":"IF(B737<>\"\",IF(K737=\"\",J736,IF((H736-J736)/H736<-0.5,MAX(H736,Summary!$D$7),MAX(H736,J736))),\"\")","v":""},"",""]
[737,null,null,{"$f":"IF(B738<>\"\",IF(B738<>B737,ROUND(MIN(1%*J738+(J738-H737)/Summary!$I$7,5%*H737),2),D737),0)","v":0},null,null,0,1416.7000000000005,"",{"$f":"IF(B738<>\"\",IF(K738=\"\",J737,IF((H737-J737)/H737<-0.5,MAX(H737,Summary!$D$7),MAX(H737,J737))),\"\")","v":""},"",""]
[738,null,null,{"$f":"IF(B739<>\"\",IF(B739<>B738,ROUND(MIN(1%*J739+(J739-H738)/Summary!$I$7,5%*H738),2),D738),0)","v":0},null,null,0,1416.7000000000005,"",{"$f":"IF(B739<>\"\",IF(K739=\"\",J738,IF((H738-J738)/H738<-0.5,MAX(H738,Summary!$D$7),MAX(H738,J738))),\"\")","v":""},"",""]
[739,null,null,{"$f":"IF(B740<>\"\",IF(B740<>B739,ROUND(MIN(1%*J740+(J740-H739)/Summary!$I$7,5%*H739),2),D739),0)","v":0},null,null,0,1416.7000000000005,"",{"$f":"IF(B740<>\"\",IF(K740=\"\",J739,IF((H739-J739)/H739<-0.5,MAX(H739,Summary!$D$7),MAX(H739,J739))),\"\")","v":""},"",""]
[740,null,null,{"$f":"IF(B741<>\"\",IF(B741<>B740,ROUND(MIN(1%*J741+(J741-H740)/Summary!$I$7,5%*H740),2),D740),0)","v":0},null,null,0,1416.7000000000005,"",{"$f":"IF(B741<>\"\",IF(K741=\"\",J740,IF((H740-J740)/H740<-0.5,MAX(H740,Summary!$D$7),MAX(H740,J740))),\"\")","v":""},"",""]
[741,null,null,{"$f":"IF(B742<>\"\",IF(B742<>B741,ROUND(MIN(1%*J742+(J742-H741)/Summary!$I$7,5%*H741),2),D741),0)","v":0},null,null,0,1416.7000000000005,"",{"$f":"IF(B742<>\"\",IF(K742=\"\",J741,IF((H741-J741)/H741<-0.5,MAX(H741,Summary!$D$7),MAX(H741,J741))),\"\")","v":""},"",""]
[742,null,null,{"$f":"IF(B743<>\"\",IF(B743<>B742,ROUND(MIN(1%*J743+(J743-H742)/Summary!$I$7,5%*H742),2),D742),0)","v":0},null,null,0,1416.7000000000005,"",{"$f":"IF(B743<>\"\",IF(K743=\"\",J742,IF((H742-J742)/H742<-0.5,MAX(H742,Summary!$D$7),MAX(H742,J742))),\"\")","v":""},"",""]
[743,null,null,{"$f":"IF(B744<>\"\",IF(B744<>B743,ROUND(MIN(1%*J744+(J744-H743)/Summary!$I$7,5%*H743),2),D743),0)","v":0},null,null,0,1416.7000000000005,"",{"$f":"IF(B744<>\"\",IF(K744=\"\",J743,IF((H743-J743)/H743<-0.5,MAX(H743,Summary!$D$7),MAX(H743,J743))),\"\")","v":""},"",""]
[744,null,null,{"$f":"IF(B745<>\"\",IF(B745<>B744,ROUND(MIN(1%*J745+(J745-H744)/Summary!$I$7,5%*H744),2),D744),0)","v":0},null,null,0,1416.7000000000005,"",{"$f":"IF(B745<>\"\",IF(K745=\"\",J744,IF((H744-J744)/H744<-0.5,MAX(H744,Summary!$D$7),MAX(H744,J744))),\"\")","v":""},"",""]
[745,null,null,{"$f":"IF(B746<>\"\",IF(B746<>B745,ROUND(MIN(1%*J746+(J746-H745)/Summary!$I$7,5%*H745),2),D745),0)","v":0},null,null,0,1416.7000000000005,"",{"$f":"IF(B746<>\"\",IF(K746=\"\",J745,IF((H745-J745)/H745<-0.5,MAX(H745,Summary!$D$7),MAX(H745,J745))),\"\")","v":""},"",""]
[746,null,null,{"$f":"IF(B747<>\"\",IF(B747<>B746,ROUND(MIN(1%*J747+(J747-H746)/Summary!$I$7,5%*H746),2),D746),0)","v":0},null,null,0,1416.7000000000005,"",{"$f":"IF(B747<>\"\",IF(K747=\"\",J746,IF((H746-J746)/H746<-0.5,MAX(H746,Summary!$D$7),MAX(H746,J746))),\"\")","v":""},"",""]
[747,null,null,{"$f":"IF(B748<>\"\",IF(B748<>B747,ROUND(MIN(1%*J748+(J748-H747)/Summary!$I$7,5%*H747),2),D747),0)","v":0},null,null,0,1416.7000000000005,"",{"$f":"IF(B748<>\"\",IF(K748=\"\",J747,IF((H747-J747)/H747<-0.5,MAX(H747,Summary!$D$7),MAX(H747,J747))),\"\")","v":""},"",""]
[748,null,null,{"$f":"IF(B749<>\"\",IF(B749<>B748,ROUND(MIN(1%*J749+(J749-H748)/Summary!$I$7,5%*H748),2),D748),0)","v":0},null,null,0,1416.7000000000005,"",{"$f":"IF(B749<>\"\",IF(K749=\"\",J748,IF((H748-J748)/H748<-0.5,MAX(H748,Summary!$D$7),MAX(H748,J748))),\"\")","v":""},"",""]
[749,null,null,{"$f":"IF(B750<>\"\",IF(B750<>B749,ROUND(MIN(1%*J750+(J750-H749)/Summary!$I$7,5%*H749),2),D749),0)","v":0},null,null,0,1416.7000000000005,"",{"$f":"IF(B750<>\"\",IF(K750=\"\",J749,IF((H749-J749)/H749<-0.5,MAX(H749,Summary!$D$7),MAX(H749,J749))),\"\")","v":""},"",""]
[750,null,null,{"$f":"IF(B751<>\"\",IF(B751<>B750,ROUND(MIN(1%*J751+(J751-H750)/Summary!$I$7,5%*H750),2),D750),0)","v":0},null,null,0,1416.7000000000005,"",{"$f":"IF(B751<>\"\",IF(K751=\"\",J750,IF((H750-J750)/H750<-0.5,MAX(H750,Summary!$D$7),MAX(H750,J750))),\"\")","v":""},"",""]
[751,null,null,{"$f":"IF(B752<>\"\",IF(B752<>B751,ROUND(MIN(1%*J752+(J752-H751)/Summary!$I$7,5%*H751),2),D751),0)","v":0},null,null,0,1416.7000000000005,"",{"$f":"IF(B752<>\"\",IF(K752=\"\",J751,IF((H751-J751)/H751<-0.5,MAX(H751,Summary!$D$7),MAX(H751,J751))),\"\")","v":""},"",""]
[752,null,null,{"$f":"IF(B753<>\"\",IF(B753<>B752,ROUND(MIN(1%*J753+(J753-H752)/Summary!$I$7,5%*H752),2),D752),0)","v":0},null,null,0,1416.7000000000005,"",{"$f":"IF(B753<>\"\",IF(K753=\"\",J752,IF((H752-J752)/H752<-0.5,MAX(H752,Summary!$D$7),MAX(H752,J752))),\"\")","v":""},"",""]
[753,null,null,{"$f":"IF(B754<>\"\",IF(B754<>B753,ROUND(MIN(1%*J754+(J754-H753)/Summary!$I$7,5%*H753),2),D753),0)","v":0},null,null,0,1416.7000000000005,"",{"$f":"IF(B754<>\"\",IF(K754=\"\",J753,IF((H753-J753)/H753<-0.5,MAX(H753,Summary!$D$7),MAX(H753,J753))),\"\")","v":""},"",""]
[754,null,null,{"$f":"IF(B755<>\"\",IF(B755<>B754,ROUND(MIN(1%*J755+(J755-H754)/Summary!$I$7,5%*H754),2),D754),0)","v":0},null,null,0,1416.7000000000005,"",{"$f":"IF(B755<>\"\",IF(K755=\"\",J754,IF((H754-J754)/H754<-0.5,MAX(H754,Summary!$D$7),MAX(H754,J754))),\"\")","v":""},"",""]
[755,null,null,{"$f":"IF(B756<>\"\",IF(B756<>B755,ROUND(MIN(1%*J756+(J756-H755)/Summary!$I$7,5%*H755),2),D755),0)","v":0},null,null,0,1416.7000000000005,"",{"$f":"IF(B756<>\"\",IF(K756=\"\",J755,IF((H755-J755)/H755<-0.5,MAX(H755,Summary!$D$7),MAX(H755,J755))),\"\")","v":""},"",""]
[756,null,null,{"$f":"IF(B757<>\"\",IF(B757<>B756,ROUND(MIN(1%*J757+(J757-H756)/Summary!$I$7,5%*H756),2),D756),0)","v":0},null,null,0,1416.7000000000005,"",{"$f":"IF(B757<>\"\",IF(K757=\"\",J756,IF((H756-J756)/H756<-0.5,MAX(H756,Summary!$D$7),MAX(H756,J756))),\"\")","v":""},"",""]
[757,null,null,{"$f":"IF(B758<>\"\",IF(B758<>B757,ROUND(MIN(1%*J758+(J758-H757)/Summary!$I$7,5%*H757),2),D757),0)","v":0},null,null,0,1416.7000000000005,"",{"$f":"IF(B758<>\"\",IF(K758=\"\",J757,IF((H757-J757)/H757<-0.5,MAX(H757,Summary!$D$7),MAX(H757,J757))),\"\")","v":""},"",""]
[758,null,null,{"$f":"IF(B759<>\"\",IF(B759<>B758,ROUND(MIN(1%*J759+(J759-H758)/Summary!$I$7,5%*H758),2),D758),0)","v":0},null,null,0,1416.7000000000005,"",{"$f":"IF(B759<>\"\",IF(K759=\"\",J758,IF((H758-J758)/H758<-0.5,MAX(H758,Summary!$D$7),MAX(H758,J758))),\"\")","v":""},"",""]
[759,null,null,{"$f":"IF(B760<>\"\",IF(B760<>B759,ROUND(MIN(1%*J760+(J760-H759)/Summary!$I$7,5%*H759),2),D759),0)","v":0},null,null,0,1416.7000000000005,"",{"$f":"IF(B760<>\"\",IF(K760=\"\",J759,IF((H759-J759)/H759<-0.5,MAX(H759,Summary!$D$7),MAX(H759,J759))),\"\")","v":""},"",""]
[760,null,null,{"$f":"IF(B761<>\"\",IF(B761<>B760,ROUND(MIN(1%*J761+(J761-H760)/Summary!$I$7,5%*H760),2),D760),0)","v":0},null,null,0,1416.7000000000005,"",{"$f":"IF(B761<>\"\",IF(K761=\"\",J760,IF((H760-J760)/H760<-0.5,MAX(H760,Summary!$D$7),MAX(H760,J760))),\"\")","v":""},"",""]
[761,null,null,{"$f":"IF(B762<>\"\",IF(B762<>B761,ROUND(MIN(1%*J762+(J762-H761)/Summary!$I$7,5%*H761),2),D761),0)","v":0},null,null,0,1416.7000000000005,"",{"$f":"IF(B762<>\"\",IF(K762=\"\",J761,IF((H761-J761)/H761<-0.5,MAX(H761,Summary!$D$7),MAX(H761,J761))),\"\")","v":""},"",""]
[762,null,null,{"$f":"IF(B763<>\"\",IF(B763<>B762,ROUND(MIN(1%*J763+(J763-H762)/Summary!$I$7,5%*H762),2),D762),0)","v":0},null,null,0,1416.7000000000005,"",{"$f":"IF(B763<>\"\",IF(K763=\"\",J762,IF((H762-J762)/H762<-0.5,MAX(H762,Summary!$D$7),MAX(H762,J762))),\"\")","v":""},"",""]
[763,null,null,{"$f":"IF(B764<>\"\",IF(B764<>B763,ROUND(MIN(1%*J764+(J764-H763)/Summary!$I$7,5%*H763),2),D763),0)","v":0},null,null,0,1416.7000000000005,"",{"$f":"IF(B764<>\"\",IF(K764=\"\",J763,IF((H763-J763)/H763<-0.5,MAX(H763,Summary!$D$7),MAX(H763,J763))),\"\")","v":""},"",""]
[764,null,null,{"$f":"IF(B765<>\"\",IF(B765<>B764,ROUND(MIN(1%*J765+(J765-H764)/Summary!$I$7,5%*H764),2),D764),0)","v":0},null,null,0,1416.7000000000005,"",{"$f":"IF(B765<>\"\",IF(K765=\"\",J764,IF((H764-J764)/H764<-0.5,MAX(H764,Summary!$D$7),MAX(H764,J764))),\"\")","v":""},"",""]
[765,null,null,{"$f":"IF(B766<>\"\",IF(B766<>B765,ROUND(MIN(1%*J766+(J766-H765)/Summary!$I$7,5%*H765),2),D765),0)","v":0},null,null,0,1416.7000000000005,"",{"$f":"IF(B766<>\"\",IF(K766=\"\",J765,IF((H765-J765)/H765<-0.5,MAX(H765,Summary!$D$7),MAX(H765,J765))),\"\")","v":""},"",""]
[766,null,null,{"$f":"IF(B767<>\"\",IF(B767<>B766,ROUND(MIN(1%*J767+(J767-H766)/Summary!$I$7,5%*H766),2),D766),0)","v":0},null,null,0,1416.7000000000005,"",{"$f":"IF(B767<>\"\",IF(K767=\"\",J766,IF((H766-J766)/H766<-0.5,MAX(H766,Summary!$D$7),MAX(H766,J766))),\"\")","v":""},"",""]
[767,null,null,{"$f":"IF(B768<>\"\",IF(B768<>B767,ROUND(MIN(1%*J768+(J768-H767)/Summary!$I$7,5%*H767),2),D767),0)","v":0},null,null,0,1416.7000000000005,"",{"$f":"IF(B768<>\"\",IF(K768=\"\",J767,IF((H767-J767)/H767<-0.5,MAX(H767,Summary!$D$7),MAX(H767,J767))),\"\")","v":""},"",""]
[768,null,null,{"$f":"IF(B769<>\"\",IF(B769<>B768,ROUND(MIN(1%*J769+(J769-H768)/Summary!$I$7,5%*H768),2),D768),0)","v":0},null,null,0,1416.7000000000005,"",{"$f":"IF(B769<>\"\",IF(K769=\"\",J768,IF((H768-J768)/H768<-0.5,MAX(H768,Summary!$D$7),MAX(H768,J768))),\"\")","v":""},"",""]
[769,null,null,{"$f":"IF(B770<>\"\",IF(B770<>B769,ROUND(MIN(1%*J770+(J770-H769)/Summary!$I$7,5%*H769),2),D769),0)","v":0},null,null,{"$f":"IF(F770=\"Y\",D770*(E770-1),IF(F770=\"N\",-D770,0))","v":0},1416.7000000000005,"",{"$f":"IF(B770<>\"\",IF(K770=\"\",J769,IF((H769-J769)/H769<-0.5,MAX(H769,Summary!$D$7),MAX(H769,J769))),\"\")","v":""},"",""]
[770,null,null,{"$f":"IF(B771<>\"\",IF(B771<>B770,ROUND(MIN(1%*J771+(J771-H770)/Summary!$I$7,5%*H770),2),D770),0)","v":0},null,null,0,{"$f":"SUM(H770,G771)","v":1416.7000000000005},{"$f":"IF(B771<>\"\",IF(B771<>B770,1,I770+1),\"\")","v":""},{"$f":"IF(B771<>\"\",IF(K771=\"\",J770,IF((H770-J770)/H770<-0.5,MAX(H770,Summary!$D$7),MAX(H770,J770))),\"\")","v":""},{"$f":"IF(AND(B771<>\"\",B771<>B770),\"Y\",\"\")","v":""},""]
[771,null,null,{"$f":"IF(B772<>\"\",IF(B772<>B771,ROUND(MIN(1%*J772+(J772-H771)/Summary!$I$7,5%*H771),2),D771),0)","v":0},null,null,0,1416.7000000000005,"",{"$f":"IF(B772<>\"\",IF(K772=\"\",J771,IF((H771-J771)/H771<-0.5,MAX(H771,Summary!$D$7),MAX(H771,J771))),\"\")","v":""},"",{"$f":"IF(D772<>0,D772/H772,\"\")","v":""}]
[772,null,null,{"$f":"IF(B773<>\"\",IF(B773<>B772,ROUND(MIN(1%*J773+(J773-H772)/Summary!$I$7,5%*H772),2),D772),0)","v":0},null,null,0,1416.7000000000005,"",{"$f":"IF(B773<>\"\",IF(K773=\"\",J772,IF((H772-J772)/H772<-0.5,MAX(H772,Summary!$D$7),MAX(H772,J772))),\"\")","v":""},"",""]
[773,null,null,{"$f":"IF(B774<>\"\",IF(B774<>B773,ROUND(MIN(1%*J774+(J774-H773)/Summary!$I$7,5%*H773),2),D773),0)","v":0},null,null,0,1416.7000000000005,"",{"$f":"IF(B774<>\"\",IF(K774=\"\",J773,IF((H773-J773)/H773<-0.5,MAX(H773,Summary!$D$7),MAX(H773,J773))),\"\")","v":""},"",""]
[774,null,null,{"$f":"IF(B775<>\"\",IF(B775<>B774,ROUND(MIN(1%*J775+(J775-H774)/Summary!$I$7,5%*H774),2),D774),0)","v":0},null,null,0,1416.7000000000005,"",{"$f":"IF(B775<>\"\",IF(K775=\"\",J774,IF((H774-J774)/H774<-0.5,MAX(H774,Summary!$D$7),MAX(H774,J774))),\"\")","v":""},"",""]
[775,null,null,{"$f":"IF(B776<>\"\",IF(B776<>B775,ROUND(MIN(1%*J776+(J776-H775)/Summary!$I$7,5%*H775),2),D775),0)","v":0},null,null,0,1416.7000000000005,"",{"$f":"IF(B776<>\"\",IF(K776=\"\",J775,IF((H775-J775)/H775<-0.5,MAX(H775,Summary!$D$7),MAX(H775,J775))),\"\")","v":""},"",""]
[776,null,null,{"$f":"IF(B777<>\"\",IF(B777<>B776,ROUND(MIN(1%*J777+(J777-H776)/Summary!$I$7,5%*H776),2),D776),0)","v":0},null,null,0,1416.7000000000005,"",{"$f":"IF(B777<>\"\",IF(K777=\"\",J776,IF((H776-J776)/H776<-0.5,MAX(H776,Summary!$D$7),MAX(H776,J776))),\"\")","v":""},"",""]
[777,null,null,{"$f":"IF(B778<>\"\",IF(B778<>B777,ROUND(MIN(1%*J778+(J778-H777)/Summary!$I$7,5%*H777),2),D777),0)","v":0},null,null,0,1416.7000000000005,"",{"$f":"IF(B778<>\"\",IF(K778=\"\",J777,IF((H777-J777)/H777<-0.5,MAX(H777,Summary!$D$7),MAX(H777,J777))),\"\")","v":""},"",""]
[778,null,null,{"$f":"IF(B779<>\"\",IF(B779<>B778,ROUND(MIN(1%*J779+(J779-H778)/Summary!$I$7,5%*H778),2),D778),0)","v":0},null,null,0,1416.7000000000005,"",{"$f":"IF(B779<>\"\",IF(K779=\"\",J778,IF((H778-J778)/H778<-0.5,MAX(H778,Summary!$D$7),MAX(H778,J778))),\"\")","v":""},"",""]
[779,null,null,{"$f":"IF(B780<>\"\",IF(B780<>B779,ROUND(MIN(1%*J780+(J780-H779)/Summary!$I$7,5%*H779),2),D779),0)","v":0},null,null,0,1416.7000000000005,"",{"$f":"IF(B780<>\"\",IF(K780=\"\",J779,IF((H779-J779)/H779<-0.5,MAX(H779,Summary!$D$7),MAX(H779,J779))),\"\")","v":""},"",""]
[780,null,null,{"$f":"IF(B781<>\"\",IF(B781<>B780,ROUND(MIN(1%*J781+(J781-H780)/Summary!$I$7,5%*H780),2),D780),0)","v":0},null,null,0,1416.7000000000005,"",{"$f":"IF(B781<>\"\",IF(K781=\"\",J780,IF((H780-J780)/H780<-0.5,MAX(H780,Summary!$D$7),MAX(H780,J780))),\"\")","v":""},"",""]
[781,null,null,{"$f":"IF(B782<>\"\",IF(B782<>B781,ROUND(MIN(1%*J782+(J782-H781)/Summary!$I$7,5%*H781),2),D781),0)","v":0},null,null,0,1416.7000000000005,"",{"$f":"IF(B782<>\"\",IF(K782=\"\",J781,IF((H781-J781)/H781<-0.5,MAX(H781,Summary!$D$7),MAX(H781,J781))),\"\")","v":""},"",""]
[782,null,null,{"$f":"IF(B783<>\"\",IF(B783<>B782,ROUND(MIN(1%*J783+(J783-H782)/Summary!$I$7,5%*H782),2),D782),0)","v":0},null,null,0,1416.7000000000005,"",{"$f":"IF(B783<>\"\",IF(K783=\"\",J782,IF((H782-J782)/H782<-0.5,MAX(H782,Summary!$D$7),MAX(H782,J782))),\"\")","v":""},"",""]
[783,null,null,{"$f":"IF(B784<>\"\",IF(B784<>B783,ROUND(MIN(1%*J784+(J784-H783)/Summary!$I$7,5%*H783),2),D783),0)","v":0},null,null,0,1416.7000000000005,"",{"$f":"IF(B784<>\"\",IF(K784=\"\",J783,IF((H783-J783)/H783<-0.5,MAX(H783,Summary!$D$7),MAX(H783,J783))),\"\")","v":""},"",""]
[784,null,null,{"$f":"IF(B785<>\"\",IF(B785<>B784,ROUND(MIN(1%*J785+(J785-H784)/Summary!$I$7,5%*H784),2),D784),0)","v":0},null,null,0,1416.7000000000005,"",{"$f":"IF(B785<>\"\",IF(K785=\"\",J784,IF((H784-J784)/H784<-0.5,MAX(H784,Summary!$D$7),MAX(H784,J784))),\"\")","v":""},"",""]
[785,null,null,{"$f":"IF(B786<>\"\",IF(B786<>B785,ROUND(MIN(1%*J786+(J786-H785)/Summary!$I$7,5%*H785),2),D785),0)","v":0},null,null,0,1416.7000000000005,"",{"$f":"IF(B786<>\"\",IF(K786=\"\",J785,IF((H785-J785)/H785<-0.5,MAX(H785,Summary!$D$7),MAX(H785,J785))),\"\")","v":""},"",""]
[786,null,null,{"$f":"IF(B787<>\"\",IF(B787<>B786,ROUND(MIN(1%*J787+(J787-H786)/Summary!$I$7,5%*H786),2),D786),0)","v":0},null,null,0,1416.7000000000005,"",{"$f":"IF(B787<>\"\",IF(K787=\"\",J786,IF((H786-J786)/H786<-0.5,MAX(H786,Summary!$D$7),MAX(H786,J786))),\"\")","v":""},"",""]
[787,null,null,{"$f":"IF(B788<>\"\",IF(B788<>B787,ROUND(MIN(1%*J788+(J788-H787)/Summary!$I$7,5%*H787),2),D787),0)","v":0},null,null,0,1416.7000000000005,"",{"$f":"IF(B788<>\"\",IF(K788=\"\",J787,IF((H787-J787)/H787<-0.5,MAX(H787,Summary!$D$7),MAX(H787,J787))),\"\")","v":""},"",""]
[788,null,null,{"$f":"IF(B789<>\"\",IF(B789<>B788,ROUND(MIN(1%*J789+(J789-H788)/Summary!$I$7,5%*H788),2),D788),0)","v":0},null,null,0,1416.7000000000005,"",{"$f":"IF(B789<>\"\",IF(K789=\"\",J788,IF((H788-J788)/H788<-0.5,MAX(H788,Summary!$D$7),MAX(H788,J788))),\"\")","v":""},"",""]
[789,null,null,{"$f":"IF(B790<>\"\",IF(B790<>B789,ROUND(MIN(1%*J790+(J790-H789)/Summary!$I$7,5%*H789),2),D789),0)","v":0},null,null,0,1416.7000000000005,"",{"$f":"IF(B790<>\"\",IF(K790=\"\",J789,IF((H789-J789)/H789<-0.5,MAX(H789,Summary!$D$7),MAX(H789,J789))),\"\")","v":""},"",""]
[790,null,null,{"$f":"IF(B791<>\"\",IF(B791<>B790,ROUND(MIN(1%*J791+(J791-H790)/Summary!$I$7,5%*H790),2),D790),0)","v":0},null,null,0,1416.7000000000005,"",{"$f":"IF(B791<>\"\",IF(K791=\"\",J790,IF((H790-J790)/H790<-0.5,MAX(H790,Summary!$D$7),MAX(H790,J790))),\"\")","v":""},"",""]
[791,null,null,{"$f":"IF(B792<>\"\",IF(B792<>B791,ROUND(MIN(1%*J792+(J792-H791)/Summary!$I$7,5%*H791),2),D791),0)","v":0},null,null,0,1416.7000000000005,"",{"$f":"IF(B792<>\"\",IF(K792=\"\",J791,IF((H791-J791)/H791<-0.5,MAX(H791,Summary!$D$7),MAX(H791,J791))),\"\")","v":""},"",""]
[792,null,null,{"$f":"IF(B793<>\"\",IF(B793<>B792,ROUND(MIN(1%*J793+(J793-H792)/Summary!$I$7,5%*H792),2),D792),0)","v":0},null,null,0,1416.7000000000005,"",{"$f":"IF(B793<>\"\",IF(K793=\"\",J792,IF((H792-J792)/H792<-0.5,MAX(H792,Summary!$D$7),MAX(H792,J792))),\"\")","v":""},"",""]
[793,null,null,{"$f":"IF(B794<>\"\",IF(B794<>B793,ROUND(MIN(1%*J794+(J794-H793)/Summary!$I$7,5%*H793),2),D793),0)","v":0},null,null,0,1416.7000000000005,"",{"$f":"IF(B794<>\"\",IF(K794=\"\",J793,IF((H793-J793)/H793<-0.5,MAX(H793,Summary!$D$7),MAX(H793,J793))),\"\")","v":""},"",""]
[794,null,null,{"$f":"IF(B795<>\"\",IF(B795<>B794,ROUND(MIN(1%*J795+(J795-H794)/Summary!$I$7,5%*H794),2),D794),0)","v":0},null,null,0,1416.7000000000005,"",{"$f":"IF(B795<>\"\",IF(K795=\"\",J794,IF((H794-J794)/H794<-0.5,MAX(H794,Summary!$D$7),MAX(H794,J794))),\"\")","v":""},"",""]
[795,null,null,{"$f":"IF(B796<>\"\",IF(B796<>B795,ROUND(MIN(1%*J796+(J796-H795)/Summary!$I$7,5%*H795),2),D795),0)","v":0},null,null,0,1416.7000000000005,"",{"$f":"IF(B796<>\"\",IF(K796=\"\",J795,IF((H795-J795)/H795<-0.5,MAX(H795,Summary!$D$7),MAX(H795,J795))),\"\")","v":""},"",""]
[796,null,null,{"$f":"IF(B797<>\"\",IF(B797<>B796,ROUND(MIN(1%*J797+(J797-H796)/Summary!$I$7,5%*H796),2),D796),0)","v":0},null,null,0,1416.7000000000005,"",{"$f":"IF(B797<>\"\",IF(K797=\"\",J796,IF((H796-J796)/H796<-0.5,MAX(H796,Summary!$D$7),MAX(H796,J796))),\"\")","v":""},"",""]
[797,null,null,{"$f":"IF(B798<>\"\",IF(B798<>B797,ROUND(MIN(1%*J798+(J798-H797)/Summary!$I$7,5%*H797),2),D797),0)","v":0},null,null,0,1416.7000000000005,"",{"$f":"IF(B798<>\"\",IF(K798=\"\",J797,IF((H797-J797)/H797<-0.5,MAX(H797,Summary!$D$7),MAX(H797,J797))),\"\")","v":""},"",""]
[798,null,null,{"$f":"IF(B799<>\"\",IF(B799<>B798,ROUND(MIN(1%*J799+(J799-H798)/Summary!$I$7,5%*H798),2),D798),0)","v":0},null,null,0,1416.7000000000005,"",{"$f":"IF(B799<>\"\",IF(K799=\"\",J798,IF((H798-J798)/H798<-0.5,MAX(H798,Summary!$D$7),MAX(H798,J798))),\"\")","v":""},"",""]
[799,null,null,{"$f":"IF(B800<>\"\",IF(B800<>B799,ROUND(MIN(1%*J800+(J800-H799)/Summary!$I$7,5%*H799),2),D799),0)","v":0},null,null,0,1416.7000000000005,"",{"$f":"IF(B800<>\"\",IF(K800=\"\",J799,IF((H799-J799)/H799<-0.5,MAX(H799,Summary!$D$7),MAX(H799,J799))),\"\")","v":""},"",""]
[800,null,null,{"$f":"IF(B801<>\"\",IF(B801<>B800,ROUND(MIN(1%*J801+(J801-H800)/Summary!$I$7,5%*H800),2),D800),0)","v":0},null,null,0,1416.7000000000005,"",{"$f":"IF(B801<>\"\",IF(K801=\"\",J800,IF((H800-J800)/H800<-0.5,MAX(H800,Summary!$D$7),MAX(H800,J800))),\"\")","v":""},"",""]
[801,null,null,{"$f":"IF(B802<>\"\",IF(B802<>B801,ROUND(MIN(1%*J802+(J802-H801)/Summary!$I$7,5%*H801),2),D801),0)","v":0},null,null,0,1416.7000000000005,"",{"$f":"IF(B802<>\"\",IF(K802=\"\",J801,IF((H801-J801)/H801<-0.5,MAX(H801,Summary!$D$7),MAX(H801,J801))),\"\")","v":""},"",""]
[802,null,null,{"$f":"IF(B803<>\"\",IF(B803<>B802,ROUND(MIN(1%*J803+(J803-H802)/Summary!$I$7,5%*H802),2),D802),0)","v":0},null,null,0,1416.7000000000005,"",{"$f":"IF(B803<>\"\",IF(K803=\"\",J802,IF((H802-J802)/H802<-0.5,MAX(H802,Summary!$D$7),MAX(H802,J802))),\"\")","v":""},"",""]
[803,null,null,{"$f":"IF(B804<>\"\",IF(B804<>B803,ROUND(MIN(1%*J804+(J804-H803)/Summary!$I$7,5%*H803),2),D803),0)","v":0},null,null,0,1416.7000000000005,"",{"$f":"IF(B804<>\"\",IF(K804=\"\",J803,IF((H803-J803)/H803<-0.5,MAX(H803,Summary!$D$7),MAX(H803,J803))),\"\")","v":""},"",""]
[804,null,null,{"$f":"IF(B805<>\"\",IF(B805<>B804,ROUND(MIN(1%*J805+(J805-H804)/Summary!$I$7,5%*H804),2),D804),0)","v":0},null,null,0,1416.7000000000005,"",{"$f":"IF(B805<>\"\",IF(K805=\"\",J804,IF((H804-J804)/H804<-0.5,MAX(H804,Summary!$D$7),MAX(H804,J804))),\"\")","v":""},"",""]
[805,null,null,{"$f":"IF(B806<>\"\",IF(B806<>B805,ROUND(MIN(1%*J806+(J806-H805)/Summary!$I$7,5%*H805),2),D805),0)","v":0},null,null,0,1416.7000000000005,"",{"$f":"IF(B806<>\"\",IF(K806=\"\",J805,IF((H805-J805)/H805<-0.5,MAX(H805,Summary!$D$7),MAX(H805,J805))),\"\")","v":""},"",""]
[806,null,null,{"$f":"IF(B807<>\"\",IF(B807<>B806,ROUND(MIN(1%*J807+(J807-H806)/Summary!$I$7,5%*H806),2),D806),0)","v":0},null,null,0,1416.7000000000005,"",{"$f":"IF(B807<>\"\",IF(K807=\"\",J806,IF((H806-J806)/H806<-0.5,MAX(H806,Summary!$D$7),MAX(H806,J806))),\"\")","v":""},"",""]
[807,null,null,{"$f":"IF(B808<>\"\",IF(B808<>B807,ROUND(MIN(1%*J808+(J808-H807)/Summary!$I$7,5%*H807),2),D807),0)","v":0},null,null,0,1416.7000000000005,"",{"$f":"IF(B808<>\"\",IF(K808=\"\",J807,IF((H807-J807)/H807<-0.5,MAX(H807,Summary!$D$7),MAX(H807,J807))),\"\")","v":""},"",""]
[808,null,null,{"$f":"IF(B809<>\"\",IF(B809<>B808,ROUND(MIN(1%*J809+(J809-H808)/Summary!$I$7,5%*H808),2),D808),0)","v":0},null,null,0,1416.7000000000005,"",{"$f":"IF(B809<>\"\",IF(K809=\"\",J808,IF((H808-J808)/H808<-0.5,MAX(H808,Summary!$D$7),MAX(H808,J808))),\"\")","v":""},"",""]
[809,null,null,{"$f":"IF(B810<>\"\",IF(B810<>B809,ROUND(MIN(1%*J810+(J810-H809)/Summary!$I$7,5%*H809),2),D809),0)","v":0},null,null,0,1416.7000000000005,"",{"$f":"IF(B810<>\"\",IF(K810=\"\",J809,IF((H809-J809)/H809<-0.5,MAX(H809,Summary!$D$7),MAX(H809,J809))),\"\")","v":""},"",""]
[810,null,null,{"$f":"IF(B811<>\"\",IF(B811<>B810,ROUND(MIN(1%*J811+(J811-H810)/Summary!$I$7,5%*H810),2),D810),0)","v":0},null,null,0,1416.7000000000005,"",{"$f":"IF(B811<>\"\",IF(K811=\"\",J810,IF((H810-J810)/H810<-0.5,MAX(H810,Summary!$D$7),MAX(H810,J810))),\"\")","v":""},"",""]
[811,null,null,{"$f":"IF(B812<>\"\",IF(B812<>B811,ROUND(MIN(1%*J812+(J812-H811)/Summary!$I$7,5%*H811),2),D811),0)","v":0},null,null,0,1416.7000000000005,"",{"$f":"IF(B812<>\"\",IF(K812=\"\",J811,IF((H811-J811)/H811<-0.5,MAX(H811,Summary!$D$7),MAX(H811,J811))),\"\")","v":""},"",""]
[812,null,null,{"$f":"IF(B813<>\"\",IF(B813<>B812,ROUND(MIN(1%*J813+(J813-H812)/Summary!$I$7,5%*H812),2),D812),0)","v":0},null,null,0,1416.7000000000005,"",{"$f":"IF(B813<>\"\",IF(K813=\"\",J812,IF((H812-J812)/H812<-0.5,MAX(H812,Summary!$D$7),MAX(H812,J812))),\"\")","v":""},"",""]
[813,null,null,{"$f":"IF(B814<>\"\",IF(B814<>B813,ROUND(MIN(1%*J814+(J814-H813)/Summary!$I$7,5%*H813),2),D813),0)","v":0},null,null,0,1416.7000000000005,"",{"$f":"IF(B814<>\"\",IF(K814=\"\",J813,IF((H813-J813)/H813<-0.5,MAX(H813,Summary!$D$7),MAX(H813,J813))),\"\")","v":""},"",""]
[814,null,null,{"$f":"IF(B815<>\"\",IF(B815<>B814,ROUND(MIN(1%*J815+(J815-H814)/Summary!$I$7,5%*H814),2),D814),0)","v":0},null,null,0,1416.7000000000005,"",{"$f":"IF(B815<>\"\",IF(K815=\"\",J814,IF((H814-J814)/H814<-0.5,MAX(H814,Summary!$D$7),MAX(H814,J814))),\"\")","v":""},"",""]
[815,null,null,{"$f":"IF(B816<>\"\",IF(B816<>B815,ROUND(MIN(1%*J816+(J816-H815)/Summary!$I$7,5%*H815),2),D815),0)","v":0},null,null,0,1416.7000000000005,"",{"$f":"IF(B816<>\"\",IF(K816=\"\",J815,IF((H815-J815)/H815<-0.5,MAX(H815,Summary!$D$7),MAX(H815,J815))),\"\")","v":""},"",""]
[816,null,null,{"$f":"IF(B817<>\"\",IF(B817<>B816,ROUND(MIN(1%*J817+(J817-H816)/Summary!$I$7,5%*H816),2),D816),0)","v":0},null,null,0,1416.7000000000005,"",{"$f":"IF(B817<>\"\",IF(K817=\"\",J816,IF((H816-J816)/H816<-0.5,MAX(H816,Summary!$D$7),MAX(H816,J816))),\"\")","v":""},"",""]
[817,null,null,{"$f":"IF(B818<>\"\",IF(B818<>B817,ROUND(MIN(1%*J818+(J818-H817)/Summary!$I$7,5%*H817),2),D817),0)","v":0},null,null,0,1416.7000000000005,"",{"$f":"IF(B818<>\"\",IF(K818=\"\",J817,IF((H817-J817)/H817<-0.5,MAX(H817,Summary!$D$7),MAX(H817,J817))),\"\")","v":""},"",""]
[818,null,null,{"$f":"IF(B819<>\"\",IF(B819<>B818,ROUND(MIN(1%*J819+(J819-H818)/Summary!$I$7,5%*H818),2),D818),0)","v":0},null,null,0,1416.7000000000005,"",{"$f":"IF(B819<>\"\",IF(K819=\"\",J818,IF((H818-J818)/H818<-0.5,MAX(H818,Summary!$D$7),MAX(H818,J818))),\"\")","v":""},"",""]
[819,null,null,{"$f":"IF(B820<>\"\",IF(B820<>B819,ROUND(MIN(1%*J820+(J820-H819)/Summary!$I$7,5%*H819),2),D819),0)","v":0},null,null,0,1416.7000000000005,"",{"$f":"IF(B820<>\"\",IF(K820=\"\",J819,IF((H819-J819)/H819<-0.5,MAX(H819,Summary!$D$7),MAX(H819,J819))),\"\")","v":""},"",""]
[820,null,null,{"$f":"IF(B821<>\"\",IF(B821<>B820,ROUND(MIN(1%*J821+(J821-H820)/Summary!$I$7,5%*H820),2),D820),0)","v":0},null,null,0,1416.7000000000005,"",{"$f":"IF(B821<>\"\",IF(K821=\"\",J820,IF((H820-J820)/H820<-0.5,MAX(H820,Summary!$D$7),MAX(H820,J820))),\"\")","v":""},"",""]
[821,null,null,{"$f":"IF(B822<>\"\",IF(B822<>B821,ROUND(MIN(1%*J822+(J822-H821)/Summary!$I$7,5%*H821),2),D821),0)","v":0},null,null,0,1416.7000000000005,"",{"$f":"IF(B822<>\"\",IF(K822=\"\",J821,IF((H821-J821)/H821<-0.5,MAX(H821,Summary!$D$7),MAX(H821,J821))),\"\")","v":""},"",""]
[822,null,null,{"$f":"IF(B823<>\"\",IF(B823<>B822,ROUND(MIN(1%*J823+(J823-H822)/Summary!$I$7,5%*H822),2),D822),0)","v":0},null,null,0,1416.7000000000005,"",{"$f":"IF(B823<>\"\",IF(K823=\"\",J822,IF((H822-J822)/H822<-0.5,MAX(H822,Summary!$D$7),MAX(H822,J822))),\"\")","v":""},"",""]
[823,null,null,{"$f":"IF(B824<>\"\",IF(B824<>B823,ROUND(MIN(1%*J824+(J824-H823)/Summary!$I$7,5%*H823),2),D823),0)","v":0},null,null,0,1416.7000000000005,"",{"$f":"IF(B824<>\"\",IF(K824=\"\",J823,IF((H823-J823)/H823<-0.5,MAX(H823,Summary!$D$7),MAX(H823,J823))),\"\")","v":""},"",""]
[824,null,null,{"$f":"IF(B825<>\"\",IF(B825<>B824,ROUND(MIN(1%*J825+(J825-H824)/Summary!$I$7,5%*H824),2),D824),0)","v":0},null,null,0,1416.7000000000005,"",{"$f":"IF(B825<>\"\",IF(K825=\"\",J824,IF((H824-J824)/H824<-0.5,MAX(H824,Summary!$D$7),MAX(H824,J824))),\"\")","v":""},"",""]
[825,null,null,{"$f":"IF(B826<>\"\",IF(B826<>B825,ROUND(MIN(1%*J826+(J826-H825)/Summary!$I$7,5%*H825),2),D825),0)","v":0},null,null,0,1416.7000000000005,"",{"$f":"IF(B826<>\"\",IF(K826=\"\",J825,IF((H825-J825)/H825<-0.5,MAX(H825,Summary!$D$7),MAX(H825,J825))),\"\")","v":""},"",""]
[826,null,null,{"$f":"IF(B827<>\"\",IF(B827<>B826,ROUND(MIN(1%*J827+(J827-H826)/Summary!$I$7,5%*H826),2),D826),0)","v":0},null,null,0,1416.7000000000005,"",{"$f":"IF(B827<>\"\",IF(K827=\"\",J826,IF((H826-J826)/H826<-0.5,MAX(H826,Summary!$D$7),MAX(H826,J826))),\"\")","v":""},"",""]
[827,null,null,{"$f":"IF(B828<>\"\",IF(B828<>B827,ROUND(MIN(1%*J828+(J828-H827)/Summary!$I$7,5%*H827),2),D827),0)","v":0},null,null,0,1416.7000000000005,"",{"$f":"IF(B828<>\"\",IF(K828=\"\",J827,IF((H827-J827)/H827<-0.5,MAX(H827,Summary!$D$7),MAX(H827,J827))),\"\")","v":""},"",""]
[828,null,null,{"$f":"IF(B829<>\"\",IF(B829<>B828,ROUND(MIN(1%*J829+(J829-H828)/Summary!$I$7,5%*H828),2),D828),0)","v":0},null,null,0,1416.7000000000005,"",{"$f":"IF(B829<>\"\",IF(K829=\"\",J828,IF((H828-J828)/H828<-0.5,MAX(H828,Summary!$D$7),MAX(H828,J828))),\"\")","v":""},"",""]
[829,null,null,{"$f":"IF(B830<>\"\",IF(B830<>B829,ROUND(MIN(1%*J830+(J830-H829)/Summary!$I$7,5%*H829),2),D829),0)","v":0},null,null,0,1416.7000000000005,"",{"$f":"IF(B830<>\"\",IF(K830=\"\",J829,IF((H829-J829)/H829<-0.5,MAX(H829,Summary!$D$7),MAX(H829,J829))),\"\")","v":""},"",""]
[830,null,null,{"$f":"IF(B831<>\"\",IF(B831<>B830,ROUND(MIN(1%*J831+(J831-H830)/Summary!$I$7,5%*H830),2),D830),0)","v":0},null,null,0,1416.7000000000005,"",{"$f":"IF(B831<>\"\",IF(K831=\"\",J830,IF((H830-J830)/H830<-0.5,MAX(H830,Summary!$D$7),MAX(H830,J830))),\"\")","v":""},"",""]
[831,null,null,{"$f":"IF(B832<>\"\",IF(B832<>B831,ROUND(MIN(1%*J832+(J832-H831)/Summary!$I$7,5%*H831),2),D831),0)","v":0},null,null,0,1416.7000000000005,"",{"$f":"IF(B832<>\"\",IF(K832=\"\",J831,IF((H831-J831)/H831<-0.5,MAX(H831,Summary!$D$7),MAX(H831,J831))),\"\")","v":""},"",""]
[832,null,null,{"$f":"IF(B833<>\"\",IF(B833<>B832,ROUND(MIN(1%*J833+(J833-H832)/Summary!$I$7,5%*H832),2),D832),0)","v":0},null,null,0,1416.7000000000005,"",{"$f":"IF(B833<>\"\",IF(K833=\"\",J832,IF((H832-J832)/H832<-0.5,MAX(H832,Summary!$D$7),MAX(H832,J832))),\"\")","v":""},"",""]
[833,null,null,{"$f":"IF(B834<>\"\",IF(B834<>B833,ROUND(MIN(1%*J834+(J834-H833)/Summary!$I$7,5%*H833),2),D833),0)","v":0},null,null,{"$f":"IF(F834=\"Y\",D834*(E834-1),IF(F834=\"N\",-D834,0))","v":0},1416.7000000000005,"",{"$f":"IF(B834<>\"\",IF(K834=\"\",J833,IF((H833-J833)/H833<-0.5,MAX(H833,Summary!$D$7),MAX(H833,J833))),\"\")","v":""},"",""]
[834,null,null,{"$f":"IF(B835<>\"\",IF(B835<>B834,ROUND(MIN(1%*J835+(J835-H834)/Summary!$I$7,5%*H834),2),D834),0)","v":0},null,null,0,{"$f":"SUM(H834,G835)","v":1416.7000000000005},{"$f":"IF(B835<>\"\",IF(B835<>B834,1,I834+1),\"\")","v":""},{"$f":"IF(B835<>\"\",IF(K835=\"\",J834,IF((H834-J834)/H834<-0.5,MAX(H834,Summary!$D$7),MAX(H834,J834))),\"\")","v":""},{"$f":"IF(AND(B835<>\"\",B835<>B834),\"Y\",\"\")","v":""},""]
[835,null,null,{"$f":"IF(B836<>\"\",IF(B836<>B835,ROUND(MIN(1%*J836+(J836-H835)/Summary!$I$7,5%*H835),2),D835),0)","v":0},null,null,0,1416.7000000000005,"",{"$f":"IF(B836<>\"\",IF(K836=\"\",J835,IF((H835-J835)/H835<-0.5,MAX(H835,Summary!$D$7),MAX(H835,J835))),\"\")","v":""},"",{"$f":"IF(D836<>0,D836/H836,\"\")","v":""}]
[836,null,null,{"$f":"IF(B837<>\"\",IF(B837<>B836,ROUND(MIN(1%*J837+(J837-H836)/Summary!$I$7,5%*H836),2),D836),0)","v":0},null,null,0,1416.7000000000005,"",{"$f":"IF(B837<>\"\",IF(K837=\"\",J836,IF((H836-J836)/H836<-0.5,MAX(H836,Summary!$D$7),MAX(H836,J836))),\"\")","v":""},"",""]
[837,null,null,{"$f":"IF(B838<>\"\",IF(B838<>B837,ROUND(MIN(1%*J838+(J838-H837)/Summary!$I$7,5%*H837),2),D837),0)","v":0},null,null,0,1416.7000000000005,"",{"$f":"IF(B838<>\"\",IF(K838=\"\",J837,IF((H837-J837)/H837<-0.5,MAX(H837,Summary!$D$7),MAX(H837,J837))),\"\")","v":""},"",""]
[838,null,null,{"$f":"IF(B839<>\"\",IF(B839<>B838,ROUND(MIN(1%*J839+(J839-H838)/Summary!$I$7,5%*H838),2),D838),0)","v":0},null,null,0,1416.7000000000005,"",{"$f":"IF(B839<>\"\",IF(K839=\"\",J838,IF((H838-J838)/H838<-0.5,MAX(H838,Summary!$D$7),MAX(H838,J838))),\"\")","v":""},"",""]
[839,null,null,{"$f":"IF(B840<>\"\",IF(B840<>B839,ROUND(MIN(1%*J840+(J840-H839)/Summary!$I$7,5%*H839),2),D839),0)","v":0},null,null,0,1416.7000000000005,"",{"$f":"IF(B840<>\"\",IF(K840=\"\",J839,IF((H839-J839)/H839<-0.5,MAX(H839,Summary!$D$7),MAX(H839,J839))),\"\")","v":""},"",""]
[840,null,null,{"$f":"IF(B841<>\"\",IF(B841<>B840,ROUND(MIN(1%*J841+(J841-H840)/Summary!$I$7,5%*H840),2),D840),0)","v":0},null,null,0,1416.7000000000005,"",{"$f":"IF(B841<>\"\",IF(K841=\"\",J840,IF((H840-J840)/H840<-0.5,MAX(H840,Summary!$D$7),MAX(H840,J840))),\"\")","v":""},"",""]
[841,null,null,{"$f":"IF(B842<>\"\",IF(B842<>B841,ROUND(MIN(1%*J842+(J842-H841)/Summary!$I$7,5%*H841),2),D841),0)","v":0},null,null,0,1416.7000000000005,"",{"$f":"IF(B842<>\"\",IF(K842=\"\",J841,IF((H841-J841)/H841<-0.5,MAX(H841,Summary!$D$7),MAX(H841,J841))),\"\")","v":""},"",""]
[842,null,null,{"$f":"IF(B843<>\"\",IF(B843<>B842,ROUND(MIN(1%*J843+(J843-H842)/Summary!$I$7,5%*H842),2),D842),0)","v":0},null,null,0,1416.7000000000005,"",{"$f":"IF(B843<>\"\",IF(K843=\"\",J842,IF((H842-J842)/H842<-0.5,MAX(H842,Summary!$D$7),MAX(H842,J842))),\"\")","v":""},"",""]
[843,null,null,{"$f":"IF(B844<>\"\",IF(B844<>B843,ROUND(MIN(1%*J844+(J844-H843)/Summary!$I$7,5%*H843),2),D843),0)","v":0},null,null,0,1416.7000000000005,"",{"$f":"IF(B844<>\"\",IF(K844=\"\",J843,IF((H843-J843)/H843<-0.5,MAX(H843,Summary!$D$7),MAX(H843,J843))),\"\")","v":""},"",""]
[844,null,null,{"$f":"IF(B845<>\"\",IF(B845<>B844,ROUND(MIN(1%*J845+(J845-H844)/Summary!$I$7,5%*H844),2),D844),0)","v":0},null,null,0,1416.7000000000005,"",{"$f":"IF(B845<>\"\",IF(K845=\"\",J844,IF((H844-J844)/H844<-0.5,MAX(H844,Summary!$D$7),MAX(H844,J844))),\"\")","v":""},"",""]
[845,null,null,{"$f":"IF(B846<>\"\",IF(B846<>B845,ROUND(MIN(1%*J846+(J846-H845)/Summary!$I$7,5%*H845),2),D845),0)","v":0},null,null,0,1416.7000000000005,"",{"$f":"IF(B846<>\"\",IF(K846=\"\",J845,IF((H845-J845)/H845<-0.5,MAX(H845,Summary!$D$7),MAX(H845,J845))),\"\")","v":""},"",""]
[846,null,null,{"$f":"IF(B847<>\"\",IF(B847<>B846,ROUND(MIN(1%*J847+(J847-H846)/Summary!$I$7,5%*H846),2),D846),0)","v":0},null,null,0,1416.7000000000005,"",{"$f":"IF(B847<>\"\",IF(K847=\"\",J846,IF((H846-J846)/H846<-0.5,MAX(H846,Summary!$D$7),MAX(H846,J846))),\"\")","v":""},"",""]
[847,null,null,{"$f":"IF(B848<>\"\",IF(B848<>B847,ROUND(MIN(1%*J848+(J848-H847)/Summary!$I$7,5%*H847),2),D847),0)","v":0},null,null,0,1416.7000000000005,"",{"$f":"IF(B848<>\"\",IF(K848=\"\",J847,IF((H847-J847)/H847<-0.5,MAX(H847,Summary!$D$7),MAX(H847,J847))),\"\")","v":""},"",""]
[848,null,null,{"$f":"IF(B849<>\"\",IF(B849<>B848,ROUND(MIN(1%*J849+(J849-H848)/Summary!$I$7,5%*H848),2),D848),0)","v":0},null,null,0,1416.7000000000005,"",{"$f":"IF(B849<>\"\",IF(K849=\"\",J848,IF((H848-J848)/H848<-0.5,MAX(H848,Summary!$D$7),MAX(H848,J848))),\"\")","v":""},"",""]
[849,null,null,{"$f":"IF(B850<>\"\",IF(B850<>B849,ROUND(MIN(1%*J850+(J850-H849)/Summary!$I$7,5%*H849),2),D849),0)","v":0},null,null,0,1416.7000000000005,"",{"$f":"IF(B850<>\"\",IF(K850=\"\",J849,IF((H849-J849)/H849<-0.5,MAX(H849,Summary!$D$7),MAX(H849,J849))),\"\")","v":""},"",""]
[850,null,null,{"$f":"IF(B851<>\"\",IF(B851<>B850,ROUND(MIN(1%*J851+(J851-H850)/Summary!$I$7,5%*H850),2),D850),0)","v":0},null,null,0,1416.7000000000005,"",{"$f":"IF(B851<>\"\",IF(K851=\"\",J850,IF((H850-J850)/H850<-0.5,MAX(H850,Summary!$D$7),MAX(H850,J850))),\"\")","v":""},"",""]
[851,null,null,{"$f":"IF(B852<>\"\",IF(B852<>B851,ROUND(MIN(1%*J852+(J852-H851)/Summary!$I$7,5%*H851),2),D851),0)","v":0},null,null,0,1416.7000000000005,"",{"$f":"IF(B852<>\"\",IF(K852=\"\",J851,IF((H851-J851)/H851<-0.5,MAX(H851,Summary!$D$7),MAX(H851,J851))),\"\")","v":""},"",""]
[852,null,null,{"$f":"IF(B853<>\"\",IF(B853<>B852,ROUND(MIN(1%*J853+(J853-H852)/Summary!$I$7,5%*H852),2),D852),0)","v":0},null,null,0,1416.7000000000005,"",{"$f":"IF(B853<>\"\",IF(K853=\"\",J852,IF((H852-J852)/H852<-0.5,MAX(H852,Summary!$D$7),MAX(H852,J852))),\"\")","v":""},"",""]
[853,null,null,{"$f":"IF(B854<>\"\",IF(B854<>B853,ROUND(MIN(1%*J854+(J854-H853)/Summary!$I$7,5%*H853),2),D853),0)","v":0},null,null,0,1416.7000000000005,"",{"$f":"IF(B854<>\"\",IF(K854=\"\",J853,IF((H853-J853)/H853<-0.5,MAX(H853,Summary!$D$7),MAX(H853,J853))),\"\")","v":""},"",""]
[854,null,null,{"$f":"IF(B855<>\"\",IF(B855<>B854,ROUND(MIN(1%*J855+(J855-H854)/Summary!$I$7,5%*H854),2),D854),0)","v":0},null,null,0,1416.7000000000005,"",{"$f":"IF(B855<>\"\",IF(K855=\"\",J854,IF((H854-J854)/H854<-0.5,MAX(H854,Summary!$D$7),MAX(H854,J854))),\"\")","v":""},"",""]
[855,null,null,{"$f":"IF(B856<>\"\",IF(B856<>B855,ROUND(MIN(1%*J856+(J856-H855)/Summary!$I$7,5%*H855),2),D855),0)","v":0},null,null,0,1416.7000000000005,"",{"$f":"IF(B856<>\"\",IF(K856=\"\",J855,IF((H855-J855)/H855<-0.5,MAX(H855,Summary!$D$7),MAX(H855,J855))),\"\")","v":""},"",""]
[856,null,null,{"$f":"IF(B857<>\"\",IF(B857<>B856,ROUND(MIN(1%*J857+(J857-H856)/Summary!$I$7,5%*H856),2),D856),0)","v":0},null,null,0,1416.7000000000005,"",{"$f":"IF(B857<>\"\",IF(K857=\"\",J856,IF((H856-J856)/H856<-0.5,MAX(H856,Summary!$D$7),MAX(H856,J856))),\"\")","v":""},"",""]
[857,null,null,{"$f":"IF(B858<>\"\",IF(B858<>B857,ROUND(MIN(1%*J858+(J858-H857)/Summary!$I$7,5%*H857),2),D857),0)","v":0},null,null,0,1416.7000000000005,"",{"$f":"IF(B858<>\"\",IF(K858=\"\",J857,IF((H857-J857)/H857<-0.5,MAX(H857,Summary!$D$7),MAX(H857,J857))),\"\")","v":""},"",""]
[858,null,null,{"$f":"IF(B859<>\"\",IF(B859<>B858,ROUND(MIN(1%*J859+(J859-H858)/Summary!$I$7,5%*H858),2),D858),0)","v":0},null,null,0,1416.7000000000005,"",{"$f":"IF(B859<>\"\",IF(K859=\"\",J858,IF((H858-J858)/H858<-0.5,MAX(H858,Summary!$D$7),MAX(H858,J858))),\"\")","v":""},"",""]
[859,null,null,{"$f":"IF(B860<>\"\",IF(B860<>B859,ROUND(MIN(1%*J860+(J860-H859)/Summary!$I$7,5%*H859),2),D859),0)","v":0},null,null,0,1416.7000000000005,"",{"$f":"IF(B860<>\"\",IF(K860=\"\",J859,IF((H859-J859)/H859<-0.5,MAX(H859,Summary!$D$7),MAX(H859,J859))),\"\")","v":""},"",""]
[860,null,null,{"$f":"IF(B861<>\"\",IF(B861<>B860,ROUND(MIN(1%*J861+(J861-H860)/Summary!$I$7,5%*H860),2),D860),0)","v":0},null,null,0,1416.7000000000005,"",{"$f":"IF(B861<>\"\",IF(K861=\"\",J860,IF((H860-J860)/H860<-0.5,MAX(H860,Summary!$D$7),MAX(H860,J860))),\"\")","v":""},"",""]
[861,null,null,{"$f":"IF(B862<>\"\",IF(B862<>B861,ROUND(MIN(1%*J862+(J862-H861)/Summary!$I$7,5%*H861),2),D861),0)","v":0},null,null,0,1416.7000000000005,"",{"$f":"IF(B862<>\"\",IF(K862=\"\",J861,IF((H861-J861)/H861<-0.5,MAX(H861,Summary!$D$7),MAX(H861,J861))),\"\")","v":""},"",""]
[862,null,null,{"$f":"IF(B863<>\"\",IF(B863<>B862,ROUND(MIN(1%*J863+(J863-H862)/Summary!$I$7,5%*H862),2),D862),0)","v":0},null,null,0,1416.7000000000005,"",{"$f":"IF(B863<>\"\",IF(K863=\"\",J862,IF((H862-J862)/H862<-0.5,MAX(H862,Summary!$D$7),MAX(H862,J862))),\"\")","v":""},"",""]
[863,null,null,{"$f":"IF(B864<>\"\",IF(B864<>B863,ROUND(MIN(1%*J864+(J864-H863)/Summary!$I$7,5%*H863),2),D863),0)","v":0},null,null,0,1416.7000000000005,"",{"$f":"IF(B864<>\"\",IF(K864=\"\",J863,IF((H863-J863)/H863<-0.5,MAX(H863,Summary!$D$7),MAX(H863,J863))),\"\")","v":""},"",""]
[864,null,null,{"$f":"IF(B865<>\"\",IF(B865<>B864,ROUND(MIN(1%*J865+(J865-H864)/Summary!$I$7,5%*H864),2),D864),0)","v":0},null,null,0,1416.7000000000005,"",{"$f":"IF(B865<>\"\",IF(K865=\"\",J864,IF((H864-J864)/H864<-0.5,MAX(H864,Summary!$D$7),MAX(H864,J864))),\"\")","v":""},"",""]
[865,null,null,{"$f":"IF(B866<>\"\",IF(B866<>B865,ROUND(MIN(1%*J866+(J866-H865)/Summary!$I$7,5%*H865),2),D865),0)","v":0},null,null,0,1416.7000000000005,"",{"$f":"IF(B866<>\"\",IF(K866=\"\",J865,IF((H865-J865)/H865<-0.5,MAX(H865,Summary!$D$7),MAX(H865,J865))),\"\")","v":""},"",""]
[866,null,null,{"$f":"IF(B867<>\"\",IF(B867<>B866,ROUND(MIN(1%*J867+(J867-H866)/Summary!$I$7,5%*H866),2),D866),0)","v":0},null,null,0,1416.7000000000005,"",{"$f":"IF(B867<>\"\",IF(K867=\"\",J866,IF((H866-J866)/H866<-0.5,MAX(H866,Summary!$D$7),MAX(H866,J866))),\"\")","v":""},"",""]
[867,null,null,{"$f":"IF(B868<>\"\",IF(B868<>B867,ROUND(MIN(1%*J868+(J868-H867)/Summary!$I$7,5%*H867),2),D867),0)","v":0},null,null,0,1416.7000000000005,"",{"$f":"IF(B868<>\"\",IF(K868=\"\",J867,IF((H867-J867)/H867<-0.5,MAX(H867,Summary!$D$7),MAX(H867,J867))),\"\")","v":""},"",""]
[868,null,null,{"$f":"IF(B869<>\"\",IF(B869<>B868,ROUND(MIN(1%*J869+(J869-H868)/Summary!$I$7,5%*H868),2),D868),0)","v":0},null,null,0,1416.7000000000005,"",{"$f":"IF(B869<>\"\",IF(K869=\"\",J868,IF((H868-J868)/H868<-0.5,MAX(H868,Summary!$D$7),MAX(H868,J868))),\"\")","v":""},"",""]
[869,null,null,{"$f":"IF(B870<>\"\",IF(B870<>B869,ROUND(MIN(1%*J870+(J870-H869)/Summary!$I$7,5%*H869),2),D869),0)","v":0},null,null,0,1416.7000000000005,"",{"$f":"IF(B870<>\"\",IF(K870=\"\",J869,IF((H869-J869)/H869<-0.5,MAX(H869,Summary!$D$7),MAX(H869,J869))),\"\")","v":""},"",""]
[870,null,null,{"$f":"IF(B871<>\"\",IF(B871<>B870,ROUND(MIN(1%*J871+(J871-H870)/Summary!$I$7,5%*H870),2),D870),0)","v":0},null,null,0,1416.7000000000005,"",{"$f":"IF(B871<>\"\",IF(K871=\"\",J870,IF((H870-J870)/H870<-0.5,MAX(H870,Summary!$D$7),MAX(H870,J870))),\"\")","v":""},"",""]
[871,null,null,{"$f":"IF(B872<>\"\",IF(B872<>B871,ROUND(MIN(1%*J872+(J872-H871)/Summary!$I$7,5%*H871),2),D871),0)","v":0},null,null,0,1416.7000000000005,"",{"$f":"IF(B872<>\"\",IF(K872=\"\",J871,IF((H871-J871)/H871<-0.5,MAX(H871,Summary!$D$7),MAX(H871,J871))),\"\")","v":""},"",""]
[872,null,null,{"$f":"IF(B873<>\"\",IF(B873<>B872,ROUND(MIN(1%*J873+(J873-H872)/Summary!$I$7,5%*H872),2),D872),0)","v":0},null,null,0,1416.7000000000005,"",{"$f":"IF(B873<>\"\",IF(K873=\"\",J872,IF((H872-J872)/H872<-0.5,MAX(H872,Summary!$D$7),MAX(H872,J872))),\"\")","v":""},"",""]
[873,null,null,{"$f":"IF(B874<>\"\",IF(B874<>B873,ROUND(MIN(1%*J874+(J874-H873)/Summary!$I$7,5%*H873),2),D873),0)","v":0},null,null,0,1416.7000000000005,"",{"$f":"IF(B874<>\"\",IF(K874=\"\",J873,IF((H873-J873)/H873<-0.5,MAX(H873,Summary!$D$7),MAX(H873,J873))),\"\")","v":""},"",""]
[874,null,null,{"$f":"IF(B875<>\"\",IF(B875<>B874,ROUND(MIN(1%*J875+(J875-H874)/Summary!$I$7,5%*H874),2),D874),0)","v":0},null,null,0,1416.7000000000005,"",{"$f":"IF(B875<>\"\",IF(K875=\"\",J874,IF((H874-J874)/H874<-0.5,MAX(H874,Summary!$D$7),MAX(H874,J874))),\"\")","v":""},"",""]
[875,null,null,{"$f":"IF(B876<>\"\",IF(B876<>B875,ROUND(MIN(1%*J876+(J876-H875)/Summary!$I$7,5%*H875),2),D875),0)","v":0},null,null,0,1416.7000000000005,"",{"$f":"IF(B876<>\"\",IF(K876=\"\",J875,IF((H875-J875)/H875<-0.5,MAX(H875,Summary!$D$7),MAX(H875,J875))),\"\")","v":""},"",""]
[876,null,null,{"$f":"IF(B877<>\"\",IF(B877<>B876,ROUND(MIN(1%*J877+(J877-H876)/Summary!$I$7,5%*H876),2),D876),0)","v":0},null,null,0,1416.7000000000005,"",{"$f":"IF(B877<>\"\",IF(K877=\"\",J876,IF((H876-J876)/H876<-0.5,MAX(H876,Summary!$D$7),MAX(H876,J876))),\"\")","v":""},"",""]
[877,null,null,{"$f":"IF(B878<>\"\",IF(B878<>B877,ROUND(MIN(1%*J878+(J878-H877)/Summary!$I$7,5%*H877),2),D877),0)","v":0},null,null,0,1416.7000000000005,"",{"$f":"IF(B878<>\"\",IF(K878=\"\",J877,IF((H877-J877)/H877<-0.5,MAX(H877,Summary!$D$7),MAX(H877,J877))),\"\")","v":""},"",""]
[878,null,null,{"$f":"IF(B879<>\"\",IF(B879<>B878,ROUND(MIN(1%*J879+(J879-H878)/Summary!$I$7,5%*H878),2),D878),0)","v":0},null,null,0,1416.7000000000005,"",{"$f":"IF(B879<>\"\",IF(K879=\"\",J878,IF((H878-J878)/H878<-0.5,MAX(H878,Summary!$D$7),MAX(H878,J878))),\"\")","v":""},"",""]
[879,null,null,{"$f":"IF(B880<>\"\",IF(B880<>B879,ROUND(MIN(1%*J880+(J880-H879)/Summary!$I$7,5%*H879),2),D879),0)","v":0},null,null,0,1416.7000000000005,"",{"$f":"IF(B880<>\"\",IF(K880=\"\",J879,IF((H879-J879)/H879<-0.5,MAX(H879,Summary!$D$7),MAX(H879,J879))),\"\")","v":""},"",""]
[880,null,null,{"$f":"IF(B881<>\"\",IF(B881<>B880,ROUND(MIN(1%*J881+(J881-H880)/Summary!$I$7,5%*H880),2),D880),0)","v":0},null,null,0,1416.7000000000005,"",{"$f":"IF(B881<>\"\",IF(K881=\"\",J880,IF((H880-J880)/H880<-0.5,MAX(H880,Summary!$D$7),MAX(H880,J880))),\"\")","v":""},"",""]
[881,null,null,{"$f":"IF(B882<>\"\",IF(B882<>B881,ROUND(MIN(1%*J882+(J882-H881)/Summary!$I$7,5%*H881),2),D881),0)","v":0},null,null,0,1416.7000000000005,"",{"$f":"IF(B882<>\"\",IF(K882=\"\",J881,IF((H881-J881)/H881<-0.5,MAX(H881,Summary!$D$7),MAX(H881,J881))),\"\")","v":""},"",""]
[882,null,null,{"$f":"IF(B883<>\"\",IF(B883<>B882,ROUND(MIN(1%*J883+(J883-H882)/Summary!$I$7,5%*H882),2),D882),0)","v":0},null,null,0,1416.7000000000005,"",{"$f":"IF(B883<>\"\",IF(K883=\"\",J882,IF((H882-J882)/H882<-0.5,MAX(H882,Summary!$D$7),MAX(H882,J882))),\"\")","v":""},"",""]
[883,null,null,{"$f":"IF(B884<>\"\",IF(B884<>B883,ROUND(MIN(1%*J884+(J884-H883)/Summary!$I$7,5%*H883),2),D883),0)","v":0},null,null,0,1416.7000000000005,"",{"$f":"IF(B884<>\"\",IF(K884=\"\",J883,IF((H883-J883)/H883<-0.5,MAX(H883,Summary!$D$7),MAX(H883,J883))),\"\")","v":""},"",""]
[884,null,null,{"$f":"IF(B885<>\"\",IF(B885<>B884,ROUND(MIN(1%*J885+(J885-H884)/Summary!$I$7,5%*H884),2),D884),0)","v":0},null,null,0,1416.7000000000005,"",{"$f":"IF(B885<>\"\",IF(K885=\"\",J884,IF((H884-J884)/H884<-0.5,MAX(H884,Summary!$D$7),MAX(H884,J884))),\"\")","v":""},"",""]
[885,null,null,{"$f":"IF(B886<>\"\",IF(B886<>B885,ROUND(MIN(1%*J886+(J886-H885)/Summary!$I$7,5%*H885),2),D885),0)","v":0},null,null,0,1416.7000000000005,"",{"$f":"IF(B886<>\"\",IF(K886=\"\",J885,IF((H885-J885)/H885<-0.5,MAX(H885,Summary!$D$7),MAX(H885,J885))),\"\")","v":""},"",""]
[886,null,null,{"$f":"IF(B887<>\"\",IF(B887<>B886,ROUND(MIN(1%*J887+(J887-H886)/Summary!$I$7,5%*H886),2),D886),0)","v":0},null,null,0,1416.7000000000005,"",{"$f":"IF(B887<>\"\",IF(K887=\"\",J886,IF((H886-J886)/H886<-0.5,MAX(H886,Summary!$D$7),MAX(H886,J886))),\"\")","v":""},"",""]
[887,null,null,{"$f":"IF(B888<>\"\",IF(B888<>B887,ROUND(MIN(1%*J888+(J888-H887)/Summary!$I$7,5%*H887),2),D887),0)","v":0},null,null,0,1416.7000000000005,"",{"$f":"IF(B888<>\"\",IF(K888=\"\",J887,IF((H887-J887)/H887<-0.5,MAX(H887,Summary!$D$7),MAX(H887,J887))),\"\")","v":""},"",""]
[888,null,null,{"$f":"IF(B889<>\"\",IF(B889<>B888,ROUND(MIN(1%*J889+(J889-H888)/Summary!$I$7,5%*H888),2),D888),0)","v":0},null,null,0,1416.7000000000005,"",{"$f":"IF(B889<>\"\",IF(K889=\"\",J888,IF((H888-J888)/H888<-0.5,MAX(H888,Summary!$D$7),MAX(H888,J888))),\"\")","v":""},"",""]
[889,null,null,{"$f":"IF(B890<>\"\",IF(B890<>B889,ROUND(MIN(1%*J890+(J890-H889)/Summary!$I$7,5%*H889),2),D889),0)","v":0},null,null,0,1416.7000000000005,"",{"$f":"IF(B890<>\"\",IF(K890=\"\",J889,IF((H889-J889)/H889<-0.5,MAX(H889,Summary!$D$7),MAX(H889,J889))),\"\")","v":""},"",""]
[890,null,null,{"$f":"IF(B891<>\"\",IF(B891<>B890,ROUND(MIN(1%*J891+(J891-H890)/Summary!$I$7,5%*H890),2),D890),0)","v":0},null,null,0,1416.7000000000005,"",{"$f":"IF(B891<>\"\",IF(K891=\"\",J890,IF((H890-J890)/H890<-0.5,MAX(H890,Summary!$D$7),MAX(H890,J890))),\"\")","v":""},"",""]
[891,null,null,{"$f":"IF(B892<>\"\",IF(B892<>B891,ROUND(MIN(1%*J892+(J892-H891)/Summary!$I$7,5%*H891),2),D891),0)","v":0},null,null,0,1416.7000000000005,"",{"$f":"IF(B892<>\"\",IF(K892=\"\",J891,IF((H891-J891)/H891<-0.5,MAX(H891,Summary!$D$7),MAX(H891,J891))),\"\")","v":""},"",""]
[892,null,null,{"$f":"IF(B893<>\"\",IF(B893<>B892,ROUND(MIN(1%*J893+(J893-H892)/Summary!$I$7,5%*H892),2),D892),0)","v":0},null,null,0,1416.7000000000005,"",{"$f":"IF(B893<>\"\",IF(K893=\"\",J892,IF((H892-J892)/H892<-0.5,MAX(H892,Summary!$D$7),MAX(H892,J892))),\"\")","v":""},"",""]
[893,null,null,{"$f":"IF(B894<>\"\",IF(B894<>B893,ROUND(MIN(1%*J894+(J894-H893)/Summary!$I$7,5%*H893),2),D893),0)","v":0},null,null,0,1416.7000000000005,"",{"$f":"IF(B894<>\"\",IF(K894=\"\",J893,IF((H893-J893)/H893<-0.5,MAX(H893,Summary!$D$7),MAX(H893,J893))),\"\")","v":""},"",""]
[894,null,null,{"$f":"IF(B895<>\"\",IF(B895<>B894,ROUND(MIN(1%*J895+(J895-H894)/Summary!$I$7,5%*H894),2),D894),0)","v":0},null,null,0,1416.7000000000005,"",{"$f":"IF(B895<>\"\",IF(K895=\"\",J894,IF((H894-J894)/H894<-0.5,MAX(H894,Summary!$D$7),MAX(H894,J894))),\"\")","v":""},"",""]
[895,null,null,{"$f":"IF(B896<>\"\",IF(B896<>B895,ROUND(MIN(1%*J896+(J896-H895)/Summary!$I$7,5%*H895),2),D895),0)","v":0},null,null,0,1416.7000000000005,"",{"$f":"IF(B896<>\"\",IF(K896=\"\",J895,IF((H895-J895)/H895<-0.5,MAX(H895,Summary!$D$7),MAX(H895,J895))),\"\")","v":""},"",""]
[896,null,null,{"$f":"IF(B897<>\"\",IF(B897<>B896,ROUND(MIN(1%*J897+(J897-H896)/Summary!$I$7,5%*H896),2),D896),0)","v":0},null,null,0,1416.7000000000005,"",{"$f":"IF(B897<>\"\",IF(K897=\"\",J896,IF((H896-J896)/H896<-0.5,MAX(H896,Summary!$D$7),MAX(H896,J896))),\"\")","v":""},"",""]
[897,null,null,{"$f":"IF(B898<>\"\",IF(B898<>B897,ROUND(MIN(1%*J898+(J898-H897)/Summary!$I$7,5%*H897),2),D897),0)","v":0},null,null,{"$f":"IF(F898=\"Y\",D898*(E898-1),IF(F898=\"N\",-D898,0))","v":0},1416.7000000000005,"",{"$f":"IF(B898<>\"\",IF(K898=\"\",J897,IF((H897-J897)/H897<-0.5,MAX(H897,Summary!$D$7),MAX(H897,J897))),\"\")","v":""},"",""]
[898,null,null,{"$f":"IF(B899<>\"\",IF(B899<>B898,ROUND(MIN(1%*J899+(J899-H898)/Summary!$I$7,5%*H898),2),D898),0)","v":0},null,null,0,{"$f":"SUM(H898,G899)","v":1416.7000000000005},{"$f":"IF(B899<>\"\",IF(B899<>B898,1,I898+1),\"\")","v":""},{"$f":"IF(B899<>\"\",IF(K899=\"\",J898,IF((H898-J898)/H898<-0.5,MAX(H898,Summary!$D$7),MAX(H898,J898))),\"\")","v":""},{"$f":"IF(AND(B899<>\"\",B899<>B898),\"Y\",\"\")","v":""},""]
[899,null,null,{"$f":"IF(B900<>\"\",IF(B900<>B899,ROUND(MIN(1%*J900+(J900-H899)/Summary!$I$7,5%*H899),2),D899),0)","v":0},null,null,0,1416.7000000000005,"",{"$f":"IF(B900<>\"\",IF(K900=\"\",J899,IF((H899-J899)/H899<-0.5,MAX(H899,Summary!$D$7),MAX(H899,J899))),\"\")","v":""},"",{"$f":"IF(D900<>0,D900/H900,\"\")","v":""}]
[900,null,null,{"$f":"IF(B901<>\"\",IF(B901<>B900,ROUND(MIN(1%*J901+(J901-H900)/Summary!$I$7,5%*H900),2),D900),0)","v":0},null,null,0,1416.7000000000005,"",{"$f":"IF(B901<>\"\",IF(K901=\"\",J900,IF((H900-J900)/H900<-0.5,MAX(H900,Summary!$D$7),MAX(H900,J900))),\"\")","v":""},"",""]
[901,null,null,{"$f":"IF(B902<>\"\",IF(B902<>B901,ROUND(MIN(1%*J902+(J902-H901)/Summary!$I$7,5%*H901),2),D901),0)","v":0},null,null,0,1416.7000000000005,"",{"$f":"IF(B902<>\"\",IF(K902=\"\",J901,IF((H901-J901)/H901<-0.5,MAX(H901,Summary!$D$7),MAX(H901,J901))),\"\")","v":""},"",""]
[902,null,null,{"$f":"IF(B903<>\"\",IF(B903<>B902,ROUND(MIN(1%*J903+(J903-H902)/Summary!$I$7,5%*H902),2),D902),0)","v":0},null,null,0,1416.7000000000005,"",{"$f":"IF(B903<>\"\",IF(K903=\"\",J902,IF((H902-J902)/H902<-0.5,MAX(H902,Summary!$D$7),MAX(H902,J902))),\"\")","v":""},"",""]
[903,null,null,{"$f":"IF(B904<>\"\",IF(B904<>B903,ROUND(MIN(1%*J904+(J904-H903)/Summary!$I$7,5%*H903),2),D903),0)","v":0},null,null,0,1416.7000000000005,"",{"$f":"IF(B904<>\"\",IF(K904=\"\",J903,IF((H903-J903)/H903<-0.5,MAX(H903,Summary!$D$7),MAX(H903,J903))),\"\")","v":""},"",""]
[904,null,null,{"$f":"IF(B905<>\"\",IF(B905<>B904,ROUND(MIN(1%*J905+(J905-H904)/Summary!$I$7,5%*H904),2),D904),0)","v":0},null,null,0,1416.7000000000005,"",{"$f":"IF(B905<>\"\",IF(K905=\"\",J904,IF((H904-J904)/H904<-0.5,MAX(H904,Summary!$D$7),MAX(H904,J904))),\"\")","v":""},"",""]
[905,null,null,{"$f":"IF(B906<>\"\",IF(B906<>B905,ROUND(MIN(1%*J906+(J906-H905)/Summary!$I$7,5%*H905),2),D905),0)","v":0},null,null,0,1416.7000000000005,"",{"$f":"IF(B906<>\"\",IF(K906=\"\",J905,IF((H905-J905)/H905<-0.5,MAX(H905,Summary!$D$7),MAX(H905,J905))),\"\")","v":""},"",""]
[906,null,null,{"$f":"IF(B907<>\"\",IF(B907<>B906,ROUND(MIN(1%*J907+(J907-H906)/Summary!$I$7,5%*H906),2),D906),0)","v":0},null,null,0,1416.7000000000005,"",{"$f":"IF(B907<>\"\",IF(K907=\"\",J906,IF((H906-J906)/H906<-0.5,MAX(H906,Summary!$D$7),MAX(H906,J906))),\"\")","v":""},"",""]
[907,null,null,{"$f":"IF(B908<>\"\",IF(B908<>B907,ROUND(MIN(1%*J908+(J908-H907)/Summary!$I$7,5%*H907),2),D907),0)","v":0},null,null,0,1416.7000000000005,"",{"$f":"IF(B908<>\"\",IF(K908=\"\",J907,IF((H907-J907)/H907<-0.5,MAX(H907,Summary!$D$7),MAX(H907,J907))),\"\")","v":""},"",""]
[908,null,null,{"$f":"IF(B909<>\"\",IF(B909<>B908,ROUND(MIN(1%*J909+(J909-H908)/Summary!$I$7,5%*H908),2),D908),0)","v":0},null,null,0,1416.7000000000005,"",{"$f":"IF(B909<>\"\",IF(K909=\"\",J908,IF((H908-J908)/H908<-0.5,MAX(H908,Summary!$D$7),MAX(H908,J908))),\"\")","v":""},"",""]
[909,null,null,{"$f":"IF(B910<>\"\",IF(B910<>B909,ROUND(MIN(1%*J910+(J910-H909)/Summary!$I$7,5%*H909),2),D909),0)","v":0},null,null,0,1416.7000000000005,"",{"$f":"IF(B910<>\"\",IF(K910=\"\",J909,IF((H909-J909)/H909<-0.5,MAX(H909,Summary!$D$7),MAX(H909,J909))),\"\")","v":""},"",""]
[910,null,null,{"$f":"IF(B911<>\"\",IF(B911<>B910,ROUND(MIN(1%*J911+(J911-H910)/Summary!$I$7,5%*H910),2),D910),0)","v":0},null,null,0,1416.7000000000005,"",{"$f":"IF(B911<>\"\",IF(K911=\"\",J910,IF((H910-J910)/H910<-0.5,MAX(H910,Summary!$D$7),MAX(H910,J910))),\"\")","v":""},"",""]
[911,null,null,{"$f":"IF(B912<>\"\",IF(B912<>B911,ROUND(MIN(1%*J912+(J912-H911)/Summary!$I$7,5%*H911),2),D911),0)","v":0},null,null,0,1416.7000000000005,"",{"$f":"IF(B912<>\"\",IF(K912=\"\",J911,IF((H911-J911)/H911<-0.5,MAX(H911,Summary!$D$7),MAX(H911,J911))),\"\")","v":""},"",""]
[912,null,null,{"$f":"IF(B913<>\"\",IF(B913<>B912,ROUND(MIN(1%*J913+(J913-H912)/Summary!$I$7,5%*H912),2),D912),0)","v":0},null,null,0,1416.7000000000005,"",{"$f":"IF(B913<>\"\",IF(K913=\"\",J912,IF((H912-J912)/H912<-0.5,MAX(H912,Summary!$D$7),MAX(H912,J912))),\"\")","v":""},"",""]
[913,null,null,{"$f":"IF(B914<>\"\",IF(B914<>B913,ROUND(MIN(1%*J914+(J914-H913)/Summary!$I$7,5%*H913),2),D913),0)","v":0},null,null,0,1416.7000000000005,"",{"$f":"IF(B914<>\"\",IF(K914=\"\",J913,IF((H913-J913)/H913<-0.5,MAX(H913,Summary!$D$7),MAX(H913,J913))),\"\")","v":""},"",""]
[914,null,null,{"$f":"IF(B915<>\"\",IF(B915<>B914,ROUND(MIN(1%*J915+(J915-H914)/Summary!$I$7,5%*H914),2),D914),0)","v":0},null,null,0,1416.7000000000005,"",{"$f":"IF(B915<>\"\",IF(K915=\"\",J914,IF((H914-J914)/H914<-0.5,MAX(H914,Summary!$D$7),MAX(H914,J914))),\"\")","v":""},"",""]
[915,null,null,{"$f":"IF(B916<>\"\",IF(B916<>B915,ROUND(MIN(1%*J916+(J916-H915)/Summary!$I$7,5%*H915),2),D915),0)","v":0},null,null,0,1416.7000000000005,"",{"$f":"IF(B916<>\"\",IF(K916=\"\",J915,IF((H915-J915)/H915<-0.5,MAX(H915,Summary!$D$7),MAX(H915,J915))),\"\")","v":""},"",""]
[916,null,null,{"$f":"IF(B917<>\"\",IF(B917<>B916,ROUND(MIN(1%*J917+(J917-H916)/Summary!$I$7,5%*H916),2),D916),0)","v":0},null,null,0,1416.7000000000005,"",{"$f":"IF(B917<>\"\",IF(K917=\"\",J916,IF((H916-J916)/H916<-0.5,MAX(H916,Summary!$D$7),MAX(H916,J916))),\"\")","v":""},"",""]
[917,null,null,{"$f":"IF(B918<>\"\",IF(B918<>B917,ROUND(MIN(1%*J918+(J918-H917)/Summary!$I$7,5%*H917),2),D917),0)","v":0},null,null,0,1416.7000000000005,"",{"$f":"IF(B918<>\"\",IF(K918=\"\",J917,IF((H917-J917)/H917<-0.5,MAX(H917,Summary!$D$7),MAX(H917,J917))),\"\")","v":""},"",""]
[918,null,null,{"$f":"IF(B919<>\"\",IF(B919<>B918,ROUND(MIN(1%*J919+(J919-H918)/Summary!$I$7,5%*H918),2),D918),0)","v":0},null,null,0,1416.7000000000005,"",{"$f":"IF(B919<>\"\",IF(K919=\"\",J918,IF((H918-J918)/H918<-0.5,MAX(H918,Summary!$D$7),MAX(H918,J918))),\"\")","v":""},"",""]
[919,null,null,{"$f":"IF(B920<>\"\",IF(B920<>B919,ROUND(MIN(1%*J920+(J920-H919)/Summary!$I$7,5%*H919),2),D919),0)","v":0},null,null,0,1416.7000000000005,"",{"$f":"IF(B920<>\"\",IF(K920=\"\",J919,IF((H919-J919)/H919<-0.5,MAX(H919,Summary!$D$7),MAX(H919,J919))),\"\")","v":""},"",""]
[920,null,null,{"$f":"IF(B921<>\"\",IF(B921<>B920,ROUND(MIN(1%*J921+(J921-H920)/Summary!$I$7,5%*H920),2),D920),0)","v":0},null,null,0,1416.7000000000005,"",{"$f":"IF(B921<>\"\",IF(K921=\"\",J920,IF((H920-J920)/H920<-0.5,MAX(H920,Summary!$D$7),MAX(H920,J920))),\"\")","v":""},"",""]
[921,null,null,{"$f":"IF(B922<>\"\",IF(B922<>B921,ROUND(MIN(1%*J922+(J922-H921)/Summary!$I$7,5%*H921),2),D921),0)","v":0},null,null,0,1416.7000000000005,"",{"$f":"IF(B922<>\"\",IF(K922=\"\",J921,IF((H921-J921)/H921<-0.5,MAX(H921,Summary!$D$7),MAX(H921,J921))),\"\")","v":""},"",""]
[922,null,null,{"$f":"IF(B923<>\"\",IF(B923<>B922,ROUND(MIN(1%*J923+(J923-H922)/Summary!$I$7,5%*H922),2),D922),0)","v":0},null,null,0,1416.7000000000005,"",{"$f":"IF(B923<>\"\",IF(K923=\"\",J922,IF((H922-J922)/H922<-0.5,MAX(H922,Summary!$D$7),MAX(H922,J922))),\"\")","v":""},"",""]
[923,null,null,{"$f":"IF(B924<>\"\",IF(B924<>B923,ROUND(MIN(1%*J924+(J924-H923)/Summary!$I$7,5%*H923),2),D923),0)","v":0},null,null,0,1416.7000000000005,"",{"$f":"IF(B924<>\"\",IF(K924=\"\",J923,IF((H923-J923)/H923<-0.5,MAX(H923,Summary!$D$7),MAX(H923,J923))),\"\")","v":""},"",""]
[924,null,null,{"$f":"IF(B925<>\"\",IF(B925<>B924,ROUND(MIN(1%*J925+(J925-H924)/Summary!$I$7,5%*H924),2),D924),0)","v":0},null,null,0,1416.7000000000005,"",{"$f":"IF(B925<>\"\",IF(K925=\"\",J924,IF((H924-J924)/H924<-0.5,MAX(H924,Summary!$D$7),MAX(H924,J924))),\"\")","v":""},"",""]
[925,null,null,{"$f":"IF(B926<>\"\",IF(B926<>B925,ROUND(MIN(1%*J926+(J926-H925)/Summary!$I$7,5%*H925),2),D925),0)","v":0},null,null,0,1416.7000000000005,"",{"$f":"IF(B926<>\"\",IF(K926=\"\",J925,IF((H925-J925)/H925<-0.5,MAX(H925,Summary!$D$7),MAX(H925,J925))),\"\")","v":""},"",""]
[926,null,null,{"$f":"IF(B927<>\"\",IF(B927<>B926,ROUND(MIN(1%*J927+(J927-H926)/Summary!$I$7,5%*H926),2),D926),0)","v":0},null,null,0,1416.7000000000005,"",{"$f":"IF(B927<>\"\",IF(K927=\"\",J926,IF((H926-J926)/H926<-0.5,MAX(H926,Summary!$D$7),MAX(H926,J926))),\"\")","v":""},"",""]
[927,null,null,{"$f":"IF(B928<>\"\",IF(B928<>B927,ROUND(MIN(1%*J928+(J928-H927)/Summary!$I$7,5%*H927),2),D927),0)","v":0},null,null,0,1416.7000000000005,"",{"$f":"IF(B928<>\"\",IF(K928=\"\",J927,IF((H927-J927)/H927<-0.5,MAX(H927,Summary!$D$7),MAX(H927,J927))),\"\")","v":""},"",""]
[928,null,null,{"$f":"IF(B929<>\"\",IF(B929<>B928,ROUND(MIN(1%*J929+(J929-H928)/Summary!$I$7,5%*H928),2),D928),0)","v":0},null,null,0,1416.7000000000005,"",{"$f":"IF(B929<>\"\",IF(K929=\"\",J928,IF((H928-J928)/H928<-0.5,MAX(H928,Summary!$D$7),MAX(H928,J928))),\"\")","v":""},"",""]
[929,null,null,{"$f":"IF(B930<>\"\",IF(B930<>B929,ROUND(MIN(1%*J930+(J930-H929)/Summary!$I$7,5%*H929),2),D929),0)","v":0},null,null,0,1416.7000000000005,"",{"$f":"IF(B930<>\"\",IF(K930=\"\",J929,IF((H929-J929)/H929<-0.5,MAX(H929,Summary!$D$7),MAX(H929,J929))),\"\")","v":""},"",""]
[930,null,null,{"$f":"IF(B931<>\"\",IF(B931<>B930,ROUND(MIN(1%*J931+(J931-H930)/Summary!$I$7,5%*H930),2),D930),0)","v":0},null,null,0,1416.7000000000005,"",{"$f":"IF(B931<>\"\",IF(K931=\"\",J930,IF((H930-J930)/H930<-0.5,MAX(H930,Summary!$D$7),MAX(H930,J930))),\"\")","v":""},"",""]
[931,null,null,{"$f":"IF(B932<>\"\",IF(B932<>B931,ROUND(MIN(1%*J932+(J932-H931)/Summary!$I$7,5%*H931),2),D931),0)","v":0},null,null,0,1416.7000000000005,"",{"$f":"IF(B932<>\"\",IF(K932=\"\",J931,IF((H931-J931)/H931<-0.5,MAX(H931,Summary!$D$7),MAX(H931,J931))),\"\")","v":""},"",""]
[932,null,null,{"$f":"IF(B933<>\"\",IF(B933<>B932,ROUND(MIN(1%*J933+(J933-H932)/Summary!$I$7,5%*H932),2),D932),0)","v":0},null,null,0,1416.7000000000005,"",{"$f":"IF(B933<>\"\",IF(K933=\"\",J932,IF((H932-J932)/H932<-0.5,MAX(H932,Summary!$D$7),MAX(H932,J932))),\"\")","v":""},"",""]
[933,null,null,{"$f":"IF(B934<>\"\",IF(B934<>B933,ROUND(MIN(1%*J934+(J934-H933)/Summary!$I$7,5%*H933),2),D933),0)","v":0},null,null,0,1416.7000000000005,"",{"$f":"IF(B934<>\"\",IF(K934=\"\",J933,IF((H933-J933)/H933<-0.5,MAX(H933,Summary!$D$7),MAX(H933,J933))),\"\")","v":""},"",""]
[934,null,null,{"$f":"IF(B935<>\"\",IF(B935<>B934,ROUND(MIN(1%*J935+(J935-H934)/Summary!$I$7,5%*H934),2),D934),0)","v":0},null,null,0,1416.7000000000005,"",{"$f":"IF(B935<>\"\",IF(K935=\"\",J934,IF((H934-J934)/H934<-0.5,MAX(H934,Summary!$D$7),MAX(H934,J934))),\"\")","v":""},"",""]
[935,null,null,{"$f":"IF(B936<>\"\",IF(B936<>B935,ROUND(MIN(1%*J936+(J936-H935)/Summary!$I$7,5%*H935),2),D935),0)","v":0},null,null,0,1416.7000000000005,"",{"$f":"IF(B936<>\"\",IF(K936=\"\",J935,IF((H935-J935)/H935<-0.5,MAX(H935,Summary!$D$7),MAX(H935,J935))),\"\")","v":""},"",""]
[936,null,null,{"$f":"IF(B937<>\"\",IF(B937<>B936,ROUND(MIN(1%*J937+(J937-H936)/Summary!$I$7,5%*H936),2),D936),0)","v":0},null,null,0,1416.7000000000005,"",{"$f":"IF(B937<>\"\",IF(K937=\"\",J936,IF((H936-J936)/H936<-0.5,MAX(H936,Summary!$D$7),MAX(H936,J936))),\"\")","v":""},"",""]
[937,null,null,{"$f":"IF(B938<>\"\",IF(B938<>B937,ROUND(MIN(1%*J938+(J938-H937)/Summary!$I$7,5%*H937),2),D937),0)","v":0},null,null,0,1416.7000000000005,"",{"$f":"IF(B938<>\"\",IF(K938=\"\",J937,IF((H937-J937)/H937<-0.5,MAX(H937,Summary!$D$7),MAX(H937,J937))),\"\")","v":""},"",""]
[938,null,null,{"$f":"IF(B939<>\"\",IF(B939<>B938,ROUND(MIN(1%*J939+(J939-H938)/Summary!$I$7,5%*H938),2),D938),0)","v":0},null,null,0,1416.7000000000005,"",{"$f":"IF(B939<>\"\",IF(K939=\"\",J938,IF((H938-J938)/H938<-0.5,MAX(H938,Summary!$D$7),MAX(H938,J938))),\"\")","v":""},"",""]
[939,null,null,{"$f":"IF(B940<>\"\",IF(B940<>B939,ROUND(MIN(1%*J940+(J940-H939)/Summary!$I$7,5%*H939),2),D939),0)","v":0},null,null,0,1416.7000000000005,"",{"$f":"IF(B940<>\"\",IF(K940=\"\",J939,IF((H939-J939)/H939<-0.5,MAX(H939,Summary!$D$7),MAX(H939,J939))),\"\")","v":""},"",""]
[940,null,null,{"$f":"IF(B941<>\"\",IF(B941<>B940,ROUND(MIN(1%*J941+(J941-H940)/Summary!$I$7,5%*H940),2),D940),0)","v":0},null,null,0,1416.7000000000005,"",{"$f":"IF(B941<>\"\",IF(K941=\"\",J940,IF((H940-J940)/H940<-0.5,MAX(H940,Summary!$D$7),MAX(H940,J940))),\"\")","v":""},"",""]
[941,null,null,{"$f":"IF(B942<>\"\",IF(B942<>B941,ROUND(MIN(1%*J942+(J942-H941)/Summary!$I$7,5%*H941),2),D941),0)","v":0},null,null,0,1416.7000000000005,"",{"$f":"IF(B942<>\"\",IF(K942=\"\",J941,IF((H941-J941)/H941<-0.5,MAX(H941,Summary!$D$7),MAX(H941,J941))),\"\")","v":""},"",""]
[942,null,null,{"$f":"IF(B943<>\"\",IF(B943<>B942,ROUND(MIN(1%*J943+(J943-H942)/Summary!$I$7,5%*H942),2),D942),0)","v":0},null,null,0,1416.7000000000005,"",{"$f":"IF(B943<>\"\",IF(K943=\"\",J942,IF((H942-J942)/H942<-0.5,MAX(H942,Summary!$D$7),MAX(H942,J942))),\"\")","v":""},"",""]
[943,null,null,{"$f":"IF(B944<>\"\",IF(B944<>B943,ROUND(MIN(1%*J944+(J944-H943)/Summary!$I$7,5%*H943),2),D943),0)","v":0},null,null,0,1416.7000000000005,"",{"$f":"IF(B944<>\"\",IF(K944=\"\",J943,IF((H943-J943)/H943<-0.5,MAX(H943,Summary!$D$7),MAX(H943,J943))),\"\")","v":""},"",""]
[944,null,null,{"$f":"IF(B945<>\"\",IF(B945<>B944,ROUND(MIN(1%*J945+(J945-H944)/Summary!$I$7,5%*H944),2),D944),0)","v":0},null,null,0,1416.7000000000005,"",{"$f":"IF(B945<>\"\",IF(K945=\"\",J944,IF((H944-J944)/H944<-0.5,MAX(H944,Summary!$D$7),MAX(H944,J944))),\"\")","v":""},"",""]
[945,null,null,{"$f":"IF(B946<>\"\",IF(B946<>B945,ROUND(MIN(1%*J946+(J946-H945)/Summary!$I$7,5%*H945),2),D945),0)","v":0},null,null,0,1416.7000000000005,"",{"$f":"IF(B946<>\"\",IF(K946=\"\",J945,IF((H945-J945)/H945<-0.5,MAX(H945,Summary!$D$7),MAX(H945,J945))),\"\")","v":""},"",""]
[946,null,null,{"$f":"IF(B947<>\"\",IF(B947<>B946,ROUND(MIN(1%*J947+(J947-H946)/Summary!$I$7,5%*H946),2),D946),0)","v":0},null,null,0,1416.7000000000005,"",{"$f":"IF(B947<>\"\",IF(K947=\"\",J946,IF((H946-J946)/H946<-0.5,MAX(H946,Summary!$D$7),MAX(H946,J946))),\"\")","v":""},"",""]
[947,null,null,{"$f":"IF(B948<>\"\",IF(B948<>B947,ROUND(MIN(1%*J948+(J948-H947)/Summary!$I$7,5%*H947),2),D947),0)","v":0},null,null,0,1416.7000000000005,"",{"$f":"IF(B948<>\"\",IF(K948=\"\",J947,IF((H947-J947)/H947<-0.5,MAX(H947,Summary!$D$7),MAX(H947,J947))),\"\")","v":""},"",""]
[948,null,null,{"$f":"IF(B949<>\"\",IF(B949<>B948,ROUND(MIN(1%*J949+(J949-H948)/Summary!$I$7,5%*H948),2),D948),0)","v":0},null,null,0,1416.7000000000005,"",{"$f":"IF(B949<>\"\",IF(K949=\"\",J948,IF((H948-J948)/H948<-0.5,MAX(H948,Summary!$D$7),MAX(H948,J948))),\"\")","v":""},"",""]
[949,null,null,{"$f":"IF(B950<>\"\",IF(B950<>B949,ROUND(MIN(1%*J950+(J950-H949)/Summary!$I$7,5%*H949),2),D949),0)","v":0},null,null,0,1416.7000000000005,"",{"$f":"IF(B950<>\"\",IF(K950=\"\",J949,IF((H949-J949)/H949<-0.5,MAX(H949,Summary!$D$7),MAX(H949,J949))),\"\")","v":""},"",""]
[950,null,null,{"$f":"IF(B951<>\"\",IF(B951<>B950,ROUND(MIN(1%*J951+(J951-H950)/Summary!$I$7,5%*H950),2),D950),0)","v":0},null,null,0,1416.7000000000005,"",{"$f":"IF(B951<>\"\",IF(K951=\"\",J950,IF((H950-J950)/H950<-0.5,MAX(H950,Summary!$D$7),MAX(H950,J950))),\"\")","v":""},"",""]
[951,null,null,{"$f":"IF(B952<>\"\",IF(B952<>B951,ROUND(MIN(1%*J952+(J952-H951)/Summary!$I$7,5%*H951),2),D951),0)","v":0},null,null,0,1416.7000000000005,"",{"$f":"IF(B952<>\"\",IF(K952=\"\",J951,IF((H951-J951)/H951<-0.5,MAX(H951,Summary!$D$7),MAX(H951,J951))),\"\")","v":""},"",""]
[952,null,null,{"$f":"IF(B953<>\"\",IF(B953<>B952,ROUND(MIN(1%*J953+(J953-H952)/Summary!$I$7,5%*H952),2),D952),0)","v":0},null,null,0,1416.7000000000005,"",{"$f":"IF(B953<>\"\",IF(K953=\"\",J952,IF((H952-J952)/H952<-0.5,MAX(H952,Summary!$D$7),MAX(H952,J952))),\"\")","v":""},"",""]
[953,null,null,{"$f":"IF(B954<>\"\",IF(B954<>B953,ROUND(MIN(1%*J954+(J954-H953)/Summary!$I$7,5%*H953),2),D953),0)","v":0},null,null,0,1416.7000000000005,"",{"$f":"IF(B954<>\"\",IF(K954=\"\",J953,IF((H953-J953)/H953<-0.5,MAX(H953,Summary!$D$7),MAX(H953,J953))),\"\")","v":""},"",""]
[954,null,null,{"$f":"IF(B955<>\"\",IF(B955<>B954,ROUND(MIN(1%*J955+(J955-H954)/Summary!$I$7,5%*H954),2),D954),0)","v":0},null,null,0,1416.7000000000005,"",{"$f":"IF(B955<>\"\",IF(K955=\"\",J954,IF((H954-J954)/H954<-0.5,MAX(H954,Summary!$D$7),MAX(H954,J954))),\"\")","v":""},"",""]
[955,null,null,{"$f":"IF(B956<>\"\",IF(B956<>B955,ROUND(MIN(1%*J956+(J956-H955)/Summary!$I$7,5%*H955),2),D955),0)","v":0},null,null,0,1416.7000000000005,"",{"$f":"IF(B956<>\"\",IF(K956=\"\",J955,IF((H955-J955)/H955<-0.5,MAX(H955,Summary!$D$7),MAX(H955,J955))),\"\")","v":""},"",""]
[956,null,null,{"$f":"IF(B957<>\"\",IF(B957<>B956,ROUND(MIN(1%*J957+(J957-H956)/Summary!$I$7,5%*H956),2),D956),0)","v":0},null,null,0,1416.7000000000005,"",{"$f":"IF(B957<>\"\",IF(K957=\"\",J956,IF((H956-J956)/H956<-0.5,MAX(H956,Summary!$D$7),MAX(H956,J956))),\"\")","v":""},"",""]
[957,null,null,{"$f":"IF(B958<>\"\",IF(B958<>B957,ROUND(MIN(1%*J958+(J958-H957)/Summary!$I$7,5%*H957),2),D957),0)","v":0},null,null,0,1416.7000000000005,"",{"$f":"IF(B958<>\"\",IF(K958=\"\",J957,IF((H957-J957)/H957<-0.5,MAX(H957,Summary!$D$7),MAX(H957,J957))),\"\")","v":""},"",""]
[958,null,null,{"$f":"IF(B959<>\"\",IF(B959<>B958,ROUND(MIN(1%*J959+(J959-H958)/Summary!$I$7,5%*H958),2),D958),0)","v":0},null,null,0,1416.7000000000005,"",{"$f":"IF(B959<>\"\",IF(K959=\"\",J958,IF((H958-J958)/H958<-0.5,MAX(H958,Summary!$D$7),MAX(H958,J958))),\"\")","v":""},"",""]
[959,null,null,{"$f":"IF(B960<>\"\",IF(B960<>B959,ROUND(MIN(1%*J960+(J960-H959)/Summary!$I$7,5%*H959),2),D959),0)","v":0},null,null,0,1416.7000000000005,"",{"$f":"IF(B960<>\"\",IF(K960=\"\",J959,IF((H959-J959)/H959<-0.5,MAX(H959,Summary!$D$7),MAX(H959,J959))),\"\")","v":""},"",""]
[960,null,null,{"$f":"IF(B961<>\"\",IF(B961<>B960,ROUND(MIN(1%*J961+(J961-H960)/Summary!$I$7,5%*H960),2),D960),0)","v":0},null,null,0,1416.7000000000005,"",{"$f":"IF(B961<>\"\",IF(K961=\"\",J960,IF((H960-J960)/H960<-0.5,MAX(H960,Summary!$D$7),MAX(H960,J960))),\"\")","v":""},"",""]
[961,null,null,{"$f":"IF(B962<>\"\",IF(B962<>B961,ROUND(MIN(1%*J962+(J962-H961)/Summary!$I$7,5%*H961),2),D961),0)","v":0},null,null,{"$f":"IF(F962=\"Y\",D962*(E962-1),IF(F962=\"N\",-D962,0))","v":0},1416.7000000000005,"",{"$f":"IF(B962<>\"\",IF(K962=\"\",J961,IF((H961-J961)/H961<-0.5,MAX(H961,Summary!$D$7),MAX(H961,J961))),\"\")","v":""},"",""]
[962,null,null,{"$f":"IF(B963<>\"\",IF(B963<>B962,ROUND(MIN(1%*J963+(J963-H962)/Summary!$I$7,5%*H962),2),D962),0)","v":0},null,null,0,{"$f":"SUM(H962,G963)","v":1416.7000000000005},{"$f":"IF(B963<>\"\",IF(B963<>B962,1,I962+1),\"\")","v":""},{"$f":"IF(B963<>\"\",IF(K963=\"\",J962,IF((H962-J962)/H962<-0.5,MAX(H962,Summary!$D$7),MAX(H962,J962))),\"\")","v":""},{"$f":"IF(AND(B963<>\"\",B963<>B962),\"Y\",\"\")","v":""},""]
[963,null,null,{"$f":"IF(B964<>\"\",IF(B964<>B963,ROUND(MIN(1%*J964+(J964-H963)/Summary!$I$7,5%*H963),2),D963),0)","v":0},null,null,0,1416.7000000000005,"",{"$f":"IF(B964<>\"\",IF(K964=\"\",J963,IF((H963-J963)/H963<-0.5,MAX(H963,Summary!$D$7),MAX(H963,J963))),\"\")","v":""},"",{"$f":"IF(D964<>0,D964/H964,\"\")","v":""}]
[964,null,null,{"$f":"IF(B965<>\"\",IF(B965<>B964,ROUND(MIN(1%*J965+(J965-H964)/Summary!$I$7,5%*H964),2),D964),0)","v":0},null,null,0,1416.7000000000005,"",{"$f":"IF(B965<>\"\",IF(K965=\"\",J964,IF((H964-J964)/H964<-0.5,MAX(H964,Summary!$D$7),MAX(H964,J964))),\"\")","v":""},"",""]
[965,null,null,{"$f":"IF(B966<>\"\",IF(B966<>B965,ROUND(MIN(1%*J966+(J966-H965)/Summary!$I$7,5%*H965),2),D965),0)","v":0},null,null,0,1416.7000000000005,"",{"$f":"IF(B966<>\"\",IF(K966=\"\",J965,IF((H965-J965)/H965<-0.5,MAX(H965,Summary!$D$7),MAX(H965,J965))),\"\")","v":""},"",""]
[966,null,null,{"$f":"IF(B967<>\"\",IF(B967<>B966,ROUND(MIN(1%*J967+(J967-H966)/Summary!$I$7,5%*H966),2),D966),0)","v":0},null,null,0,1416.7000000000005,"",{"$f":"IF(B967<>\"\",IF(K967=\"\",J966,IF((H966-J966)/H966<-0.5,MAX(H966,Summary!$D$7),MAX(H966,J966))),\"\")","v":""},"",""]
[967,null,null,{"$f":"IF(B968<>\"\",IF(B968<>B967,ROUND(MIN(1%*J968+(J968-H967)/Summary!$I$7,5%*H967),2),D967),0)","v":0},null,null,0,1416.7000000000005,"",{"$f":"IF(B968<>\"\",IF(K968=\"\",J967,IF((H967-J967)/H967<-0.5,MAX(H967,Summary!$D$7),MAX(H967,J967))),\"\")","v":""},"",""]
[968,null,null,{"$f":"IF(B969<>\"\",IF(B969<>B968,ROUND(MIN(1%*J969+(J969-H968)/Summary!$I$7,5%*H968),2),D968),0)","v":0},null,null,0,1416.7000000000005,"",{"$f":"IF(B969<>\"\",IF(K969=\"\",J968,IF((H968-J968)/H968<-0.5,MAX(H968,Summary!$D$7),MAX(H968,J968))),\"\")","v":""},"",""]
[969,null,null,{"$f":"IF(B970<>\"\",IF(B970<>B969,ROUND(MIN(1%*J970+(J970-H969)/Summary!$I$7,5%*H969),2),D969),0)","v":0},null,null,0,1416.7000000000005,"",{"$f":"IF(B970<>\"\",IF(K970=\"\",J969,IF((H969-J969)/H969<-0.5,MAX(H969,Summary!$D$7),MAX(H969,J969))),\"\")","v":""},"",""]
[970,null,null,{"$f":"IF(B971<>\"\",IF(B971<>B970,ROUND(MIN(1%*J971+(J971-H970)/Summary!$I$7,5%*H970),2),D970),0)","v":0},null,null,0,1416.7000000000005,"",{"$f":"IF(B971<>\"\",IF(K971=\"\",J970,IF((H970-J970)/H970<-0.5,MAX(H970,Summary!$D$7),MAX(H970,J970))),\"\")","v":""},"",""]
[971,null,null,{"$f":"IF(B972<>\"\",IF(B972<>B971,ROUND(MIN(1%*J972+(J972-H971)/Summary!$I$7,5%*H971),2),D971),0)","v":0},null,null,0,1416.7000000000005,"",{"$f":"IF(B972<>\"\",IF(K972=\"\",J971,IF((H971-J971)/H971<-0.5,MAX(H971,Summary!$D$7),MAX(H971,J971))),\"\")","v":""},"",""]
[972,null,null,{"$f":"IF(B973<>\"\",IF(B973<>B972,ROUND(MIN(1%*J973+(J973-H972)/Summary!$I$7,5%*H972),2),D972),0)","v":0},null,null,0,1416.7000000000005,"",{"$f":"IF(B973<>\"\",IF(K973=\"\",J972,IF((H972-J972)/H972<-0.5,MAX(H972,Summary!$D$7),MAX(H972,J972))),\"\")","v":""},"",""]
[973,null,null,{"$f":"IF(B974<>\"\",IF(B974<>B973,ROUND(MIN(1%*J974+(J974-H973)/Summary!$I$7,5%*H973),2),D973),0)","v":0},null,null,0,1416.7000000000005,"",{"$f":"IF(B974<>\"\",IF(K974=\"\",J973,IF((H973-J973)/H973<-0.5,MAX(H973,Summary!$D$7),MAX(H973,J973))),\"\")","v":""},"",""]
[974,null,null,{"$f":"IF(B975<>\"\",IF(B975<>B974,ROUND(MIN(1%*J975+(J975-H974)/Summary!$I$7,5%*H974),2),D974),0)","v":0},null,null,0,1416.7000000000005,"",{"$f":"IF(B975<>\"\",IF(K975=\"\",J974,IF((H974-J974)/H974<-0.5,MAX(H974,Summary!$D$7),MAX(H974,J974))),\"\")","v":""},"",""]
[975,null,null,{"$f":"IF(B976<>\"\",IF(B976<>B975,ROUND(MIN(1%*J976+(J976-H975)/Summary!$I$7,5%*H975),2),D975),0)","v":0},null,null,0,1416.7000000000005,"",{"$f":"IF(B976<>\"\",IF(K976=\"\",J975,IF((H975-J975)/H975<-0.5,MAX(H975,Summary!$D$7),MAX(H975,J975))),\"\")","v":""},"",""]
[976,null,null,{"$f":"IF(B977<>\"\",IF(B977<>B976,ROUND(MIN(1%*J977+(J977-H976)/Summary!$I$7,5%*H976),2),D976),0)","v":0},null,null,0,1416.7000000000005,"",{"$f":"IF(B977<>\"\",IF(K977=\"\",J976,IF((H976-J976)/H976<-0.5,MAX(H976,Summary!$D$7),MAX(H976,J976))),\"\")","v":""},"",""]
[977,null,null,{"$f":"IF(B978<>\"\",IF(B978<>B977,ROUND(MIN(1%*J978+(J978-H977)/Summary!$I$7,5%*H977),2),D977),0)","v":0},null,null,0,1416.7000000000005,"",{"$f":"IF(B978<>\"\",IF(K978=\"\",J977,IF((H977-J977)/H977<-0.5,MAX(H977,Summary!$D$7),MAX(H977,J977))),\"\")","v":""},"",""]
[978,null,null,{"$f":"IF(B979<>\"\",IF(B979<>B978,ROUND(MIN(1%*J979+(J979-H978)/Summary!$I$7,5%*H978),2),D978),0)","v":0},null,null,0,1416.7000000000005,"",{"$f":"IF(B979<>\"\",IF(K979=\"\",J978,IF((H978-J978)/H978<-0.5,MAX(H978,Summary!$D$7),MAX(H978,J978))),\"\")","v":""},"",""]
[979,null,null,{"$f":"IF(B980<>\"\",IF(B980<>B979,ROUND(MIN(1%*J980+(J980-H979)/Summary!$I$7,5%*H979),2),D979),0)","v":0},null,null,0,1416.7000000000005,"",{"$f":"IF(B980<>\"\",IF(K980=\"\",J979,IF((H979-J979)/H979<-0.5,MAX(H979,Summary!$D$7),MAX(H979,J979))),\"\")","v":""},"",""]
[980,null,null,{"$f":"IF(B981<>\"\",IF(B981<>B980,ROUND(MIN(1%*J981+(J981-H980)/Summary!$I$7,5%*H980),2),D980),0)","v":0},null,null,0,1416.7000000000005,"",{"$f":"IF(B981<>\"\",IF(K981=\"\",J980,IF((H980-J980)/H980<-0.5,MAX(H980,Summary!$D$7),MAX(H980,J980))),\"\")","v":""},"",""]
[981,null,null,{"$f":"IF(B982<>\"\",IF(B982<>B981,ROUND(MIN(1%*J982+(J982-H981)/Summary!$I$7,5%*H981),2),D981),0)","v":0},null,null,0,1416.7000000000005,"",{"$f":"IF(B982<>\"\",IF(K982=\"\",J981,IF((H981-J981)/H981<-0.5,MAX(H981,Summary!$D$7),MAX(H981,J981))),\"\")","v":""},"",""]
[982,null,null,{"$f":"IF(B983<>\"\",IF(B983<>B982,ROUND(MIN(1%*J983+(J983-H982)/Summary!$I$7,5%*H982),2),D982),0)","v":0},null,null,0,1416.7000000000005,"",{"$f":"IF(B983<>\"\",IF(K983=\"\",J982,IF((H982-J982)/H982<-0.5,MAX(H982,Summary!$D$7),MAX(H982,J982))),\"\")","v":""},"",""]
[983,null,null,{"$f":"IF(B984<>\"\",IF(B984<>B983,ROUND(MIN(1%*J984+(J984-H983)/Summary!$I$7,5%*H983),2),D983),0)","v":0},null,null,0,1416.7000000000005,"",{"$f":"IF(B984<>\"\",IF(K984=\"\",J983,IF((H983-J983)/H983<-0.5,MAX(H983,Summary!$D$7),MAX(H983,J983))),\"\")","v":""},"",""]
[984,null,null,{"$f":"IF(B985<>\"\",IF(B985<>B984,ROUND(MIN(1%*J985+(J985-H984)/Summary!$I$7,5%*H984),2),D984),0)","v":0},null,null,0,1416.7000000000005,"",{"$f":"IF(B985<>\"\",IF(K985=\"\",J984,IF((H984-J984)/H984<-0.5,MAX(H984,Summary!$D$7),MAX(H984,J984))),\"\")","v":""},"",""]
[985,null,null,{"$f":"IF(B986<>\"\",IF(B986<>B985,ROUND(MIN(1%*J986+(J986-H985)/Summary!$I$7,5%*H985),2),D985),0)","v":0},null,null,0,1416.7000000000005,"",{"$f":"IF(B986<>\"\",IF(K986=\"\",J985,IF((H985-J985)/H985<-0.5,MAX(H985,Summary!$D$7),MAX(H985,J985))),\"\")","v":""},"",""]
[986,null,null,{"$f":"IF(B987<>\"\",IF(B987<>B986,ROUND(MIN(1%*J987+(J987-H986)/Summary!$I$7,5%*H986),2),D986),0)","v":0},null,null,0,1416.7000000000005,"",{"$f":"IF(B987<>\"\",IF(K987=\"\",J986,IF((H986-J986)/H986<-0.5,MAX(H986,Summary!$D$7),MAX(H986,J986))),\"\")","v":""},"",""]
[987,null,null,{"$f":"IF(B988<>\"\",IF(B988<>B987,ROUND(MIN(1%*J988+(J988-H987)/Summary!$I$7,5%*H987),2),D987),0)","v":0},null,null,0,1416.7000000000005,"",{"$f":"IF(B988<>\"\",IF(K988=\"\",J987,IF((H987-J987)/H987<-0.5,MAX(H987,Summary!$D$7),MAX(H987,J987))),\"\")","v":""},"",""]
[988,null,null,{"$f":"IF(B989<>\"\",IF(B989<>B988,ROUND(MIN(1%*J989+(J989-H988)/Summary!$I$7,5%*H988),2),D988),0)","v":0},null,null,0,1416.7000000000005,"",{"$f":"IF(B989<>\"\",IF(K989=\"\",J988,IF((H988-J988)/H988<-0.5,MAX(H988,Summary!$D$7),MAX(H988,J988))),\"\")","v":""},"",""]
[989,null,null,{"$f":"IF(B990<>\"\",IF(B990<>B989,ROUND(MIN(1%*J990+(J990-H989)/Summary!$I$7,5%*H989),2),D989),0)","v":0},null,null,0,1416.7000000000005,"",{"$f":"IF(B990<>\"\",IF(K990=\"\",J989,IF((H989-J989)/H989<-0.5,MAX(H989,Summary!$D$7),MAX(H989,J989))),\"\")","v":""},"",""]
[990,null,null,{"$f":"IF(B991<>\"\",IF(B991<>B990,ROUND(MIN(1%*J991+(J991-H990)/Summary!$I$7,5%*H990),2),D990),0)","v":0},null,null,0,1416.7000000000005,"",{"$f":"IF(B991<>\"\",IF(K991=\"\",J990,IF((H990-J990)/H990<-0.5,MAX(H990,Summary!$D$7),MAX(H990,J990))),\"\")","v":""},"",""]
[991,null,null,{"$f":"IF(B992<>\"\",IF(B992<>B991,ROUND(MIN(1%*J992+(J992-H991)/Summary!$I$7,5%*H991),2),D991),0)","v":0},null,null,0,1416.7000000000005,"",{"$f":"IF(B992<>\"\",IF(K992=\"\",J991,IF((H991-J991)/H991<-0.5,MAX(H991,Summary!$D$7),MAX(H991,J991))),\"\")","v":""},"",""]
[992,null,null,{"$f":"IF(B993<>\"\",IF(B993<>B992,ROUND(MIN(1%*J993+(J993-H992)/Summary!$I$7,5%*H992),2),D992),0)","v":0},null,null,0,1416.7000000000005,"",{"$f":"IF(B993<>\"\",IF(K993=\"\",J992,IF((H992-J992)/H992<-0.5,MAX(H992,Summary!$D$7),MAX(H992,J992))),\"\")","v":""},"",""]
[993,null,null,{"$f":"IF(B994<>\"\",IF(B994<>B993,ROUND(MIN(1%*J994+(J994-H993)/Summary!$I$7,5%*H993),2),D993),0)","v":0},null,null,0,1416.7000000000005,"",{"$f":"IF(B994<>\"\",IF(K994=\"\",J993,IF((H993-J993)/H993<-0.5,MAX(H993,Summary!$D$7),MAX(H993,J993))),\"\")","v":""},"",""]
[994,null,null,{"$f":"IF(B995<>\"\",IF(B995<>B994,ROUND(MIN(1%*J995+(J995-H994)/Summary!$I$7,5%*H994),2),D994),0)","v":0},null,null,0,1416.7000000000005,"",{"$f":"IF(B995<>\"\",IF(K995=\"\",J994,IF((H994-J994)/H994<-0.5,MAX(H994,Summary!$D$7),MAX(H994,J994))),\"\")","v":""},"",""]
[995,null,null,{"$f":"IF(B996<>\"\",IF(B996<>B995,ROUND(MIN(1%*J996+(J996-H995)/Summary!$I$7,5%*H995),2),D995),0)","v":0},null,null,0,1416.7000000000005,"",{"$f":"IF(B996<>\"\",IF(K996=\"\",J995,IF((H995-J995)/H995<-0.5,MAX(H995,Summary!$D$7),MAX(H995,J995))),\"\")","v":""},"",""]
[996,null,null,{"$f":"IF(B997<>\"\",IF(B997<>B996,ROUND(MIN(1%*J997+(J997-H996)/Summary!$I$7,5%*H996),2),D996),0)","v":0},null,null,0,1416.7000000000005,"",{"$f":"IF(B997<>\"\",IF(K997=\"\",J996,IF((H996-J996)/H996<-0.5,MAX(H996,Summary!$D$7),MAX(H996,J996))),\"\")","v":""},"",""]
[997,null,null,{"$f":"IF(B998<>\"\",IF(B998<>B997,ROUND(MIN(1%*J998+(J998-H997)/Summary!$I$7,5%*H997),2),D997),0)","v":0},null,null,0,1416.7000000000005,"",{"$f":"IF(B998<>\"\",IF(K998=\"\",J997,IF((H997-J997)/H997<-0.5,MAX(H997,Summary!$D$7),MAX(H997,J997))),\"\")","v":""},"",""]
[998,null,null,{"$f":"IF(B999<>\"\",IF(B999<>B998,ROUND(MIN(1%*J999+(J999-H998)/Summary!$I$7,5%*H998),2),D998),0)","v":0},null,null,0,1416.7000000000005,"",{"$f":"IF(B999<>\"\",IF(K999=\"\",J998,IF((H998-J998)/H998<-0.5,MAX(H998,Summary!$D$7),MAX(H998,J998))),\"\")","v":""},"",""]
[999,null,null,{"$f":"IF(B1000<>\"\",IF(B1000<>B999,ROUND(MIN(1%*J1000+(J1000-H999)/Summary!$I$7,5%*H999),2),D999),0)","v":0},null,null,0,1416.7000000000005,"",{"$f":"IF(B1000<>\"\",IF(K1000=\"\",J999,IF((H999-J999)/H999<-0.5,MAX(H999,Summary!$D$7),MAX(H999,J999))),\"\")","v":""},"",""]
[1000,null,null,{"$f":"IF(B1001<>\"\",IF(B1001<>B1000,ROUND(MIN(1%*J1001+(J1001-H1000)/Summary!$I$7,5%*H1000),2),D1000),0)","v":0},null,null,0,1416.7000000000005,"",{"$f":"IF(B1001<>\"\",IF(K1001=\"\",J1000,IF((H1000-J1000)/H1000<-0.5,MAX(H1000,Summary!$D$7),MAX(H1000,J1000))),\"\")","v":""},"",""]