{"text_format":"2","workbook":"xlsx","n_sheets":3,"sheets":["Sheet1","Sheet2","Sheet3"],"not_rendered":{"charts":0,"images":0,"macros":0,"external_links":1,"defined_names":0,"comments":0,"pivot_tables":0},"unopened":[],"bounds":{"document_bytes":16777216,"sheet_cells":100000,"run_cost":"one","rows_first":2000,"rows_last":500,"rows_between":2000,"halvings":0,"cell_chars":16384,"cell_head_chars":4096},"cells_cut":0,"cells_raw":0,"read":"whole","date_system":"1900"}

{"sheet":"Sheet1","index":0,"n_rows":16,"n_cols":23,"rows_kept":16,"cut":false,"hidden":false,"merged":[]}
["Date","SCR","Tab No.","Horse","Date L/S","Wgt","Btn Mgn","Btn Mgn Kgs","Wgt Last St","Wgt Var","Last Venue","Last St Dist","Lst St Going",null,"Race Time","Adj","Best Time","Var Secs","Var Lgths","Var Kgs","Rating","Rank","DLR"]
["2011-05-28",null,{"$f":"[1]RaceTwo!A1","v":1},{"$f":"[1]RaceTwo!A2","v":"YULALONA"},{"$f":"[1]RaceTwo!D12","v":"2011-05-21"},{"$f":"[1]RaceTwo!A5","v":59},{"$f":"SUBSTITUTE([1]RaceTwo!O12,\"L\",\"\")","v":"1.2"},{"$f":"G2*1.5","v":1.7999999999999998},{"$f":"[1]RaceTwo!K12","v":56},{"$f":"F2-I2","v":3},{"$f":"[1]RaceTwo!B12","v":"RHIL"},{"$f":"[1]RaceTwo!E12","v":1800},{"$f":"[1]RaceTwo!C12","v":"D"},{"$f":"K2&L2&M2","v":"RHIL1800D"},{"$f":"[1]RaceTwo!P12","v":"1-50.66"},{"$f":"LEFT(O2,1)*60+MID(O2,3,5)","v":110.66},{"$f":"VLOOKUP(N2,$AG$1:$AH$3000,2,FALSE)","v":{"$error":"#N/A"}},{"$f":"P2-Q2","v":{"$error":"#N/A"}},{"$f":"R2*6","v":{"$error":"#N/A"}},{"$f":"S2*1.5","v":{"$error":"#N/A"}},{"$f":"IF(B2=\"x\",\"\",I2-T2-H2-J2)","v":{"$error":"#N/A"}},{"$f":"IFERROR(RANK(U2,$U$2:$U$23,0),\"\")","v":""},{"$f":"DATEDIF(E2,A$2,\"d\")","v":7}]
[null,null,{"$f":"[1]RaceTwo!A13","v":2},{"$f":"[1]RaceTwo!A14","v":"DIAMOND JIM"},{"$f":"[1]RaceTwo!D24","v":"2011-05-11"},{"$f":"[1]RaceTwo!A17","v":57},{"$f":"SUBSTITUTE([1]RaceTwo!O24,\"L\",\"\")","v":"2.3"},{"$f":"G3*1.5","v":3.4499999999999997},{"$f":"[1]RaceTwo!K24","v":56},{"$f":"F3-I3","v":1},{"$f":"[1]RaceTwo!B24","v":"KENS"},{"$f":"[1]RaceTwo!E24","v":2400},{"$f":"[1]RaceTwo!C24","v":"S"},{"$f":"K3&L3&M3","v":"KENS2400S"},{"$f":"[1]RaceTwo!P24","v":"2-36.52"},{"$f":"LEFT(O3,1)*60+MID(O3,3,5)","v":156.52000000000001},{"$f":"VLOOKUP(N3,$AG$1:$AH$3000,2,FALSE)","v":{"$error":"#N/A"}},{"$f":"P3-Q3","v":{"$error":"#N/A"}},{"$f":"R3*6","v":{"$error":"#N/A"}},{"$f":"S3*1.5","v":{"$error":"#N/A"}},{"$error":"#N/A"},{"$f":"IFERROR(RANK(U3,$U$2:$U$23,0),\"\")","v":""},17]
[null,null,{"$f":"[1]RaceTwo!A25","v":3},{"$f":"[1]RaceTwo!A26","v":"CHARING CROSS"},{"$f":"[1]RaceTwo!D36","v":"2011-05-11"},{"$f":"[1]RaceTwo!A29","v":56.5},{"$f":"SUBSTITUTE([1]RaceTwo!O36,\"L\",\"\")","v":"0.1"},0.15000000000000002,{"$f":"[1]RaceTwo!K36","v":56.5},0,{"$f":"[1]RaceTwo!B36","v":"KENS"},{"$f":"[1]RaceTwo!E36","v":1800},{"$f":"[1]RaceTwo!C36","v":"S"},"KENS1800S",{"$f":"[1]RaceTwo!P36","v":"1-54.52"},114.52000000000001,{"$error":"#N/A"},{"$error":"#N/A"},{"$error":"#N/A"},{"$error":"#N/A"},{"$error":"#N/A"},"",17]
[null,null,{"$f":"[1]RaceTwo!A37","v":4},{"$f":"[1]RaceTwo!A38","v":"ZACHARY"},{"$f":"[1]RaceTwo!D48","v":"2011-05-07"},{"$f":"[1]RaceTwo!A41","v":56.5},{"$f":"SUBSTITUTE([1]RaceTwo!O48,\"L\",\"\")","v":"0.2"},0.30000000000000004,{"$f":"[1]RaceTwo!K48","v":54.5},2,{"$f":"[1]RaceTwo!B48","v":"CANT"},{"$f":"[1]RaceTwo!E48","v":1900},{"$f":"[1]RaceTwo!C48","v":"D"},"CANT1900D",{"$f":"[1]RaceTwo!P48","v":"1-58.11"},118.11,{"$error":"#N/A"},{"$error":"#N/A"},{"$error":"#N/A"},{"$error":"#N/A"},{"$error":"#N/A"},"",21]
[null,null,{"$f":"[1]RaceTwo!A49","v":5},{"$f":"[1]RaceTwo!A50","v":"SINGLE"},{"$f":"[1]RaceTwo!D60","v":"2011-05-21"},{"$f":"[1]RaceTwo!A53","v":55},{"$f":"SUBSTITUTE([1]RaceTwo!O60,\"L\",\"\")","v":"0.5"},0.75,{"$f":"[1]RaceTwo!K60","v":53},2,{"$f":"[1]RaceTwo!B60","v":"RHIL"},{"$f":"[1]RaceTwo!E60","v":1500},{"$f":"[1]RaceTwo!C60","v":"D"},"RHIL1500D",{"$f":"[1]RaceTwo!P60","v":"1-29.86"},89.86,{"$error":"#N/A"},{"$error":"#N/A"},{"$error":"#N/A"},{"$error":"#N/A"},{"$error":"#N/A"},"",7]
[null,null,{"$f":"[1]RaceTwo!A61","v":6},{"$f":"[1]RaceTwo!A62","v":"SOUTHERN SHIMMER"},{"$f":"[1]RaceTwo!D72","v":"2011-05-06"},{"$f":"[1]RaceTwo!A65","v":55},{"$f":"SUBSTITUTE([1]RaceTwo!O72,\"L\",\"\")","v":"0.2"},0.30000000000000004,{"$f":"[1]RaceTwo!K72","v":57.5},-2.5,{"$f":"[1]RaceTwo!B72","v":"WAGG"},{"$f":"[1]RaceTwo!E72","v":1600},{"$f":"[1]RaceTwo!C72","v":"D"},"WAGG1600D",{"$f":"[1]RaceTwo!P72","v":"1-35.94"},95.94,{"$error":"#N/A"},{"$error":"#N/A"},{"$error":"#N/A"},{"$error":"#N/A"},{"$error":"#N/A"},"",22]
[null,null,{"$f":"[1]RaceTwo!A73","v":7},{"$f":"[1]RaceTwo!A74","v":"GOGRA GOGRA"},{"$f":"[1]RaceTwo!D84","v":"2011-05-11"},{"$f":"[1]RaceTwo!A77","v":53.5},{"$f":"SUBSTITUTE([1]RaceTwo!O84,\"L\",\"\")","v":"9.7"},14.549999999999999,{"$f":"[1]RaceTwo!K84","v":56},-2.5,{"$f":"[1]RaceTwo!B84","v":"KENS"},{"$f":"[1]RaceTwo!E84","v":1800},{"$f":"[1]RaceTwo!C84","v":"S"},"KENS1800S",{"$f":"[1]RaceTwo!P84","v":"1-54.52"},114.52000000000001,{"$error":"#N/A"},{"$error":"#N/A"},{"$error":"#N/A"},{"$error":"#N/A"},{"$error":"#N/A"},"",17]
[null,null,{"$f":"[1]RaceTwo!A85","v":8},{"$f":"[1]RaceTwo!A86","v":"GOOD VIEW"},{"$f":"[1]RaceTwo!D96","v":"2011-04-30"},{"$f":"[1]RaceTwo!A89","v":53.5},{"$f":"SUBSTITUTE([1]RaceTwo!O96,\"L\",\"\")","v":"1.8"},2.7,{"$f":"[1]RaceTwo!K96","v":57},-3.5,{"$f":"[1]RaceTwo!B96","v":"NCLE"},{"$f":"[1]RaceTwo!E96","v":1850},{"$f":"[1]RaceTwo!C96","v":"D"},"NCLE1850D",{"$f":"[1]RaceTwo!P96","v":"1-57.90"},117.9,{"$error":"#N/A"},{"$error":"#N/A"},{"$error":"#N/A"},{"$error":"#N/A"},{"$error":"#N/A"},"",28]
[null,"x",{"$f":"[1]RaceTwo!A97","v":9},{"$f":"[1]RaceTwo!A98","v":"LEADING"},{"$f":"[1]RaceTwo!D108","v":"00:00:00"},{"$f":"[1]RaceTwo!A101","v":0},{"$f":"SUBSTITUTE([1]RaceTwo!O108,\"L\",\"\")","v":""},{"$error":"#VALUE!"},{"$f":"[1]RaceTwo!K108","v":0},0,{"$f":"[1]RaceTwo!B108","v":0},{"$f":"[1]RaceTwo!E108","v":0},{"$f":"[1]RaceTwo!C108","v":0},"000",{"$f":"[1]RaceTwo!P108","v":"00:00:00"},{"$error":"#VALUE!"},{"$error":"#N/A"},{"$error":"#VALUE!"},{"$error":"#VALUE!"},{"$error":"#VALUE!"},"","",40691]
[null,null,{"$f":"[1]RaceTwo!A109","v":10},{"$f":"[1]RaceTwo!A110","v":"CHICO BONITO"},{"$f":"[1]RaceTwo!D120","v":"2011-05-11"},{"$f":"[1]RaceTwo!A113","v":53},{"$f":"SUBSTITUTE([1]RaceTwo!O120,\"L\",\"\")","v":"8.9"},13.350000000000001,{"$f":"[1]RaceTwo!K120","v":54},-1,{"$f":"[1]RaceTwo!B120","v":"KENS"},{"$f":"[1]RaceTwo!E120","v":1800},{"$f":"[1]RaceTwo!C120","v":"S"},"KENS1800S",{"$f":"[1]RaceTwo!P120","v":"1-54.52"},114.52000000000001,{"$error":"#N/A"},{"$error":"#N/A"},{"$error":"#N/A"},{"$error":"#N/A"},{"$error":"#N/A"},"",17]
[null,null,{"$f":"[1]RaceTwo!A121","v":11},{"$f":"[1]RaceTwo!A122","v":"KING USAIN"},{"$f":"[1]RaceTwo!D132","v":"2011-05-08"},{"$f":"[1]RaceTwo!A125","v":53},{"$f":"SUBSTITUTE([1]RaceTwo!O132,\"L\",\"\")","v":"0.2"},0.30000000000000004,{"$f":"[1]RaceTwo!K132","v":56},-3,{"$f":"[1]RaceTwo!B132","v":"SALE"},{"$f":"[1]RaceTwo!E132","v":1700},{"$f":"[1]RaceTwo!C132","v":"D"},"SALE1700D",{"$f":"[1]RaceTwo!P132","v":"1-44.89"},104.89,{"$error":"#N/A"},{"$error":"#N/A"},{"$error":"#N/A"},{"$error":"#N/A"},{"$error":"#N/A"},"",20]
[null,null,{"$f":"[1]RaceTwo!A133","v":12},{"$f":"[1]RaceTwo!A134","v":"COUSTELLET"},{"$f":"[1]RaceTwo!D144","v":"2011-05-21"},{"$f":"[1]RaceTwo!A137","v":53},{"$f":"SUBSTITUTE([1]RaceTwo!O144,\"L\",\"\")","v":"6.2"},9.3000000000000007,{"$f":"[1]RaceTwo!K144","v":55},-2,{"$f":"[1]RaceTwo!B144","v":"K GR"},{"$f":"[1]RaceTwo!E144","v":2000},{"$f":"[1]RaceTwo!C144","v":"G"},"K GR2000G",{"$f":"[1]RaceTwo!P144","v":"2-7.44"},127.44,{"$error":"#N/A"},{"$error":"#N/A"},{"$error":"#N/A"},{"$error":"#N/A"},{"$error":"#N/A"},"",7]
[null,null,{"$f":"[1]RaceTwo!A145","v":13},{"$f":"[1]RaceTwo!A146","v":"BARADANE"},{"$f":"[1]RaceTwo!D156","v":"2011-05-14"},{"$f":"[1]RaceTwo!A149","v":53},{"$f":"SUBSTITUTE([1]RaceTwo!O156,\"L\",\"\")","v":"1.3"},1.9500000000000002,{"$f":"[1]RaceTwo!K156","v":54.5},-1.5,{"$f":"[1]RaceTwo!B156","v":"K GR"},{"$f":"[1]RaceTwo!E156","v":2000},{"$f":"[1]RaceTwo!C156","v":"G"},"K GR2000G",{"$f":"[1]RaceTwo!P156","v":"2-5.25"},125.25,{"$error":"#N/A"},{"$error":"#N/A"},{"$error":"#N/A"},{"$error":"#N/A"},{"$error":"#N/A"},"",14]
[null,null,{"$f":"[1]RaceTwo!A157","v":14},{"$f":"[1]RaceTwo!A158","v":"SURZEAL"},{"$f":"[1]RaceTwo!D168","v":"2011-05-20"},{"$f":"[1]RaceTwo!A161","v":53},{"$f":"SUBSTITUTE([1]RaceTwo!O168,\"L\",\"\")","v":"1.8"},2.7,{"$f":"[1]RaceTwo!K168","v":54},-1,{"$f":"[1]RaceTwo!B168","v":"CANB"},{"$f":"[1]RaceTwo!E168","v":2000},{"$f":"[1]RaceTwo!C168","v":"G"},"CANB2000G",{"$f":"[1]RaceTwo!P168","v":"2-6.09"},126.09,{"$error":"#N/A"},{"$error":"#N/A"},{"$error":"#N/A"},{"$error":"#N/A"},{"$error":"#N/A"},"",8]
[null,null,{"$f":"[1]RaceTwo!A169","v":15},{"$f":"[1]RaceTwo!A170","v":"ZABEEL BABE"},{"$f":"[1]RaceTwo!D180","v":"2011-05-15"},{"$f":"[1]RaceTwo!A173","v":53},{"$f":"SUBSTITUTE([1]RaceTwo!O180,\"L\",\"\")","v":"9.6"},14.399999999999999,{"$f":"[1]RaceTwo!K180","v":54},-1,{"$f":"[1]RaceTwo!B180","v":"W FM"},{"$f":"[1]RaceTwo!E180","v":1600},{"$f":"[1]RaceTwo!C180","v":"D"},"W FM1600D",{"$f":"[1]RaceTwo!P180","v":"1-36.48"},96.47999999999999,{"$error":"#N/A"},{"$error":"#N/A"},{"$error":"#N/A"},{"$error":"#N/A"},{"$error":"#N/A"},"",13]

{"sheet":"Sheet2","index":1,"n_rows":0,"n_cols":0,"rows_kept":0,"cut":false,"hidden":false,"merged":[]}

{"sheet":"Sheet3","index":2,"n_rows":0,"n_cols":0,"rows_kept":0,"cut":false,"hidden":false,"merged":[]}