{"text_format":"2","workbook":"xlsx","n_sheets":3,"sheets":["Main","Database","Instructions"],"not_rendered":{"charts":0,"images":0,"macros":1,"external_links":0,"defined_names":0,"comments":0,"pivot_tables":0},"unopened":[],"bounds":{"document_bytes":16777216,"sheet_cells":100000,"run_cost":"one","rows_first":2000,"rows_last":500,"rows_between":2000,"halvings":0,"cell_chars":16384,"cell_head_chars":4096},"cells_cut":0,"cells_raw":0,"read":"whole","date_system":"1900"}

{"sheet":"Main","index":0,"n_rows":30,"n_cols":26,"rows_kept":30,"cut":false,"hidden":false,"merged":[[27,4,27,5],[27,9,27,11],[27,13,27,15],[27,25,27,26],[11,4,11,5]]}
{"$rows_empty":10}
[{"$nulls":4},"Sports/Betting ID",null,null,"Outlay",null,"Return",null,"Profit",null,"POT",null,"Bets",null,"Wins",null,"Strike Rate",null,"AV/Price"]
[{"$nulls":4},"Trifecta",null,null,{"$f":"SUM(Database!AB2:'Database'!AB50000)","v":9000},null,{"$f":"SUM(Database!AD2:'Database'!AD50000)","v":30750},null,{"$f":"J12-H12","v":21750},null,{"$f":"L12/H12","v":2.4166666666666665},null,{"$f":"COUNT(Database!AB2:'Database'!AB50000)","v":9},null,{"$f":"COUNT(Database!AC2:'Database'!AC50000)","v":7},null,{"$f":"R12/P12","v":0.77777777777777779},null,{"$f":"IF(R12=0,0,SUM(Database!AC2:'Database'!AC50000)/R12)","v":4.3928571428571432}]
{"$rows_empty":14}
[{"$nulls":4},"Sports/Betting ID",null,null,"Date",null,"Sports/Event ID",null,null,null,"Selection",null,null,null,"Outlay",null,"Price",null,"Return",null,"Profit",null,"Betting Agency"]
[{"$nulls":4},"Win Betting",null,null,"2011-05-11",null,"Rosehill Race 5",null,null,null,"Intergaze",null,null,null,1000,null,null,null,{"$f":"IF(T28=\"\",0,R28*T28)","v":0},null,{"$f":"V28-R28","v":-1000},null,"Betfair"]
[]
[{"$nulls":4},{"$f":"E28","v":"Win Betting"},null,null,{"$f":"H28","v":"2011-05-11"},null,{"$f":"J28","v":"Rosehill Race 5"},null,null,null,{"$f":"N28","v":"Intergaze"},null,null,null,{"$f":"R28","v":1000},null,{"$f":"T28","v":0},null,{"$f":"V28","v":0},null,{"$f":"X28","v":-1000},null,{"$f":"Z28","v":"Betfair"}]

{"sheet":"Database","index":1,"n_rows":50002,"n_cols":36,"rows_kept":4500,"cut":true,"hidden":false,"merged":[],"bounds":{"rows_first":2000,"rows_last":500,"rows_between":2000,"halvings":0}}
["SB ID",null,null,"Date",null,"SE ID",null,null,null,"Selection",null,null,null,"Outlay",null,"Price",null,"Return",null,"Profit",null,"BA",null,"SBID","Date","SEID","Selection","Outlay","Price","Return","Profit","BA",null,"Sports/Betting ID",null,"Betting Agencies"]
["Win Betting",null,null,"2011-05-11",null,"Rosehill Race 5",null,null,null,"Intergaze",null,null,null,1000,null,4,null,4000,null,3000,null,"Betfair",null,{"$f":"IF(A2<>\"\",IF(Main!$E$12=\"ALL\",A2,IF(Main!$E$12=A2,A2,\"\")),\"\")","v":""},{"$f":"IF($X2=\"\",\"\",D2)","v":""},{"$f":"IF($X2=\"\",\"\",F2)","v":""},{"$f":"IF($X2=\"\",\"\",J2)","v":""},{"$f":"IF($X2=\"\",\"\",N2)","v":""},{"$f":"IF($X2=\"\",\"\",IF(P2=\"\",\"\",P2))","v":""},{"$f":"IF($X2=\"\",\"\",R2)","v":""},{"$f":"IF($X2=\"\",\"\",T2)","v":""},{"$f":"IF($X2=\"\",\"\",V2)","v":""},null,"ALL",null,"SportsBet"]
["Win Betting",null,null,"2011-05-11",null,"Rosehill Race 5",null,null,null,"Intergaze",null,null,null,1000,null,4,null,4000,null,3000,null,"Betfair",null,{"$f":"IF(A3<>\"\",IF(Main!$E$12=\"ALL\",A3,IF(Main!$E$12=A3,A3,\"\")),\"\")","v":""},{"$f":"IF($X3=\"\",\"\",D3)","v":""},{"$f":"IF($X3=\"\",\"\",F3)","v":""},{"$f":"IF($X3=\"\",\"\",J3)","v":""},{"$f":"IF($X3=\"\",\"\",N3)","v":""},{"$f":"IF($X3=\"\",\"\",IF(P3=\"\",\"\",P3))","v":""},{"$f":"IF($X3=\"\",\"\",R3)","v":""},{"$f":"IF($X3=\"\",\"\",T3)","v":""},{"$f":"IF($X3=\"\",\"\",V3)","v":""},null,"Place Betting",null,"Internation All Sports"]
["Win Betting",null,null,"2011-05-11",null,"Rosehill Race 5",null,null,null,"Intergaze",null,null,null,1000,null,4,null,4000,null,3000,null,"Betfair",null,{"$f":"IF(A4<>\"\",IF(Main!$E$12=\"ALL\",A4,IF(Main!$E$12=A4,A4,\"\")),\"\")","v":""},"","","","","","","","",null,"Trifecta",null,"Sportingbet"]
["Win Betting",null,null,"2011-05-11",null,"Rosehill Race 5",null,null,null,"Intergaze",null,null,null,1000,null,4,null,4000,null,3000,null,"Betfair",null,{"$f":"IF(A5<>\"\",IF(Main!$E$12=\"ALL\",A5,IF(Main!$E$12=A5,A5,\"\")),\"\")","v":""},"","","","","","","","",null,"Quinella",null,"Betfair"]
["Win Betting",null,null,"2011-05-11",null,"Rosehill Race 5",null,null,null,"Intergaze",null,null,null,1000,null,4,null,4000,null,3000,null,"Betfair",null,{"$f":"IF(A6<>\"\",IF(Main!$E$12=\"ALL\",A6,IF(Main!$E$12=A6,A6,\"\")),\"\")","v":""},"","","","","","","","",null,"Win Betting"]
["Place Betting",null,null,"2011-05-11",null,"Rosehill Race 5",null,null,null,"Intergaze",null,null,null,1000,null,4,null,4000,null,3000,null,"Betfair",null,{"$f":"IF(A7<>\"\",IF(Main!$E$12=\"ALL\",A7,IF(Main!$E$12=A7,A7,\"\")),\"\")","v":""},"","","","","","","",""]
["Place Betting",null,null,"2011-05-11",null,"Rosehill Race 5",null,null,null,"Intergaze",null,null,null,1000,null,4,null,4000,null,3000,null,"Betfair",null,{"$f":"IF(A8<>\"\",IF(Main!$E$12=\"ALL\",A8,IF(Main!$E$12=A8,A8,\"\")),\"\")","v":""},"","","","","","","",""]
["Place Betting",null,null,"2011-05-11",null,"Rosehill Race 5",null,null,null,"Intergaze",null,null,null,1000,null,2,null,2000,null,1000,null,"Betfair",null,{"$f":"IF(A9<>\"\",IF(Main!$E$12=\"ALL\",A9,IF(Main!$E$12=A9,A9,\"\")),\"\")","v":""},"","","","","","","",""]
["Place Betting",null,null,"2011-05-11",null,"Rosehill Race 5",null,null,null,"Intergaze",null,null,null,1000,null,2.5,null,2500,null,1500,null,"Betfair",null,{"$f":"IF(A10<>\"\",IF(Main!$E$12=\"ALL\",A10,IF(Main!$E$12=A10,A10,\"\")),\"\")","v":""},"","","","","","","",""]
["Place Betting",null,null,"2011-05-11",null,"Rosehill Race 5",null,null,null,"Intergaze",null,null,null,1000,null,2.5,null,2500,null,1500,null,"Betfair",null,{"$f":"IF(A11<>\"\",IF(Main!$E$12=\"ALL\",A11,IF(Main!$E$12=A11,A11,\"\")),\"\")","v":""},"","","","","","","",""]
["Trifecta",null,null,"2011-05-11",null,"Rosehill Race 5",null,null,null,"Intergaze",null,null,null,1000,null,2.5,null,2500,null,1500,null,"Betfair",null,{"$f":"IF(A12<>\"\",IF(Main!$E$12=\"ALL\",A12,IF(Main!$E$12=A12,A12,\"\")),\"\")","v":"Trifecta"},"2011-05-11","Rosehill Race 5","Intergaze",1000,2.5,2500,1500,"Betfair"]
["Trifecta",null,null,"2011-05-11",null,"Rosehill Race 5",null,null,null,"Intergaze",null,null,null,1000,null,2.5,null,2500,null,1500,null,"Betfair",null,{"$f":"IF(A13<>\"\",IF(Main!$E$12=\"ALL\",A13,IF(Main!$E$12=A13,A13,\"\")),\"\")","v":"Trifecta"},"2011-05-11","Rosehill Race 5","Intergaze",1000,2.5,2500,1500,"Betfair"]
["Trifecta",null,null,"2011-05-11",null,"Rosehill Race 5",null,null,null,"Intergaze",null,null,null,1000,null,10,null,10000,null,9000,null,"Betfair",null,{"$f":"IF(A14<>\"\",IF(Main!$E$12=\"ALL\",A14,IF(Main!$E$12=A14,A14,\"\")),\"\")","v":"Trifecta"},"2011-05-11","Rosehill Race 5","Intergaze",1000,10,10000,9000,"Betfair"]
["Trifecta",null,null,"2011-05-11",null,"Rosehill Race 5",null,null,null,"Intergaze",null,null,null,1000,null,12,null,12000,null,11000,null,"Betfair",null,{"$f":"IF(A15<>\"\",IF(Main!$E$12=\"ALL\",A15,IF(Main!$E$12=A15,A15,\"\")),\"\")","v":"Trifecta"},"2011-05-11","Rosehill Race 5","Intergaze",1000,12,12000,11000,"Betfair"]
["Trifecta",null,null,"2011-05-11",null,"Rosehill Race 5",null,null,null,"Intergaze",null,null,null,1000,null,1.25,null,1250,null,250,null,"Betfair",null,{"$f":"IF(A16<>\"\",IF(Main!$E$12=\"ALL\",A16,IF(Main!$E$12=A16,A16,\"\")),\"\")","v":"Trifecta"},"2011-05-11","Rosehill Race 5","Intergaze",1000,1.25,1250,250,"Betfair"]
["Trifecta",null,null,"2011-05-11",null,"Rosehill Race 5",null,null,null,"Intergaze",null,null,null,1000,null,1.25,null,1250,null,250,null,"Betfair",null,{"$f":"IF(A17<>\"\",IF(Main!$E$12=\"ALL\",A17,IF(Main!$E$12=A17,A17,\"\")),\"\")","v":"Trifecta"},"2011-05-11","Rosehill Race 5","Intergaze",1000,1.25,1250,250,"Betfair"]
["Trifecta",null,null,"2011-05-11",null,"Rosehill Race 5",null,null,null,"Intergaze",null,null,null,1000,null,1.25,null,1250,null,250,null,"Betfair",null,{"$f":"IF(A18<>\"\",IF(Main!$E$12=\"ALL\",A18,IF(Main!$E$12=A18,A18,\"\")),\"\")","v":"Trifecta"},"2011-05-11","Rosehill Race 5","Intergaze",1000,1.25,1250,250,"Betfair"]
["Quinella",null,null,"2011-05-11",null,"Rosehill Race 5",null,null,null,"Intergaze",null,null,null,1000,null,null,null,"",null,0,null,"Betfair",null,{"$f":"IF(A19<>\"\",IF(Main!$E$12=\"ALL\",A19,IF(Main!$E$12=A19,A19,\"\")),\"\")","v":""},"","","","","","","",""]
["Trifecta",null,null,"2011-05-11",null,"Rosehill Race 5",null,null,null,"Intergaze",null,null,null,1000,null,null,null,0,null,-1000,null,"Betfair",null,{"$f":"IF(A20<>\"\",IF(Main!$E$12=\"ALL\",A20,IF(Main!$E$12=A20,A20,\"\")),\"\")","v":"Trifecta"},"2011-05-11","Rosehill Race 5","Intergaze",1000,"",0,-1000,"Betfair"]
["Trifecta",null,null,"2011-05-11",null,"Rosehill Race 5",null,null,null,"Intergaze",null,null,null,1000,null,null,null,0,null,-1000,null,"Betfair",null,{"$f":"IF(A21<>\"\",IF(Main!$E$12=\"ALL\",A21,IF(Main!$E$12=A21,A21,\"\")),\"\")","v":"Trifecta"},"2011-05-11","Rosehill Race 5","Intergaze",1000,"",0,-1000,"Betfair"]
["Place Betting",null,null,"2011-05-11",null,"Rosehill Race 5",null,null,null,"Intergaze",null,null,null,1000,null,null,null,0,null,-1000,null,"Betfair",null,{"$f":"IF(A22<>\"\",IF(Main!$E$12=\"ALL\",A22,IF(Main!$E$12=A22,A22,\"\")),\"\")","v":""},"","","","","","","",""]
["Place Betting",null,null,"2011-05-11",null,"Rosehill Race 5",null,null,null,"Intergaze",null,null,null,1000,null,null,null,0,null,-1000,null,"Betfair",null,{"$f":"IF(A23<>\"\",IF(Main!$E$12=\"ALL\",A23,IF(Main!$E$12=A23,A23,\"\")),\"\")","v":""},"","","","","","","",""]
[{"$nulls":23},{"$f":"IF(A24<>\"\",IF(Main!$E$12=\"ALL\",A24,IF(Main!$E$12=A24,A24,\"\")),\"\")","v":""},"","","","","","","",""]
[{"$nulls":23},{"$f":"IF(A25<>\"\",IF(Main!$E$12=\"ALL\",A25,IF(Main!$E$12=A25,A25,\"\")),\"\")","v":""},"","","","","","","",""]
[{"$nulls":23},{"$f":"IF(A26<>\"\",IF(Main!$E$12=\"ALL\",A26,IF(Main!$E$12=A26,A26,\"\")),\"\")","v":""},"","","","","","","",""]
[{"$nulls":23},{"$f":"IF(A27<>\"\",IF(Main!$E$12=\"ALL\",A27,IF(Main!$E$12=A27,A27,\"\")),\"\")","v":""},"","","","","","","",""]
[{"$nulls":23},{"$f":"IF(A28<>\"\",IF(Main!$E$12=\"ALL\",A28,IF(Main!$E$12=A28,A28,\"\")),\"\")","v":""},"","","","","","","",""]
[{"$nulls":23},{"$f":"IF(A29<>\"\",IF(Main!$E$12=\"ALL\",A29,IF(Main!$E$12=A29,A29,\"\")),\"\")","v":""},"","","","","","","",""]
[{"$nulls":23},{"$f":"IF(A30<>\"\",IF(Main!$E$12=\"ALL\",A30,IF(Main!$E$12=A30,A30,\"\")),\"\")","v":""},"","","","","","","",""]
[{"$nulls":23},{"$f":"IF(A31<>\"\",IF(Main!$E$12=\"ALL\",A31,IF(Main!$E$12=A31,A31,\"\")),\"\")","v":""},"","","","","","","",""]
[{"$nulls":23},{"$f":"IF(A32<>\"\",IF(Main!$E$12=\"ALL\",A32,IF(Main!$E$12=A32,A32,\"\")),\"\")","v":""},"","","","","","","",""]
[{"$nulls":23},{"$f":"IF(A33<>\"\",IF(Main!$E$12=\"ALL\",A33,IF(Main!$E$12=A33,A33,\"\")),\"\")","v":""},"","","","","","","",""]
[{"$nulls":23},{"$f":"IF(A34<>\"\",IF(Main!$E$12=\"ALL\",A34,IF(Main!$E$12=A34,A34,\"\")),\"\")","v":""},"","","","","","","",""]
[{"$nulls":23},{"$f":"IF(A35<>\"\",IF(Main!$E$12=\"ALL\",A35,IF(Main!$E$12=A35,A35,\"\")),\"\")","v":""},"","","","","","","",""]
[{"$nulls":23},{"$f":"IF(A36<>\"\",IF(Main!$E$12=\"ALL\",A36,IF(Main!$E$12=A36,A36,\"\")),\"\")","v":""},"","","","","","","",""]
[{"$nulls":23},{"$f":"IF(A37<>\"\",IF(Main!$E$12=\"ALL\",A37,IF(Main!$E$12=A37,A37,\"\")),\"\")","v":""},"","","","","","","",""]
[{"$nulls":23},{"$f":"IF(A38<>\"\",IF(Main!$E$12=\"ALL\",A38,IF(Main!$E$12=A38,A38,\"\")),\"\")","v":""},"","","","","","","",""]
[{"$nulls":23},{"$f":"IF(A39<>\"\",IF(Main!$E$12=\"ALL\",A39,IF(Main!$E$12=A39,A39,\"\")),\"\")","v":""},"","","","","","","",""]
[{"$nulls":23},{"$f":"IF(A40<>\"\",IF(Main!$E$12=\"ALL\",A40,IF(Main!$E$12=A40,A40,\"\")),\"\")","v":""},"","","","","","","",""]
[{"$nulls":23},{"$f":"IF(A41<>\"\",IF(Main!$E$12=\"ALL\",A41,IF(Main!$E$12=A41,A41,\"\")),\"\")","v":""},"","","","","","","",""]
[{"$nulls":23},{"$f":"IF(A42<>\"\",IF(Main!$E$12=\"ALL\",A42,IF(Main!$E$12=A42,A42,\"\")),\"\")","v":""},"","","","","","","",""]
[{"$nulls":23},{"$f":"IF(A43<>\"\",IF(Main!$E$12=\"ALL\",A43,IF(Main!$E$12=A43,A43,\"\")),\"\")","v":""},"","","","","","","",""]
[{"$nulls":23},{"$f":"IF(A44<>\"\",IF(Main!$E$12=\"ALL\",A44,IF(Main!$E$12=A44,A44,\"\")),\"\")","v":""},"","","","","","","",""]
[{"$nulls":23},{"$f":"IF(A45<>\"\",IF(Main!$E$12=\"ALL\",A45,IF(Main!$E$12=A45,A45,\"\")),\"\")","v":""},"","","","","","","",""]
[{"$nulls":23},{"$f":"IF(A46<>\"\",IF(Main!$E$12=\"ALL\",A46,IF(Main!$E$12=A46,A46,\"\")),\"\")","v":""},"","","","","","","",""]
[{"$nulls":23},{"$f":"IF(A47<>\"\",IF(Main!$E$12=\"ALL\",A47,IF(Main!$E$12=A47,A47,\"\")),\"\")","v":""},"","","","","","","",""]
[{"$nulls":23},{"$f":"IF(A48<>\"\",IF(Main!$E$12=\"ALL\",A48,IF(Main!$E$12=A48,A48,\"\")),\"\")","v":""},"","","","","","","",""]
[{"$nulls":23},{"$f":"IF(A49<>\"\",IF(Main!$E$12=\"ALL\",A49,IF(Main!$E$12=A49,A49,\"\")),\"\")","v":""},"","","","","","","",""]
[{"$nulls":23},{"$f":"IF(A50<>\"\",IF(Main!$E$12=\"ALL\",A50,IF(Main!$E$12=A50,A50,\"\")),\"\")","v":""},"","","","","","","",""]
[{"$nulls":23},{"$f":"IF(A51<>\"\",IF(Main!$E$12=\"ALL\",A51,IF(Main!$E$12=A51,A51,\"\")),\"\")","v":""},"","","","","","","",""]
[{"$nulls":23},{"$f":"IF(A52<>\"\",IF(Main!$E$12=\"ALL\",A52,IF(Main!$E$12=A52,A52,\"\")),\"\")","v":""},"","","","","","","",""]
[{"$nulls":23},{"$f":"IF(A53<>\"\",IF(Main!$E$12=\"ALL\",A53,IF(Main!$E$12=A53,A53,\"\")),\"\")","v":""},"","","","","","","",""]
[{"$nulls":23},{"$f":"IF(A54<>\"\",IF(Main!$E$12=\"ALL\",A54,IF(Main!$E$12=A54,A54,\"\")),\"\")","v":""},"","","","","","","",""]
[{"$nulls":23},{"$f":"IF(A55<>\"\",IF(Main!$E$12=\"ALL\",A55,IF(Main!$E$12=A55,A55,\"\")),\"\")","v":""},"","","","","","","",""]
[{"$nulls":23},{"$f":"IF(A56<>\"\",IF(Main!$E$12=\"ALL\",A56,IF(Main!$E$12=A56,A56,\"\")),\"\")","v":""},"","","","","","","",""]
[{"$nulls":23},{"$f":"IF(A57<>\"\",IF(Main!$E$12=\"ALL\",A57,IF(Main!$E$12=A57,A57,\"\")),\"\")","v":""},"","","","","","","",""]
[{"$nulls":23},{"$f":"IF(A58<>\"\",IF(Main!$E$12=\"ALL\",A58,IF(Main!$E$12=A58,A58,\"\")),\"\")","v":""},"","","","","","","",""]
[{"$nulls":23},{"$f":"IF(A59<>\"\",IF(Main!$E$12=\"ALL\",A59,IF(Main!$E$12=A59,A59,\"\")),\"\")","v":""},"","","","","","","",""]
[{"$nulls":23},{"$f":"IF(A60<>\"\",IF(Main!$E$12=\"ALL\",A60,IF(Main!$E$12=A60,A60,\"\")),\"\")","v":""},"","","","","","","",""]
[{"$nulls":23},{"$f":"IF(A61<>\"\",IF(Main!$E$12=\"ALL\",A61,IF(Main!$E$12=A61,A61,\"\")),\"\")","v":""},"","","","","","","",""]
[{"$nulls":23},{"$f":"IF(A62<>\"\",IF(Main!$E$12=\"ALL\",A62,IF(Main!$E$12=A62,A62,\"\")),\"\")","v":""},"","","","","","","",""]
[{"$nulls":23},{"$f":"IF(A63<>\"\",IF(Main!$E$12=\"ALL\",A63,IF(Main!$E$12=A63,A63,\"\")),\"\")","v":""},"","","","","","","",""]
[{"$nulls":23},{"$f":"IF(A64<>\"\",IF(Main!$E$12=\"ALL\",A64,IF(Main!$E$12=A64,A64,\"\")),\"\")","v":""},"","","","","","","",""]
[{"$nulls":23},{"$f":"IF(A65<>\"\",IF(Main!$E$12=\"ALL\",A65,IF(Main!$E$12=A65,A65,\"\")),\"\")","v":""},"","","","","","","",""]
[{"$nulls":23},{"$f":"IF(A66<>\"\",IF(Main!$E$12=\"ALL\",A66,IF(Main!$E$12=A66,A66,\"\")),\"\")","v":""},"","","","","","","",""]
[{"$nulls":23},{"$f":"IF(A67<>\"\",IF(Main!$E$12=\"ALL\",A67,IF(Main!$E$12=A67,A67,\"\")),\"\")","v":""},{"$f":"IF($X67=\"\",\"\",D67)","v":""},{"$f":"IF($X67=\"\",\"\",F67)","v":""},{"$f":"IF($X67=\"\",\"\",J67)","v":""},{"$f":"IF($X67=\"\",\"\",N67)","v":""},{"$f":"IF($X67=\"\",\"\",IF(P67=\"\",\"\",P67))","v":""},{"$f":"IF($X67=\"\",\"\",R67)","v":""},{"$f":"IF($X67=\"\",\"\",T67)","v":""},{"$f":"IF($X67=\"\",\"\",V67)","v":""}]
[{"$nulls":23},{"$f":"IF(A68<>\"\",IF(Main!$E$12=\"ALL\",A68,IF(Main!$E$12=A68,A68,\"\")),\"\")","v":""},"","","","","","","",""]
[{"$nulls":23},{"$f":"IF(A69<>\"\",IF(Main!$E$12=\"ALL\",A69,IF(Main!$E$12=A69,A69,\"\")),\"\")","v":""},"","","","","","","",""]
[{"$nulls":23},{"$f":"IF(A70<>\"\",IF(Main!$E$12=\"ALL\",A70,IF(Main!$E$12=A70,A70,\"\")),\"\")","v":""},"","","","","","","",""]
[{"$nulls":23},{"$f":"IF(A71<>\"\",IF(Main!$E$12=\"ALL\",A71,IF(Main!$E$12=A71,A71,\"\")),\"\")","v":""},"","","","","","","",""]
[{"$nulls":23},{"$f":"IF(A72<>\"\",IF(Main!$E$12=\"ALL\",A72,IF(Main!$E$12=A72,A72,\"\")),\"\")","v":""},"","","","","","","",""]
[{"$nulls":23},{"$f":"IF(A73<>\"\",IF(Main!$E$12=\"ALL\",A73,IF(Main!$E$12=A73,A73,\"\")),\"\")","v":""},"","","","","","","",""]
[{"$nulls":23},{"$f":"IF(A74<>\"\",IF(Main!$E$12=\"ALL\",A74,IF(Main!$E$12=A74,A74,\"\")),\"\")","v":""},"","","","","","","",""]
[{"$nulls":23},{"$f":"IF(A75<>\"\",IF(Main!$E$12=\"ALL\",A75,IF(Main!$E$12=A75,A75,\"\")),\"\")","v":""},"","","","","","","",""]
[{"$nulls":23},{"$f":"IF(A76<>\"\",IF(Main!$E$12=\"ALL\",A76,IF(Main!$E$12=A76,A76,\"\")),\"\")","v":""},"","","","","","","",""]
[{"$nulls":23},{"$f":"IF(A77<>\"\",IF(Main!$E$12=\"ALL\",A77,IF(Main!$E$12=A77,A77,\"\")),\"\")","v":""},"","","","","","","",""]
[{"$nulls":23},{"$f":"IF(A78<>\"\",IF(Main!$E$12=\"ALL\",A78,IF(Main!$E$12=A78,A78,\"\")),\"\")","v":""},"","","","","","","",""]
[{"$nulls":23},{"$f":"IF(A79<>\"\",IF(Main!$E$12=\"ALL\",A79,IF(Main!$E$12=A79,A79,\"\")),\"\")","v":""},"","","","","","","",""]
[{"$nulls":23},{"$f":"IF(A80<>\"\",IF(Main!$E$12=\"ALL\",A80,IF(Main!$E$12=A80,A80,\"\")),\"\")","v":""},"","","","","","","",""]
[{"$nulls":23},{"$f":"IF(A81<>\"\",IF(Main!$E$12=\"ALL\",A81,IF(Main!$E$12=A81,A81,\"\")),\"\")","v":""},"","","","","","","",""]
[{"$nulls":23},{"$f":"IF(A82<>\"\",IF(Main!$E$12=\"ALL\",A82,IF(Main!$E$12=A82,A82,\"\")),\"\")","v":""},"","","","","","","",""]
[{"$nulls":23},{"$f":"IF(A83<>\"\",IF(Main!$E$12=\"ALL\",A83,IF(Main!$E$12=A83,A83,\"\")),\"\")","v":""},"","","","","","","",""]
[{"$nulls":23},{"$f":"IF(A84<>\"\",IF(Main!$E$12=\"ALL\",A84,IF(Main!$E$12=A84,A84,\"\")),\"\")","v":""},"","","","","","","",""]
[{"$nulls":23},{"$f":"IF(A85<>\"\",IF(Main!$E$12=\"ALL\",A85,IF(Main!$E$12=A85,A85,\"\")),\"\")","v":""},"","","","","","","",""]
[{"$nulls":23},{"$f":"IF(A86<>\"\",IF(Main!$E$12=\"ALL\",A86,IF(Main!$E$12=A86,A86,\"\")),\"\")","v":""},"","","","","","","",""]
[{"$nulls":23},{"$f":"IF(A87<>\"\",IF(Main!$E$12=\"ALL\",A87,IF(Main!$E$12=A87,A87,\"\")),\"\")","v":""},"","","","","","","",""]
[{"$nulls":23},{"$f":"IF(A88<>\"\",IF(Main!$E$12=\"ALL\",A88,IF(Main!$E$12=A88,A88,\"\")),\"\")","v":""},"","","","","","","",""]
[{"$nulls":23},{"$f":"IF(A89<>\"\",IF(Main!$E$12=\"ALL\",A89,IF(Main!$E$12=A89,A89,\"\")),\"\")","v":""},"","","","","","","",""]
[{"$nulls":23},{"$f":"IF(A90<>\"\",IF(Main!$E$12=\"ALL\",A90,IF(Main!$E$12=A90,A90,\"\")),\"\")","v":""},"","","","","","","",""]
[{"$nulls":23},{"$f":"IF(A91<>\"\",IF(Main!$E$12=\"ALL\",A91,IF(Main!$E$12=A91,A91,\"\")),\"\")","v":""},"","","","","","","",""]
[{"$nulls":23},{"$f":"IF(A92<>\"\",IF(Main!$E$12=\"ALL\",A92,IF(Main!$E$12=A92,A92,\"\")),\"\")","v":""},"","","","","","","",""]
[{"$nulls":23},{"$f":"IF(A93<>\"\",IF(Main!$E$12=\"ALL\",A93,IF(Main!$E$12=A93,A93,\"\")),\"\")","v":""},"","","","","","","",""]
[{"$nulls":23},{"$f":"IF(A94<>\"\",IF(Main!$E$12=\"ALL\",A94,IF(Main!$E$12=A94,A94,\"\")),\"\")","v":""},"","","","","","","",""]
[{"$nulls":23},{"$f":"IF(A95<>\"\",IF(Main!$E$12=\"ALL\",A95,IF(Main!$E$12=A95,A95,\"\")),\"\")","v":""},"","","","","","","",""]
[{"$nulls":23},{"$f":"IF(A96<>\"\",IF(Main!$E$12=\"ALL\",A96,IF(Main!$E$12=A96,A96,\"\")),\"\")","v":""},"","","","","","","",""]
[{"$nulls":23},{"$f":"IF(A97<>\"\",IF(Main!$E$12=\"ALL\",A97,IF(Main!$E$12=A97,A97,\"\")),\"\")","v":""},"","","","","","","",""]
[{"$nulls":23},{"$f":"IF(A98<>\"\",IF(Main!$E$12=\"ALL\",A98,IF(Main!$E$12=A98,A98,\"\")),\"\")","v":""},"","","","","","","",""]
[{"$nulls":23},{"$f":"IF(A99<>\"\",IF(Main!$E$12=\"ALL\",A99,IF(Main!$E$12=A99,A99,\"\")),\"\")","v":""},"","","","","","","",""]
[{"$nulls":23},{"$f":"IF(A100<>\"\",IF(Main!$E$12=\"ALL\",A100,IF(Main!$E$12=A100,A100,\"\")),\"\")","v":""},"","","","","","","",""]
[{"$nulls":23},{"$f":"IF(A101<>\"\",IF(Main!$E$12=\"ALL\",A101,IF(Main!$E$12=A101,A101,\"\")),\"\")","v":""},"","","","","","","",""]
[{"$nulls":23},{"$f":"IF(A102<>\"\",IF(Main!$E$12=\"ALL\",A102,IF(Main!$E$12=A102,A102,\"\")),\"\")","v":""},"","","","","","","",""]
[{"$nulls":23},{"$f":"IF(A103<>\"\",IF(Main!$E$12=\"ALL\",A103,IF(Main!$E$12=A103,A103,\"\")),\"\")","v":""},"","","","","","","",""]
[{"$nulls":23},{"$f":"IF(A104<>\"\",IF(Main!$E$12=\"ALL\",A104,IF(Main!$E$12=A104,A104,\"\")),\"\")","v":""},"","","","","","","",""]
[{"$nulls":23},{"$f":"IF(A105<>\"\",IF(Main!$E$12=\"ALL\",A105,IF(Main!$E$12=A105,A105,\"\")),\"\")","v":""},"","","","","","","",""]
[{"$nulls":23},{"$f":"IF(A106<>\"\",IF(Main!$E$12=\"ALL\",A106,IF(Main!$E$12=A106,A106,\"\")),\"\")","v":""},"","","","","","","",""]
[{"$nulls":23},{"$f":"IF(A107<>\"\",IF(Main!$E$12=\"ALL\",A107,IF(Main!$E$12=A107,A107,\"\")),\"\")","v":""},"","","","","","","",""]
[{"$nulls":23},{"$f":"IF(A108<>\"\",IF(Main!$E$12=\"ALL\",A108,IF(Main!$E$12=A108,A108,\"\")),\"\")","v":""},"","","","","","","",""]
[{"$nulls":23},{"$f":"IF(A109<>\"\",IF(Main!$E$12=\"ALL\",A109,IF(Main!$E$12=A109,A109,\"\")),\"\")","v":""},"","","","","","","",""]
[{"$nulls":23},{"$f":"IF(A110<>\"\",IF(Main!$E$12=\"ALL\",A110,IF(Main!$E$12=A110,A110,\"\")),\"\")","v":""},"","","","","","","",""]
[{"$nulls":23},{"$f":"IF(A111<>\"\",IF(Main!$E$12=\"ALL\",A111,IF(Main!$E$12=A111,A111,\"\")),\"\")","v":""},"","","","","","","",""]
[{"$nulls":23},{"$f":"IF(A112<>\"\",IF(Main!$E$12=\"ALL\",A112,IF(Main!$E$12=A112,A112,\"\")),\"\")","v":""},"","","","","","","",""]
[{"$nulls":23},{"$f":"IF(A113<>\"\",IF(Main!$E$12=\"ALL\",A113,IF(Main!$E$12=A113,A113,\"\")),\"\")","v":""},"","","","","","","",""]
[{"$nulls":23},{"$f":"IF(A114<>\"\",IF(Main!$E$12=\"ALL\",A114,IF(Main!$E$12=A114,A114,\"\")),\"\")","v":""},"","","","","","","",""]
[{"$nulls":23},{"$f":"IF(A115<>\"\",IF(Main!$E$12=\"ALL\",A115,IF(Main!$E$12=A115,A115,\"\")),\"\")","v":""},"","","","","","","",""]
[{"$nulls":23},{"$f":"IF(A116<>\"\",IF(Main!$E$12=\"ALL\",A116,IF(Main!$E$12=A116,A116,\"\")),\"\")","v":""},"","","","","","","",""]
[{"$nulls":23},{"$f":"IF(A117<>\"\",IF(Main!$E$12=\"ALL\",A117,IF(Main!$E$12=A117,A117,\"\")),\"\")","v":""},"","","","","","","",""]
[{"$nulls":23},{"$f":"IF(A118<>\"\",IF(Main!$E$12=\"ALL\",A118,IF(Main!$E$12=A118,A118,\"\")),\"\")","v":""},"","","","","","","",""]
[{"$nulls":23},{"$f":"IF(A119<>\"\",IF(Main!$E$12=\"ALL\",A119,IF(Main!$E$12=A119,A119,\"\")),\"\")","v":""},"","","","","","","",""]
[{"$nulls":23},{"$f":"IF(A120<>\"\",IF(Main!$E$12=\"ALL\",A120,IF(Main!$E$12=A120,A120,\"\")),\"\")","v":""},"","","","","","","",""]
[{"$nulls":23},{"$f":"IF(A121<>\"\",IF(Main!$E$12=\"ALL\",A121,IF(Main!$E$12=A121,A121,\"\")),\"\")","v":""},"","","","","","","",""]
[{"$nulls":23},{"$f":"IF(A122<>\"\",IF(Main!$E$12=\"ALL\",A122,IF(Main!$E$12=A122,A122,\"\")),\"\")","v":""},"","","","","","","",""]
[{"$nulls":23},{"$f":"IF(A123<>\"\",IF(Main!$E$12=\"ALL\",A123,IF(Main!$E$12=A123,A123,\"\")),\"\")","v":""},"","","","","","","",""]
[{"$nulls":23},{"$f":"IF(A124<>\"\",IF(Main!$E$12=\"ALL\",A124,IF(Main!$E$12=A124,A124,\"\")),\"\")","v":""},"","","","","","","",""]
[{"$nulls":23},{"$f":"IF(A125<>\"\",IF(Main!$E$12=\"ALL\",A125,IF(Main!$E$12=A125,A125,\"\")),\"\")","v":""},"","","","","","","",""]
[{"$nulls":23},{"$f":"IF(A126<>\"\",IF(Main!$E$12=\"ALL\",A126,IF(Main!$E$12=A126,A126,\"\")),\"\")","v":""},"","","","","","","",""]
[{"$nulls":23},{"$f":"IF(A127<>\"\",IF(Main!$E$12=\"ALL\",A127,IF(Main!$E$12=A127,A127,\"\")),\"\")","v":""},"","","","","","","",""]
[{"$nulls":23},{"$f":"IF(A128<>\"\",IF(Main!$E$12=\"ALL\",A128,IF(Main!$E$12=A128,A128,\"\")),\"\")","v":""},"","","","","","","",""]
[{"$nulls":23},{"$f":"IF(A129<>\"\",IF(Main!$E$12=\"ALL\",A129,IF(Main!$E$12=A129,A129,\"\")),\"\")","v":""},"","","","","","","",""]
[{"$nulls":23},{"$f":"IF(A130<>\"\",IF(Main!$E$12=\"ALL\",A130,IF(Main!$E$12=A130,A130,\"\")),\"\")","v":""},"","","","","","","",""]
[{"$nulls":23},{"$f":"IF(A131<>\"\",IF(Main!$E$12=\"ALL\",A131,IF(Main!$E$12=A131,A131,\"\")),\"\")","v":""},{"$f":"IF($X131=\"\",\"\",D131)","v":""},{"$f":"IF($X131=\"\",\"\",F131)","v":""},{"$f":"IF($X131=\"\",\"\",J131)","v":""},{"$f":"IF($X131=\"\",\"\",N131)","v":""},{"$f":"IF($X131=\"\",\"\",IF(P131=\"\",\"\",P131))","v":""},{"$f":"IF($X131=\"\",\"\",R131)","v":""},{"$f":"IF($X131=\"\",\"\",T131)","v":""},{"$f":"IF($X131=\"\",\"\",V131)","v":""}]
[{"$nulls":23},{"$f":"IF(A132<>\"\",IF(Main!$E$12=\"ALL\",A132,IF(Main!$E$12=A132,A132,\"\")),\"\")","v":""},"","","","","","","",""]
[{"$nulls":23},{"$f":"IF(A133<>\"\",IF(Main!$E$12=\"ALL\",A133,IF(Main!$E$12=A133,A133,\"\")),\"\")","v":""},"","","","","","","",""]
[{"$nulls":23},{"$f":"IF(A134<>\"\",IF(Main!$E$12=\"ALL\",A134,IF(Main!$E$12=A134,A134,\"\")),\"\")","v":""},"","","","","","","",""]
[{"$nulls":23},{"$f":"IF(A135<>\"\",IF(Main!$E$12=\"ALL\",A135,IF(Main!$E$12=A135,A135,\"\")),\"\")","v":""},"","","","","","","",""]
[{"$nulls":23},{"$f":"IF(A136<>\"\",IF(Main!$E$12=\"ALL\",A136,IF(Main!$E$12=A136,A136,\"\")),\"\")","v":""},"","","","","","","",""]
[{"$nulls":23},{"$f":"IF(A137<>\"\",IF(Main!$E$12=\"ALL\",A137,IF(Main!$E$12=A137,A137,\"\")),\"\")","v":""},"","","","","","","",""]
[{"$nulls":23},{"$f":"IF(A138<>\"\",IF(Main!$E$12=\"ALL\",A138,IF(Main!$E$12=A138,A138,\"\")),\"\")","v":""},"","","","","","","",""]
[{"$nulls":23},{"$f":"IF(A139<>\"\",IF(Main!$E$12=\"ALL\",A139,IF(Main!$E$12=A139,A139,\"\")),\"\")","v":""},"","","","","","","",""]
[{"$nulls":23},{"$f":"IF(A140<>\"\",IF(Main!$E$12=\"ALL\",A140,IF(Main!$E$12=A140,A140,\"\")),\"\")","v":""},"","","","","","","",""]
[{"$nulls":23},{"$f":"IF(A141<>\"\",IF(Main!$E$12=\"ALL\",A141,IF(Main!$E$12=A141,A141,\"\")),\"\")","v":""},"","","","","","","",""]
[{"$nulls":23},{"$f":"IF(A142<>\"\",IF(Main!$E$12=\"ALL\",A142,IF(Main!$E$12=A142,A142,\"\")),\"\")","v":""},"","","","","","","",""]
[{"$nulls":23},{"$f":"IF(A143<>\"\",IF(Main!$E$12=\"ALL\",A143,IF(Main!$E$12=A143,A143,\"\")),\"\")","v":""},"","","","","","","",""]
[{"$nulls":23},{"$f":"IF(A144<>\"\",IF(Main!$E$12=\"ALL\",A144,IF(Main!$E$12=A144,A144,\"\")),\"\")","v":""},"","","","","","","",""]
[{"$nulls":23},{"$f":"IF(A145<>\"\",IF(Main!$E$12=\"ALL\",A145,IF(Main!$E$12=A145,A145,\"\")),\"\")","v":""},"","","","","","","",""]
[{"$nulls":23},{"$f":"IF(A146<>\"\",IF(Main!$E$12=\"ALL\",A146,IF(Main!$E$12=A146,A146,\"\")),\"\")","v":""},"","","","","","","",""]
[{"$nulls":23},{"$f":"IF(A147<>\"\",IF(Main!$E$12=\"ALL\",A147,IF(Main!$E$12=A147,A147,\"\")),\"\")","v":""},"","","","","","","",""]
[{"$nulls":23},{"$f":"IF(A148<>\"\",IF(Main!$E$12=\"ALL\",A148,IF(Main!$E$12=A148,A148,\"\")),\"\")","v":""},"","","","","","","",""]
[{"$nulls":23},{"$f":"IF(A149<>\"\",IF(Main!$E$12=\"ALL\",A149,IF(Main!$E$12=A149,A149,\"\")),\"\")","v":""},"","","","","","","",""]
[{"$nulls":23},{"$f":"IF(A150<>\"\",IF(Main!$E$12=\"ALL\",A150,IF(Main!$E$12=A150,A150,\"\")),\"\")","v":""},"","","","","","","",""]
[{"$nulls":23},{"$f":"IF(A151<>\"\",IF(Main!$E$12=\"ALL\",A151,IF(Main!$E$12=A151,A151,\"\")),\"\")","v":""},"","","","","","","",""]
[{"$nulls":23},{"$f":"IF(A152<>\"\",IF(Main!$E$12=\"ALL\",A152,IF(Main!$E$12=A152,A152,\"\")),\"\")","v":""},"","","","","","","",""]
[{"$nulls":23},{"$f":"IF(A153<>\"\",IF(Main!$E$12=\"ALL\",A153,IF(Main!$E$12=A153,A153,\"\")),\"\")","v":""},"","","","","","","",""]
[{"$nulls":23},{"$f":"IF(A154<>\"\",IF(Main!$E$12=\"ALL\",A154,IF(Main!$E$12=A154,A154,\"\")),\"\")","v":""},"","","","","","","",""]
[{"$nulls":23},{"$f":"IF(A155<>\"\",IF(Main!$E$12=\"ALL\",A155,IF(Main!$E$12=A155,A155,\"\")),\"\")","v":""},"","","","","","","",""]
[{"$nulls":23},{"$f":"IF(A156<>\"\",IF(Main!$E$12=\"ALL\",A156,IF(Main!$E$12=A156,A156,\"\")),\"\")","v":""},"","","","","","","",""]
[{"$nulls":23},{"$f":"IF(A157<>\"\",IF(Main!$E$12=\"ALL\",A157,IF(Main!$E$12=A157,A157,\"\")),\"\")","v":""},"","","","","","","",""]
[{"$nulls":23},{"$f":"IF(A158<>\"\",IF(Main!$E$12=\"ALL\",A158,IF(Main!$E$12=A158,A158,\"\")),\"\")","v":""},"","","","","","","",""]
[{"$nulls":23},{"$f":"IF(A159<>\"\",IF(Main!$E$12=\"ALL\",A159,IF(Main!$E$12=A159,A159,\"\")),\"\")","v":""},"","","","","","","",""]
[{"$nulls":23},{"$f":"IF(A160<>\"\",IF(Main!$E$12=\"ALL\",A160,IF(Main!$E$12=A160,A160,\"\")),\"\")","v":""},"","","","","","","",""]
[{"$nulls":23},{"$f":"IF(A161<>\"\",IF(Main!$E$12=\"ALL\",A161,IF(Main!$E$12=A161,A161,\"\")),\"\")","v":""},"","","","","","","",""]
[{"$nulls":23},{"$f":"IF(A162<>\"\",IF(Main!$E$12=\"ALL\",A162,IF(Main!$E$12=A162,A162,\"\")),\"\")","v":""},"","","","","","","",""]
[{"$nulls":23},{"$f":"IF(A163<>\"\",IF(Main!$E$12=\"ALL\",A163,IF(Main!$E$12=A163,A163,\"\")),\"\")","v":""},"","","","","","","",""]
[{"$nulls":23},{"$f":"IF(A164<>\"\",IF(Main!$E$12=\"ALL\",A164,IF(Main!$E$12=A164,A164,\"\")),\"\")","v":""},"","","","","","","",""]
[{"$nulls":23},{"$f":"IF(A165<>\"\",IF(Main!$E$12=\"ALL\",A165,IF(Main!$E$12=A165,A165,\"\")),\"\")","v":""},"","","","","","","",""]
[{"$nulls":23},{"$f":"IF(A166<>\"\",IF(Main!$E$12=\"ALL\",A166,IF(Main!$E$12=A166,A166,\"\")),\"\")","v":""},"","","","","","","",""]
[{"$nulls":23},{"$f":"IF(A167<>\"\",IF(Main!$E$12=\"ALL\",A167,IF(Main!$E$12=A167,A167,\"\")),\"\")","v":""},"","","","","","","",""]
[{"$nulls":23},{"$f":"IF(A168<>\"\",IF(Main!$E$12=\"ALL\",A168,IF(Main!$E$12=A168,A168,\"\")),\"\")","v":""},"","","","","","","",""]
[{"$nulls":23},{"$f":"IF(A169<>\"\",IF(Main!$E$12=\"ALL\",A169,IF(Main!$E$12=A169,A169,\"\")),\"\")","v":""},"","","","","","","",""]
[{"$nulls":23},{"$f":"IF(A170<>\"\",IF(Main!$E$12=\"ALL\",A170,IF(Main!$E$12=A170,A170,\"\")),\"\")","v":""},"","","","","","","",""]
[{"$nulls":23},{"$f":"IF(A171<>\"\",IF(Main!$E$12=\"ALL\",A171,IF(Main!$E$12=A171,A171,\"\")),\"\")","v":""},"","","","","","","",""]
[{"$nulls":23},{"$f":"IF(A172<>\"\",IF(Main!$E$12=\"ALL\",A172,IF(Main!$E$12=A172,A172,\"\")),\"\")","v":""},"","","","","","","",""]
[{"$nulls":23},{"$f":"IF(A173<>\"\",IF(Main!$E$12=\"ALL\",A173,IF(Main!$E$12=A173,A173,\"\")),\"\")","v":""},"","","","","","","",""]
[{"$nulls":23},{"$f":"IF(A174<>\"\",IF(Main!$E$12=\"ALL\",A174,IF(Main!$E$12=A174,A174,\"\")),\"\")","v":""},"","","","","","","",""]
[{"$nulls":23},{"$f":"IF(A175<>\"\",IF(Main!$E$12=\"ALL\",A175,IF(Main!$E$12=A175,A175,\"\")),\"\")","v":""},"","","","","","","",""]
[{"$nulls":23},{"$f":"IF(A176<>\"\",IF(Main!$E$12=\"ALL\",A176,IF(Main!$E$12=A176,A176,\"\")),\"\")","v":""},"","","","","","","",""]
[{"$nulls":23},{"$f":"IF(A177<>\"\",IF(Main!$E$12=\"ALL\",A177,IF(Main!$E$12=A177,A177,\"\")),\"\")","v":""},"","","","","","","",""]
[{"$nulls":23},{"$f":"IF(A178<>\"\",IF(Main!$E$12=\"ALL\",A178,IF(Main!$E$12=A178,A178,\"\")),\"\")","v":""},"","","","","","","",""]
[{"$nulls":23},{"$f":"IF(A179<>\"\",IF(Main!$E$12=\"ALL\",A179,IF(Main!$E$12=A179,A179,\"\")),\"\")","v":""},"","","","","","","",""]
[{"$nulls":23},{"$f":"IF(A180<>\"\",IF(Main!$E$12=\"ALL\",A180,IF(Main!$E$12=A180,A180,\"\")),\"\")","v":""},"","","","","","","",""]
[{"$nulls":23},{"$f":"IF(A181<>\"\",IF(Main!$E$12=\"ALL\",A181,IF(Main!$E$12=A181,A181,\"\")),\"\")","v":""},"","","","","","","",""]
[{"$nulls":23},{"$f":"IF(A182<>\"\",IF(Main!$E$12=\"ALL\",A182,IF(Main!$E$12=A182,A182,\"\")),\"\")","v":""},"","","","","","","",""]
[{"$nulls":23},{"$f":"IF(A183<>\"\",IF(Main!$E$12=\"ALL\",A183,IF(Main!$E$12=A183,A183,\"\")),\"\")","v":""},"","","","","","","",""]
[{"$nulls":23},{"$f":"IF(A184<>\"\",IF(Main!$E$12=\"ALL\",A184,IF(Main!$E$12=A184,A184,\"\")),\"\")","v":""},"","","","","","","",""]
[{"$nulls":23},{"$f":"IF(A185<>\"\",IF(Main!$E$12=\"ALL\",A185,IF(Main!$E$12=A185,A185,\"\")),\"\")","v":""},"","","","","","","",""]
[{"$nulls":23},{"$f":"IF(A186<>\"\",IF(Main!$E$12=\"ALL\",A186,IF(Main!$E$12=A186,A186,\"\")),\"\")","v":""},"","","","","","","",""]
[{"$nulls":23},{"$f":"IF(A187<>\"\",IF(Main!$E$12=\"ALL\",A187,IF(Main!$E$12=A187,A187,\"\")),\"\")","v":""},"","","","","","","",""]
[{"$nulls":23},{"$f":"IF(A188<>\"\",IF(Main!$E$12=\"ALL\",A188,IF(Main!$E$12=A188,A188,\"\")),\"\")","v":""},"","","","","","","",""]
[{"$nulls":23},{"$f":"IF(A189<>\"\",IF(Main!$E$12=\"ALL\",A189,IF(Main!$E$12=A189,A189,\"\")),\"\")","v":""},"","","","","","","",""]
[{"$nulls":23},{"$f":"IF(A190<>\"\",IF(Main!$E$12=\"ALL\",A190,IF(Main!$E$12=A190,A190,\"\")),\"\")","v":""},"","","","","","","",""]
[{"$nulls":23},{"$f":"IF(A191<>\"\",IF(Main!$E$12=\"ALL\",A191,IF(Main!$E$12=A191,A191,\"\")),\"\")","v":""},"","","","","","","",""]
[{"$nulls":23},{"$f":"IF(A192<>\"\",IF(Main!$E$12=\"ALL\",A192,IF(Main!$E$12=A192,A192,\"\")),\"\")","v":""},"","","","","","","",""]
[{"$nulls":23},{"$f":"IF(A193<>\"\",IF(Main!$E$12=\"ALL\",A193,IF(Main!$E$12=A193,A193,\"\")),\"\")","v":""},"","","","","","","",""]
[{"$nulls":23},{"$f":"IF(A194<>\"\",IF(Main!$E$12=\"ALL\",A194,IF(Main!$E$12=A194,A194,\"\")),\"\")","v":""},"","","","","","","",""]
[{"$nulls":23},{"$f":"IF(A195<>\"\",IF(Main!$E$12=\"ALL\",A195,IF(Main!$E$12=A195,A195,\"\")),\"\")","v":""},{"$f":"IF($X195=\"\",\"\",D195)","v":""},{"$f":"IF($X195=\"\",\"\",F195)","v":""},{"$f":"IF($X195=\"\",\"\",J195)","v":""},{"$f":"IF($X195=\"\",\"\",N195)","v":""},{"$f":"IF($X195=\"\",\"\",IF(P195=\"\",\"\",P195))","v":""},{"$f":"IF($X195=\"\",\"\",R195)","v":""},{"$f":"IF($X195=\"\",\"\",T195)","v":""},{"$f":"IF($X195=\"\",\"\",V195)","v":""}]
[{"$nulls":23},{"$f":"IF(A196<>\"\",IF(Main!$E$12=\"ALL\",A196,IF(Main!$E$12=A196,A196,\"\")),\"\")","v":""},"","","","","","","",""]
[{"$nulls":23},{"$f":"IF(A197<>\"\",IF(Main!$E$12=\"ALL\",A197,IF(Main!$E$12=A197,A197,\"\")),\"\")","v":""},"","","","","","","",""]
[{"$nulls":23},{"$f":"IF(A198<>\"\",IF(Main!$E$12=\"ALL\",A198,IF(Main!$E$12=A198,A198,\"\")),\"\")","v":""},"","","","","","","",""]
[{"$nulls":23},{"$f":"IF(A199<>\"\",IF(Main!$E$12=\"ALL\",A199,IF(Main!$E$12=A199,A199,\"\")),\"\")","v":""},"","","","","","","",""]
[{"$nulls":23},{"$f":"IF(A200<>\"\",IF(Main!$E$12=\"ALL\",A200,IF(Main!$E$12=A200,A200,\"\")),\"\")","v":""},"","","","","","","",""]
[{"$nulls":23},{"$f":"IF(A201<>\"\",IF(Main!$E$12=\"ALL\",A201,IF(Main!$E$12=A201,A201,\"\")),\"\")","v":""},"","","","","","","",""]
[{"$nulls":23},{"$f":"IF(A202<>\"\",IF(Main!$E$12=\"ALL\",A202,IF(Main!$E$12=A202,A202,\"\")),\"\")","v":""},"","","","","","","",""]
[{"$nulls":23},{"$f":"IF(A203<>\"\",IF(Main!$E$12=\"ALL\",A203,IF(Main!$E$12=A203,A203,\"\")),\"\")","v":""},"","","","","","","",""]
[{"$nulls":23},{"$f":"IF(A204<>\"\",IF(Main!$E$12=\"ALL\",A204,IF(Main!$E$12=A204,A204,\"\")),\"\")","v":""},"","","","","","","",""]
[{"$nulls":23},{"$f":"IF(A205<>\"\",IF(Main!$E$12=\"ALL\",A205,IF(Main!$E$12=A205,A205,\"\")),\"\")","v":""},"","","","","","","",""]
[{"$nulls":23},{"$f":"IF(A206<>\"\",IF(Main!$E$12=\"ALL\",A206,IF(Main!$E$12=A206,A206,\"\")),\"\")","v":""},"","","","","","","",""]
[{"$nulls":23},{"$f":"IF(A207<>\"\",IF(Main!$E$12=\"ALL\",A207,IF(Main!$E$12=A207,A207,\"\")),\"\")","v":""},"","","","","","","",""]
[{"$nulls":23},{"$f":"IF(A208<>\"\",IF(Main!$E$12=\"ALL\",A208,IF(Main!$E$12=A208,A208,\"\")),\"\")","v":""},"","","","","","","",""]
[{"$nulls":23},{"$f":"IF(A209<>\"\",IF(Main!$E$12=\"ALL\",A209,IF(Main!$E$12=A209,A209,\"\")),\"\")","v":""},"","","","","","","",""]
[{"$nulls":23},{"$f":"IF(A210<>\"\",IF(Main!$E$12=\"ALL\",A210,IF(Main!$E$12=A210,A210,\"\")),\"\")","v":""},"","","","","","","",""]
[{"$nulls":23},{"$f":"IF(A211<>\"\",IF(Main!$E$12=\"ALL\",A211,IF(Main!$E$12=A211,A211,\"\")),\"\")","v":""},"","","","","","","",""]
[{"$nulls":23},{"$f":"IF(A212<>\"\",IF(Main!$E$12=\"ALL\",A212,IF(Main!$E$12=A212,A212,\"\")),\"\")","v":""},"","","","","","","",""]
[{"$nulls":23},{"$f":"IF(A213<>\"\",IF(Main!$E$12=\"ALL\",A213,IF(Main!$E$12=A213,A213,\"\")),\"\")","v":""},"","","","","","","",""]
[{"$nulls":23},{"$f":"IF(A214<>\"\",IF(Main!$E$12=\"ALL\",A214,IF(Main!$E$12=A214,A214,\"\")),\"\")","v":""},"","","","","","","",""]
[{"$nulls":23},{"$f":"IF(A215<>\"\",IF(Main!$E$12=\"ALL\",A215,IF(Main!$E$12=A215,A215,\"\")),\"\")","v":""},"","","","","","","",""]
[{"$nulls":23},{"$f":"IF(A216<>\"\",IF(Main!$E$12=\"ALL\",A216,IF(Main!$E$12=A216,A216,\"\")),\"\")","v":""},"","","","","","","",""]
[{"$nulls":23},{"$f":"IF(A217<>\"\",IF(Main!$E$12=\"ALL\",A217,IF(Main!$E$12=A217,A217,\"\")),\"\")","v":""},"","","","","","","",""]
[{"$nulls":23},{"$f":"IF(A218<>\"\",IF(Main!$E$12=\"ALL\",A218,IF(Main!$E$12=A218,A218,\"\")),\"\")","v":""},"","","","","","","",""]
[{"$nulls":23},{"$f":"IF(A219<>\"\",IF(Main!$E$12=\"ALL\",A219,IF(Main!$E$12=A219,A219,\"\")),\"\")","v":""},"","","","","","","",""]
[{"$nulls":23},{"$f":"IF(A220<>\"\",IF(Main!$E$12=\"ALL\",A220,IF(Main!$E$12=A220,A220,\"\")),\"\")","v":""},"","","","","","","",""]
[{"$nulls":23},{"$f":"IF(A221<>\"\",IF(Main!$E$12=\"ALL\",A221,IF(Main!$E$12=A221,A221,\"\")),\"\")","v":""},"","","","","","","",""]
[{"$nulls":23},{"$f":"IF(A222<>\"\",IF(Main!$E$12=\"ALL\",A222,IF(Main!$E$12=A222,A222,\"\")),\"\")","v":""},"","","","","","","",""]
[{"$nulls":23},{"$f":"IF(A223<>\"\",IF(Main!$E$12=\"ALL\",A223,IF(Main!$E$12=A223,A223,\"\")),\"\")","v":""},"","","","","","","",""]
[{"$nulls":23},{"$f":"IF(A224<>\"\",IF(Main!$E$12=\"ALL\",A224,IF(Main!$E$12=A224,A224,\"\")),\"\")","v":""},"","","","","","","",""]
[{"$nulls":23},{"$f":"IF(A225<>\"\",IF(Main!$E$12=\"ALL\",A225,IF(Main!$E$12=A225,A225,\"\")),\"\")","v":""},"","","","","","","",""]
[{"$nulls":23},{"$f":"IF(A226<>\"\",IF(Main!$E$12=\"ALL\",A226,IF(Main!$E$12=A226,A226,\"\")),\"\")","v":""},"","","","","","","",""]
[{"$nulls":23},{"$f":"IF(A227<>\"\",IF(Main!$E$12=\"ALL\",A227,IF(Main!$E$12=A227,A227,\"\")),\"\")","v":""},"","","","","","","",""]
[{"$nulls":23},{"$f":"IF(A228<>\"\",IF(Main!$E$12=\"ALL\",A228,IF(Main!$E$12=A228,A228,\"\")),\"\")","v":""},"","","","","","","",""]
[{"$nulls":23},{"$f":"IF(A229<>\"\",IF(Main!$E$12=\"ALL\",A229,IF(Main!$E$12=A229,A229,\"\")),\"\")","v":""},"","","","","","","",""]
[{"$nulls":23},{"$f":"IF(A230<>\"\",IF(Main!$E$12=\"ALL\",A230,IF(Main!$E$12=A230,A230,\"\")),\"\")","v":""},"","","","","","","",""]
[{"$nulls":23},{"$f":"IF(A231<>\"\",IF(Main!$E$12=\"ALL\",A231,IF(Main!$E$12=A231,A231,\"\")),\"\")","v":""},"","","","","","","",""]
[{"$nulls":23},{"$f":"IF(A232<>\"\",IF(Main!$E$12=\"ALL\",A232,IF(Main!$E$12=A232,A232,\"\")),\"\")","v":""},"","","","","","","",""]
[{"$nulls":23},{"$f":"IF(A233<>\"\",IF(Main!$E$12=\"ALL\",A233,IF(Main!$E$12=A233,A233,\"\")),\"\")","v":""},"","","","","","","",""]
[{"$nulls":23},{"$f":"IF(A234<>\"\",IF(Main!$E$12=\"ALL\",A234,IF(Main!$E$12=A234,A234,\"\")),\"\")","v":""},"","","","","","","",""]
[{"$nulls":23},{"$f":"IF(A235<>\"\",IF(Main!$E$12=\"ALL\",A235,IF(Main!$E$12=A235,A235,\"\")),\"\")","v":""},"","","","","","","",""]
[{"$nulls":23},{"$f":"IF(A236<>\"\",IF(Main!$E$12=\"ALL\",A236,IF(Main!$E$12=A236,A236,\"\")),\"\")","v":""},"","","","","","","",""]
[{"$nulls":23},{"$f":"IF(A237<>\"\",IF(Main!$E$12=\"ALL\",A237,IF(Main!$E$12=A237,A237,\"\")),\"\")","v":""},"","","","","","","",""]
[{"$nulls":23},{"$f":"IF(A238<>\"\",IF(Main!$E$12=\"ALL\",A238,IF(Main!$E$12=A238,A238,\"\")),\"\")","v":""},"","","","","","","",""]
[{"$nulls":23},{"$f":"IF(A239<>\"\",IF(Main!$E$12=\"ALL\",A239,IF(Main!$E$12=A239,A239,\"\")),\"\")","v":""},"","","","","","","",""]
[{"$nulls":23},{"$f":"IF(A240<>\"\",IF(Main!$E$12=\"ALL\",A240,IF(Main!$E$12=A240,A240,\"\")),\"\")","v":""},"","","","","","","",""]
[{"$nulls":23},{"$f":"IF(A241<>\"\",IF(Main!$E$12=\"ALL\",A241,IF(Main!$E$12=A241,A241,\"\")),\"\")","v":""},"","","","","","","",""]
[{"$nulls":23},{"$f":"IF(A242<>\"\",IF(Main!$E$12=\"ALL\",A242,IF(Main!$E$12=A242,A242,\"\")),\"\")","v":""},"","","","","","","",""]
[{"$nulls":23},{"$f":"IF(A243<>\"\",IF(Main!$E$12=\"ALL\",A243,IF(Main!$E$12=A243,A243,\"\")),\"\")","v":""},"","","","","","","",""]
[{"$nulls":23},{"$f":"IF(A244<>\"\",IF(Main!$E$12=\"ALL\",A244,IF(Main!$E$12=A244,A244,\"\")),\"\")","v":""},"","","","","","","",""]
[{"$nulls":23},{"$f":"IF(A245<>\"\",IF(Main!$E$12=\"ALL\",A245,IF(Main!$E$12=A245,A245,\"\")),\"\")","v":""},"","","","","","","",""]
[{"$nulls":23},{"$f":"IF(A246<>\"\",IF(Main!$E$12=\"ALL\",A246,IF(Main!$E$12=A246,A246,\"\")),\"\")","v":""},"","","","","","","",""]
[{"$nulls":23},{"$f":"IF(A247<>\"\",IF(Main!$E$12=\"ALL\",A247,IF(Main!$E$12=A247,A247,\"\")),\"\")","v":""},"","","","","","","",""]
[{"$nulls":23},{"$f":"IF(A248<>\"\",IF(Main!$E$12=\"ALL\",A248,IF(Main!$E$12=A248,A248,\"\")),\"\")","v":""},"","","","","","","",""]
[{"$nulls":23},{"$f":"IF(A249<>\"\",IF(Main!$E$12=\"ALL\",A249,IF(Main!$E$12=A249,A249,\"\")),\"\")","v":""},"","","","","","","",""]
[{"$nulls":23},{"$f":"IF(A250<>\"\",IF(Main!$E$12=\"ALL\",A250,IF(Main!$E$12=A250,A250,\"\")),\"\")","v":""},"","","","","","","",""]
[{"$nulls":23},{"$f":"IF(A251<>\"\",IF(Main!$E$12=\"ALL\",A251,IF(Main!$E$12=A251,A251,\"\")),\"\")","v":""},"","","","","","","",""]
[{"$nulls":23},{"$f":"IF(A252<>\"\",IF(Main!$E$12=\"ALL\",A252,IF(Main!$E$12=A252,A252,\"\")),\"\")","v":""},"","","","","","","",""]
[{"$nulls":23},{"$f":"IF(A253<>\"\",IF(Main!$E$12=\"ALL\",A253,IF(Main!$E$12=A253,A253,\"\")),\"\")","v":""},"","","","","","","",""]
[{"$nulls":23},{"$f":"IF(A254<>\"\",IF(Main!$E$12=\"ALL\",A254,IF(Main!$E$12=A254,A254,\"\")),\"\")","v":""},"","","","","","","",""]
[{"$nulls":23},{"$f":"IF(A255<>\"\",IF(Main!$E$12=\"ALL\",A255,IF(Main!$E$12=A255,A255,\"\")),\"\")","v":""},"","","","","","","",""]
[{"$nulls":23},{"$f":"IF(A256<>\"\",IF(Main!$E$12=\"ALL\",A256,IF(Main!$E$12=A256,A256,\"\")),\"\")","v":""},"","","","","","","",""]
[{"$nulls":23},{"$f":"IF(A257<>\"\",IF(Main!$E$12=\"ALL\",A257,IF(Main!$E$12=A257,A257,\"\")),\"\")","v":""},"","","","","","","",""]
[{"$nulls":23},{"$f":"IF(A258<>\"\",IF(Main!$E$12=\"ALL\",A258,IF(Main!$E$12=A258,A258,\"\")),\"\")","v":""},"","","","","","","",""]
[{"$nulls":23},{"$f":"IF(A259<>\"\",IF(Main!$E$12=\"ALL\",A259,IF(Main!$E$12=A259,A259,\"\")),\"\")","v":""},{"$f":"IF($X259=\"\",\"\",D259)","v":""},{"$f":"IF($X259=\"\",\"\",F259)","v":""},{"$f":"IF($X259=\"\",\"\",J259)","v":""},{"$f":"IF($X259=\"\",\"\",N259)","v":""},{"$f":"IF($X259=\"\",\"\",IF(P259=\"\",\"\",P259))","v":""},{"$f":"IF($X259=\"\",\"\",R259)","v":""},{"$f":"IF($X259=\"\",\"\",T259)","v":""},{"$f":"IF($X259=\"\",\"\",V259)","v":""}]
[{"$nulls":23},{"$f":"IF(A260<>\"\",IF(Main!$E$12=\"ALL\",A260,IF(Main!$E$12=A260,A260,\"\")),\"\")","v":""},"","","","","","","",""]
[{"$nulls":23},{"$f":"IF(A261<>\"\",IF(Main!$E$12=\"ALL\",A261,IF(Main!$E$12=A261,A261,\"\")),\"\")","v":""},"","","","","","","",""]
[{"$nulls":23},{"$f":"IF(A262<>\"\",IF(Main!$E$12=\"ALL\",A262,IF(Main!$E$12=A262,A262,\"\")),\"\")","v":""},"","","","","","","",""]
[{"$nulls":23},{"$f":"IF(A263<>\"\",IF(Main!$E$12=\"ALL\",A263,IF(Main!$E$12=A263,A263,\"\")),\"\")","v":""},"","","","","","","",""]
[{"$nulls":23},{"$f":"IF(A264<>\"\",IF(Main!$E$12=\"ALL\",A264,IF(Main!$E$12=A264,A264,\"\")),\"\")","v":""},"","","","","","","",""]
[{"$nulls":23},{"$f":"IF(A265<>\"\",IF(Main!$E$12=\"ALL\",A265,IF(Main!$E$12=A265,A265,\"\")),\"\")","v":""},"","","","","","","",""]
[{"$nulls":23},{"$f":"IF(A266<>\"\",IF(Main!$E$12=\"ALL\",A266,IF(Main!$E$12=A266,A266,\"\")),\"\")","v":""},"","","","","","","",""]
[{"$nulls":23},{"$f":"IF(A267<>\"\",IF(Main!$E$12=\"ALL\",A267,IF(Main!$E$12=A267,A267,\"\")),\"\")","v":""},"","","","","","","",""]
[{"$nulls":23},{"$f":"IF(A268<>\"\",IF(Main!$E$12=\"ALL\",A268,IF(Main!$E$12=A268,A268,\"\")),\"\")","v":""},"","","","","","","",""]
[{"$nulls":23},{"$f":"IF(A269<>\"\",IF(Main!$E$12=\"ALL\",A269,IF(Main!$E$12=A269,A269,\"\")),\"\")","v":""},"","","","","","","",""]
[{"$nulls":23},{"$f":"IF(A270<>\"\",IF(Main!$E$12=\"ALL\",A270,IF(Main!$E$12=A270,A270,\"\")),\"\")","v":""},"","","","","","","",""]
[{"$nulls":23},{"$f":"IF(A271<>\"\",IF(Main!$E$12=\"ALL\",A271,IF(Main!$E$12=A271,A271,\"\")),\"\")","v":""},"","","","","","","",""]
[{"$nulls":23},{"$f":"IF(A272<>\"\",IF(Main!$E$12=\"ALL\",A272,IF(Main!$E$12=A272,A272,\"\")),\"\")","v":""},"","","","","","","",""]
[{"$nulls":23},{"$f":"IF(A273<>\"\",IF(Main!$E$12=\"ALL\",A273,IF(Main!$E$12=A273,A273,\"\")),\"\")","v":""},"","","","","","","",""]
[{"$nulls":23},{"$f":"IF(A274<>\"\",IF(Main!$E$12=\"ALL\",A274,IF(Main!$E$12=A274,A274,\"\")),\"\")","v":""},"","","","","","","",""]
[{"$nulls":23},{"$f":"IF(A275<>\"\",IF(Main!$E$12=\"ALL\",A275,IF(Main!$E$12=A275,A275,\"\")),\"\")","v":""},"","","","","","","",""]
[{"$nulls":23},{"$f":"IF(A276<>\"\",IF(Main!$E$12=\"ALL\",A276,IF(Main!$E$12=A276,A276,\"\")),\"\")","v":""},"","","","","","","",""]
[{"$nulls":23},{"$f":"IF(A277<>\"\",IF(Main!$E$12=\"ALL\",A277,IF(Main!$E$12=A277,A277,\"\")),\"\")","v":""},"","","","","","","",""]
[{"$nulls":23},{"$f":"IF(A278<>\"\",IF(Main!$E$12=\"ALL\",A278,IF(Main!$E$12=A278,A278,\"\")),\"\")","v":""},"","","","","","","",""]
[{"$nulls":23},{"$f":"IF(A279<>\"\",IF(Main!$E$12=\"ALL\",A279,IF(Main!$E$12=A279,A279,\"\")),\"\")","v":""},"","","","","","","",""]
[{"$nulls":23},{"$f":"IF(A280<>\"\",IF(Main!$E$12=\"ALL\",A280,IF(Main!$E$12=A280,A280,\"\")),\"\")","v":""},"","","","","","","",""]
[{"$nulls":23},{"$f":"IF(A281<>\"\",IF(Main!$E$12=\"ALL\",A281,IF(Main!$E$12=A281,A281,\"\")),\"\")","v":""},"","","","","","","",""]
[{"$nulls":23},{"$f":"IF(A282<>\"\",IF(Main!$E$12=\"ALL\",A282,IF(Main!$E$12=A282,A282,\"\")),\"\")","v":""},"","","","","","","",""]
[{"$nulls":23},{"$f":"IF(A283<>\"\",IF(Main!$E$12=\"ALL\",A283,IF(Main!$E$12=A283,A283,\"\")),\"\")","v":""},"","","","","","","",""]
[{"$nulls":23},{"$f":"IF(A284<>\"\",IF(Main!$E$12=\"ALL\",A284,IF(Main!$E$12=A284,A284,\"\")),\"\")","v":""},"","","","","","","",""]
[{"$nulls":23},{"$f":"IF(A285<>\"\",IF(Main!$E$12=\"ALL\",A285,IF(Main!$E$12=A285,A285,\"\")),\"\")","v":""},"","","","","","","",""]
[{"$nulls":23},{"$f":"IF(A286<>\"\",IF(Main!$E$12=\"ALL\",A286,IF(Main!$E$12=A286,A286,\"\")),\"\")","v":""},"","","","","","","",""]
[{"$nulls":23},{"$f":"IF(A287<>\"\",IF(Main!$E$12=\"ALL\",A287,IF(Main!$E$12=A287,A287,\"\")),\"\")","v":""},"","","","","","","",""]
[{"$nulls":23},{"$f":"IF(A288<>\"\",IF(Main!$E$12=\"ALL\",A288,IF(Main!$E$12=A288,A288,\"\")),\"\")","v":""},"","","","","","","",""]
[{"$nulls":23},{"$f":"IF(A289<>\"\",IF(Main!$E$12=\"ALL\",A289,IF(Main!$E$12=A289,A289,\"\")),\"\")","v":""},"","","","","","","",""]
[{"$nulls":23},{"$f":"IF(A290<>\"\",IF(Main!$E$12=\"ALL\",A290,IF(Main!$E$12=A290,A290,\"\")),\"\")","v":""},"","","","","","","",""]
[{"$nulls":23},{"$f":"IF(A291<>\"\",IF(Main!$E$12=\"ALL\",A291,IF(Main!$E$12=A291,A291,\"\")),\"\")","v":""},"","","","","","","",""]
[{"$nulls":23},{"$f":"IF(A292<>\"\",IF(Main!$E$12=\"ALL\",A292,IF(Main!$E$12=A292,A292,\"\")),\"\")","v":""},"","","","","","","",""]
[{"$nulls":23},{"$f":"IF(A293<>\"\",IF(Main!$E$12=\"ALL\",A293,IF(Main!$E$12=A293,A293,\"\")),\"\")","v":""},"","","","","","","",""]
[{"$nulls":23},{"$f":"IF(A294<>\"\",IF(Main!$E$12=\"ALL\",A294,IF(Main!$E$12=A294,A294,\"\")),\"\")","v":""},"","","","","","","",""]
[{"$nulls":23},{"$f":"IF(A295<>\"\",IF(Main!$E$12=\"ALL\",A295,IF(Main!$E$12=A295,A295,\"\")),\"\")","v":""},"","","","","","","",""]
[{"$nulls":23},{"$f":"IF(A296<>\"\",IF(Main!$E$12=\"ALL\",A296,IF(Main!$E$12=A296,A296,\"\")),\"\")","v":""},"","","","","","","",""]
[{"$nulls":23},{"$f":"IF(A297<>\"\",IF(Main!$E$12=\"ALL\",A297,IF(Main!$E$12=A297,A297,\"\")),\"\")","v":""},"","","","","","","",""]
[{"$nulls":23},{"$f":"IF(A298<>\"\",IF(Main!$E$12=\"ALL\",A298,IF(Main!$E$12=A298,A298,\"\")),\"\")","v":""},"","","","","","","",""]
[{"$nulls":23},{"$f":"IF(A299<>\"\",IF(Main!$E$12=\"ALL\",A299,IF(Main!$E$12=A299,A299,\"\")),\"\")","v":""},"","","","","","","",""]
[{"$nulls":23},{"$f":"IF(A300<>\"\",IF(Main!$E$12=\"ALL\",A300,IF(Main!$E$12=A300,A300,\"\")),\"\")","v":""},"","","","","","","",""]
[{"$nulls":23},{"$f":"IF(A301<>\"\",IF(Main!$E$12=\"ALL\",A301,IF(Main!$E$12=A301,A301,\"\")),\"\")","v":""},"","","","","","","",""]
[{"$nulls":23},{"$f":"IF(A302<>\"\",IF(Main!$E$12=\"ALL\",A302,IF(Main!$E$12=A302,A302,\"\")),\"\")","v":""},"","","","","","","",""]
[{"$nulls":23},{"$f":"IF(A303<>\"\",IF(Main!$E$12=\"ALL\",A303,IF(Main!$E$12=A303,A303,\"\")),\"\")","v":""},"","","","","","","",""]
[{"$nulls":23},{"$f":"IF(A304<>\"\",IF(Main!$E$12=\"ALL\",A304,IF(Main!$E$12=A304,A304,\"\")),\"\")","v":""},"","","","","","","",""]
[{"$nulls":23},{"$f":"IF(A305<>\"\",IF(Main!$E$12=\"ALL\",A305,IF(Main!$E$12=A305,A305,\"\")),\"\")","v":""},"","","","","","","",""]
[{"$nulls":23},{"$f":"IF(A306<>\"\",IF(Main!$E$12=\"ALL\",A306,IF(Main!$E$12=A306,A306,\"\")),\"\")","v":""},"","","","","","","",""]
[{"$nulls":23},{"$f":"IF(A307<>\"\",IF(Main!$E$12=\"ALL\",A307,IF(Main!$E$12=A307,A307,\"\")),\"\")","v":""},"","","","","","","",""]
[{"$nulls":23},{"$f":"IF(A308<>\"\",IF(Main!$E$12=\"ALL\",A308,IF(Main!$E$12=A308,A308,\"\")),\"\")","v":""},"","","","","","","",""]
[{"$nulls":23},{"$f":"IF(A309<>\"\",IF(Main!$E$12=\"ALL\",A309,IF(Main!$E$12=A309,A309,\"\")),\"\")","v":""},"","","","","","","",""]
[{"$nulls":23},{"$f":"IF(A310<>\"\",IF(Main!$E$12=\"ALL\",A310,IF(Main!$E$12=A310,A310,\"\")),\"\")","v":""},"","","","","","","",""]
[{"$nulls":23},{"$f":"IF(A311<>\"\",IF(Main!$E$12=\"ALL\",A311,IF(Main!$E$12=A311,A311,\"\")),\"\")","v":""},"","","","","","","",""]
[{"$nulls":23},{"$f":"IF(A312<>\"\",IF(Main!$E$12=\"ALL\",A312,IF(Main!$E$12=A312,A312,\"\")),\"\")","v":""},"","","","","","","",""]
[{"$nulls":23},{"$f":"IF(A313<>\"\",IF(Main!$E$12=\"ALL\",A313,IF(Main!$E$12=A313,A313,\"\")),\"\")","v":""},"","","","","","","",""]
[{"$nulls":23},{"$f":"IF(A314<>\"\",IF(Main!$E$12=\"ALL\",A314,IF(Main!$E$12=A314,A314,\"\")),\"\")","v":""},"","","","","","","",""]
[{"$nulls":23},{"$f":"IF(A315<>\"\",IF(Main!$E$12=\"ALL\",A315,IF(Main!$E$12=A315,A315,\"\")),\"\")","v":""},"","","","","","","",""]
[{"$nulls":23},{"$f":"IF(A316<>\"\",IF(Main!$E$12=\"ALL\",A316,IF(Main!$E$12=A316,A316,\"\")),\"\")","v":""},"","","","","","","",""]
[{"$nulls":23},{"$f":"IF(A317<>\"\",IF(Main!$E$12=\"ALL\",A317,IF(Main!$E$12=A317,A317,\"\")),\"\")","v":""},"","","","","","","",""]
[{"$nulls":23},{"$f":"IF(A318<>\"\",IF(Main!$E$12=\"ALL\",A318,IF(Main!$E$12=A318,A318,\"\")),\"\")","v":""},"","","","","","","",""]
[{"$nulls":23},{"$f":"IF(A319<>\"\",IF(Main!$E$12=\"ALL\",A319,IF(Main!$E$12=A319,A319,\"\")),\"\")","v":""},"","","","","","","",""]
[{"$nulls":23},{"$f":"IF(A320<>\"\",IF(Main!$E$12=\"ALL\",A320,IF(Main!$E$12=A320,A320,\"\")),\"\")","v":""},"","","","","","","",""]
[{"$nulls":23},{"$f":"IF(A321<>\"\",IF(Main!$E$12=\"ALL\",A321,IF(Main!$E$12=A321,A321,\"\")),\"\")","v":""},"","","","","","","",""]
[{"$nulls":23},{"$f":"IF(A322<>\"\",IF(Main!$E$12=\"ALL\",A322,IF(Main!$E$12=A322,A322,\"\")),\"\")","v":""},"","","","","","","",""]
[{"$nulls":23},{"$f":"IF(A323<>\"\",IF(Main!$E$12=\"ALL\",A323,IF(Main!$E$12=A323,A323,\"\")),\"\")","v":""},{"$f":"IF($X323=\"\",\"\",D323)","v":""},{"$f":"IF($X323=\"\",\"\",F323)","v":""},{"$f":"IF($X323=\"\",\"\",J323)","v":""},{"$f":"IF($X323=\"\",\"\",N323)","v":""},{"$f":"IF($X323=\"\",\"\",IF(P323=\"\",\"\",P323))","v":""},{"$f":"IF($X323=\"\",\"\",R323)","v":""},{"$f":"IF($X323=\"\",\"\",T323)","v":""},{"$f":"IF($X323=\"\",\"\",V323)","v":""}]
[{"$nulls":23},{"$f":"IF(A324<>\"\",IF(Main!$E$12=\"ALL\",A324,IF(Main!$E$12=A324,A324,\"\")),\"\")","v":""},"","","","","","","",""]
[{"$nulls":23},{"$f":"IF(A325<>\"\",IF(Main!$E$12=\"ALL\",A325,IF(Main!$E$12=A325,A325,\"\")),\"\")","v":""},"","","","","","","",""]
[{"$nulls":23},{"$f":"IF(A326<>\"\",IF(Main!$E$12=\"ALL\",A326,IF(Main!$E$12=A326,A326,\"\")),\"\")","v":""},"","","","","","","",""]
[{"$nulls":23},{"$f":"IF(A327<>\"\",IF(Main!$E$12=\"ALL\",A327,IF(Main!$E$12=A327,A327,\"\")),\"\")","v":""},"","","","","","","",""]
[{"$nulls":23},{"$f":"IF(A328<>\"\",IF(Main!$E$12=\"ALL\",A328,IF(Main!$E$12=A328,A328,\"\")),\"\")","v":""},"","","","","","","",""]
[{"$nulls":23},{"$f":"IF(A329<>\"\",IF(Main!$E$12=\"ALL\",A329,IF(Main!$E$12=A329,A329,\"\")),\"\")","v":""},"","","","","","","",""]
[{"$nulls":23},{"$f":"IF(A330<>\"\",IF(Main!$E$12=\"ALL\",A330,IF(Main!$E$12=A330,A330,\"\")),\"\")","v":""},"","","","","","","",""]
[{"$nulls":23},{"$f":"IF(A331<>\"\",IF(Main!$E$12=\"ALL\",A331,IF(Main!$E$12=A331,A331,\"\")),\"\")","v":""},"","","","","","","",""]
[{"$nulls":23},{"$f":"IF(A332<>\"\",IF(Main!$E$12=\"ALL\",A332,IF(Main!$E$12=A332,A332,\"\")),\"\")","v":""},"","","","","","","",""]
[{"$nulls":23},{"$f":"IF(A333<>\"\",IF(Main!$E$12=\"ALL\",A333,IF(Main!$E$12=A333,A333,\"\")),\"\")","v":""},"","","","","","","",""]
[{"$nulls":23},{"$f":"IF(A334<>\"\",IF(Main!$E$12=\"ALL\",A334,IF(Main!$E$12=A334,A334,\"\")),\"\")","v":""},"","","","","","","",""]
[{"$nulls":23},{"$f":"IF(A335<>\"\",IF(Main!$E$12=\"ALL\",A335,IF(Main!$E$12=A335,A335,\"\")),\"\")","v":""},"","","","","","","",""]
[{"$nulls":23},{"$f":"IF(A336<>\"\",IF(Main!$E$12=\"ALL\",A336,IF(Main!$E$12=A336,A336,\"\")),\"\")","v":""},"","","","","","","",""]
[{"$nulls":23},{"$f":"IF(A337<>\"\",IF(Main!$E$12=\"ALL\",A337,IF(Main!$E$12=A337,A337,\"\")),\"\")","v":""},"","","","","","","",""]
[{"$nulls":23},{"$f":"IF(A338<>\"\",IF(Main!$E$12=\"ALL\",A338,IF(Main!$E$12=A338,A338,\"\")),\"\")","v":""},"","","","","","","",""]
[{"$nulls":23},{"$f":"IF(A339<>\"\",IF(Main!$E$12=\"ALL\",A339,IF(Main!$E$12=A339,A339,\"\")),\"\")","v":""},"","","","","","","",""]
[{"$nulls":23},{"$f":"IF(A340<>\"\",IF(Main!$E$12=\"ALL\",A340,IF(Main!$E$12=A340,A340,\"\")),\"\")","v":""},"","","","","","","",""]
[{"$nulls":23},{"$f":"IF(A341<>\"\",IF(Main!$E$12=\"ALL\",A341,IF(Main!$E$12=A341,A341,\"\")),\"\")","v":""},"","","","","","","",""]
[{"$nulls":23},{"$f":"IF(A342<>\"\",IF(Main!$E$12=\"ALL\",A342,IF(Main!$E$12=A342,A342,\"\")),\"\")","v":""},"","","","","","","",""]
[{"$nulls":23},{"$f":"IF(A343<>\"\",IF(Main!$E$12=\"ALL\",A343,IF(Main!$E$12=A343,A343,\"\")),\"\")","v":""},"","","","","","","",""]
[{"$nulls":23},{"$f":"IF(A344<>\"\",IF(Main!$E$12=\"ALL\",A344,IF(Main!$E$12=A344,A344,\"\")),\"\")","v":""},"","","","","","","",""]
[{"$nulls":23},{"$f":"IF(A345<>\"\",IF(Main!$E$12=\"ALL\",A345,IF(Main!$E$12=A345,A345,\"\")),\"\")","v":""},"","","","","","","",""]
[{"$nulls":23},{"$f":"IF(A346<>\"\",IF(Main!$E$12=\"ALL\",A346,IF(Main!$E$12=A346,A346,\"\")),\"\")","v":""},"","","","","","","",""]
[{"$nulls":23},{"$f":"IF(A347<>\"\",IF(Main!$E$12=\"ALL\",A347,IF(Main!$E$12=A347,A347,\"\")),\"\")","v":""},"","","","","","","",""]
[{"$nulls":23},{"$f":"IF(A348<>\"\",IF(Main!$E$12=\"ALL\",A348,IF(Main!$E$12=A348,A348,\"\")),\"\")","v":""},"","","","","","","",""]
[{"$nulls":23},{"$f":"IF(A349<>\"\",IF(Main!$E$12=\"ALL\",A349,IF(Main!$E$12=A349,A349,\"\")),\"\")","v":""},"","","","","","","",""]
[{"$nulls":23},{"$f":"IF(A350<>\"\",IF(Main!$E$12=\"ALL\",A350,IF(Main!$E$12=A350,A350,\"\")),\"\")","v":""},"","","","","","","",""]
[{"$nulls":23},{"$f":"IF(A351<>\"\",IF(Main!$E$12=\"ALL\",A351,IF(Main!$E$12=A351,A351,\"\")),\"\")","v":""},"","","","","","","",""]
[{"$nulls":23},{"$f":"IF(A352<>\"\",IF(Main!$E$12=\"ALL\",A352,IF(Main!$E$12=A352,A352,\"\")),\"\")","v":""},"","","","","","","",""]
[{"$nulls":23},{"$f":"IF(A353<>\"\",IF(Main!$E$12=\"ALL\",A353,IF(Main!$E$12=A353,A353,\"\")),\"\")","v":""},"","","","","","","",""]
[{"$nulls":23},{"$f":"IF(A354<>\"\",IF(Main!$E$12=\"ALL\",A354,IF(Main!$E$12=A354,A354,\"\")),\"\")","v":""},"","","","","","","",""]
[{"$nulls":23},{"$f":"IF(A355<>\"\",IF(Main!$E$12=\"ALL\",A355,IF(Main!$E$12=A355,A355,\"\")),\"\")","v":""},"","","","","","","",""]
[{"$nulls":23},{"$f":"IF(A356<>\"\",IF(Main!$E$12=\"ALL\",A356,IF(Main!$E$12=A356,A356,\"\")),\"\")","v":""},"","","","","","","",""]
[{"$nulls":23},{"$f":"IF(A357<>\"\",IF(Main!$E$12=\"ALL\",A357,IF(Main!$E$12=A357,A357,\"\")),\"\")","v":""},"","","","","","","",""]
[{"$nulls":23},{"$f":"IF(A358<>\"\",IF(Main!$E$12=\"ALL\",A358,IF(Main!$E$12=A358,A358,\"\")),\"\")","v":""},"","","","","","","",""]
[{"$nulls":23},{"$f":"IF(A359<>\"\",IF(Main!$E$12=\"ALL\",A359,IF(Main!$E$12=A359,A359,\"\")),\"\")","v":""},"","","","","","","",""]
[{"$nulls":23},{"$f":"IF(A360<>\"\",IF(Main!$E$12=\"ALL\",A360,IF(Main!$E$12=A360,A360,\"\")),\"\")","v":""},"","","","","","","",""]
[{"$nulls":23},{"$f":"IF(A361<>\"\",IF(Main!$E$12=\"ALL\",A361,IF(Main!$E$12=A361,A361,\"\")),\"\")","v":""},"","","","","","","",""]
[{"$nulls":23},{"$f":"IF(A362<>\"\",IF(Main!$E$12=\"ALL\",A362,IF(Main!$E$12=A362,A362,\"\")),\"\")","v":""},"","","","","","","",""]
[{"$nulls":23},{"$f":"IF(A363<>\"\",IF(Main!$E$12=\"ALL\",A363,IF(Main!$E$12=A363,A363,\"\")),\"\")","v":""},"","","","","","","",""]
[{"$nulls":23},{"$f":"IF(A364<>\"\",IF(Main!$E$12=\"ALL\",A364,IF(Main!$E$12=A364,A364,\"\")),\"\")","v":""},"","","","","","","",""]
[{"$nulls":23},{"$f":"IF(A365<>\"\",IF(Main!$E$12=\"ALL\",A365,IF(Main!$E$12=A365,A365,\"\")),\"\")","v":""},"","","","","","","",""]
[{"$nulls":23},{"$f":"IF(A366<>\"\",IF(Main!$E$12=\"ALL\",A366,IF(Main!$E$12=A366,A366,\"\")),\"\")","v":""},"","","","","","","",""]
[{"$nulls":23},{"$f":"IF(A367<>\"\",IF(Main!$E$12=\"ALL\",A367,IF(Main!$E$12=A367,A367,\"\")),\"\")","v":""},"","","","","","","",""]
[{"$nulls":23},{"$f":"IF(A368<>\"\",IF(Main!$E$12=\"ALL\",A368,IF(Main!$E$12=A368,A368,\"\")),\"\")","v":""},"","","","","","","",""]
[{"$nulls":23},{"$f":"IF(A369<>\"\",IF(Main!$E$12=\"ALL\",A369,IF(Main!$E$12=A369,A369,\"\")),\"\")","v":""},"","","","","","","",""]
[{"$nulls":23},{"$f":"IF(A370<>\"\",IF(Main!$E$12=\"ALL\",A370,IF(Main!$E$12=A370,A370,\"\")),\"\")","v":""},"","","","","","","",""]
[{"$nulls":23},{"$f":"IF(A371<>\"\",IF(Main!$E$12=\"ALL\",A371,IF(Main!$E$12=A371,A371,\"\")),\"\")","v":""},"","","","","","","",""]
[{"$nulls":23},{"$f":"IF(A372<>\"\",IF(Main!$E$12=\"ALL\",A372,IF(Main!$E$12=A372,A372,\"\")),\"\")","v":""},"","","","","","","",""]
[{"$nulls":23},{"$f":"IF(A373<>\"\",IF(Main!$E$12=\"ALL\",A373,IF(Main!$E$12=A373,A373,\"\")),\"\")","v":""},"","","","","","","",""]
[{"$nulls":23},{"$f":"IF(A374<>\"\",IF(Main!$E$12=\"ALL\",A374,IF(Main!$E$12=A374,A374,\"\")),\"\")","v":""},"","","","","","","",""]
[{"$nulls":23},{"$f":"IF(A375<>\"\",IF(Main!$E$12=\"ALL\",A375,IF(Main!$E$12=A375,A375,\"\")),\"\")","v":""},"","","","","","","",""]
[{"$nulls":23},{"$f":"IF(A376<>\"\",IF(Main!$E$12=\"ALL\",A376,IF(Main!$E$12=A376,A376,\"\")),\"\")","v":""},"","","","","","","",""]
[{"$nulls":23},{"$f":"IF(A377<>\"\",IF(Main!$E$12=\"ALL\",A377,IF(Main!$E$12=A377,A377,\"\")),\"\")","v":""},"","","","","","","",""]
[{"$nulls":23},{"$f":"IF(A378<>\"\",IF(Main!$E$12=\"ALL\",A378,IF(Main!$E$12=A378,A378,\"\")),\"\")","v":""},"","","","","","","",""]
[{"$nulls":23},{"$f":"IF(A379<>\"\",IF(Main!$E$12=\"ALL\",A379,IF(Main!$E$12=A379,A379,\"\")),\"\")","v":""},"","","","","","","",""]
[{"$nulls":23},{"$f":"IF(A380<>\"\",IF(Main!$E$12=\"ALL\",A380,IF(Main!$E$12=A380,A380,\"\")),\"\")","v":""},"","","","","","","",""]
[{"$nulls":23},{"$f":"IF(A381<>\"\",IF(Main!$E$12=\"ALL\",A381,IF(Main!$E$12=A381,A381,\"\")),\"\")","v":""},"","","","","","","",""]
[{"$nulls":23},{"$f":"IF(A382<>\"\",IF(Main!$E$12=\"ALL\",A382,IF(Main!$E$12=A382,A382,\"\")),\"\")","v":""},"","","","","","","",""]
[{"$nulls":23},{"$f":"IF(A383<>\"\",IF(Main!$E$12=\"ALL\",A383,IF(Main!$E$12=A383,A383,\"\")),\"\")","v":""},"","","","","","","",""]
[{"$nulls":23},{"$f":"IF(A384<>\"\",IF(Main!$E$12=\"ALL\",A384,IF(Main!$E$12=A384,A384,\"\")),\"\")","v":""},"","","","","","","",""]
[{"$nulls":23},{"$f":"IF(A385<>\"\",IF(Main!$E$12=\"ALL\",A385,IF(Main!$E$12=A385,A385,\"\")),\"\")","v":""},"","","","","","","",""]
[{"$nulls":23},{"$f":"IF(A386<>\"\",IF(Main!$E$12=\"ALL\",A386,IF(Main!$E$12=A386,A386,\"\")),\"\")","v":""},"","","","","","","",""]
[{"$nulls":23},{"$f":"IF(A387<>\"\",IF(Main!$E$12=\"ALL\",A387,IF(Main!$E$12=A387,A387,\"\")),\"\")","v":""},{"$f":"IF($X387=\"\",\"\",D387)","v":""},{"$f":"IF($X387=\"\",\"\",F387)","v":""},{"$f":"IF($X387=\"\",\"\",J387)","v":""},{"$f":"IF($X387=\"\",\"\",N387)","v":""},{"$f":"IF($X387=\"\",\"\",IF(P387=\"\",\"\",P387))","v":""},{"$f":"IF($X387=\"\",\"\",R387)","v":""},{"$f":"IF($X387=\"\",\"\",T387)","v":""},{"$f":"IF($X387=\"\",\"\",V387)","v":""}]
[{"$nulls":23},{"$f":"IF(A388<>\"\",IF(Main!$E$12=\"ALL\",A388,IF(Main!$E$12=A388,A388,\"\")),\"\")","v":""},"","","","","","","",""]
[{"$nulls":23},{"$f":"IF(A389<>\"\",IF(Main!$E$12=\"ALL\",A389,IF(Main!$E$12=A389,A389,\"\")),\"\")","v":""},"","","","","","","",""]
[{"$nulls":23},{"$f":"IF(A390<>\"\",IF(Main!$E$12=\"ALL\",A390,IF(Main!$E$12=A390,A390,\"\")),\"\")","v":""},"","","","","","","",""]
[{"$nulls":23},{"$f":"IF(A391<>\"\",IF(Main!$E$12=\"ALL\",A391,IF(Main!$E$12=A391,A391,\"\")),\"\")","v":""},"","","","","","","",""]
[{"$nulls":23},{"$f":"IF(A392<>\"\",IF(Main!$E$12=\"ALL\",A392,IF(Main!$E$12=A392,A392,\"\")),\"\")","v":""},"","","","","","","",""]
[{"$nulls":23},{"$f":"IF(A393<>\"\",IF(Main!$E$12=\"ALL\",A393,IF(Main!$E$12=A393,A393,\"\")),\"\")","v":""},"","","","","","","",""]
[{"$nulls":23},{"$f":"IF(A394<>\"\",IF(Main!$E$12=\"ALL\",A394,IF(Main!$E$12=A394,A394,\"\")),\"\")","v":""},"","","","","","","",""]
[{"$nulls":23},{"$f":"IF(A395<>\"\",IF(Main!$E$12=\"ALL\",A395,IF(Main!$E$12=A395,A395,\"\")),\"\")","v":""},"","","","","","","",""]
[{"$nulls":23},{"$f":"IF(A396<>\"\",IF(Main!$E$12=\"ALL\",A396,IF(Main!$E$12=A396,A396,\"\")),\"\")","v":""},"","","","","","","",""]
[{"$nulls":23},{"$f":"IF(A397<>\"\",IF(Main!$E$12=\"ALL\",A397,IF(Main!$E$12=A397,A397,\"\")),\"\")","v":""},"","","","","","","",""]
[{"$nulls":23},{"$f":"IF(A398<>\"\",IF(Main!$E$12=\"ALL\",A398,IF(Main!$E$12=A398,A398,\"\")),\"\")","v":""},"","","","","","","",""]
[{"$nulls":23},{"$f":"IF(A399<>\"\",IF(Main!$E$12=\"ALL\",A399,IF(Main!$E$12=A399,A399,\"\")),\"\")","v":""},"","","","","","","",""]
[{"$nulls":23},{"$f":"IF(A400<>\"\",IF(Main!$E$12=\"ALL\",A400,IF(Main!$E$12=A400,A400,\"\")),\"\")","v":""},"","","","","","","",""]
[{"$nulls":23},{"$f":"IF(A401<>\"\",IF(Main!$E$12=\"ALL\",A401,IF(Main!$E$12=A401,A401,\"\")),\"\")","v":""},"","","","","","","",""]
[{"$nulls":23},{"$f":"IF(A402<>\"\",IF(Main!$E$12=\"ALL\",A402,IF(Main!$E$12=A402,A402,\"\")),\"\")","v":""},"","","","","","","",""]
[{"$nulls":23},{"$f":"IF(A403<>\"\",IF(Main!$E$12=\"ALL\",A403,IF(Main!$E$12=A403,A403,\"\")),\"\")","v":""},"","","","","","","",""]
[{"$nulls":23},{"$f":"IF(A404<>\"\",IF(Main!$E$12=\"ALL\",A404,IF(Main!$E$12=A404,A404,\"\")),\"\")","v":""},"","","","","","","",""]
[{"$nulls":23},{"$f":"IF(A405<>\"\",IF(Main!$E$12=\"ALL\",A405,IF(Main!$E$12=A405,A405,\"\")),\"\")","v":""},"","","","","","","",""]
[{"$nulls":23},{"$f":"IF(A406<>\"\",IF(Main!$E$12=\"ALL\",A406,IF(Main!$E$12=A406,A406,\"\")),\"\")","v":""},"","","","","","","",""]
[{"$nulls":23},{"$f":"IF(A407<>\"\",IF(Main!$E$12=\"ALL\",A407,IF(Main!$E$12=A407,A407,\"\")),\"\")","v":""},"","","","","","","",""]
[{"$nulls":23},{"$f":"IF(A408<>\"\",IF(Main!$E$12=\"ALL\",A408,IF(Main!$E$12=A408,A408,\"\")),\"\")","v":""},"","","","","","","",""]
[{"$nulls":23},{"$f":"IF(A409<>\"\",IF(Main!$E$12=\"ALL\",A409,IF(Main!$E$12=A409,A409,\"\")),\"\")","v":""},"","","","","","","",""]
[{"$nulls":23},{"$f":"IF(A410<>\"\",IF(Main!$E$12=\"ALL\",A410,IF(Main!$E$12=A410,A410,\"\")),\"\")","v":""},"","","","","","","",""]
[{"$nulls":23},{"$f":"IF(A411<>\"\",IF(Main!$E$12=\"ALL\",A411,IF(Main!$E$12=A411,A411,\"\")),\"\")","v":""},"","","","","","","",""]
[{"$nulls":23},{"$f":"IF(A412<>\"\",IF(Main!$E$12=\"ALL\",A412,IF(Main!$E$12=A412,A412,\"\")),\"\")","v":""},"","","","","","","",""]
[{"$nulls":23},{"$f":"IF(A413<>\"\",IF(Main!$E$12=\"ALL\",A413,IF(Main!$E$12=A413,A413,\"\")),\"\")","v":""},"","","","","","","",""]
[{"$nulls":23},{"$f":"IF(A414<>\"\",IF(Main!$E$12=\"ALL\",A414,IF(Main!$E$12=A414,A414,\"\")),\"\")","v":""},"","","","","","","",""]
[{"$nulls":23},{"$f":"IF(A415<>\"\",IF(Main!$E$12=\"ALL\",A415,IF(Main!$E$12=A415,A415,\"\")),\"\")","v":""},"","","","","","","",""]
[{"$nulls":23},{"$f":"IF(A416<>\"\",IF(Main!$E$12=\"ALL\",A416,IF(Main!$E$12=A416,A416,\"\")),\"\")","v":""},"","","","","","","",""]
[{"$nulls":23},{"$f":"IF(A417<>\"\",IF(Main!$E$12=\"ALL\",A417,IF(Main!$E$12=A417,A417,\"\")),\"\")","v":""},"","","","","","","",""]
[{"$nulls":23},{"$f":"IF(A418<>\"\",IF(Main!$E$12=\"ALL\",A418,IF(Main!$E$12=A418,A418,\"\")),\"\")","v":""},"","","","","","","",""]
[{"$nulls":23},{"$f":"IF(A419<>\"\",IF(Main!$E$12=\"ALL\",A419,IF(Main!$E$12=A419,A419,\"\")),\"\")","v":""},"","","","","","","",""]
[{"$nulls":23},{"$f":"IF(A420<>\"\",IF(Main!$E$12=\"ALL\",A420,IF(Main!$E$12=A420,A420,\"\")),\"\")","v":""},"","","","","","","",""]
[{"$nulls":23},{"$f":"IF(A421<>\"\",IF(Main!$E$12=\"ALL\",A421,IF(Main!$E$12=A421,A421,\"\")),\"\")","v":""},"","","","","","","",""]
[{"$nulls":23},{"$f":"IF(A422<>\"\",IF(Main!$E$12=\"ALL\",A422,IF(Main!$E$12=A422,A422,\"\")),\"\")","v":""},"","","","","","","",""]
[{"$nulls":23},{"$f":"IF(A423<>\"\",IF(Main!$E$12=\"ALL\",A423,IF(Main!$E$12=A423,A423,\"\")),\"\")","v":""},"","","","","","","",""]
[{"$nulls":23},{"$f":"IF(A424<>\"\",IF(Main!$E$12=\"ALL\",A424,IF(Main!$E$12=A424,A424,\"\")),\"\")","v":""},"","","","","","","",""]
[{"$nulls":23},{"$f":"IF(A425<>\"\",IF(Main!$E$12=\"ALL\",A425,IF(Main!$E$12=A425,A425,\"\")),\"\")","v":""},"","","","","","","",""]
[{"$nulls":23},{"$f":"IF(A426<>\"\",IF(Main!$E$12=\"ALL\",A426,IF(Main!$E$12=A426,A426,\"\")),\"\")","v":""},"","","","","","","",""]
[{"$nulls":23},{"$f":"IF(A427<>\"\",IF(Main!$E$12=\"ALL\",A427,IF(Main!$E$12=A427,A427,\"\")),\"\")","v":""},"","","","","","","",""]
[{"$nulls":23},{"$f":"IF(A428<>\"\",IF(Main!$E$12=\"ALL\",A428,IF(Main!$E$12=A428,A428,\"\")),\"\")","v":""},"","","","","","","",""]
[{"$nulls":23},{"$f":"IF(A429<>\"\",IF(Main!$E$12=\"ALL\",A429,IF(Main!$E$12=A429,A429,\"\")),\"\")","v":""},"","","","","","","",""]
[{"$nulls":23},{"$f":"IF(A430<>\"\",IF(Main!$E$12=\"ALL\",A430,IF(Main!$E$12=A430,A430,\"\")),\"\")","v":""},"","","","","","","",""]
[{"$nulls":23},{"$f":"IF(A431<>\"\",IF(Main!$E$12=\"ALL\",A431,IF(Main!$E$12=A431,A431,\"\")),\"\")","v":""},"","","","","","","",""]
[{"$nulls":23},{"$f":"IF(A432<>\"\",IF(Main!$E$12=\"ALL\",A432,IF(Main!$E$12=A432,A432,\"\")),\"\")","v":""},"","","","","","","",""]
[{"$nulls":23},{"$f":"IF(A433<>\"\",IF(Main!$E$12=\"ALL\",A433,IF(Main!$E$12=A433,A433,\"\")),\"\")","v":""},"","","","","","","",""]
[{"$nulls":23},{"$f":"IF(A434<>\"\",IF(Main!$E$12=\"ALL\",A434,IF(Main!$E$12=A434,A434,\"\")),\"\")","v":""},"","","","","","","",""]
[{"$nulls":23},{"$f":"IF(A435<>\"\",IF(Main!$E$12=\"ALL\",A435,IF(Main!$E$12=A435,A435,\"\")),\"\")","v":""},"","","","","","","",""]
[{"$nulls":23},{"$f":"IF(A436<>\"\",IF(Main!$E$12=\"ALL\",A436,IF(Main!$E$12=A436,A436,\"\")),\"\")","v":""},"","","","","","","",""]
[{"$nulls":23},{"$f":"IF(A437<>\"\",IF(Main!$E$12=\"ALL\",A437,IF(Main!$E$12=A437,A437,\"\")),\"\")","v":""},"","","","","","","",""]
[{"$nulls":23},{"$f":"IF(A438<>\"\",IF(Main!$E$12=\"ALL\",A438,IF(Main!$E$12=A438,A438,\"\")),\"\")","v":""},"","","","","","","",""]
[{"$nulls":23},{"$f":"IF(A439<>\"\",IF(Main!$E$12=\"ALL\",A439,IF(Main!$E$12=A439,A439,\"\")),\"\")","v":""},"","","","","","","",""]
[{"$nulls":23},{"$f":"IF(A440<>\"\",IF(Main!$E$12=\"ALL\",A440,IF(Main!$E$12=A440,A440,\"\")),\"\")","v":""},"","","","","","","",""]
[{"$nulls":23},{"$f":"IF(A441<>\"\",IF(Main!$E$12=\"ALL\",A441,IF(Main!$E$12=A441,A441,\"\")),\"\")","v":""},"","","","","","","",""]
[{"$nulls":23},{"$f":"IF(A442<>\"\",IF(Main!$E$12=\"ALL\",A442,IF(Main!$E$12=A442,A442,\"\")),\"\")","v":""},"","","","","","","",""]
[{"$nulls":23},{"$f":"IF(A443<>\"\",IF(Main!$E$12=\"ALL\",A443,IF(Main!$E$12=A443,A443,\"\")),\"\")","v":""},"","","","","","","",""]
[{"$nulls":23},{"$f":"IF(A444<>\"\",IF(Main!$E$12=\"ALL\",A444,IF(Main!$E$12=A444,A444,\"\")),\"\")","v":""},"","","","","","","",""]
[{"$nulls":23},{"$f":"IF(A445<>\"\",IF(Main!$E$12=\"ALL\",A445,IF(Main!$E$12=A445,A445,\"\")),\"\")","v":""},"","","","","","","",""]
[{"$nulls":23},{"$f":"IF(A446<>\"\",IF(Main!$E$12=\"ALL\",A446,IF(Main!$E$12=A446,A446,\"\")),\"\")","v":""},"","","","","","","",""]
[{"$nulls":23},{"$f":"IF(A447<>\"\",IF(Main!$E$12=\"ALL\",A447,IF(Main!$E$12=A447,A447,\"\")),\"\")","v":""},"","","","","","","",""]
[{"$nulls":23},{"$f":"IF(A448<>\"\",IF(Main!$E$12=\"ALL\",A448,IF(Main!$E$12=A448,A448,\"\")),\"\")","v":""},"","","","","","","",""]
[{"$nulls":23},{"$f":"IF(A449<>\"\",IF(Main!$E$12=\"ALL\",A449,IF(Main!$E$12=A449,A449,\"\")),\"\")","v":""},"","","","","","","",""]
[{"$nulls":23},{"$f":"IF(A450<>\"\",IF(Main!$E$12=\"ALL\",A450,IF(Main!$E$12=A450,A450,\"\")),\"\")","v":""},"","","","","","","",""]
[{"$nulls":23},{"$f":"IF(A451<>\"\",IF(Main!$E$12=\"ALL\",A451,IF(Main!$E$12=A451,A451,\"\")),\"\")","v":""},{"$f":"IF($X451=\"\",\"\",D451)","v":""},{"$f":"IF($X451=\"\",\"\",F451)","v":""},{"$f":"IF($X451=\"\",\"\",J451)","v":""},{"$f":"IF($X451=\"\",\"\",N451)","v":""},{"$f":"IF($X451=\"\",\"\",IF(P451=\"\",\"\",P451))","v":""},{"$f":"IF($X451=\"\",\"\",R451)","v":""},{"$f":"IF($X451=\"\",\"\",T451)","v":""},{"$f":"IF($X451=\"\",\"\",V451)","v":""}]
[{"$nulls":23},{"$f":"IF(A452<>\"\",IF(Main!$E$12=\"ALL\",A452,IF(Main!$E$12=A452,A452,\"\")),\"\")","v":""},"","","","","","","",""]
[{"$nulls":23},{"$f":"IF(A453<>\"\",IF(Main!$E$12=\"ALL\",A453,IF(Main!$E$12=A453,A453,\"\")),\"\")","v":""},"","","","","","","",""]
[{"$nulls":23},{"$f":"IF(A454<>\"\",IF(Main!$E$12=\"ALL\",A454,IF(Main!$E$12=A454,A454,\"\")),\"\")","v":""},"","","","","","","",""]
[{"$nulls":23},{"$f":"IF(A455<>\"\",IF(Main!$E$12=\"ALL\",A455,IF(Main!$E$12=A455,A455,\"\")),\"\")","v":""},"","","","","","","",""]
[{"$nulls":23},{"$f":"IF(A456<>\"\",IF(Main!$E$12=\"ALL\",A456,IF(Main!$E$12=A456,A456,\"\")),\"\")","v":""},"","","","","","","",""]
[{"$nulls":23},{"$f":"IF(A457<>\"\",IF(Main!$E$12=\"ALL\",A457,IF(Main!$E$12=A457,A457,\"\")),\"\")","v":""},"","","","","","","",""]
[{"$nulls":23},{"$f":"IF(A458<>\"\",IF(Main!$E$12=\"ALL\",A458,IF(Main!$E$12=A458,A458,\"\")),\"\")","v":""},"","","","","","","",""]
[{"$nulls":23},{"$f":"IF(A459<>\"\",IF(Main!$E$12=\"ALL\",A459,IF(Main!$E$12=A459,A459,\"\")),\"\")","v":""},"","","","","","","",""]
[{"$nulls":23},{"$f":"IF(A460<>\"\",IF(Main!$E$12=\"ALL\",A460,IF(Main!$E$12=A460,A460,\"\")),\"\")","v":""},"","","","","","","",""]
[{"$nulls":23},{"$f":"IF(A461<>\"\",IF(Main!$E$12=\"ALL\",A461,IF(Main!$E$12=A461,A461,\"\")),\"\")","v":""},"","","","","","","",""]
[{"$nulls":23},{"$f":"IF(A462<>\"\",IF(Main!$E$12=\"ALL\",A462,IF(Main!$E$12=A462,A462,\"\")),\"\")","v":""},"","","","","","","",""]
[{"$nulls":23},{"$f":"IF(A463<>\"\",IF(Main!$E$12=\"ALL\",A463,IF(Main!$E$12=A463,A463,\"\")),\"\")","v":""},"","","","","","","",""]
[{"$nulls":23},{"$f":"IF(A464<>\"\",IF(Main!$E$12=\"ALL\",A464,IF(Main!$E$12=A464,A464,\"\")),\"\")","v":""},"","","","","","","",""]
[{"$nulls":23},{"$f":"IF(A465<>\"\",IF(Main!$E$12=\"ALL\",A465,IF(Main!$E$12=A465,A465,\"\")),\"\")","v":""},"","","","","","","",""]
[{"$nulls":23},{"$f":"IF(A466<>\"\",IF(Main!$E$12=\"ALL\",A466,IF(Main!$E$12=A466,A466,\"\")),\"\")","v":""},"","","","","","","",""]
[{"$nulls":23},{"$f":"IF(A467<>\"\",IF(Main!$E$12=\"ALL\",A467,IF(Main!$E$12=A467,A467,\"\")),\"\")","v":""},"","","","","","","",""]
[{"$nulls":23},{"$f":"IF(A468<>\"\",IF(Main!$E$12=\"ALL\",A468,IF(Main!$E$12=A468,A468,\"\")),\"\")","v":""},"","","","","","","",""]
[{"$nulls":23},{"$f":"IF(A469<>\"\",IF(Main!$E$12=\"ALL\",A469,IF(Main!$E$12=A469,A469,\"\")),\"\")","v":""},"","","","","","","",""]
[{"$nulls":23},{"$f":"IF(A470<>\"\",IF(Main!$E$12=\"ALL\",A470,IF(Main!$E$12=A470,A470,\"\")),\"\")","v":""},"","","","","","","",""]
[{"$nulls":23},{"$f":"IF(A471<>\"\",IF(Main!$E$12=\"ALL\",A471,IF(Main!$E$12=A471,A471,\"\")),\"\")","v":""},"","","","","","","",""]
[{"$nulls":23},{"$f":"IF(A472<>\"\",IF(Main!$E$12=\"ALL\",A472,IF(Main!$E$12=A472,A472,\"\")),\"\")","v":""},"","","","","","","",""]
[{"$nulls":23},{"$f":"IF(A473<>\"\",IF(Main!$E$12=\"ALL\",A473,IF(Main!$E$12=A473,A473,\"\")),\"\")","v":""},"","","","","","","",""]
[{"$nulls":23},{"$f":"IF(A474<>\"\",IF(Main!$E$12=\"ALL\",A474,IF(Main!$E$12=A474,A474,\"\")),\"\")","v":""},"","","","","","","",""]
[{"$nulls":23},{"$f":"IF(A475<>\"\",IF(Main!$E$12=\"ALL\",A475,IF(Main!$E$12=A475,A475,\"\")),\"\")","v":""},"","","","","","","",""]
[{"$nulls":23},{"$f":"IF(A476<>\"\",IF(Main!$E$12=\"ALL\",A476,IF(Main!$E$12=A476,A476,\"\")),\"\")","v":""},"","","","","","","",""]
[{"$nulls":23},{"$f":"IF(A477<>\"\",IF(Main!$E$12=\"ALL\",A477,IF(Main!$E$12=A477,A477,\"\")),\"\")","v":""},"","","","","","","",""]
[{"$nulls":23},{"$f":"IF(A478<>\"\",IF(Main!$E$12=\"ALL\",A478,IF(Main!$E$12=A478,A478,\"\")),\"\")","v":""},"","","","","","","",""]
[{"$nulls":23},{"$f":"IF(A479<>\"\",IF(Main!$E$12=\"ALL\",A479,IF(Main!$E$12=A479,A479,\"\")),\"\")","v":""},"","","","","","","",""]
[{"$nulls":23},{"$f":"IF(A480<>\"\",IF(Main!$E$12=\"ALL\",A480,IF(Main!$E$12=A480,A480,\"\")),\"\")","v":""},"","","","","","","",""]
[{"$nulls":23},{"$f":"IF(A481<>\"\",IF(Main!$E$12=\"ALL\",A481,IF(Main!$E$12=A481,A481,\"\")),\"\")","v":""},"","","","","","","",""]
[{"$nulls":23},{"$f":"IF(A482<>\"\",IF(Main!$E$12=\"ALL\",A482,IF(Main!$E$12=A482,A482,\"\")),\"\")","v":""},"","","","","","","",""]
[{"$nulls":23},{"$f":"IF(A483<>\"\",IF(Main!$E$12=\"ALL\",A483,IF(Main!$E$12=A483,A483,\"\")),\"\")","v":""},"","","","","","","",""]
[{"$nulls":23},{"$f":"IF(A484<>\"\",IF(Main!$E$12=\"ALL\",A484,IF(Main!$E$12=A484,A484,\"\")),\"\")","v":""},"","","","","","","",""]
[{"$nulls":23},{"$f":"IF(A485<>\"\",IF(Main!$E$12=\"ALL\",A485,IF(Main!$E$12=A485,A485,\"\")),\"\")","v":""},"","","","","","","",""]
[{"$nulls":23},{"$f":"IF(A486<>\"\",IF(Main!$E$12=\"ALL\",A486,IF(Main!$E$12=A486,A486,\"\")),\"\")","v":""},"","","","","","","",""]
[{"$nulls":23},{"$f":"IF(A487<>\"\",IF(Main!$E$12=\"ALL\",A487,IF(Main!$E$12=A487,A487,\"\")),\"\")","v":""},"","","","","","","",""]
[{"$nulls":23},{"$f":"IF(A488<>\"\",IF(Main!$E$12=\"ALL\",A488,IF(Main!$E$12=A488,A488,\"\")),\"\")","v":""},"","","","","","","",""]
[{"$nulls":23},{"$f":"IF(A489<>\"\",IF(Main!$E$12=\"ALL\",A489,IF(Main!$E$12=A489,A489,\"\")),\"\")","v":""},"","","","","","","",""]
[{"$nulls":23},{"$f":"IF(A490<>\"\",IF(Main!$E$12=\"ALL\",A490,IF(Main!$E$12=A490,A490,\"\")),\"\")","v":""},"","","","","","","",""]
[{"$nulls":23},{"$f":"IF(A491<>\"\",IF(Main!$E$12=\"ALL\",A491,IF(Main!$E$12=A491,A491,\"\")),\"\")","v":""},"","","","","","","",""]
[{"$nulls":23},{"$f":"IF(A492<>\"\",IF(Main!$E$12=\"ALL\",A492,IF(Main!$E$12=A492,A492,\"\")),\"\")","v":""},"","","","","","","",""]
[{"$nulls":23},{"$f":"IF(A493<>\"\",IF(Main!$E$12=\"ALL\",A493,IF(Main!$E$12=A493,A493,\"\")),\"\")","v":""},"","","","","","","",""]
[{"$nulls":23},{"$f":"IF(A494<>\"\",IF(Main!$E$12=\"ALL\",A494,IF(Main!$E$12=A494,A494,\"\")),\"\")","v":""},"","","","","","","",""]
[{"$nulls":23},{"$f":"IF(A495<>\"\",IF(Main!$E$12=\"ALL\",A495,IF(Main!$E$12=A495,A495,\"\")),\"\")","v":""},"","","","","","","",""]
[{"$nulls":23},{"$f":"IF(A496<>\"\",IF(Main!$E$12=\"ALL\",A496,IF(Main!$E$12=A496,A496,\"\")),\"\")","v":""},"","","","","","","",""]
[{"$nulls":23},{"$f":"IF(A497<>\"\",IF(Main!$E$12=\"ALL\",A497,IF(Main!$E$12=A497,A497,\"\")),\"\")","v":""},"","","","","","","",""]
[{"$nulls":23},{"$f":"IF(A498<>\"\",IF(Main!$E$12=\"ALL\",A498,IF(Main!$E$12=A498,A498,\"\")),\"\")","v":""},"","","","","","","",""]
[{"$nulls":23},{"$f":"IF(A499<>\"\",IF(Main!$E$12=\"ALL\",A499,IF(Main!$E$12=A499,A499,\"\")),\"\")","v":""},"","","","","","","",""]
[{"$nulls":23},{"$f":"IF(A500<>\"\",IF(Main!$E$12=\"ALL\",A500,IF(Main!$E$12=A500,A500,\"\")),\"\")","v":""},"","","","","","","",""]
[{"$nulls":23},{"$f":"IF(A501<>\"\",IF(Main!$E$12=\"ALL\",A501,IF(Main!$E$12=A501,A501,\"\")),\"\")","v":""},"","","","","","","",""]
[{"$nulls":23},{"$f":"IF(A502<>\"\",IF(Main!$E$12=\"ALL\",A502,IF(Main!$E$12=A502,A502,\"\")),\"\")","v":""},"","","","","","","",""]
[{"$nulls":23},{"$f":"IF(A503<>\"\",IF(Main!$E$12=\"ALL\",A503,IF(Main!$E$12=A503,A503,\"\")),\"\")","v":""},"","","","","","","",""]
[{"$nulls":23},{"$f":"IF(A504<>\"\",IF(Main!$E$12=\"ALL\",A504,IF(Main!$E$12=A504,A504,\"\")),\"\")","v":""},"","","","","","","",""]
[{"$nulls":23},{"$f":"IF(A505<>\"\",IF(Main!$E$12=\"ALL\",A505,IF(Main!$E$12=A505,A505,\"\")),\"\")","v":""},"","","","","","","",""]
[{"$nulls":23},{"$f":"IF(A506<>\"\",IF(Main!$E$12=\"ALL\",A506,IF(Main!$E$12=A506,A506,\"\")),\"\")","v":""},"","","","","","","",""]
[{"$nulls":23},{"$f":"IF(A507<>\"\",IF(Main!$E$12=\"ALL\",A507,IF(Main!$E$12=A507,A507,\"\")),\"\")","v":""},"","","","","","","",""]
[{"$nulls":23},{"$f":"IF(A508<>\"\",IF(Main!$E$12=\"ALL\",A508,IF(Main!$E$12=A508,A508,\"\")),\"\")","v":""},"","","","","","","",""]
[{"$nulls":23},{"$f":"IF(A509<>\"\",IF(Main!$E$12=\"ALL\",A509,IF(Main!$E$12=A509,A509,\"\")),\"\")","v":""},"","","","","","","",""]
[{"$nulls":23},{"$f":"IF(A510<>\"\",IF(Main!$E$12=\"ALL\",A510,IF(Main!$E$12=A510,A510,\"\")),\"\")","v":""},"","","","","","","",""]
[{"$nulls":23},{"$f":"IF(A511<>\"\",IF(Main!$E$12=\"ALL\",A511,IF(Main!$E$12=A511,A511,\"\")),\"\")","v":""},"","","","","","","",""]
[{"$nulls":23},{"$f":"IF(A512<>\"\",IF(Main!$E$12=\"ALL\",A512,IF(Main!$E$12=A512,A512,\"\")),\"\")","v":""},"","","","","","","",""]
[{"$nulls":23},{"$f":"IF(A513<>\"\",IF(Main!$E$12=\"ALL\",A513,IF(Main!$E$12=A513,A513,\"\")),\"\")","v":""},"","","","","","","",""]
[{"$nulls":23},{"$f":"IF(A514<>\"\",IF(Main!$E$12=\"ALL\",A514,IF(Main!$E$12=A514,A514,\"\")),\"\")","v":""},"","","","","","","",""]
[{"$nulls":23},{"$f":"IF(A515<>\"\",IF(Main!$E$12=\"ALL\",A515,IF(Main!$E$12=A515,A515,\"\")),\"\")","v":""},{"$f":"IF($X515=\"\",\"\",D515)","v":""},{"$f":"IF($X515=\"\",\"\",F515)","v":""},{"$f":"IF($X515=\"\",\"\",J515)","v":""},{"$f":"IF($X515=\"\",\"\",N515)","v":""},{"$f":"IF($X515=\"\",\"\",IF(P515=\"\",\"\",P515))","v":""},{"$f":"IF($X515=\"\",\"\",R515)","v":""},{"$f":"IF($X515=\"\",\"\",T515)","v":""},{"$f":"IF($X515=\"\",\"\",V515)","v":""}]
[{"$nulls":23},{"$f":"IF(A516<>\"\",IF(Main!$E$12=\"ALL\",A516,IF(Main!$E$12=A516,A516,\"\")),\"\")","v":""},"","","","","","","",""]
[{"$nulls":23},{"$f":"IF(A517<>\"\",IF(Main!$E$12=\"ALL\",A517,IF(Main!$E$12=A517,A517,\"\")),\"\")","v":""},"","","","","","","",""]
[{"$nulls":23},{"$f":"IF(A518<>\"\",IF(Main!$E$12=\"ALL\",A518,IF(Main!$E$12=A518,A518,\"\")),\"\")","v":""},"","","","","","","",""]
[{"$nulls":23},{"$f":"IF(A519<>\"\",IF(Main!$E$12=\"ALL\",A519,IF(Main!$E$12=A519,A519,\"\")),\"\")","v":""},"","","","","","","",""]
[{"$nulls":23},{"$f":"IF(A520<>\"\",IF(Main!$E$12=\"ALL\",A520,IF(Main!$E$12=A520,A520,\"\")),\"\")","v":""},"","","","","","","",""]
[{"$nulls":23},{"$f":"IF(A521<>\"\",IF(Main!$E$12=\"ALL\",A521,IF(Main!$E$12=A521,A521,\"\")),\"\")","v":""},"","","","","","","",""]
[{"$nulls":23},{"$f":"IF(A522<>\"\",IF(Main!$E$12=\"ALL\",A522,IF(Main!$E$12=A522,A522,\"\")),\"\")","v":""},"","","","","","","",""]
[{"$nulls":23},{"$f":"IF(A523<>\"\",IF(Main!$E$12=\"ALL\",A523,IF(Main!$E$12=A523,A523,\"\")),\"\")","v":""},"","","","","","","",""]
[{"$nulls":23},{"$f":"IF(A524<>\"\",IF(Main!$E$12=\"ALL\",A524,IF(Main!$E$12=A524,A524,\"\")),\"\")","v":""},"","","","","","","",""]
[{"$nulls":23},{"$f":"IF(A525<>\"\",IF(Main!$E$12=\"ALL\",A525,IF(Main!$E$12=A525,A525,\"\")),\"\")","v":""},"","","","","","","",""]
[{"$nulls":23},{"$f":"IF(A526<>\"\",IF(Main!$E$12=\"ALL\",A526,IF(Main!$E$12=A526,A526,\"\")),\"\")","v":""},"","","","","","","",""]
[{"$nulls":23},{"$f":"IF(A527<>\"\",IF(Main!$E$12=\"ALL\",A527,IF(Main!$E$12=A527,A527,\"\")),\"\")","v":""},"","","","","","","",""]
[{"$nulls":23},{"$f":"IF(A528<>\"\",IF(Main!$E$12=\"ALL\",A528,IF(Main!$E$12=A528,A528,\"\")),\"\")","v":""},"","","","","","","",""]
[{"$nulls":23},{"$f":"IF(A529<>\"\",IF(Main!$E$12=\"ALL\",A529,IF(Main!$E$12=A529,A529,\"\")),\"\")","v":""},"","","","","","","",""]
[{"$nulls":23},{"$f":"IF(A530<>\"\",IF(Main!$E$12=\"ALL\",A530,IF(Main!$E$12=A530,A530,\"\")),\"\")","v":""},"","","","","","","",""]
[{"$nulls":23},{"$f":"IF(A531<>\"\",IF(Main!$E$12=\"ALL\",A531,IF(Main!$E$12=A531,A531,\"\")),\"\")","v":""},"","","","","","","",""]
[{"$nulls":23},{"$f":"IF(A532<>\"\",IF(Main!$E$12=\"ALL\",A532,IF(Main!$E$12=A532,A532,\"\")),\"\")","v":""},"","","","","","","",""]
[{"$nulls":23},{"$f":"IF(A533<>\"\",IF(Main!$E$12=\"ALL\",A533,IF(Main!$E$12=A533,A533,\"\")),\"\")","v":""},"","","","","","","",""]
[{"$nulls":23},{"$f":"IF(A534<>\"\",IF(Main!$E$12=\"ALL\",A534,IF(Main!$E$12=A534,A534,\"\")),\"\")","v":""},"","","","","","","",""]
[{"$nulls":23},{"$f":"IF(A535<>\"\",IF(Main!$E$12=\"ALL\",A535,IF(Main!$E$12=A535,A535,\"\")),\"\")","v":""},"","","","","","","",""]
[{"$nulls":23},{"$f":"IF(A536<>\"\",IF(Main!$E$12=\"ALL\",A536,IF(Main!$E$12=A536,A536,\"\")),\"\")","v":""},"","","","","","","",""]
[{"$nulls":23},{"$f":"IF(A537<>\"\",IF(Main!$E$12=\"ALL\",A537,IF(Main!$E$12=A537,A537,\"\")),\"\")","v":""},"","","","","","","",""]
[{"$nulls":23},{"$f":"IF(A538<>\"\",IF(Main!$E$12=\"ALL\",A538,IF(Main!$E$12=A538,A538,\"\")),\"\")","v":""},"","","","","","","",""]
[{"$nulls":23},{"$f":"IF(A539<>\"\",IF(Main!$E$12=\"ALL\",A539,IF(Main!$E$12=A539,A539,\"\")),\"\")","v":""},"","","","","","","",""]
[{"$nulls":23},{"$f":"IF(A540<>\"\",IF(Main!$E$12=\"ALL\",A540,IF(Main!$E$12=A540,A540,\"\")),\"\")","v":""},"","","","","","","",""]
[{"$nulls":23},{"$f":"IF(A541<>\"\",IF(Main!$E$12=\"ALL\",A541,IF(Main!$E$12=A541,A541,\"\")),\"\")","v":""},"","","","","","","",""]
[{"$nulls":23},{"$f":"IF(A542<>\"\",IF(Main!$E$12=\"ALL\",A542,IF(Main!$E$12=A542,A542,\"\")),\"\")","v":""},"","","","","","","",""]
[{"$nulls":23},{"$f":"IF(A543<>\"\",IF(Main!$E$12=\"ALL\",A543,IF(Main!$E$12=A543,A543,\"\")),\"\")","v":""},"","","","","","","",""]
[{"$nulls":23},{"$f":"IF(A544<>\"\",IF(Main!$E$12=\"ALL\",A544,IF(Main!$E$12=A544,A544,\"\")),\"\")","v":""},"","","","","","","",""]
[{"$nulls":23},{"$f":"IF(A545<>\"\",IF(Main!$E$12=\"ALL\",A545,IF(Main!$E$12=A545,A545,\"\")),\"\")","v":""},"","","","","","","",""]
[{"$nulls":23},{"$f":"IF(A546<>\"\",IF(Main!$E$12=\"ALL\",A546,IF(Main!$E$12=A546,A546,\"\")),\"\")","v":""},"","","","","","","",""]
[{"$nulls":23},{"$f":"IF(A547<>\"\",IF(Main!$E$12=\"ALL\",A547,IF(Main!$E$12=A547,A547,\"\")),\"\")","v":""},"","","","","","","",""]
[{"$nulls":23},{"$f":"IF(A548<>\"\",IF(Main!$E$12=\"ALL\",A548,IF(Main!$E$12=A548,A548,\"\")),\"\")","v":""},"","","","","","","",""]
[{"$nulls":23},{"$f":"IF(A549<>\"\",IF(Main!$E$12=\"ALL\",A549,IF(Main!$E$12=A549,A549,\"\")),\"\")","v":""},"","","","","","","",""]
[{"$nulls":23},{"$f":"IF(A550<>\"\",IF(Main!$E$12=\"ALL\",A550,IF(Main!$E$12=A550,A550,\"\")),\"\")","v":""},"","","","","","","",""]
[{"$nulls":23},{"$f":"IF(A551<>\"\",IF(Main!$E$12=\"ALL\",A551,IF(Main!$E$12=A551,A551,\"\")),\"\")","v":""},"","","","","","","",""]
[{"$nulls":23},{"$f":"IF(A552<>\"\",IF(Main!$E$12=\"ALL\",A552,IF(Main!$E$12=A552,A552,\"\")),\"\")","v":""},"","","","","","","",""]
[{"$nulls":23},{"$f":"IF(A553<>\"\",IF(Main!$E$12=\"ALL\",A553,IF(Main!$E$12=A553,A553,\"\")),\"\")","v":""},"","","","","","","",""]
[{"$nulls":23},{"$f":"IF(A554<>\"\",IF(Main!$E$12=\"ALL\",A554,IF(Main!$E$12=A554,A554,\"\")),\"\")","v":""},"","","","","","","",""]
[{"$nulls":23},{"$f":"IF(A555<>\"\",IF(Main!$E$12=\"ALL\",A555,IF(Main!$E$12=A555,A555,\"\")),\"\")","v":""},"","","","","","","",""]
[{"$nulls":23},{"$f":"IF(A556<>\"\",IF(Main!$E$12=\"ALL\",A556,IF(Main!$E$12=A556,A556,\"\")),\"\")","v":""},"","","","","","","",""]
[{"$nulls":23},{"$f":"IF(A557<>\"\",IF(Main!$E$12=\"ALL\",A557,IF(Main!$E$12=A557,A557,\"\")),\"\")","v":""},"","","","","","","",""]
[{"$nulls":23},{"$f":"IF(A558<>\"\",IF(Main!$E$12=\"ALL\",A558,IF(Main!$E$12=A558,A558,\"\")),\"\")","v":""},"","","","","","","",""]
[{"$nulls":23},{"$f":"IF(A559<>\"\",IF(Main!$E$12=\"ALL\",A559,IF(Main!$E$12=A559,A559,\"\")),\"\")","v":""},"","","","","","","",""]
[{"$nulls":23},{"$f":"IF(A560<>\"\",IF(Main!$E$12=\"ALL\",A560,IF(Main!$E$12=A560,A560,\"\")),\"\")","v":""},"","","","","","","",""]
[{"$nulls":23},{"$f":"IF(A561<>\"\",IF(Main!$E$12=\"ALL\",A561,IF(Main!$E$12=A561,A561,\"\")),\"\")","v":""},"","","","","","","",""]
[{"$nulls":23},{"$f":"IF(A562<>\"\",IF(Main!$E$12=\"ALL\",A562,IF(Main!$E$12=A562,A562,\"\")),\"\")","v":""},"","","","","","","",""]
[{"$nulls":23},{"$f":"IF(A563<>\"\",IF(Main!$E$12=\"ALL\",A563,IF(Main!$E$12=A563,A563,\"\")),\"\")","v":""},"","","","","","","",""]
[{"$nulls":23},{"$f":"IF(A564<>\"\",IF(Main!$E$12=\"ALL\",A564,IF(Main!$E$12=A564,A564,\"\")),\"\")","v":""},"","","","","","","",""]
[{"$nulls":23},{"$f":"IF(A565<>\"\",IF(Main!$E$12=\"ALL\",A565,IF(Main!$E$12=A565,A565,\"\")),\"\")","v":""},"","","","","","","",""]
[{"$nulls":23},{"$f":"IF(A566<>\"\",IF(Main!$E$12=\"ALL\",A566,IF(Main!$E$12=A566,A566,\"\")),\"\")","v":""},"","","","","","","",""]
[{"$nulls":23},{"$f":"IF(A567<>\"\",IF(Main!$E$12=\"ALL\",A567,IF(Main!$E$12=A567,A567,\"\")),\"\")","v":""},"","","","","","","",""]
[{"$nulls":23},{"$f":"IF(A568<>\"\",IF(Main!$E$12=\"ALL\",A568,IF(Main!$E$12=A568,A568,\"\")),\"\")","v":""},"","","","","","","",""]
[{"$nulls":23},{"$f":"IF(A569<>\"\",IF(Main!$E$12=\"ALL\",A569,IF(Main!$E$12=A569,A569,\"\")),\"\")","v":""},"","","","","","","",""]
[{"$nulls":23},{"$f":"IF(A570<>\"\",IF(Main!$E$12=\"ALL\",A570,IF(Main!$E$12=A570,A570,\"\")),\"\")","v":""},"","","","","","","",""]
[{"$nulls":23},{"$f":"IF(A571<>\"\",IF(Main!$E$12=\"ALL\",A571,IF(Main!$E$12=A571,A571,\"\")),\"\")","v":""},"","","","","","","",""]
[{"$nulls":23},{"$f":"IF(A572<>\"\",IF(Main!$E$12=\"ALL\",A572,IF(Main!$E$12=A572,A572,\"\")),\"\")","v":""},"","","","","","","",""]
[{"$nulls":23},{"$f":"IF(A573<>\"\",IF(Main!$E$12=\"ALL\",A573,IF(Main!$E$12=A573,A573,\"\")),\"\")","v":""},"","","","","","","",""]
[{"$nulls":23},{"$f":"IF(A574<>\"\",IF(Main!$E$12=\"ALL\",A574,IF(Main!$E$12=A574,A574,\"\")),\"\")","v":""},"","","","","","","",""]
[{"$nulls":23},{"$f":"IF(A575<>\"\",IF(Main!$E$12=\"ALL\",A575,IF(Main!$E$12=A575,A575,\"\")),\"\")","v":""},"","","","","","","",""]
[{"$nulls":23},{"$f":"IF(A576<>\"\",IF(Main!$E$12=\"ALL\",A576,IF(Main!$E$12=A576,A576,\"\")),\"\")","v":""},"","","","","","","",""]
[{"$nulls":23},{"$f":"IF(A577<>\"\",IF(Main!$E$12=\"ALL\",A577,IF(Main!$E$12=A577,A577,\"\")),\"\")","v":""},"","","","","","","",""]
[{"$nulls":23},{"$f":"IF(A578<>\"\",IF(Main!$E$12=\"ALL\",A578,IF(Main!$E$12=A578,A578,\"\")),\"\")","v":""},"","","","","","","",""]
[{"$nulls":23},{"$f":"IF(A579<>\"\",IF(Main!$E$12=\"ALL\",A579,IF(Main!$E$12=A579,A579,\"\")),\"\")","v":""},{"$f":"IF($X579=\"\",\"\",D579)","v":""},{"$f":"IF($X579=\"\",\"\",F579)","v":""},{"$f":"IF($X579=\"\",\"\",J579)","v":""},{"$f":"IF($X579=\"\",\"\",N579)","v":""},{"$f":"IF($X579=\"\",\"\",IF(P579=\"\",\"\",P579))","v":""},{"$f":"IF($X579=\"\",\"\",R579)","v":""},{"$f":"IF($X579=\"\",\"\",T579)","v":""},{"$f":"IF($X579=\"\",\"\",V579)","v":""}]
[{"$nulls":23},{"$f":"IF(A580<>\"\",IF(Main!$E$12=\"ALL\",A580,IF(Main!$E$12=A580,A580,\"\")),\"\")","v":""},"","","","","","","",""]
[{"$nulls":23},{"$f":"IF(A581<>\"\",IF(Main!$E$12=\"ALL\",A581,IF(Main!$E$12=A581,A581,\"\")),\"\")","v":""},"","","","","","","",""]
[{"$nulls":23},{"$f":"IF(A582<>\"\",IF(Main!$E$12=\"ALL\",A582,IF(Main!$E$12=A582,A582,\"\")),\"\")","v":""},"","","","","","","",""]
[{"$nulls":23},{"$f":"IF(A583<>\"\",IF(Main!$E$12=\"ALL\",A583,IF(Main!$E$12=A583,A583,\"\")),\"\")","v":""},"","","","","","","",""]
[{"$nulls":23},{"$f":"IF(A584<>\"\",IF(Main!$E$12=\"ALL\",A584,IF(Main!$E$12=A584,A584,\"\")),\"\")","v":""},"","","","","","","",""]
[{"$nulls":23},{"$f":"IF(A585<>\"\",IF(Main!$E$12=\"ALL\",A585,IF(Main!$E$12=A585,A585,\"\")),\"\")","v":""},"","","","","","","",""]
[{"$nulls":23},{"$f":"IF(A586<>\"\",IF(Main!$E$12=\"ALL\",A586,IF(Main!$E$12=A586,A586,\"\")),\"\")","v":""},"","","","","","","",""]
[{"$nulls":23},{"$f":"IF(A587<>\"\",IF(Main!$E$12=\"ALL\",A587,IF(Main!$E$12=A587,A587,\"\")),\"\")","v":""},"","","","","","","",""]
[{"$nulls":23},{"$f":"IF(A588<>\"\",IF(Main!$E$12=\"ALL\",A588,IF(Main!$E$12=A588,A588,\"\")),\"\")","v":""},"","","","","","","",""]
[{"$nulls":23},{"$f":"IF(A589<>\"\",IF(Main!$E$12=\"ALL\",A589,IF(Main!$E$12=A589,A589,\"\")),\"\")","v":""},"","","","","","","",""]
[{"$nulls":23},{"$f":"IF(A590<>\"\",IF(Main!$E$12=\"ALL\",A590,IF(Main!$E$12=A590,A590,\"\")),\"\")","v":""},"","","","","","","",""]
[{"$nulls":23},{"$f":"IF(A591<>\"\",IF(Main!$E$12=\"ALL\",A591,IF(Main!$E$12=A591,A591,\"\")),\"\")","v":""},"","","","","","","",""]
[{"$nulls":23},{"$f":"IF(A592<>\"\",IF(Main!$E$12=\"ALL\",A592,IF(Main!$E$12=A592,A592,\"\")),\"\")","v":""},"","","","","","","",""]
[{"$nulls":23},{"$f":"IF(A593<>\"\",IF(Main!$E$12=\"ALL\",A593,IF(Main!$E$12=A593,A593,\"\")),\"\")","v":""},"","","","","","","",""]
[{"$nulls":23},{"$f":"IF(A594<>\"\",IF(Main!$E$12=\"ALL\",A594,IF(Main!$E$12=A594,A594,\"\")),\"\")","v":""},"","","","","","","",""]
[{"$nulls":23},{"$f":"IF(A595<>\"\",IF(Main!$E$12=\"ALL\",A595,IF(Main!$E$12=A595,A595,\"\")),\"\")","v":""},"","","","","","","",""]
[{"$nulls":23},{"$f":"IF(A596<>\"\",IF(Main!$E$12=\"ALL\",A596,IF(Main!$E$12=A596,A596,\"\")),\"\")","v":""},"","","","","","","",""]
[{"$nulls":23},{"$f":"IF(A597<>\"\",IF(Main!$E$12=\"ALL\",A597,IF(Main!$E$12=A597,A597,\"\")),\"\")","v":""},"","","","","","","",""]
[{"$nulls":23},{"$f":"IF(A598<>\"\",IF(Main!$E$12=\"ALL\",A598,IF(Main!$E$12=A598,A598,\"\")),\"\")","v":""},"","","","","","","",""]
[{"$nulls":23},{"$f":"IF(A599<>\"\",IF(Main!$E$12=\"ALL\",A599,IF(Main!$E$12=A599,A599,\"\")),\"\")","v":""},"","","","","","","",""]
[{"$nulls":23},{"$f":"IF(A600<>\"\",IF(Main!$E$12=\"ALL\",A600,IF(Main!$E$12=A600,A600,\"\")),\"\")","v":""},"","","","","","","",""]
[{"$nulls":23},{"$f":"IF(A601<>\"\",IF(Main!$E$12=\"ALL\",A601,IF(Main!$E$12=A601,A601,\"\")),\"\")","v":""},"","","","","","","",""]
[{"$nulls":23},{"$f":"IF(A602<>\"\",IF(Main!$E$12=\"ALL\",A602,IF(Main!$E$12=A602,A602,\"\")),\"\")","v":""},"","","","","","","",""]
[{"$nulls":23},{"$f":"IF(A603<>\"\",IF(Main!$E$12=\"ALL\",A603,IF(Main!$E$12=A603,A603,\"\")),\"\")","v":""},"","","","","","","",""]
[{"$nulls":23},{"$f":"IF(A604<>\"\",IF(Main!$E$12=\"ALL\",A604,IF(Main!$E$12=A604,A604,\"\")),\"\")","v":""},"","","","","","","",""]
[{"$nulls":23},{"$f":"IF(A605<>\"\",IF(Main!$E$12=\"ALL\",A605,IF(Main!$E$12=A605,A605,\"\")),\"\")","v":""},"","","","","","","",""]
[{"$nulls":23},{"$f":"IF(A606<>\"\",IF(Main!$E$12=\"ALL\",A606,IF(Main!$E$12=A606,A606,\"\")),\"\")","v":""},"","","","","","","",""]
[{"$nulls":23},{"$f":"IF(A607<>\"\",IF(Main!$E$12=\"ALL\",A607,IF(Main!$E$12=A607,A607,\"\")),\"\")","v":""},"","","","","","","",""]
[{"$nulls":23},{"$f":"IF(A608<>\"\",IF(Main!$E$12=\"ALL\",A608,IF(Main!$E$12=A608,A608,\"\")),\"\")","v":""},"","","","","","","",""]
[{"$nulls":23},{"$f":"IF(A609<>\"\",IF(Main!$E$12=\"ALL\",A609,IF(Main!$E$12=A609,A609,\"\")),\"\")","v":""},"","","","","","","",""]
[{"$nulls":23},{"$f":"IF(A610<>\"\",IF(Main!$E$12=\"ALL\",A610,IF(Main!$E$12=A610,A610,\"\")),\"\")","v":""},"","","","","","","",""]
[{"$nulls":23},{"$f":"IF(A611<>\"\",IF(Main!$E$12=\"ALL\",A611,IF(Main!$E$12=A611,A611,\"\")),\"\")","v":""},"","","","","","","",""]
[{"$nulls":23},{"$f":"IF(A612<>\"\",IF(Main!$E$12=\"ALL\",A612,IF(Main!$E$12=A612,A612,\"\")),\"\")","v":""},"","","","","","","",""]
[{"$nulls":23},{"$f":"IF(A613<>\"\",IF(Main!$E$12=\"ALL\",A613,IF(Main!$E$12=A613,A613,\"\")),\"\")","v":""},"","","","","","","",""]
[{"$nulls":23},{"$f":"IF(A614<>\"\",IF(Main!$E$12=\"ALL\",A614,IF(Main!$E$12=A614,A614,\"\")),\"\")","v":""},"","","","","","","",""]
[{"$nulls":23},{"$f":"IF(A615<>\"\",IF(Main!$E$12=\"ALL\",A615,IF(Main!$E$12=A615,A615,\"\")),\"\")","v":""},"","","","","","","",""]
[{"$nulls":23},{"$f":"IF(A616<>\"\",IF(Main!$E$12=\"ALL\",A616,IF(Main!$E$12=A616,A616,\"\")),\"\")","v":""},"","","","","","","",""]
[{"$nulls":23},{"$f":"IF(A617<>\"\",IF(Main!$E$12=\"ALL\",A617,IF(Main!$E$12=A617,A617,\"\")),\"\")","v":""},"","","","","","","",""]
[{"$nulls":23},{"$f":"IF(A618<>\"\",IF(Main!$E$12=\"ALL\",A618,IF(Main!$E$12=A618,A618,\"\")),\"\")","v":""},"","","","","","","",""]
[{"$nulls":23},{"$f":"IF(A619<>\"\",IF(Main!$E$12=\"ALL\",A619,IF(Main!$E$12=A619,A619,\"\")),\"\")","v":""},"","","","","","","",""]
[{"$nulls":23},{"$f":"IF(A620<>\"\",IF(Main!$E$12=\"ALL\",A620,IF(Main!$E$12=A620,A620,\"\")),\"\")","v":""},"","","","","","","",""]
[{"$nulls":23},{"$f":"IF(A621<>\"\",IF(Main!$E$12=\"ALL\",A621,IF(Main!$E$12=A621,A621,\"\")),\"\")","v":""},"","","","","","","",""]
[{"$nulls":23},{"$f":"IF(A622<>\"\",IF(Main!$E$12=\"ALL\",A622,IF(Main!$E$12=A622,A622,\"\")),\"\")","v":""},"","","","","","","",""]
[{"$nulls":23},{"$f":"IF(A623<>\"\",IF(Main!$E$12=\"ALL\",A623,IF(Main!$E$12=A623,A623,\"\")),\"\")","v":""},"","","","","","","",""]
[{"$nulls":23},{"$f":"IF(A624<>\"\",IF(Main!$E$12=\"ALL\",A624,IF(Main!$E$12=A624,A624,\"\")),\"\")","v":""},"","","","","","","",""]
[{"$nulls":23},{"$f":"IF(A625<>\"\",IF(Main!$E$12=\"ALL\",A625,IF(Main!$E$12=A625,A625,\"\")),\"\")","v":""},"","","","","","","",""]
[{"$nulls":23},{"$f":"IF(A626<>\"\",IF(Main!$E$12=\"ALL\",A626,IF(Main!$E$12=A626,A626,\"\")),\"\")","v":""},"","","","","","","",""]
[{"$nulls":23},{"$f":"IF(A627<>\"\",IF(Main!$E$12=\"ALL\",A627,IF(Main!$E$12=A627,A627,\"\")),\"\")","v":""},"","","","","","","",""]
[{"$nulls":23},{"$f":"IF(A628<>\"\",IF(Main!$E$12=\"ALL\",A628,IF(Main!$E$12=A628,A628,\"\")),\"\")","v":""},"","","","","","","",""]
[{"$nulls":23},{"$f":"IF(A629<>\"\",IF(Main!$E$12=\"ALL\",A629,IF(Main!$E$12=A629,A629,\"\")),\"\")","v":""},"","","","","","","",""]
[{"$nulls":23},{"$f":"IF(A630<>\"\",IF(Main!$E$12=\"ALL\",A630,IF(Main!$E$12=A630,A630,\"\")),\"\")","v":""},"","","","","","","",""]
[{"$nulls":23},{"$f":"IF(A631<>\"\",IF(Main!$E$12=\"ALL\",A631,IF(Main!$E$12=A631,A631,\"\")),\"\")","v":""},"","","","","","","",""]
[{"$nulls":23},{"$f":"IF(A632<>\"\",IF(Main!$E$12=\"ALL\",A632,IF(Main!$E$12=A632,A632,\"\")),\"\")","v":""},"","","","","","","",""]
[{"$nulls":23},{"$f":"IF(A633<>\"\",IF(Main!$E$12=\"ALL\",A633,IF(Main!$E$12=A633,A633,\"\")),\"\")","v":""},"","","","","","","",""]
[{"$nulls":23},{"$f":"IF(A634<>\"\",IF(Main!$E$12=\"ALL\",A634,IF(Main!$E$12=A634,A634,\"\")),\"\")","v":""},"","","","","","","",""]
[{"$nulls":23},{"$f":"IF(A635<>\"\",IF(Main!$E$12=\"ALL\",A635,IF(Main!$E$12=A635,A635,\"\")),\"\")","v":""},"","","","","","","",""]
[{"$nulls":23},{"$f":"IF(A636<>\"\",IF(Main!$E$12=\"ALL\",A636,IF(Main!$E$12=A636,A636,\"\")),\"\")","v":""},"","","","","","","",""]
[{"$nulls":23},{"$f":"IF(A637<>\"\",IF(Main!$E$12=\"ALL\",A637,IF(Main!$E$12=A637,A637,\"\")),\"\")","v":""},"","","","","","","",""]
[{"$nulls":23},{"$f":"IF(A638<>\"\",IF(Main!$E$12=\"ALL\",A638,IF(Main!$E$12=A638,A638,\"\")),\"\")","v":""},"","","","","","","",""]
[{"$nulls":23},{"$f":"IF(A639<>\"\",IF(Main!$E$12=\"ALL\",A639,IF(Main!$E$12=A639,A639,\"\")),\"\")","v":""},"","","","","","","",""]
[{"$nulls":23},{"$f":"IF(A640<>\"\",IF(Main!$E$12=\"ALL\",A640,IF(Main!$E$12=A640,A640,\"\")),\"\")","v":""},"","","","","","","",""]
[{"$nulls":23},{"$f":"IF(A641<>\"\",IF(Main!$E$12=\"ALL\",A641,IF(Main!$E$12=A641,A641,\"\")),\"\")","v":""},"","","","","","","",""]
[{"$nulls":23},{"$f":"IF(A642<>\"\",IF(Main!$E$12=\"ALL\",A642,IF(Main!$E$12=A642,A642,\"\")),\"\")","v":""},"","","","","","","",""]
[{"$nulls":23},{"$f":"IF(A643<>\"\",IF(Main!$E$12=\"ALL\",A643,IF(Main!$E$12=A643,A643,\"\")),\"\")","v":""},{"$f":"IF($X643=\"\",\"\",D643)","v":""},{"$f":"IF($X643=\"\",\"\",F643)","v":""},{"$f":"IF($X643=\"\",\"\",J643)","v":""},{"$f":"IF($X643=\"\",\"\",N643)","v":""},{"$f":"IF($X643=\"\",\"\",IF(P643=\"\",\"\",P643))","v":""},{"$f":"IF($X643=\"\",\"\",R643)","v":""},{"$f":"IF($X643=\"\",\"\",T643)","v":""},{"$f":"IF($X643=\"\",\"\",V643)","v":""}]
[{"$nulls":23},{"$f":"IF(A644<>\"\",IF(Main!$E$12=\"ALL\",A644,IF(Main!$E$12=A644,A644,\"\")),\"\")","v":""},"","","","","","","",""]
[{"$nulls":23},{"$f":"IF(A645<>\"\",IF(Main!$E$12=\"ALL\",A645,IF(Main!$E$12=A645,A645,\"\")),\"\")","v":""},"","","","","","","",""]
[{"$nulls":23},{"$f":"IF(A646<>\"\",IF(Main!$E$12=\"ALL\",A646,IF(Main!$E$12=A646,A646,\"\")),\"\")","v":""},"","","","","","","",""]
[{"$nulls":23},{"$f":"IF(A647<>\"\",IF(Main!$E$12=\"ALL\",A647,IF(Main!$E$12=A647,A647,\"\")),\"\")","v":""},"","","","","","","",""]
[{"$nulls":23},{"$f":"IF(A648<>\"\",IF(Main!$E$12=\"ALL\",A648,IF(Main!$E$12=A648,A648,\"\")),\"\")","v":""},"","","","","","","",""]
[{"$nulls":23},{"$f":"IF(A649<>\"\",IF(Main!$E$12=\"ALL\",A649,IF(Main!$E$12=A649,A649,\"\")),\"\")","v":""},"","","","","","","",""]
[{"$nulls":23},{"$f":"IF(A650<>\"\",IF(Main!$E$12=\"ALL\",A650,IF(Main!$E$12=A650,A650,\"\")),\"\")","v":""},"","","","","","","",""]
[{"$nulls":23},{"$f":"IF(A651<>\"\",IF(Main!$E$12=\"ALL\",A651,IF(Main!$E$12=A651,A651,\"\")),\"\")","v":""},"","","","","","","",""]
[{"$nulls":23},{"$f":"IF(A652<>\"\",IF(Main!$E$12=\"ALL\",A652,IF(Main!$E$12=A652,A652,\"\")),\"\")","v":""},"","","","","","","",""]
[{"$nulls":23},{"$f":"IF(A653<>\"\",IF(Main!$E$12=\"ALL\",A653,IF(Main!$E$12=A653,A653,\"\")),\"\")","v":""},"","","","","","","",""]
[{"$nulls":23},{"$f":"IF(A654<>\"\",IF(Main!$E$12=\"ALL\",A654,IF(Main!$E$12=A654,A654,\"\")),\"\")","v":""},"","","","","","","",""]
[{"$nulls":23},{"$f":"IF(A655<>\"\",IF(Main!$E$12=\"ALL\",A655,IF(Main!$E$12=A655,A655,\"\")),\"\")","v":""},"","","","","","","",""]
[{"$nulls":23},{"$f":"IF(A656<>\"\",IF(Main!$E$12=\"ALL\",A656,IF(Main!$E$12=A656,A656,\"\")),\"\")","v":""},"","","","","","","",""]
[{"$nulls":23},{"$f":"IF(A657<>\"\",IF(Main!$E$12=\"ALL\",A657,IF(Main!$E$12=A657,A657,\"\")),\"\")","v":""},"","","","","","","",""]
[{"$nulls":23},{"$f":"IF(A658<>\"\",IF(Main!$E$12=\"ALL\",A658,IF(Main!$E$12=A658,A658,\"\")),\"\")","v":""},"","","","","","","",""]
[{"$nulls":23},{"$f":"IF(A659<>\"\",IF(Main!$E$12=\"ALL\",A659,IF(Main!$E$12=A659,A659,\"\")),\"\")","v":""},"","","","","","","",""]
[{"$nulls":23},{"$f":"IF(A660<>\"\",IF(Main!$E$12=\"ALL\",A660,IF(Main!$E$12=A660,A660,\"\")),\"\")","v":""},"","","","","","","",""]
[{"$nulls":23},{"$f":"IF(A661<>\"\",IF(Main!$E$12=\"ALL\",A661,IF(Main!$E$12=A661,A661,\"\")),\"\")","v":""},"","","","","","","",""]
[{"$nulls":23},{"$f":"IF(A662<>\"\",IF(Main!$E$12=\"ALL\",A662,IF(Main!$E$12=A662,A662,\"\")),\"\")","v":""},"","","","","","","",""]
[{"$nulls":23},{"$f":"IF(A663<>\"\",IF(Main!$E$12=\"ALL\",A663,IF(Main!$E$12=A663,A663,\"\")),\"\")","v":""},"","","","","","","",""]
[{"$nulls":23},{"$f":"IF(A664<>\"\",IF(Main!$E$12=\"ALL\",A664,IF(Main!$E$12=A664,A664,\"\")),\"\")","v":""},"","","","","","","",""]
[{"$nulls":23},{"$f":"IF(A665<>\"\",IF(Main!$E$12=\"ALL\",A665,IF(Main!$E$12=A665,A665,\"\")),\"\")","v":""},"","","","","","","",""]
[{"$nulls":23},{"$f":"IF(A666<>\"\",IF(Main!$E$12=\"ALL\",A666,IF(Main!$E$12=A666,A666,\"\")),\"\")","v":""},"","","","","","","",""]
[{"$nulls":23},{"$f":"IF(A667<>\"\",IF(Main!$E$12=\"ALL\",A667,IF(Main!$E$12=A667,A667,\"\")),\"\")","v":""},"","","","","","","",""]
[{"$nulls":23},{"$f":"IF(A668<>\"\",IF(Main!$E$12=\"ALL\",A668,IF(Main!$E$12=A668,A668,\"\")),\"\")","v":""},"","","","","","","",""]
[{"$nulls":23},{"$f":"IF(A669<>\"\",IF(Main!$E$12=\"ALL\",A669,IF(Main!$E$12=A669,A669,\"\")),\"\")","v":""},"","","","","","","",""]
[{"$nulls":23},{"$f":"IF(A670<>\"\",IF(Main!$E$12=\"ALL\",A670,IF(Main!$E$12=A670,A670,\"\")),\"\")","v":""},"","","","","","","",""]
[{"$nulls":23},{"$f":"IF(A671<>\"\",IF(Main!$E$12=\"ALL\",A671,IF(Main!$E$12=A671,A671,\"\")),\"\")","v":""},"","","","","","","",""]
[{"$nulls":23},{"$f":"IF(A672<>\"\",IF(Main!$E$12=\"ALL\",A672,IF(Main!$E$12=A672,A672,\"\")),\"\")","v":""},"","","","","","","",""]
[{"$nulls":23},{"$f":"IF(A673<>\"\",IF(Main!$E$12=\"ALL\",A673,IF(Main!$E$12=A673,A673,\"\")),\"\")","v":""},"","","","","","","",""]
[{"$nulls":23},{"$f":"IF(A674<>\"\",IF(Main!$E$12=\"ALL\",A674,IF(Main!$E$12=A674,A674,\"\")),\"\")","v":""},"","","","","","","",""]
[{"$nulls":23},{"$f":"IF(A675<>\"\",IF(Main!$E$12=\"ALL\",A675,IF(Main!$E$12=A675,A675,\"\")),\"\")","v":""},"","","","","","","",""]
[{"$nulls":23},{"$f":"IF(A676<>\"\",IF(Main!$E$12=\"ALL\",A676,IF(Main!$E$12=A676,A676,\"\")),\"\")","v":""},"","","","","","","",""]
[{"$nulls":23},{"$f":"IF(A677<>\"\",IF(Main!$E$12=\"ALL\",A677,IF(Main!$E$12=A677,A677,\"\")),\"\")","v":""},"","","","","","","",""]
[{"$nulls":23},{"$f":"IF(A678<>\"\",IF(Main!$E$12=\"ALL\",A678,IF(Main!$E$12=A678,A678,\"\")),\"\")","v":""},"","","","","","","",""]
[{"$nulls":23},{"$f":"IF(A679<>\"\",IF(Main!$E$12=\"ALL\",A679,IF(Main!$E$12=A679,A679,\"\")),\"\")","v":""},"","","","","","","",""]
[{"$nulls":23},{"$f":"IF(A680<>\"\",IF(Main!$E$12=\"ALL\",A680,IF(Main!$E$12=A680,A680,\"\")),\"\")","v":""},"","","","","","","",""]
[{"$nulls":23},{"$f":"IF(A681<>\"\",IF(Main!$E$12=\"ALL\",A681,IF(Main!$E$12=A681,A681,\"\")),\"\")","v":""},"","","","","","","",""]
[{"$nulls":23},{"$f":"IF(A682<>\"\",IF(Main!$E$12=\"ALL\",A682,IF(Main!$E$12=A682,A682,\"\")),\"\")","v":""},"","","","","","","",""]
[{"$nulls":23},{"$f":"IF(A683<>\"\",IF(Main!$E$12=\"ALL\",A683,IF(Main!$E$12=A683,A683,\"\")),\"\")","v":""},"","","","","","","",""]
[{"$nulls":23},{"$f":"IF(A684<>\"\",IF(Main!$E$12=\"ALL\",A684,IF(Main!$E$12=A684,A684,\"\")),\"\")","v":""},"","","","","","","",""]
[{"$nulls":23},{"$f":"IF(A685<>\"\",IF(Main!$E$12=\"ALL\",A685,IF(Main!$E$12=A685,A685,\"\")),\"\")","v":""},"","","","","","","",""]
[{"$nulls":23},{"$f":"IF(A686<>\"\",IF(Main!$E$12=\"ALL\",A686,IF(Main!$E$12=A686,A686,\"\")),\"\")","v":""},"","","","","","","",""]
[{"$nulls":23},{"$f":"IF(A687<>\"\",IF(Main!$E$12=\"ALL\",A687,IF(Main!$E$12=A687,A687,\"\")),\"\")","v":""},"","","","","","","",""]
[{"$nulls":23},{"$f":"IF(A688<>\"\",IF(Main!$E$12=\"ALL\",A688,IF(Main!$E$12=A688,A688,\"\")),\"\")","v":""},"","","","","","","",""]
[{"$nulls":23},{"$f":"IF(A689<>\"\",IF(Main!$E$12=\"ALL\",A689,IF(Main!$E$12=A689,A689,\"\")),\"\")","v":""},"","","","","","","",""]
[{"$nulls":23},{"$f":"IF(A690<>\"\",IF(Main!$E$12=\"ALL\",A690,IF(Main!$E$12=A690,A690,\"\")),\"\")","v":""},"","","","","","","",""]
[{"$nulls":23},{"$f":"IF(A691<>\"\",IF(Main!$E$12=\"ALL\",A691,IF(Main!$E$12=A691,A691,\"\")),\"\")","v":""},"","","","","","","",""]
[{"$nulls":23},{"$f":"IF(A692<>\"\",IF(Main!$E$12=\"ALL\",A692,IF(Main!$E$12=A692,A692,\"\")),\"\")","v":""},"","","","","","","",""]
[{"$nulls":23},{"$f":"IF(A693<>\"\",IF(Main!$E$12=\"ALL\",A693,IF(Main!$E$12=A693,A693,\"\")),\"\")","v":""},"","","","","","","",""]
[{"$nulls":23},{"$f":"IF(A694<>\"\",IF(Main!$E$12=\"ALL\",A694,IF(Main!$E$12=A694,A694,\"\")),\"\")","v":""},"","","","","","","",""]
[{"$nulls":23},{"$f":"IF(A695<>\"\",IF(Main!$E$12=\"ALL\",A695,IF(Main!$E$12=A695,A695,\"\")),\"\")","v":""},"","","","","","","",""]
[{"$nulls":23},{"$f":"IF(A696<>\"\",IF(Main!$E$12=\"ALL\",A696,IF(Main!$E$12=A696,A696,\"\")),\"\")","v":""},"","","","","","","",""]
[{"$nulls":23},{"$f":"IF(A697<>\"\",IF(Main!$E$12=\"ALL\",A697,IF(Main!$E$12=A697,A697,\"\")),\"\")","v":""},"","","","","","","",""]
[{"$nulls":23},{"$f":"IF(A698<>\"\",IF(Main!$E$12=\"ALL\",A698,IF(Main!$E$12=A698,A698,\"\")),\"\")","v":""},"","","","","","","",""]
[{"$nulls":23},{"$f":"IF(A699<>\"\",IF(Main!$E$12=\"ALL\",A699,IF(Main!$E$12=A699,A699,\"\")),\"\")","v":""},"","","","","","","",""]
[{"$nulls":23},{"$f":"IF(A700<>\"\",IF(Main!$E$12=\"ALL\",A700,IF(Main!$E$12=A700,A700,\"\")),\"\")","v":""},"","","","","","","",""]
[{"$nulls":23},{"$f":"IF(A701<>\"\",IF(Main!$E$12=\"ALL\",A701,IF(Main!$E$12=A701,A701,\"\")),\"\")","v":""},"","","","","","","",""]
[{"$nulls":23},{"$f":"IF(A702<>\"\",IF(Main!$E$12=\"ALL\",A702,IF(Main!$E$12=A702,A702,\"\")),\"\")","v":""},"","","","","","","",""]
[{"$nulls":23},{"$f":"IF(A703<>\"\",IF(Main!$E$12=\"ALL\",A703,IF(Main!$E$12=A703,A703,\"\")),\"\")","v":""},"","","","","","","",""]
[{"$nulls":23},{"$f":"IF(A704<>\"\",IF(Main!$E$12=\"ALL\",A704,IF(Main!$E$12=A704,A704,\"\")),\"\")","v":""},"","","","","","","",""]
[{"$nulls":23},{"$f":"IF(A705<>\"\",IF(Main!$E$12=\"ALL\",A705,IF(Main!$E$12=A705,A705,\"\")),\"\")","v":""},"","","","","","","",""]
[{"$nulls":23},{"$f":"IF(A706<>\"\",IF(Main!$E$12=\"ALL\",A706,IF(Main!$E$12=A706,A706,\"\")),\"\")","v":""},"","","","","","","",""]
[{"$nulls":23},{"$f":"IF(A707<>\"\",IF(Main!$E$12=\"ALL\",A707,IF(Main!$E$12=A707,A707,\"\")),\"\")","v":""},{"$f":"IF($X707=\"\",\"\",D707)","v":""},{"$f":"IF($X707=\"\",\"\",F707)","v":""},{"$f":"IF($X707=\"\",\"\",J707)","v":""},{"$f":"IF($X707=\"\",\"\",N707)","v":""},{"$f":"IF($X707=\"\",\"\",IF(P707=\"\",\"\",P707))","v":""},{"$f":"IF($X707=\"\",\"\",R707)","v":""},{"$f":"IF($X707=\"\",\"\",T707)","v":""},{"$f":"IF($X707=\"\",\"\",V707)","v":""}]
[{"$nulls":23},{"$f":"IF(A708<>\"\",IF(Main!$E$12=\"ALL\",A708,IF(Main!$E$12=A708,A708,\"\")),\"\")","v":""},"","","","","","","",""]
[{"$nulls":23},{"$f":"IF(A709<>\"\",IF(Main!$E$12=\"ALL\",A709,IF(Main!$E$12=A709,A709,\"\")),\"\")","v":""},"","","","","","","",""]
[{"$nulls":23},{"$f":"IF(A710<>\"\",IF(Main!$E$12=\"ALL\",A710,IF(Main!$E$12=A710,A710,\"\")),\"\")","v":""},"","","","","","","",""]
[{"$nulls":23},{"$f":"IF(A711<>\"\",IF(Main!$E$12=\"ALL\",A711,IF(Main!$E$12=A711,A711,\"\")),\"\")","v":""},"","","","","","","",""]
[{"$nulls":23},{"$f":"IF(A712<>\"\",IF(Main!$E$12=\"ALL\",A712,IF(Main!$E$12=A712,A712,\"\")),\"\")","v":""},"","","","","","","",""]
[{"$nulls":23},{"$f":"IF(A713<>\"\",IF(Main!$E$12=\"ALL\",A713,IF(Main!$E$12=A713,A713,\"\")),\"\")","v":""},"","","","","","","",""]
[{"$nulls":23},{"$f":"IF(A714<>\"\",IF(Main!$E$12=\"ALL\",A714,IF(Main!$E$12=A714,A714,\"\")),\"\")","v":""},"","","","","","","",""]
[{"$nulls":23},{"$f":"IF(A715<>\"\",IF(Main!$E$12=\"ALL\",A715,IF(Main!$E$12=A715,A715,\"\")),\"\")","v":""},"","","","","","","",""]
[{"$nulls":23},{"$f":"IF(A716<>\"\",IF(Main!$E$12=\"ALL\",A716,IF(Main!$E$12=A716,A716,\"\")),\"\")","v":""},"","","","","","","",""]
[{"$nulls":23},{"$f":"IF(A717<>\"\",IF(Main!$E$12=\"ALL\",A717,IF(Main!$E$12=A717,A717,\"\")),\"\")","v":""},"","","","","","","",""]
[{"$nulls":23},{"$f":"IF(A718<>\"\",IF(Main!$E$12=\"ALL\",A718,IF(Main!$E$12=A718,A718,\"\")),\"\")","v":""},"","","","","","","",""]
[{"$nulls":23},{"$f":"IF(A719<>\"\",IF(Main!$E$12=\"ALL\",A719,IF(Main!$E$12=A719,A719,\"\")),\"\")","v":""},"","","","","","","",""]
[{"$nulls":23},{"$f":"IF(A720<>\"\",IF(Main!$E$12=\"ALL\",A720,IF(Main!$E$12=A720,A720,\"\")),\"\")","v":""},"","","","","","","",""]
[{"$nulls":23},{"$f":"IF(A721<>\"\",IF(Main!$E$12=\"ALL\",A721,IF(Main!$E$12=A721,A721,\"\")),\"\")","v":""},"","","","","","","",""]
[{"$nulls":23},{"$f":"IF(A722<>\"\",IF(Main!$E$12=\"ALL\",A722,IF(Main!$E$12=A722,A722,\"\")),\"\")","v":""},"","","","","","","",""]
[{"$nulls":23},{"$f":"IF(A723<>\"\",IF(Main!$E$12=\"ALL\",A723,IF(Main!$E$12=A723,A723,\"\")),\"\")","v":""},"","","","","","","",""]
[{"$nulls":23},{"$f":"IF(A724<>\"\",IF(Main!$E$12=\"ALL\",A724,IF(Main!$E$12=A724,A724,\"\")),\"\")","v":""},"","","","","","","",""]
[{"$nulls":23},{"$f":"IF(A725<>\"\",IF(Main!$E$12=\"ALL\",A725,IF(Main!$E$12=A725,A725,\"\")),\"\")","v":""},"","","","","","","",""]
[{"$nulls":23},{"$f":"IF(A726<>\"\",IF(Main!$E$12=\"ALL\",A726,IF(Main!$E$12=A726,A726,\"\")),\"\")","v":""},"","","","","","","",""]
[{"$nulls":23},{"$f":"IF(A727<>\"\",IF(Main!$E$12=\"ALL\",A727,IF(Main!$E$12=A727,A727,\"\")),\"\")","v":""},"","","","","","","",""]
[{"$nulls":23},{"$f":"IF(A728<>\"\",IF(Main!$E$12=\"ALL\",A728,IF(Main!$E$12=A728,A728,\"\")),\"\")","v":""},"","","","","","","",""]
[{"$nulls":23},{"$f":"IF(A729<>\"\",IF(Main!$E$12=\"ALL\",A729,IF(Main!$E$12=A729,A729,\"\")),\"\")","v":""},"","","","","","","",""]
[{"$nulls":23},{"$f":"IF(A730<>\"\",IF(Main!$E$12=\"ALL\",A730,IF(Main!$E$12=A730,A730,\"\")),\"\")","v":""},"","","","","","","",""]
[{"$nulls":23},{"$f":"IF(A731<>\"\",IF(Main!$E$12=\"ALL\",A731,IF(Main!$E$12=A731,A731,\"\")),\"\")","v":""},"","","","","","","",""]
[{"$nulls":23},{"$f":"IF(A732<>\"\",IF(Main!$E$12=\"ALL\",A732,IF(Main!$E$12=A732,A732,\"\")),\"\")","v":""},"","","","","","","",""]
[{"$nulls":23},{"$f":"IF(A733<>\"\",IF(Main!$E$12=\"ALL\",A733,IF(Main!$E$12=A733,A733,\"\")),\"\")","v":""},"","","","","","","",""]
[{"$nulls":23},{"$f":"IF(A734<>\"\",IF(Main!$E$12=\"ALL\",A734,IF(Main!$E$12=A734,A734,\"\")),\"\")","v":""},"","","","","","","",""]
[{"$nulls":23},{"$f":"IF(A735<>\"\",IF(Main!$E$12=\"ALL\",A735,IF(Main!$E$12=A735,A735,\"\")),\"\")","v":""},"","","","","","","",""]
[{"$nulls":23},{"$f":"IF(A736<>\"\",IF(Main!$E$12=\"ALL\",A736,IF(Main!$E$12=A736,A736,\"\")),\"\")","v":""},"","","","","","","",""]
[{"$nulls":23},{"$f":"IF(A737<>\"\",IF(Main!$E$12=\"ALL\",A737,IF(Main!$E$12=A737,A737,\"\")),\"\")","v":""},"","","","","","","",""]
[{"$nulls":23},{"$f":"IF(A738<>\"\",IF(Main!$E$12=\"ALL\",A738,IF(Main!$E$12=A738,A738,\"\")),\"\")","v":""},"","","","","","","",""]
[{"$nulls":23},{"$f":"IF(A739<>\"\",IF(Main!$E$12=\"ALL\",A739,IF(Main!$E$12=A739,A739,\"\")),\"\")","v":""},"","","","","","","",""]
[{"$nulls":23},{"$f":"IF(A740<>\"\",IF(Main!$E$12=\"ALL\",A740,IF(Main!$E$12=A740,A740,\"\")),\"\")","v":""},"","","","","","","",""]
[{"$nulls":23},{"$f":"IF(A741<>\"\",IF(Main!$E$12=\"ALL\",A741,IF(Main!$E$12=A741,A741,\"\")),\"\")","v":""},"","","","","","","",""]
[{"$nulls":23},{"$f":"IF(A742<>\"\",IF(Main!$E$12=\"ALL\",A742,IF(Main!$E$12=A742,A742,\"\")),\"\")","v":""},"","","","","","","",""]
[{"$nulls":23},{"$f":"IF(A743<>\"\",IF(Main!$E$12=\"ALL\",A743,IF(Main!$E$12=A743,A743,\"\")),\"\")","v":""},"","","","","","","",""]
[{"$nulls":23},{"$f":"IF(A744<>\"\",IF(Main!$E$12=\"ALL\",A744,IF(Main!$E$12=A744,A744,\"\")),\"\")","v":""},"","","","","","","",""]
[{"$nulls":23},{"$f":"IF(A745<>\"\",IF(Main!$E$12=\"ALL\",A745,IF(Main!$E$12=A745,A745,\"\")),\"\")","v":""},"","","","","","","",""]
[{"$nulls":23},{"$f":"IF(A746<>\"\",IF(Main!$E$12=\"ALL\",A746,IF(Main!$E$12=A746,A746,\"\")),\"\")","v":""},"","","","","","","",""]
[{"$nulls":23},{"$f":"IF(A747<>\"\",IF(Main!$E$12=\"ALL\",A747,IF(Main!$E$12=A747,A747,\"\")),\"\")","v":""},"","","","","","","",""]
[{"$nulls":23},{"$f":"IF(A748<>\"\",IF(Main!$E$12=\"ALL\",A748,IF(Main!$E$12=A748,A748,\"\")),\"\")","v":""},"","","","","","","",""]
[{"$nulls":23},{"$f":"IF(A749<>\"\",IF(Main!$E$12=\"ALL\",A749,IF(Main!$E$12=A749,A749,\"\")),\"\")","v":""},"","","","","","","",""]
[{"$nulls":23},{"$f":"IF(A750<>\"\",IF(Main!$E$12=\"ALL\",A750,IF(Main!$E$12=A750,A750,\"\")),\"\")","v":""},"","","","","","","",""]
[{"$nulls":23},{"$f":"IF(A751<>\"\",IF(Main!$E$12=\"ALL\",A751,IF(Main!$E$12=A751,A751,\"\")),\"\")","v":""},"","","","","","","",""]
[{"$nulls":23},{"$f":"IF(A752<>\"\",IF(Main!$E$12=\"ALL\",A752,IF(Main!$E$12=A752,A752,\"\")),\"\")","v":""},"","","","","","","",""]
[{"$nulls":23},{"$f":"IF(A753<>\"\",IF(Main!$E$12=\"ALL\",A753,IF(Main!$E$12=A753,A753,\"\")),\"\")","v":""},"","","","","","","",""]
[{"$nulls":23},{"$f":"IF(A754<>\"\",IF(Main!$E$12=\"ALL\",A754,IF(Main!$E$12=A754,A754,\"\")),\"\")","v":""},"","","","","","","",""]
[{"$nulls":23},{"$f":"IF(A755<>\"\",IF(Main!$E$12=\"ALL\",A755,IF(Main!$E$12=A755,A755,\"\")),\"\")","v":""},"","","","","","","",""]
[{"$nulls":23},{"$f":"IF(A756<>\"\",IF(Main!$E$12=\"ALL\",A756,IF(Main!$E$12=A756,A756,\"\")),\"\")","v":""},"","","","","","","",""]
[{"$nulls":23},{"$f":"IF(A757<>\"\",IF(Main!$E$12=\"ALL\",A757,IF(Main!$E$12=A757,A757,\"\")),\"\")","v":""},"","","","","","","",""]
[{"$nulls":23},{"$f":"IF(A758<>\"\",IF(Main!$E$12=\"ALL\",A758,IF(Main!$E$12=A758,A758,\"\")),\"\")","v":""},"","","","","","","",""]
[{"$nulls":23},{"$f":"IF(A759<>\"\",IF(Main!$E$12=\"ALL\",A759,IF(Main!$E$12=A759,A759,\"\")),\"\")","v":""},"","","","","","","",""]
[{"$nulls":23},{"$f":"IF(A760<>\"\",IF(Main!$E$12=\"ALL\",A760,IF(Main!$E$12=A760,A760,\"\")),\"\")","v":""},"","","","","","","",""]
[{"$nulls":23},{"$f":"IF(A761<>\"\",IF(Main!$E$12=\"ALL\",A761,IF(Main!$E$12=A761,A761,\"\")),\"\")","v":""},"","","","","","","",""]
[{"$nulls":23},{"$f":"IF(A762<>\"\",IF(Main!$E$12=\"ALL\",A762,IF(Main!$E$12=A762,A762,\"\")),\"\")","v":""},"","","","","","","",""]
[{"$nulls":23},{"$f":"IF(A763<>\"\",IF(Main!$E$12=\"ALL\",A763,IF(Main!$E$12=A763,A763,\"\")),\"\")","v":""},"","","","","","","",""]
[{"$nulls":23},{"$f":"IF(A764<>\"\",IF(Main!$E$12=\"ALL\",A764,IF(Main!$E$12=A764,A764,\"\")),\"\")","v":""},"","","","","","","",""]
[{"$nulls":23},{"$f":"IF(A765<>\"\",IF(Main!$E$12=\"ALL\",A765,IF(Main!$E$12=A765,A765,\"\")),\"\")","v":""},"","","","","","","",""]
[{"$nulls":23},{"$f":"IF(A766<>\"\",IF(Main!$E$12=\"ALL\",A766,IF(Main!$E$12=A766,A766,\"\")),\"\")","v":""},"","","","","","","",""]
[{"$nulls":23},{"$f":"IF(A767<>\"\",IF(Main!$E$12=\"ALL\",A767,IF(Main!$E$12=A767,A767,\"\")),\"\")","v":""},"","","","","","","",""]
[{"$nulls":23},{"$f":"IF(A768<>\"\",IF(Main!$E$12=\"ALL\",A768,IF(Main!$E$12=A768,A768,\"\")),\"\")","v":""},"","","","","","","",""]
[{"$nulls":23},{"$f":"IF(A769<>\"\",IF(Main!$E$12=\"ALL\",A769,IF(Main!$E$12=A769,A769,\"\")),\"\")","v":""},"","","","","","","",""]
[{"$nulls":23},{"$f":"IF(A770<>\"\",IF(Main!$E$12=\"ALL\",A770,IF(Main!$E$12=A770,A770,\"\")),\"\")","v":""},"","","","","","","",""]
[{"$nulls":23},{"$f":"IF(A771<>\"\",IF(Main!$E$12=\"ALL\",A771,IF(Main!$E$12=A771,A771,\"\")),\"\")","v":""},{"$f":"IF($X771=\"\",\"\",D771)","v":""},{"$f":"IF($X771=\"\",\"\",F771)","v":""},{"$f":"IF($X771=\"\",\"\",J771)","v":""},{"$f":"IF($X771=\"\",\"\",N771)","v":""},{"$f":"IF($X771=\"\",\"\",IF(P771=\"\",\"\",P771))","v":""},{"$f":"IF($X771=\"\",\"\",R771)","v":""},{"$f":"IF($X771=\"\",\"\",T771)","v":""},{"$f":"IF($X771=\"\",\"\",V771)","v":""}]
[{"$nulls":23},{"$f":"IF(A772<>\"\",IF(Main!$E$12=\"ALL\",A772,IF(Main!$E$12=A772,A772,\"\")),\"\")","v":""},"","","","","","","",""]
[{"$nulls":23},{"$f":"IF(A773<>\"\",IF(Main!$E$12=\"ALL\",A773,IF(Main!$E$12=A773,A773,\"\")),\"\")","v":""},"","","","","","","",""]
[{"$nulls":23},{"$f":"IF(A774<>\"\",IF(Main!$E$12=\"ALL\",A774,IF(Main!$E$12=A774,A774,\"\")),\"\")","v":""},"","","","","","","",""]
[{"$nulls":23},{"$f":"IF(A775<>\"\",IF(Main!$E$12=\"ALL\",A775,IF(Main!$E$12=A775,A775,\"\")),\"\")","v":""},"","","","","","","",""]
[{"$nulls":23},{"$f":"IF(A776<>\"\",IF(Main!$E$12=\"ALL\",A776,IF(Main!$E$12=A776,A776,\"\")),\"\")","v":""},"","","","","","","",""]
[{"$nulls":23},{"$f":"IF(A777<>\"\",IF(Main!$E$12=\"ALL\",A777,IF(Main!$E$12=A777,A777,\"\")),\"\")","v":""},"","","","","","","",""]
[{"$nulls":23},{"$f":"IF(A778<>\"\",IF(Main!$E$12=\"ALL\",A778,IF(Main!$E$12=A778,A778,\"\")),\"\")","v":""},"","","","","","","",""]
[{"$nulls":23},{"$f":"IF(A779<>\"\",IF(Main!$E$12=\"ALL\",A779,IF(Main!$E$12=A779,A779,\"\")),\"\")","v":""},"","","","","","","",""]
[{"$nulls":23},{"$f":"IF(A780<>\"\",IF(Main!$E$12=\"ALL\",A780,IF(Main!$E$12=A780,A780,\"\")),\"\")","v":""},"","","","","","","",""]
[{"$nulls":23},{"$f":"IF(A781<>\"\",IF(Main!$E$12=\"ALL\",A781,IF(Main!$E$12=A781,A781,\"\")),\"\")","v":""},"","","","","","","",""]
[{"$nulls":23},{"$f":"IF(A782<>\"\",IF(Main!$E$12=\"ALL\",A782,IF(Main!$E$12=A782,A782,\"\")),\"\")","v":""},"","","","","","","",""]
[{"$nulls":23},{"$f":"IF(A783<>\"\",IF(Main!$E$12=\"ALL\",A783,IF(Main!$E$12=A783,A783,\"\")),\"\")","v":""},"","","","","","","",""]
[{"$nulls":23},{"$f":"IF(A784<>\"\",IF(Main!$E$12=\"ALL\",A784,IF(Main!$E$12=A784,A784,\"\")),\"\")","v":""},"","","","","","","",""]
[{"$nulls":23},{"$f":"IF(A785<>\"\",IF(Main!$E$12=\"ALL\",A785,IF(Main!$E$12=A785,A785,\"\")),\"\")","v":""},"","","","","","","",""]
[{"$nulls":23},{"$f":"IF(A786<>\"\",IF(Main!$E$12=\"ALL\",A786,IF(Main!$E$12=A786,A786,\"\")),\"\")","v":""},"","","","","","","",""]
[{"$nulls":23},{"$f":"IF(A787<>\"\",IF(Main!$E$12=\"ALL\",A787,IF(Main!$E$12=A787,A787,\"\")),\"\")","v":""},"","","","","","","",""]
[{"$nulls":23},{"$f":"IF(A788<>\"\",IF(Main!$E$12=\"ALL\",A788,IF(Main!$E$12=A788,A788,\"\")),\"\")","v":""},"","","","","","","",""]
[{"$nulls":23},{"$f":"IF(A789<>\"\",IF(Main!$E$12=\"ALL\",A789,IF(Main!$E$12=A789,A789,\"\")),\"\")","v":""},"","","","","","","",""]
[{"$nulls":23},{"$f":"IF(A790<>\"\",IF(Main!$E$12=\"ALL\",A790,IF(Main!$E$12=A790,A790,\"\")),\"\")","v":""},"","","","","","","",""]
[{"$nulls":23},{"$f":"IF(A791<>\"\",IF(Main!$E$12=\"ALL\",A791,IF(Main!$E$12=A791,A791,\"\")),\"\")","v":""},"","","","","","","",""]
[{"$nulls":23},{"$f":"IF(A792<>\"\",IF(Main!$E$12=\"ALL\",A792,IF(Main!$E$12=A792,A792,\"\")),\"\")","v":""},"","","","","","","",""]
[{"$nulls":23},{"$f":"IF(A793<>\"\",IF(Main!$E$12=\"ALL\",A793,IF(Main!$E$12=A793,A793,\"\")),\"\")","v":""},"","","","","","","",""]
[{"$nulls":23},{"$f":"IF(A794<>\"\",IF(Main!$E$12=\"ALL\",A794,IF(Main!$E$12=A794,A794,\"\")),\"\")","v":""},"","","","","","","",""]
[{"$nulls":23},{"$f":"IF(A795<>\"\",IF(Main!$E$12=\"ALL\",A795,IF(Main!$E$12=A795,A795,\"\")),\"\")","v":""},"","","","","","","",""]
[{"$nulls":23},{"$f":"IF(A796<>\"\",IF(Main!$E$12=\"ALL\",A796,IF(Main!$E$12=A796,A796,\"\")),\"\")","v":""},"","","","","","","",""]
[{"$nulls":23},{"$f":"IF(A797<>\"\",IF(Main!$E$12=\"ALL\",A797,IF(Main!$E$12=A797,A797,\"\")),\"\")","v":""},"","","","","","","",""]
[{"$nulls":23},{"$f":"IF(A798<>\"\",IF(Main!$E$12=\"ALL\",A798,IF(Main!$E$12=A798,A798,\"\")),\"\")","v":""},"","","","","","","",""]
[{"$nulls":23},{"$f":"IF(A799<>\"\",IF(Main!$E$12=\"ALL\",A799,IF(Main!$E$12=A799,A799,\"\")),\"\")","v":""},"","","","","","","",""]
[{"$nulls":23},{"$f":"IF(A800<>\"\",IF(Main!$E$12=\"ALL\",A800,IF(Main!$E$12=A800,A800,\"\")),\"\")","v":""},"","","","","","","",""]
[{"$nulls":23},{"$f":"IF(A801<>\"\",IF(Main!$E$12=\"ALL\",A801,IF(Main!$E$12=A801,A801,\"\")),\"\")","v":""},"","","","","","","",""]
[{"$nulls":23},{"$f":"IF(A802<>\"\",IF(Main!$E$12=\"ALL\",A802,IF(Main!$E$12=A802,A802,\"\")),\"\")","v":""},"","","","","","","",""]
[{"$nulls":23},{"$f":"IF(A803<>\"\",IF(Main!$E$12=\"ALL\",A803,IF(Main!$E$12=A803,A803,\"\")),\"\")","v":""},"","","","","","","",""]
[{"$nulls":23},{"$f":"IF(A804<>\"\",IF(Main!$E$12=\"ALL\",A804,IF(Main!$E$12=A804,A804,\"\")),\"\")","v":""},"","","","","","","",""]
[{"$nulls":23},{"$f":"IF(A805<>\"\",IF(Main!$E$12=\"ALL\",A805,IF(Main!$E$12=A805,A805,\"\")),\"\")","v":""},"","","","","","","",""]
[{"$nulls":23},{"$f":"IF(A806<>\"\",IF(Main!$E$12=\"ALL\",A806,IF(Main!$E$12=A806,A806,\"\")),\"\")","v":""},"","","","","","","",""]
[{"$nulls":23},{"$f":"IF(A807<>\"\",IF(Main!$E$12=\"ALL\",A807,IF(Main!$E$12=A807,A807,\"\")),\"\")","v":""},"","","","","","","",""]
[{"$nulls":23},{"$f":"IF(A808<>\"\",IF(Main!$E$12=\"ALL\",A808,IF(Main!$E$12=A808,A808,\"\")),\"\")","v":""},"","","","","","","",""]
[{"$nulls":23},{"$f":"IF(A809<>\"\",IF(Main!$E$12=\"ALL\",A809,IF(Main!$E$12=A809,A809,\"\")),\"\")","v":""},"","","","","","","",""]
[{"$nulls":23},{"$f":"IF(A810<>\"\",IF(Main!$E$12=\"ALL\",A810,IF(Main!$E$12=A810,A810,\"\")),\"\")","v":""},"","","","","","","",""]
[{"$nulls":23},{"$f":"IF(A811<>\"\",IF(Main!$E$12=\"ALL\",A811,IF(Main!$E$12=A811,A811,\"\")),\"\")","v":""},"","","","","","","",""]
[{"$nulls":23},{"$f":"IF(A812<>\"\",IF(Main!$E$12=\"ALL\",A812,IF(Main!$E$12=A812,A812,\"\")),\"\")","v":""},"","","","","","","",""]
[{"$nulls":23},{"$f":"IF(A813<>\"\",IF(Main!$E$12=\"ALL\",A813,IF(Main!$E$12=A813,A813,\"\")),\"\")","v":""},"","","","","","","",""]
[{"$nulls":23},{"$f":"IF(A814<>\"\",IF(Main!$E$12=\"ALL\",A814,IF(Main!$E$12=A814,A814,\"\")),\"\")","v":""},"","","","","","","",""]
[{"$nulls":23},{"$f":"IF(A815<>\"\",IF(Main!$E$12=\"ALL\",A815,IF(Main!$E$12=A815,A815,\"\")),\"\")","v":""},"","","","","","","",""]
[{"$nulls":23},{"$f":"IF(A816<>\"\",IF(Main!$E$12=\"ALL\",A816,IF(Main!$E$12=A816,A816,\"\")),\"\")","v":""},"","","","","","","",""]
[{"$nulls":23},{"$f":"IF(A817<>\"\",IF(Main!$E$12=\"ALL\",A817,IF(Main!$E$12=A817,A817,\"\")),\"\")","v":""},"","","","","","","",""]
[{"$nulls":23},{"$f":"IF(A818<>\"\",IF(Main!$E$12=\"ALL\",A818,IF(Main!$E$12=A818,A818,\"\")),\"\")","v":""},"","","","","","","",""]
[{"$nulls":23},{"$f":"IF(A819<>\"\",IF(Main!$E$12=\"ALL\",A819,IF(Main!$E$12=A819,A819,\"\")),\"\")","v":""},"","","","","","","",""]
[{"$nulls":23},{"$f":"IF(A820<>\"\",IF(Main!$E$12=\"ALL\",A820,IF(Main!$E$12=A820,A820,\"\")),\"\")","v":""},"","","","","","","",""]
[{"$nulls":23},{"$f":"IF(A821<>\"\",IF(Main!$E$12=\"ALL\",A821,IF(Main!$E$12=A821,A821,\"\")),\"\")","v":""},"","","","","","","",""]
[{"$nulls":23},{"$f":"IF(A822<>\"\",IF(Main!$E$12=\"ALL\",A822,IF(Main!$E$12=A822,A822,\"\")),\"\")","v":""},"","","","","","","",""]
[{"$nulls":23},{"$f":"IF(A823<>\"\",IF(Main!$E$12=\"ALL\",A823,IF(Main!$E$12=A823,A823,\"\")),\"\")","v":""},"","","","","","","",""]
[{"$nulls":23},{"$f":"IF(A824<>\"\",IF(Main!$E$12=\"ALL\",A824,IF(Main!$E$12=A824,A824,\"\")),\"\")","v":""},"","","","","","","",""]
[{"$nulls":23},{"$f":"IF(A825<>\"\",IF(Main!$E$12=\"ALL\",A825,IF(Main!$E$12=A825,A825,\"\")),\"\")","v":""},"","","","","","","",""]
[{"$nulls":23},{"$f":"IF(A826<>\"\",IF(Main!$E$12=\"ALL\",A826,IF(Main!$E$12=A826,A826,\"\")),\"\")","v":""},"","","","","","","",""]
[{"$nulls":23},{"$f":"IF(A827<>\"\",IF(Main!$E$12=\"ALL\",A827,IF(Main!$E$12=A827,A827,\"\")),\"\")","v":""},"","","","","","","",""]
[{"$nulls":23},{"$f":"IF(A828<>\"\",IF(Main!$E$12=\"ALL\",A828,IF(Main!$E$12=A828,A828,\"\")),\"\")","v":""},"","","","","","","",""]
[{"$nulls":23},{"$f":"IF(A829<>\"\",IF(Main!$E$12=\"ALL\",A829,IF(Main!$E$12=A829,A829,\"\")),\"\")","v":""},"","","","","","","",""]
[{"$nulls":23},{"$f":"IF(A830<>\"\",IF(Main!$E$12=\"ALL\",A830,IF(Main!$E$12=A830,A830,\"\")),\"\")","v":""},"","","","","","","",""]
[{"$nulls":23},{"$f":"IF(A831<>\"\",IF(Main!$E$12=\"ALL\",A831,IF(Main!$E$12=A831,A831,\"\")),\"\")","v":""},"","","","","","","",""]
[{"$nulls":23},{"$f":"IF(A832<>\"\",IF(Main!$E$12=\"ALL\",A832,IF(Main!$E$12=A832,A832,\"\")),\"\")","v":""},"","","","","","","",""]
[{"$nulls":23},{"$f":"IF(A833<>\"\",IF(Main!$E$12=\"ALL\",A833,IF(Main!$E$12=A833,A833,\"\")),\"\")","v":""},"","","","","","","",""]
[{"$nulls":23},{"$f":"IF(A834<>\"\",IF(Main!$E$12=\"ALL\",A834,IF(Main!$E$12=A834,A834,\"\")),\"\")","v":""},"","","","","","","",""]
[{"$nulls":23},{"$f":"IF(A835<>\"\",IF(Main!$E$12=\"ALL\",A835,IF(Main!$E$12=A835,A835,\"\")),\"\")","v":""},{"$f":"IF($X835=\"\",\"\",D835)","v":""},{"$f":"IF($X835=\"\",\"\",F835)","v":""},{"$f":"IF($X835=\"\",\"\",J835)","v":""},{"$f":"IF($X835=\"\",\"\",N835)","v":""},{"$f":"IF($X835=\"\",\"\",IF(P835=\"\",\"\",P835))","v":""},{"$f":"IF($X835=\"\",\"\",R835)","v":""},{"$f":"IF($X835=\"\",\"\",T835)","v":""},{"$f":"IF($X835=\"\",\"\",V835)","v":""}]
[{"$nulls":23},{"$f":"IF(A836<>\"\",IF(Main!$E$12=\"ALL\",A836,IF(Main!$E$12=A836,A836,\"\")),\"\")","v":""},"","","","","","","",""]
[{"$nulls":23},{"$f":"IF(A837<>\"\",IF(Main!$E$12=\"ALL\",A837,IF(Main!$E$12=A837,A837,\"\")),\"\")","v":""},"","","","","","","",""]
[{"$nulls":23},{"$f":"IF(A838<>\"\",IF(Main!$E$12=\"ALL\",A838,IF(Main!$E$12=A838,A838,\"\")),\"\")","v":""},"","","","","","","",""]
[{"$nulls":23},{"$f":"IF(A839<>\"\",IF(Main!$E$12=\"ALL\",A839,IF(Main!$E$12=A839,A839,\"\")),\"\")","v":""},"","","","","","","",""]
[{"$nulls":23},{"$f":"IF(A840<>\"\",IF(Main!$E$12=\"ALL\",A840,IF(Main!$E$12=A840,A840,\"\")),\"\")","v":""},"","","","","","","",""]
[{"$nulls":23},{"$f":"IF(A841<>\"\",IF(Main!$E$12=\"ALL\",A841,IF(Main!$E$12=A841,A841,\"\")),\"\")","v":""},"","","","","","","",""]
[{"$nulls":23},{"$f":"IF(A842<>\"\",IF(Main!$E$12=\"ALL\",A842,IF(Main!$E$12=A842,A842,\"\")),\"\")","v":""},"","","","","","","",""]
[{"$nulls":23},{"$f":"IF(A843<>\"\",IF(Main!$E$12=\"ALL\",A843,IF(Main!$E$12=A843,A843,\"\")),\"\")","v":""},"","","","","","","",""]
[{"$nulls":23},{"$f":"IF(A844<>\"\",IF(Main!$E$12=\"ALL\",A844,IF(Main!$E$12=A844,A844,\"\")),\"\")","v":""},"","","","","","","",""]
[{"$nulls":23},{"$f":"IF(A845<>\"\",IF(Main!$E$12=\"ALL\",A845,IF(Main!$E$12=A845,A845,\"\")),\"\")","v":""},"","","","","","","",""]
[{"$nulls":23},{"$f":"IF(A846<>\"\",IF(Main!$E$12=\"ALL\",A846,IF(Main!$E$12=A846,A846,\"\")),\"\")","v":""},"","","","","","","",""]
[{"$nulls":23},{"$f":"IF(A847<>\"\",IF(Main!$E$12=\"ALL\",A847,IF(Main!$E$12=A847,A847,\"\")),\"\")","v":""},"","","","","","","",""]
[{"$nulls":23},{"$f":"IF(A848<>\"\",IF(Main!$E$12=\"ALL\",A848,IF(Main!$E$12=A848,A848,\"\")),\"\")","v":""},"","","","","","","",""]
[{"$nulls":23},{"$f":"IF(A849<>\"\",IF(Main!$E$12=\"ALL\",A849,IF(Main!$E$12=A849,A849,\"\")),\"\")","v":""},"","","","","","","",""]
[{"$nulls":23},{"$f":"IF(A850<>\"\",IF(Main!$E$12=\"ALL\",A850,IF(Main!$E$12=A850,A850,\"\")),\"\")","v":""},"","","","","","","",""]
[{"$nulls":23},{"$f":"IF(A851<>\"\",IF(Main!$E$12=\"ALL\",A851,IF(Main!$E$12=A851,A851,\"\")),\"\")","v":""},"","","","","","","",""]
[{"$nulls":23},{"$f":"IF(A852<>\"\",IF(Main!$E$12=\"ALL\",A852,IF(Main!$E$12=A852,A852,\"\")),\"\")","v":""},"","","","","","","",""]
[{"$nulls":23},{"$f":"IF(A853<>\"\",IF(Main!$E$12=\"ALL\",A853,IF(Main!$E$12=A853,A853,\"\")),\"\")","v":""},"","","","","","","",""]
[{"$nulls":23},{"$f":"IF(A854<>\"\",IF(Main!$E$12=\"ALL\",A854,IF(Main!$E$12=A854,A854,\"\")),\"\")","v":""},"","","","","","","",""]
[{"$nulls":23},{"$f":"IF(A855<>\"\",IF(Main!$E$12=\"ALL\",A855,IF(Main!$E$12=A855,A855,\"\")),\"\")","v":""},"","","","","","","",""]
[{"$nulls":23},{"$f":"IF(A856<>\"\",IF(Main!$E$12=\"ALL\",A856,IF(Main!$E$12=A856,A856,\"\")),\"\")","v":""},"","","","","","","",""]
[{"$nulls":23},{"$f":"IF(A857<>\"\",IF(Main!$E$12=\"ALL\",A857,IF(Main!$E$12=A857,A857,\"\")),\"\")","v":""},"","","","","","","",""]
[{"$nulls":23},{"$f":"IF(A858<>\"\",IF(Main!$E$12=\"ALL\",A858,IF(Main!$E$12=A858,A858,\"\")),\"\")","v":""},"","","","","","","",""]
[{"$nulls":23},{"$f":"IF(A859<>\"\",IF(Main!$E$12=\"ALL\",A859,IF(Main!$E$12=A859,A859,\"\")),\"\")","v":""},"","","","","","","",""]
[{"$nulls":23},{"$f":"IF(A860<>\"\",IF(Main!$E$12=\"ALL\",A860,IF(Main!$E$12=A860,A860,\"\")),\"\")","v":""},"","","","","","","",""]
[{"$nulls":23},{"$f":"IF(A861<>\"\",IF(Main!$E$12=\"ALL\",A861,IF(Main!$E$12=A861,A861,\"\")),\"\")","v":""},"","","","","","","",""]
[{"$nulls":23},{"$f":"IF(A862<>\"\",IF(Main!$E$12=\"ALL\",A862,IF(Main!$E$12=A862,A862,\"\")),\"\")","v":""},"","","","","","","",""]
[{"$nulls":23},{"$f":"IF(A863<>\"\",IF(Main!$E$12=\"ALL\",A863,IF(Main!$E$12=A863,A863,\"\")),\"\")","v":""},"","","","","","","",""]
[{"$nulls":23},{"$f":"IF(A864<>\"\",IF(Main!$E$12=\"ALL\",A864,IF(Main!$E$12=A864,A864,\"\")),\"\")","v":""},"","","","","","","",""]
[{"$nulls":23},{"$f":"IF(A865<>\"\",IF(Main!$E$12=\"ALL\",A865,IF(Main!$E$12=A865,A865,\"\")),\"\")","v":""},"","","","","","","",""]
[{"$nulls":23},{"$f":"IF(A866<>\"\",IF(Main!$E$12=\"ALL\",A866,IF(Main!$E$12=A866,A866,\"\")),\"\")","v":""},"","","","","","","",""]
[{"$nulls":23},{"$f":"IF(A867<>\"\",IF(Main!$E$12=\"ALL\",A867,IF(Main!$E$12=A867,A867,\"\")),\"\")","v":""},"","","","","","","",""]
[{"$nulls":23},{"$f":"IF(A868<>\"\",IF(Main!$E$12=\"ALL\",A868,IF(Main!$E$12=A868,A868,\"\")),\"\")","v":""},"","","","","","","",""]
[{"$nulls":23},{"$f":"IF(A869<>\"\",IF(Main!$E$12=\"ALL\",A869,IF(Main!$E$12=A869,A869,\"\")),\"\")","v":""},"","","","","","","",""]
[{"$nulls":23},{"$f":"IF(A870<>\"\",IF(Main!$E$12=\"ALL\",A870,IF(Main!$E$12=A870,A870,\"\")),\"\")","v":""},"","","","","","","",""]
[{"$nulls":23},{"$f":"IF(A871<>\"\",IF(Main!$E$12=\"ALL\",A871,IF(Main!$E$12=A871,A871,\"\")),\"\")","v":""},"","","","","","","",""]
[{"$nulls":23},{"$f":"IF(A872<>\"\",IF(Main!$E$12=\"ALL\",A872,IF(Main!$E$12=A872,A872,\"\")),\"\")","v":""},"","","","","","","",""]
[{"$nulls":23},{"$f":"IF(A873<>\"\",IF(Main!$E$12=\"ALL\",A873,IF(Main!$E$12=A873,A873,\"\")),\"\")","v":""},"","","","","","","",""]
[{"$nulls":23},{"$f":"IF(A874<>\"\",IF(Main!$E$12=\"ALL\",A874,IF(Main!$E$12=A874,A874,\"\")),\"\")","v":""},"","","","","","","",""]
[{"$nulls":23},{"$f":"IF(A875<>\"\",IF(Main!$E$12=\"ALL\",A875,IF(Main!$E$12=A875,A875,\"\")),\"\")","v":""},"","","","","","","",""]
[{"$nulls":23},{"$f":"IF(A876<>\"\",IF(Main!$E$12=\"ALL\",A876,IF(Main!$E$12=A876,A876,\"\")),\"\")","v":""},"","","","","","","",""]
[{"$nulls":23},{"$f":"IF(A877<>\"\",IF(Main!$E$12=\"ALL\",A877,IF(Main!$E$12=A877,A877,\"\")),\"\")","v":""},"","","","","","","",""]
[{"$nulls":23},{"$f":"IF(A878<>\"\",IF(Main!$E$12=\"ALL\",A878,IF(Main!$E$12=A878,A878,\"\")),\"\")","v":""},"","","","","","","",""]
[{"$nulls":23},{"$f":"IF(A879<>\"\",IF(Main!$E$12=\"ALL\",A879,IF(Main!$E$12=A879,A879,\"\")),\"\")","v":""},"","","","","","","",""]
[{"$nulls":23},{"$f":"IF(A880<>\"\",IF(Main!$E$12=\"ALL\",A880,IF(Main!$E$12=A880,A880,\"\")),\"\")","v":""},"","","","","","","",""]
[{"$nulls":23},{"$f":"IF(A881<>\"\",IF(Main!$E$12=\"ALL\",A881,IF(Main!$E$12=A881,A881,\"\")),\"\")","v":""},"","","","","","","",""]
[{"$nulls":23},{"$f":"IF(A882<>\"\",IF(Main!$E$12=\"ALL\",A882,IF(Main!$E$12=A882,A882,\"\")),\"\")","v":""},"","","","","","","",""]
[{"$nulls":23},{"$f":"IF(A883<>\"\",IF(Main!$E$12=\"ALL\",A883,IF(Main!$E$12=A883,A883,\"\")),\"\")","v":""},"","","","","","","",""]
[{"$nulls":23},{"$f":"IF(A884<>\"\",IF(Main!$E$12=\"ALL\",A884,IF(Main!$E$12=A884,A884,\"\")),\"\")","v":""},"","","","","","","",""]
[{"$nulls":23},{"$f":"IF(A885<>\"\",IF(Main!$E$12=\"ALL\",A885,IF(Main!$E$12=A885,A885,\"\")),\"\")","v":""},"","","","","","","",""]
[{"$nulls":23},{"$f":"IF(A886<>\"\",IF(Main!$E$12=\"ALL\",A886,IF(Main!$E$12=A886,A886,\"\")),\"\")","v":""},"","","","","","","",""]
[{"$nulls":23},{"$f":"IF(A887<>\"\",IF(Main!$E$12=\"ALL\",A887,IF(Main!$E$12=A887,A887,\"\")),\"\")","v":""},"","","","","","","",""]
[{"$nulls":23},{"$f":"IF(A888<>\"\",IF(Main!$E$12=\"ALL\",A888,IF(Main!$E$12=A888,A888,\"\")),\"\")","v":""},"","","","","","","",""]
[{"$nulls":23},{"$f":"IF(A889<>\"\",IF(Main!$E$12=\"ALL\",A889,IF(Main!$E$12=A889,A889,\"\")),\"\")","v":""},"","","","","","","",""]
[{"$nulls":23},{"$f":"IF(A890<>\"\",IF(Main!$E$12=\"ALL\",A890,IF(Main!$E$12=A890,A890,\"\")),\"\")","v":""},"","","","","","","",""]
[{"$nulls":23},{"$f":"IF(A891<>\"\",IF(Main!$E$12=\"ALL\",A891,IF(Main!$E$12=A891,A891,\"\")),\"\")","v":""},"","","","","","","",""]
[{"$nulls":23},{"$f":"IF(A892<>\"\",IF(Main!$E$12=\"ALL\",A892,IF(Main!$E$12=A892,A892,\"\")),\"\")","v":""},"","","","","","","",""]
[{"$nulls":23},{"$f":"IF(A893<>\"\",IF(Main!$E$12=\"ALL\",A893,IF(Main!$E$12=A893,A893,\"\")),\"\")","v":""},"","","","","","","",""]
[{"$nulls":23},{"$f":"IF(A894<>\"\",IF(Main!$E$12=\"ALL\",A894,IF(Main!$E$12=A894,A894,\"\")),\"\")","v":""},"","","","","","","",""]
[{"$nulls":23},{"$f":"IF(A895<>\"\",IF(Main!$E$12=\"ALL\",A895,IF(Main!$E$12=A895,A895,\"\")),\"\")","v":""},"","","","","","","",""]
[{"$nulls":23},{"$f":"IF(A896<>\"\",IF(Main!$E$12=\"ALL\",A896,IF(Main!$E$12=A896,A896,\"\")),\"\")","v":""},"","","","","","","",""]
[{"$nulls":23},{"$f":"IF(A897<>\"\",IF(Main!$E$12=\"ALL\",A897,IF(Main!$E$12=A897,A897,\"\")),\"\")","v":""},"","","","","","","",""]
[{"$nulls":23},{"$f":"IF(A898<>\"\",IF(Main!$E$12=\"ALL\",A898,IF(Main!$E$12=A898,A898,\"\")),\"\")","v":""},"","","","","","","",""]
[{"$nulls":23},{"$f":"IF(A899<>\"\",IF(Main!$E$12=\"ALL\",A899,IF(Main!$E$12=A899,A899,\"\")),\"\")","v":""},{"$f":"IF($X899=\"\",\"\",D899)","v":""},{"$f":"IF($X899=\"\",\"\",F899)","v":""},{"$f":"IF($X899=\"\",\"\",J899)","v":""},{"$f":"IF($X899=\"\",\"\",N899)","v":""},{"$f":"IF($X899=\"\",\"\",IF(P899=\"\",\"\",P899))","v":""},{"$f":"IF($X899=\"\",\"\",R899)","v":""},{"$f":"IF($X899=\"\",\"\",T899)","v":""},{"$f":"IF($X899=\"\",\"\",V899)","v":""}]
[{"$nulls":23},{"$f":"IF(A900<>\"\",IF(Main!$E$12=\"ALL\",A900,IF(Main!$E$12=A900,A900,\"\")),\"\")","v":""},"","","","","","","",""]
[{"$nulls":23},{"$f":"IF(A901<>\"\",IF(Main!$E$12=\"ALL\",A901,IF(Main!$E$12=A901,A901,\"\")),\"\")","v":""},"","","","","","","",""]
[{"$nulls":23},{"$f":"IF(A902<>\"\",IF(Main!$E$12=\"ALL\",A902,IF(Main!$E$12=A902,A902,\"\")),\"\")","v":""},"","","","","","","",""]
[{"$nulls":23},{"$f":"IF(A903<>\"\",IF(Main!$E$12=\"ALL\",A903,IF(Main!$E$12=A903,A903,\"\")),\"\")","v":""},"","","","","","","",""]
[{"$nulls":23},{"$f":"IF(A904<>\"\",IF(Main!$E$12=\"ALL\",A904,IF(Main!$E$12=A904,A904,\"\")),\"\")","v":""},"","","","","","","",""]
[{"$nulls":23},{"$f":"IF(A905<>\"\",IF(Main!$E$12=\"ALL\",A905,IF(Main!$E$12=A905,A905,\"\")),\"\")","v":""},"","","","","","","",""]
[{"$nulls":23},{"$f":"IF(A906<>\"\",IF(Main!$E$12=\"ALL\",A906,IF(Main!$E$12=A906,A906,\"\")),\"\")","v":""},"","","","","","","",""]
[{"$nulls":23},{"$f":"IF(A907<>\"\",IF(Main!$E$12=\"ALL\",A907,IF(Main!$E$12=A907,A907,\"\")),\"\")","v":""},"","","","","","","",""]
[{"$nulls":23},{"$f":"IF(A908<>\"\",IF(Main!$E$12=\"ALL\",A908,IF(Main!$E$12=A908,A908,\"\")),\"\")","v":""},"","","","","","","",""]
[{"$nulls":23},{"$f":"IF(A909<>\"\",IF(Main!$E$12=\"ALL\",A909,IF(Main!$E$12=A909,A909,\"\")),\"\")","v":""},"","","","","","","",""]
[{"$nulls":23},{"$f":"IF(A910<>\"\",IF(Main!$E$12=\"ALL\",A910,IF(Main!$E$12=A910,A910,\"\")),\"\")","v":""},"","","","","","","",""]
[{"$nulls":23},{"$f":"IF(A911<>\"\",IF(Main!$E$12=\"ALL\",A911,IF(Main!$E$12=A911,A911,\"\")),\"\")","v":""},"","","","","","","",""]
[{"$nulls":23},{"$f":"IF(A912<>\"\",IF(Main!$E$12=\"ALL\",A912,IF(Main!$E$12=A912,A912,\"\")),\"\")","v":""},"","","","","","","",""]
[{"$nulls":23},{"$f":"IF(A913<>\"\",IF(Main!$E$12=\"ALL\",A913,IF(Main!$E$12=A913,A913,\"\")),\"\")","v":""},"","","","","","","",""]
[{"$nulls":23},{"$f":"IF(A914<>\"\",IF(Main!$E$12=\"ALL\",A914,IF(Main!$E$12=A914,A914,\"\")),\"\")","v":""},"","","","","","","",""]
[{"$nulls":23},{"$f":"IF(A915<>\"\",IF(Main!$E$12=\"ALL\",A915,IF(Main!$E$12=A915,A915,\"\")),\"\")","v":""},"","","","","","","",""]
[{"$nulls":23},{"$f":"IF(A916<>\"\",IF(Main!$E$12=\"ALL\",A916,IF(Main!$E$12=A916,A916,\"\")),\"\")","v":""},"","","","","","","",""]
[{"$nulls":23},{"$f":"IF(A917<>\"\",IF(Main!$E$12=\"ALL\",A917,IF(Main!$E$12=A917,A917,\"\")),\"\")","v":""},"","","","","","","",""]
[{"$nulls":23},{"$f":"IF(A918<>\"\",IF(Main!$E$12=\"ALL\",A918,IF(Main!$E$12=A918,A918,\"\")),\"\")","v":""},"","","","","","","",""]
[{"$nulls":23},{"$f":"IF(A919<>\"\",IF(Main!$E$12=\"ALL\",A919,IF(Main!$E$12=A919,A919,\"\")),\"\")","v":""},"","","","","","","",""]
[{"$nulls":23},{"$f":"IF(A920<>\"\",IF(Main!$E$12=\"ALL\",A920,IF(Main!$E$12=A920,A920,\"\")),\"\")","v":""},"","","","","","","",""]
[{"$nulls":23},{"$f":"IF(A921<>\"\",IF(Main!$E$12=\"ALL\",A921,IF(Main!$E$12=A921,A921,\"\")),\"\")","v":""},"","","","","","","",""]
[{"$nulls":23},{"$f":"IF(A922<>\"\",IF(Main!$E$12=\"ALL\",A922,IF(Main!$E$12=A922,A922,\"\")),\"\")","v":""},"","","","","","","",""]
[{"$nulls":23},{"$f":"IF(A923<>\"\",IF(Main!$E$12=\"ALL\",A923,IF(Main!$E$12=A923,A923,\"\")),\"\")","v":""},"","","","","","","",""]
[{"$nulls":23},{"$f":"IF(A924<>\"\",IF(Main!$E$12=\"ALL\",A924,IF(Main!$E$12=A924,A924,\"\")),\"\")","v":""},"","","","","","","",""]
[{"$nulls":23},{"$f":"IF(A925<>\"\",IF(Main!$E$12=\"ALL\",A925,IF(Main!$E$12=A925,A925,\"\")),\"\")","v":""},"","","","","","","",""]
[{"$nulls":23},{"$f":"IF(A926<>\"\",IF(Main!$E$12=\"ALL\",A926,IF(Main!$E$12=A926,A926,\"\")),\"\")","v":""},"","","","","","","",""]
[{"$nulls":23},{"$f":"IF(A927<>\"\",IF(Main!$E$12=\"ALL\",A927,IF(Main!$E$12=A927,A927,\"\")),\"\")","v":""},"","","","","","","",""]
[{"$nulls":23},{"$f":"IF(A928<>\"\",IF(Main!$E$12=\"ALL\",A928,IF(Main!$E$12=A928,A928,\"\")),\"\")","v":""},"","","","","","","",""]
[{"$nulls":23},{"$f":"IF(A929<>\"\",IF(Main!$E$12=\"ALL\",A929,IF(Main!$E$12=A929,A929,\"\")),\"\")","v":""},"","","","","","","",""]
[{"$nulls":23},{"$f":"IF(A930<>\"\",IF(Main!$E$12=\"ALL\",A930,IF(Main!$E$12=A930,A930,\"\")),\"\")","v":""},"","","","","","","",""]
[{"$nulls":23},{"$f":"IF(A931<>\"\",IF(Main!$E$12=\"ALL\",A931,IF(Main!$E$12=A931,A931,\"\")),\"\")","v":""},"","","","","","","",""]
[{"$nulls":23},{"$f":"IF(A932<>\"\",IF(Main!$E$12=\"ALL\",A932,IF(Main!$E$12=A932,A932,\"\")),\"\")","v":""},"","","","","","","",""]
[{"$nulls":23},{"$f":"IF(A933<>\"\",IF(Main!$E$12=\"ALL\",A933,IF(Main!$E$12=A933,A933,\"\")),\"\")","v":""},"","","","","","","",""]
[{"$nulls":23},{"$f":"IF(A934<>\"\",IF(Main!$E$12=\"ALL\",A934,IF(Main!$E$12=A934,A934,\"\")),\"\")","v":""},"","","","","","","",""]
[{"$nulls":23},{"$f":"IF(A935<>\"\",IF(Main!$E$12=\"ALL\",A935,IF(Main!$E$12=A935,A935,\"\")),\"\")","v":""},"","","","","","","",""]
[{"$nulls":23},{"$f":"IF(A936<>\"\",IF(Main!$E$12=\"ALL\",A936,IF(Main!$E$12=A936,A936,\"\")),\"\")","v":""},"","","","","","","",""]
[{"$nulls":23},{"$f":"IF(A937<>\"\",IF(Main!$E$12=\"ALL\",A937,IF(Main!$E$12=A937,A937,\"\")),\"\")","v":""},"","","","","","","",""]
[{"$nulls":23},{"$f":"IF(A938<>\"\",IF(Main!$E$12=\"ALL\",A938,IF(Main!$E$12=A938,A938,\"\")),\"\")","v":""},"","","","","","","",""]
[{"$nulls":23},{"$f":"IF(A939<>\"\",IF(Main!$E$12=\"ALL\",A939,IF(Main!$E$12=A939,A939,\"\")),\"\")","v":""},"","","","","","","",""]
[{"$nulls":23},{"$f":"IF(A940<>\"\",IF(Main!$E$12=\"ALL\",A940,IF(Main!$E$12=A940,A940,\"\")),\"\")","v":""},"","","","","","","",""]
[{"$nulls":23},{"$f":"IF(A941<>\"\",IF(Main!$E$12=\"ALL\",A941,IF(Main!$E$12=A941,A941,\"\")),\"\")","v":""},"","","","","","","",""]
[{"$nulls":23},{"$f":"IF(A942<>\"\",IF(Main!$E$12=\"ALL\",A942,IF(Main!$E$12=A942,A942,\"\")),\"\")","v":""},"","","","","","","",""]
[{"$nulls":23},{"$f":"IF(A943<>\"\",IF(Main!$E$12=\"ALL\",A943,IF(Main!$E$12=A943,A943,\"\")),\"\")","v":""},"","","","","","","",""]
[{"$nulls":23},{"$f":"IF(A944<>\"\",IF(Main!$E$12=\"ALL\",A944,IF(Main!$E$12=A944,A944,\"\")),\"\")","v":""},"","","","","","","",""]
[{"$nulls":23},{"$f":"IF(A945<>\"\",IF(Main!$E$12=\"ALL\",A945,IF(Main!$E$12=A945,A945,\"\")),\"\")","v":""},"","","","","","","",""]
[{"$nulls":23},{"$f":"IF(A946<>\"\",IF(Main!$E$12=\"ALL\",A946,IF(Main!$E$12=A946,A946,\"\")),\"\")","v":""},"","","","","","","",""]
[{"$nulls":23},{"$f":"IF(A947<>\"\",IF(Main!$E$12=\"ALL\",A947,IF(Main!$E$12=A947,A947,\"\")),\"\")","v":""},"","","","","","","",""]
[{"$nulls":23},{"$f":"IF(A948<>\"\",IF(Main!$E$12=\"ALL\",A948,IF(Main!$E$12=A948,A948,\"\")),\"\")","v":""},"","","","","","","",""]
[{"$nulls":23},{"$f":"IF(A949<>\"\",IF(Main!$E$12=\"ALL\",A949,IF(Main!$E$12=A949,A949,\"\")),\"\")","v":""},"","","","","","","",""]
[{"$nulls":23},{"$f":"IF(A950<>\"\",IF(Main!$E$12=\"ALL\",A950,IF(Main!$E$12=A950,A950,\"\")),\"\")","v":""},"","","","","","","",""]
[{"$nulls":23},{"$f":"IF(A951<>\"\",IF(Main!$E$12=\"ALL\",A951,IF(Main!$E$12=A951,A951,\"\")),\"\")","v":""},"","","","","","","",""]
[{"$nulls":23},{"$f":"IF(A952<>\"\",IF(Main!$E$12=\"ALL\",A952,IF(Main!$E$12=A952,A952,\"\")),\"\")","v":""},"","","","","","","",""]
[{"$nulls":23},{"$f":"IF(A953<>\"\",IF(Main!$E$12=\"ALL\",A953,IF(Main!$E$12=A953,A953,\"\")),\"\")","v":""},"","","","","","","",""]
[{"$nulls":23},{"$f":"IF(A954<>\"\",IF(Main!$E$12=\"ALL\",A954,IF(Main!$E$12=A954,A954,\"\")),\"\")","v":""},"","","","","","","",""]
[{"$nulls":23},{"$f":"IF(A955<>\"\",IF(Main!$E$12=\"ALL\",A955,IF(Main!$E$12=A955,A955,\"\")),\"\")","v":""},"","","","","","","",""]
[{"$nulls":23},{"$f":"IF(A956<>\"\",IF(Main!$E$12=\"ALL\",A956,IF(Main!$E$12=A956,A956,\"\")),\"\")","v":""},"","","","","","","",""]
[{"$nulls":23},{"$f":"IF(A957<>\"\",IF(Main!$E$12=\"ALL\",A957,IF(Main!$E$12=A957,A957,\"\")),\"\")","v":""},"","","","","","","",""]
[{"$nulls":23},{"$f":"IF(A958<>\"\",IF(Main!$E$12=\"ALL\",A958,IF(Main!$E$12=A958,A958,\"\")),\"\")","v":""},"","","","","","","",""]
[{"$nulls":23},{"$f":"IF(A959<>\"\",IF(Main!$E$12=\"ALL\",A959,IF(Main!$E$12=A959,A959,\"\")),\"\")","v":""},"","","","","","","",""]
[{"$nulls":23},{"$f":"IF(A960<>\"\",IF(Main!$E$12=\"ALL\",A960,IF(Main!$E$12=A960,A960,\"\")),\"\")","v":""},"","","","","","","",""]
[{"$nulls":23},{"$f":"IF(A961<>\"\",IF(Main!$E$12=\"ALL\",A961,IF(Main!$E$12=A961,A961,\"\")),\"\")","v":""},"","","","","","","",""]
[{"$nulls":23},{"$f":"IF(A962<>\"\",IF(Main!$E$12=\"ALL\",A962,IF(Main!$E$12=A962,A962,\"\")),\"\")","v":""},"","","","","","","",""]
[{"$nulls":23},{"$f":"IF(A963<>\"\",IF(Main!$E$12=\"ALL\",A963,IF(Main!$E$12=A963,A963,\"\")),\"\")","v":""},{"$f":"IF($X963=\"\",\"\",D963)","v":""},{"$f":"IF($X963=\"\",\"\",F963)","v":""},{"$f":"IF($X963=\"\",\"\",J963)","v":""},{"$f":"IF($X963=\"\",\"\",N963)","v":""},{"$f":"IF($X963=\"\",\"\",IF(P963=\"\",\"\",P963))","v":""},{"$f":"IF($X963=\"\",\"\",R963)","v":""},{"$f":"IF($X963=\"\",\"\",T963)","v":""},{"$f":"IF($X963=\"\",\"\",V963)","v":""}]
[{"$nulls":23},{"$f":"IF(A964<>\"\",IF(Main!$E$12=\"ALL\",A964,IF(Main!$E$12=A964,A964,\"\")),\"\")","v":""},"","","","","","","",""]
[{"$nulls":23},{"$f":"IF(A965<>\"\",IF(Main!$E$12=\"ALL\",A965,IF(Main!$E$12=A965,A965,\"\")),\"\")","v":""},"","","","","","","",""]
[{"$nulls":23},{"$f":"IF(A966<>\"\",IF(Main!$E$12=\"ALL\",A966,IF(Main!$E$12=A966,A966,\"\")),\"\")","v":""},"","","","","","","",""]
[{"$nulls":23},{"$f":"IF(A967<>\"\",IF(Main!$E$12=\"ALL\",A967,IF(Main!$E$12=A967,A967,\"\")),\"\")","v":""},"","","","","","","",""]
[{"$nulls":23},{"$f":"IF(A968<>\"\",IF(Main!$E$12=\"ALL\",A968,IF(Main!$E$12=A968,A968,\"\")),\"\")","v":""},"","","","","","","",""]
[{"$nulls":23},{"$f":"IF(A969<>\"\",IF(Main!$E$12=\"ALL\",A969,IF(Main!$E$12=A969,A969,\"\")),\"\")","v":""},"","","","","","","",""]
[{"$nulls":23},{"$f":"IF(A970<>\"\",IF(Main!$E$12=\"ALL\",A970,IF(Main!$E$12=A970,A970,\"\")),\"\")","v":""},"","","","","","","",""]
[{"$nulls":23},{"$f":"IF(A971<>\"\",IF(Main!$E$12=\"ALL\",A971,IF(Main!$E$12=A971,A971,\"\")),\"\")","v":""},"","","","","","","",""]
[{"$nulls":23},{"$f":"IF(A972<>\"\",IF(Main!$E$12=\"ALL\",A972,IF(Main!$E$12=A972,A972,\"\")),\"\")","v":""},"","","","","","","",""]
[{"$nulls":23},{"$f":"IF(A973<>\"\",IF(Main!$E$12=\"ALL\",A973,IF(Main!$E$12=A973,A973,\"\")),\"\")","v":""},"","","","","","","",""]
[{"$nulls":23},{"$f":"IF(A974<>\"\",IF(Main!$E$12=\"ALL\",A974,IF(Main!$E$12=A974,A974,\"\")),\"\")","v":""},"","","","","","","",""]
[{"$nulls":23},{"$f":"IF(A975<>\"\",IF(Main!$E$12=\"ALL\",A975,IF(Main!$E$12=A975,A975,\"\")),\"\")","v":""},"","","","","","","",""]
[{"$nulls":23},{"$f":"IF(A976<>\"\",IF(Main!$E$12=\"ALL\",A976,IF(Main!$E$12=A976,A976,\"\")),\"\")","v":""},"","","","","","","",""]
[{"$nulls":23},{"$f":"IF(A977<>\"\",IF(Main!$E$12=\"ALL\",A977,IF(Main!$E$12=A977,A977,\"\")),\"\")","v":""},"","","","","","","",""]
[{"$nulls":23},{"$f":"IF(A978<>\"\",IF(Main!$E$12=\"ALL\",A978,IF(Main!$E$12=A978,A978,\"\")),\"\")","v":""},"","","","","","","",""]
[{"$nulls":23},{"$f":"IF(A979<>\"\",IF(Main!$E$12=\"ALL\",A979,IF(Main!$E$12=A979,A979,\"\")),\"\")","v":""},"","","","","","","",""]
[{"$nulls":23},{"$f":"IF(A980<>\"\",IF(Main!$E$12=\"ALL\",A980,IF(Main!$E$12=A980,A980,\"\")),\"\")","v":""},"","","","","","","",""]
[{"$nulls":23},{"$f":"IF(A981<>\"\",IF(Main!$E$12=\"ALL\",A981,IF(Main!$E$12=A981,A981,\"\")),\"\")","v":""},"","","","","","","",""]
[{"$nulls":23},{"$f":"IF(A982<>\"\",IF(Main!$E$12=\"ALL\",A982,IF(Main!$E$12=A982,A982,\"\")),\"\")","v":""},"","","","","","","",""]
[{"$nulls":23},{"$f":"IF(A983<>\"\",IF(Main!$E$12=\"ALL\",A983,IF(Main!$E$12=A983,A983,\"\")),\"\")","v":""},"","","","","","","",""]
[{"$nulls":23},{"$f":"IF(A984<>\"\",IF(Main!$E$12=\"ALL\",A984,IF(Main!$E$12=A984,A984,\"\")),\"\")","v":""},"","","","","","","",""]
[{"$nulls":23},{"$f":"IF(A985<>\"\",IF(Main!$E$12=\"ALL\",A985,IF(Main!$E$12=A985,A985,\"\")),\"\")","v":""},"","","","","","","",""]
[{"$nulls":23},{"$f":"IF(A986<>\"\",IF(Main!$E$12=\"ALL\",A986,IF(Main!$E$12=A986,A986,\"\")),\"\")","v":""},"","","","","","","",""]
[{"$nulls":23},{"$f":"IF(A987<>\"\",IF(Main!$E$12=\"ALL\",A987,IF(Main!$E$12=A987,A987,\"\")),\"\")","v":""},"","","","","","","",""]
[{"$nulls":23},{"$f":"IF(A988<>\"\",IF(Main!$E$12=\"ALL\",A988,IF(Main!$E$12=A988,A988,\"\")),\"\")","v":""},"","","","","","","",""]
[{"$nulls":23},{"$f":"IF(A989<>\"\",IF(Main!$E$12=\"ALL\",A989,IF(Main!$E$12=A989,A989,\"\")),\"\")","v":""},"","","","","","","",""]
[{"$nulls":23},{"$f":"IF(A990<>\"\",IF(Main!$E$12=\"ALL\",A990,IF(Main!$E$12=A990,A990,\"\")),\"\")","v":""},"","","","","","","",""]
[{"$nulls":23},{"$f":"IF(A991<>\"\",IF(Main!$E$12=\"ALL\",A991,IF(Main!$E$12=A991,A991,\"\")),\"\")","v":""},"","","","","","","",""]
[{"$nulls":23},{"$f":"IF(A992<>\"\",IF(Main!$E$12=\"ALL\",A992,IF(Main!$E$12=A992,A992,\"\")),\"\")","v":""},"","","","","","","",""]
[{"$nulls":23},{"$f":"IF(A993<>\"\",IF(Main!$E$12=\"ALL\",A993,IF(Main!$E$12=A993,A993,\"\")),\"\")","v":""},"","","","","","","",""]
[{"$nulls":23},{"$f":"IF(A994<>\"\",IF(Main!$E$12=\"ALL\",A994,IF(Main!$E$12=A994,A994,\"\")),\"\")","v":""},"","","","","","","",""]
[{"$nulls":23},{"$f":"IF(A995<>\"\",IF(Main!$E$12=\"ALL\",A995,IF(Main!$E$12=A995,A995,\"\")),\"\")","v":""},"","","","","","","",""]
[{"$nulls":23},{"$f":"IF(A996<>\"\",IF(Main!$E$12=\"ALL\",A996,IF(Main!$E$12=A996,A996,\"\")),\"\")","v":""},"","","","","","","",""]
[{"$nulls":23},{"$f":"IF(A997<>\"\",IF(Main!$E$12=\"ALL\",A997,IF(Main!$E$12=A997,A997,\"\")),\"\")","v":""},"","","","","","","",""]
[{"$nulls":23},{"$f":"IF(A998<>\"\",IF(Main!$E$12=\"ALL\",A998,IF(Main!$E$12=A998,A998,\"\")),\"\")","v":""},"","","","","","","",""]
[{"$nulls":23},{"$f":"IF(A999<>\"\",IF(Main!$E$12=\"ALL\",A999,IF(Main!$E$12=A999,A999,\"\")),\"\")","v":""},"","","","","","","",""]
[{"$nulls":23},{"$f":"IF(A1000<>\"\",IF(Main!$E$12=\"ALL\",A1000,IF(Main!$E$12=A1000,A1000,\"\")),\"\")","v":""},"","","","","","","",""]
[{"$nulls":23},{"$f":"IF(A1001<>\"\",IF(Main!$E$12=\"ALL\",A1001,IF(Main!$E$12=A1001,A1001,\"\")),\"\")","v":""},"","","","","","","",""]
[{"$nulls":23},{"$f":"IF(A1002<>\"\",IF(Main!$E$12=\"ALL\",A1002,IF(Main!$E$12=A1002,A1002,\"\")),\"\")","v":""},"","","","","","","",""]
[{"$nulls":23},{"$f":"IF(A1003<>\"\",IF(Main!$E$12=\"ALL\",A1003,IF(Main!$E$12=A1003,A1003,\"\")),\"\")","v":""},"","","","","","","",""]
[{"$nulls":23},{"$f":"IF(A1004<>\"\",IF(Main!$E$12=\"ALL\",A1004,IF(Main!$E$12=A1004,A1004,\"\")),\"\")","v":""},"","","","","","","",""]
[{"$nulls":23},{"$f":"IF(A1005<>\"\",IF(Main!$E$12=\"ALL\",A1005,IF(Main!$E$12=A1005,A1005,\"\")),\"\")","v":""},"","","","","","","",""]
[{"$nulls":23},{"$f":"IF(A1006<>\"\",IF(Main!$E$12=\"ALL\",A1006,IF(Main!$E$12=A1006,A1006,\"\")),\"\")","v":""},"","","","","","","",""]
[{"$nulls":23},{"$f":"IF(A1007<>\"\",IF(Main!$E$12=\"ALL\",A1007,IF(Main!$E$12=A1007,A1007,\"\")),\"\")","v":""},"","","","","","","",""]
[{"$nulls":23},{"$f":"IF(A1008<>\"\",IF(Main!$E$12=\"ALL\",A1008,IF(Main!$E$12=A1008,A1008,\"\")),\"\")","v":""},"","","","","","","",""]
[{"$nulls":23},{"$f":"IF(A1009<>\"\",IF(Main!$E$12=\"ALL\",A1009,IF(Main!$E$12=A1009,A1009,\"\")),\"\")","v":""},"","","","","","","",""]
[{"$nulls":23},{"$f":"IF(A1010<>\"\",IF(Main!$E$12=\"ALL\",A1010,IF(Main!$E$12=A1010,A1010,\"\")),\"\")","v":""},"","","","","","","",""]
[{"$nulls":23},{"$f":"IF(A1011<>\"\",IF(Main!$E$12=\"ALL\",A1011,IF(Main!$E$12=A1011,A1011,\"\")),\"\")","v":""},"","","","","","","",""]
[{"$nulls":23},{"$f":"IF(A1012<>\"\",IF(Main!$E$12=\"ALL\",A1012,IF(Main!$E$12=A1012,A1012,\"\")),\"\")","v":""},"","","","","","","",""]
[{"$nulls":23},{"$f":"IF(A1013<>\"\",IF(Main!$E$12=\"ALL\",A1013,IF(Main!$E$12=A1013,A1013,\"\")),\"\")","v":""},"","","","","","","",""]
[{"$nulls":23},{"$f":"IF(A1014<>\"\",IF(Main!$E$12=\"ALL\",A1014,IF(Main!$E$12=A1014,A1014,\"\")),\"\")","v":""},"","","","","","","",""]
[{"$nulls":23},{"$f":"IF(A1015<>\"\",IF(Main!$E$12=\"ALL\",A1015,IF(Main!$E$12=A1015,A1015,\"\")),\"\")","v":""},"","","","","","","",""]
[{"$nulls":23},{"$f":"IF(A1016<>\"\",IF(Main!$E$12=\"ALL\",A1016,IF(Main!$E$12=A1016,A1016,\"\")),\"\")","v":""},"","","","","","","",""]
[{"$nulls":23},{"$f":"IF(A1017<>\"\",IF(Main!$E$12=\"ALL\",A1017,IF(Main!$E$12=A1017,A1017,\"\")),\"\")","v":""},"","","","","","","",""]
[{"$nulls":23},{"$f":"IF(A1018<>\"\",IF(Main!$E$12=\"ALL\",A1018,IF(Main!$E$12=A1018,A1018,\"\")),\"\")","v":""},"","","","","","","",""]
[{"$nulls":23},{"$f":"IF(A1019<>\"\",IF(Main!$E$12=\"ALL\",A1019,IF(Main!$E$12=A1019,A1019,\"\")),\"\")","v":""},"","","","","","","",""]
[{"$nulls":23},{"$f":"IF(A1020<>\"\",IF(Main!$E$12=\"ALL\",A1020,IF(Main!$E$12=A1020,A1020,\"\")),\"\")","v":""},"","","","","","","",""]
[{"$nulls":23},{"$f":"IF(A1021<>\"\",IF(Main!$E$12=\"ALL\",A1021,IF(Main!$E$12=A1021,A1021,\"\")),\"\")","v":""},"","","","","","","",""]
[{"$nulls":23},{"$f":"IF(A1022<>\"\",IF(Main!$E$12=\"ALL\",A1022,IF(Main!$E$12=A1022,A1022,\"\")),\"\")","v":""},"","","","","","","",""]
[{"$nulls":23},{"$f":"IF(A1023<>\"\",IF(Main!$E$12=\"ALL\",A1023,IF(Main!$E$12=A1023,A1023,\"\")),\"\")","v":""},"","","","","","","",""]
[{"$nulls":23},{"$f":"IF(A1024<>\"\",IF(Main!$E$12=\"ALL\",A1024,IF(Main!$E$12=A1024,A1024,\"\")),\"\")","v":""},"","","","","","","",""]
[{"$nulls":23},{"$f":"IF(A1025<>\"\",IF(Main!$E$12=\"ALL\",A1025,IF(Main!$E$12=A1025,A1025,\"\")),\"\")","v":""},"","","","","","","",""]
[{"$nulls":23},{"$f":"IF(A1026<>\"\",IF(Main!$E$12=\"ALL\",A1026,IF(Main!$E$12=A1026,A1026,\"\")),\"\")","v":""},"","","","","","","",""]
[{"$nulls":23},{"$f":"IF(A1027<>\"\",IF(Main!$E$12=\"ALL\",A1027,IF(Main!$E$12=A1027,A1027,\"\")),\"\")","v":""},{"$f":"IF($X1027=\"\",\"\",D1027)","v":""},{"$f":"IF($X1027=\"\",\"\",F1027)","v":""},{"$f":"IF($X1027=\"\",\"\",J1027)","v":""},{"$f":"IF($X1027=\"\",\"\",N1027)","v":""},{"$f":"IF($X1027=\"\",\"\",IF(P1027=\"\",\"\",P1027))","v":""},{"$f":"IF($X1027=\"\",\"\",R1027)","v":""},{"$f":"IF($X1027=\"\",\"\",T1027)","v":""},{"$f":"IF($X1027=\"\",\"\",V1027)","v":""}]
[{"$nulls":23},{"$f":"IF(A1028<>\"\",IF(Main!$E$12=\"ALL\",A1028,IF(Main!$E$12=A1028,A1028,\"\")),\"\")","v":""},"","","","","","","",""]
[{"$nulls":23},{"$f":"IF(A1029<>\"\",IF(Main!$E$12=\"ALL\",A1029,IF(Main!$E$12=A1029,A1029,\"\")),\"\")","v":""},"","","","","","","",""]
[{"$nulls":23},{"$f":"IF(A1030<>\"\",IF(Main!$E$12=\"ALL\",A1030,IF(Main!$E$12=A1030,A1030,\"\")),\"\")","v":""},"","","","","","","",""]
[{"$nulls":23},{"$f":"IF(A1031<>\"\",IF(Main!$E$12=\"ALL\",A1031,IF(Main!$E$12=A1031,A1031,\"\")),\"\")","v":""},"","","","","","","",""]
[{"$nulls":23},{"$f":"IF(A1032<>\"\",IF(Main!$E$12=\"ALL\",A1032,IF(Main!$E$12=A1032,A1032,\"\")),\"\")","v":""},"","","","","","","",""]
[{"$nulls":23},{"$f":"IF(A1033<>\"\",IF(Main!$E$12=\"ALL\",A1033,IF(Main!$E$12=A1033,A1033,\"\")),\"\")","v":""},"","","","","","","",""]
[{"$nulls":23},{"$f":"IF(A1034<>\"\",IF(Main!$E$12=\"ALL\",A1034,IF(Main!$E$12=A1034,A1034,\"\")),\"\")","v":""},"","","","","","","",""]
[{"$nulls":23},{"$f":"IF(A1035<>\"\",IF(Main!$E$12=\"ALL\",A1035,IF(Main!$E$12=A1035,A1035,\"\")),\"\")","v":""},"","","","","","","",""]
[{"$nulls":23},{"$f":"IF(A1036<>\"\",IF(Main!$E$12=\"ALL\",A1036,IF(Main!$E$12=A1036,A1036,\"\")),\"\")","v":""},"","","","","","","",""]
[{"$nulls":23},{"$f":"IF(A1037<>\"\",IF(Main!$E$12=\"ALL\",A1037,IF(Main!$E$12=A1037,A1037,\"\")),\"\")","v":""},"","","","","","","",""]
[{"$nulls":23},{"$f":"IF(A1038<>\"\",IF(Main!$E$12=\"ALL\",A1038,IF(Main!$E$12=A1038,A1038,\"\")),\"\")","v":""},"","","","","","","",""]
[{"$nulls":23},{"$f":"IF(A1039<>\"\",IF(Main!$E$12=\"ALL\",A1039,IF(Main!$E$12=A1039,A1039,\"\")),\"\")","v":""},"","","","","","","",""]
[{"$nulls":23},{"$f":"IF(A1040<>\"\",IF(Main!$E$12=\"ALL\",A1040,IF(Main!$E$12=A1040,A1040,\"\")),\"\")","v":""},"","","","","","","",""]
[{"$nulls":23},{"$f":"IF(A1041<>\"\",IF(Main!$E$12=\"ALL\",A1041,IF(Main!$E$12=A1041,A1041,\"\")),\"\")","v":""},"","","","","","","",""]
[{"$nulls":23},{"$f":"IF(A1042<>\"\",IF(Main!$E$12=\"ALL\",A1042,IF(Main!$E$12=A1042,A1042,\"\")),\"\")","v":""},"","","","","","","",""]
[{"$nulls":23},{"$f":"IF(A1043<>\"\",IF(Main!$E$12=\"ALL\",A1043,IF(Main!$E$12=A1043,A1043,\"\")),\"\")","v":""},"","","","","","","",""]
[{"$nulls":23},{"$f":"IF(A1044<>\"\",IF(Main!$E$12=\"ALL\",A1044,IF(Main!$E$12=A1044,A1044,\"\")),\"\")","v":""},"","","","","","","",""]
[{"$nulls":23},{"$f":"IF(A1045<>\"\",IF(Main!$E$12=\"ALL\",A1045,IF(Main!$E$12=A1045,A1045,\"\")),\"\")","v":""},"","","","","","","",""]
[{"$nulls":23},{"$f":"IF(A1046<>\"\",IF(Main!$E$12=\"ALL\",A1046,IF(Main!$E$12=A1046,A1046,\"\")),\"\")","v":""},"","","","","","","",""]
[{"$nulls":23},{"$f":"IF(A1047<>\"\",IF(Main!$E$12=\"ALL\",A1047,IF(Main!$E$12=A1047,A1047,\"\")),\"\")","v":""},"","","","","","","",""]
[{"$nulls":23},{"$f":"IF(A1048<>\"\",IF(Main!$E$12=\"ALL\",A1048,IF(Main!$E$12=A1048,A1048,\"\")),\"\")","v":""},"","","","","","","",""]
[{"$nulls":23},{"$f":"IF(A1049<>\"\",IF(Main!$E$12=\"ALL\",A1049,IF(Main!$E$12=A1049,A1049,\"\")),\"\")","v":""},"","","","","","","",""]
[{"$nulls":23},{"$f":"IF(A1050<>\"\",IF(Main!$E$12=\"ALL\",A1050,IF(Main!$E$12=A1050,A1050,\"\")),\"\")","v":""},"","","","","","","",""]
[{"$nulls":23},{"$f":"IF(A1051<>\"\",IF(Main!$E$12=\"ALL\",A1051,IF(Main!$E$12=A1051,A1051,\"\")),\"\")","v":""},"","","","","","","",""]
[{"$nulls":23},{"$f":"IF(A1052<>\"\",IF(Main!$E$12=\"ALL\",A1052,IF(Main!$E$12=A1052,A1052,\"\")),\"\")","v":""},"","","","","","","",""]
[{"$nulls":23},{"$f":"IF(A1053<>\"\",IF(Main!$E$12=\"ALL\",A1053,IF(Main!$E$12=A1053,A1053,\"\")),\"\")","v":""},"","","","","","","",""]
[{"$nulls":23},{"$f":"IF(A1054<>\"\",IF(Main!$E$12=\"ALL\",A1054,IF(Main!$E$12=A1054,A1054,\"\")),\"\")","v":""},"","","","","","","",""]
[{"$nulls":23},{"$f":"IF(A1055<>\"\",IF(Main!$E$12=\"ALL\",A1055,IF(Main!$E$12=A1055,A1055,\"\")),\"\")","v":""},"","","","","","","",""]
[{"$nulls":23},{"$f":"IF(A1056<>\"\",IF(Main!$E$12=\"ALL\",A1056,IF(Main!$E$12=A1056,A1056,\"\")),\"\")","v":""},"","","","","","","",""]
[{"$nulls":23},{"$f":"IF(A1057<>\"\",IF(Main!$E$12=\"ALL\",A1057,IF(Main!$E$12=A1057,A1057,\"\")),\"\")","v":""},"","","","","","","",""]
[{"$nulls":23},{"$f":"IF(A1058<>\"\",IF(Main!$E$12=\"ALL\",A1058,IF(Main!$E$12=A1058,A1058,\"\")),\"\")","v":""},"","","","","","","",""]
[{"$nulls":23},{"$f":"IF(A1059<>\"\",IF(Main!$E$12=\"ALL\",A1059,IF(Main!$E$12=A1059,A1059,\"\")),\"\")","v":""},"","","","","","","",""]
[{"$nulls":23},{"$f":"IF(A1060<>\"\",IF(Main!$E$12=\"ALL\",A1060,IF(Main!$E$12=A1060,A1060,\"\")),\"\")","v":""},"","","","","","","",""]
[{"$nulls":23},{"$f":"IF(A1061<>\"\",IF(Main!$E$12=\"ALL\",A1061,IF(Main!$E$12=A1061,A1061,\"\")),\"\")","v":""},"","","","","","","",""]
[{"$nulls":23},{"$f":"IF(A1062<>\"\",IF(Main!$E$12=\"ALL\",A1062,IF(Main!$E$12=A1062,A1062,\"\")),\"\")","v":""},"","","","","","","",""]
[{"$nulls":23},{"$f":"IF(A1063<>\"\",IF(Main!$E$12=\"ALL\",A1063,IF(Main!$E$12=A1063,A1063,\"\")),\"\")","v":""},"","","","","","","",""]
[{"$nulls":23},{"$f":"IF(A1064<>\"\",IF(Main!$E$12=\"ALL\",A1064,IF(Main!$E$12=A1064,A1064,\"\")),\"\")","v":""},"","","","","","","",""]
[{"$nulls":23},{"$f":"IF(A1065<>\"\",IF(Main!$E$12=\"ALL\",A1065,IF(Main!$E$12=A1065,A1065,\"\")),\"\")","v":""},"","","","","","","",""]
[{"$nulls":23},{"$f":"IF(A1066<>\"\",IF(Main!$E$12=\"ALL\",A1066,IF(Main!$E$12=A1066,A1066,\"\")),\"\")","v":""},"","","","","","","",""]
[{"$nulls":23},{"$f":"IF(A1067<>\"\",IF(Main!$E$12=\"ALL\",A1067,IF(Main!$E$12=A1067,A1067,\"\")),\"\")","v":""},"","","","","","","",""]
[{"$nulls":23},{"$f":"IF(A1068<>\"\",IF(Main!$E$12=\"ALL\",A1068,IF(Main!$E$12=A1068,A1068,\"\")),\"\")","v":""},"","","","","","","",""]
[{"$nulls":23},{"$f":"IF(A1069<>\"\",IF(Main!$E$12=\"ALL\",A1069,IF(Main!$E$12=A1069,A1069,\"\")),\"\")","v":""},"","","","","","","",""]
[{"$nulls":23},{"$f":"IF(A1070<>\"\",IF(Main!$E$12=\"ALL\",A1070,IF(Main!$E$12=A1070,A1070,\"\")),\"\")","v":""},"","","","","","","",""]
[{"$nulls":23},{"$f":"IF(A1071<>\"\",IF(Main!$E$12=\"ALL\",A1071,IF(Main!$E$12=A1071,A1071,\"\")),\"\")","v":""},"","","","","","","",""]
[{"$nulls":23},{"$f":"IF(A1072<>\"\",IF(Main!$E$12=\"ALL\",A1072,IF(Main!$E$12=A1072,A1072,\"\")),\"\")","v":""},"","","","","","","",""]
[{"$nulls":23},{"$f":"IF(A1073<>\"\",IF(Main!$E$12=\"ALL\",A1073,IF(Main!$E$12=A1073,A1073,\"\")),\"\")","v":""},"","","","","","","",""]
[{"$nulls":23},{"$f":"IF(A1074<>\"\",IF(Main!$E$12=\"ALL\",A1074,IF(Main!$E$12=A1074,A1074,\"\")),\"\")","v":""},"","","","","","","",""]
[{"$nulls":23},{"$f":"IF(A1075<>\"\",IF(Main!$E$12=\"ALL\",A1075,IF(Main!$E$12=A1075,A1075,\"\")),\"\")","v":""},"","","","","","","",""]
[{"$nulls":23},{"$f":"IF(A1076<>\"\",IF(Main!$E$12=\"ALL\",A1076,IF(Main!$E$12=A1076,A1076,\"\")),\"\")","v":""},"","","","","","","",""]
[{"$nulls":23},{"$f":"IF(A1077<>\"\",IF(Main!$E$12=\"ALL\",A1077,IF(Main!$E$12=A1077,A1077,\"\")),\"\")","v":""},"","","","","","","",""]
[{"$nulls":23},{"$f":"IF(A1078<>\"\",IF(Main!$E$12=\"ALL\",A1078,IF(Main!$E$12=A1078,A1078,\"\")),\"\")","v":""},"","","","","","","",""]
[{"$nulls":23},{"$f":"IF(A1079<>\"\",IF(Main!$E$12=\"ALL\",A1079,IF(Main!$E$12=A1079,A1079,\"\")),\"\")","v":""},"","","","","","","",""]
[{"$nulls":23},{"$f":"IF(A1080<>\"\",IF(Main!$E$12=\"ALL\",A1080,IF(Main!$E$12=A1080,A1080,\"\")),\"\")","v":""},"","","","","","","",""]
[{"$nulls":23},{"$f":"IF(A1081<>\"\",IF(Main!$E$12=\"ALL\",A1081,IF(Main!$E$12=A1081,A1081,\"\")),\"\")","v":""},"","","","","","","",""]
[{"$nulls":23},{"$f":"IF(A1082<>\"\",IF(Main!$E$12=\"ALL\",A1082,IF(Main!$E$12=A1082,A1082,\"\")),\"\")","v":""},"","","","","","","",""]
[{"$nulls":23},{"$f":"IF(A1083<>\"\",IF(Main!$E$12=\"ALL\",A1083,IF(Main!$E$12=A1083,A1083,\"\")),\"\")","v":""},"","","","","","","",""]
[{"$nulls":23},{"$f":"IF(A1084<>\"\",IF(Main!$E$12=\"ALL\",A1084,IF(Main!$E$12=A1084,A1084,\"\")),\"\")","v":""},"","","","","","","",""]
[{"$nulls":23},{"$f":"IF(A1085<>\"\",IF(Main!$E$12=\"ALL\",A1085,IF(Main!$E$12=A1085,A1085,\"\")),\"\")","v":""},"","","","","","","",""]
[{"$nulls":23},{"$f":"IF(A1086<>\"\",IF(Main!$E$12=\"ALL\",A1086,IF(Main!$E$12=A1086,A1086,\"\")),\"\")","v":""},"","","","","","","",""]
[{"$nulls":23},{"$f":"IF(A1087<>\"\",IF(Main!$E$12=\"ALL\",A1087,IF(Main!$E$12=A1087,A1087,\"\")),\"\")","v":""},"","","","","","","",""]
[{"$nulls":23},{"$f":"IF(A1088<>\"\",IF(Main!$E$12=\"ALL\",A1088,IF(Main!$E$12=A1088,A1088,\"\")),\"\")","v":""},"","","","","","","",""]
[{"$nulls":23},{"$f":"IF(A1089<>\"\",IF(Main!$E$12=\"ALL\",A1089,IF(Main!$E$12=A1089,A1089,\"\")),\"\")","v":""},"","","","","","","",""]
[{"$nulls":23},{"$f":"IF(A1090<>\"\",IF(Main!$E$12=\"ALL\",A1090,IF(Main!$E$12=A1090,A1090,\"\")),\"\")","v":""},"","","","","","","",""]
[{"$nulls":23},{"$f":"IF(A1091<>\"\",IF(Main!$E$12=\"ALL\",A1091,IF(Main!$E$12=A1091,A1091,\"\")),\"\")","v":""},{"$f":"IF($X1091=\"\",\"\",D1091)","v":""},{"$f":"IF($X1091=\"\",\"\",F1091)","v":""},{"$f":"IF($X1091=\"\",\"\",J1091)","v":""},{"$f":"IF($X1091=\"\",\"\",N1091)","v":""},{"$f":"IF($X1091=\"\",\"\",IF(P1091=\"\",\"\",P1091))","v":""},{"$f":"IF($X1091=\"\",\"\",R1091)","v":""},{"$f":"IF($X1091=\"\",\"\",T1091)","v":""},{"$f":"IF($X1091=\"\",\"\",V1091)","v":""}]
[{"$nulls":23},{"$f":"IF(A1092<>\"\",IF(Main!$E$12=\"ALL\",A1092,IF(Main!$E$12=A1092,A1092,\"\")),\"\")","v":""},"","","","","","","",""]
[{"$nulls":23},{"$f":"IF(A1093<>\"\",IF(Main!$E$12=\"ALL\",A1093,IF(Main!$E$12=A1093,A1093,\"\")),\"\")","v":""},"","","","","","","",""]
[{"$nulls":23},{"$f":"IF(A1094<>\"\",IF(Main!$E$12=\"ALL\",A1094,IF(Main!$E$12=A1094,A1094,\"\")),\"\")","v":""},"","","","","","","",""]
[{"$nulls":23},{"$f":"IF(A1095<>\"\",IF(Main!$E$12=\"ALL\",A1095,IF(Main!$E$12=A1095,A1095,\"\")),\"\")","v":""},"","","","","","","",""]
[{"$nulls":23},{"$f":"IF(A1096<>\"\",IF(Main!$E$12=\"ALL\",A1096,IF(Main!$E$12=A1096,A1096,\"\")),\"\")","v":""},"","","","","","","",""]
[{"$nulls":23},{"$f":"IF(A1097<>\"\",IF(Main!$E$12=\"ALL\",A1097,IF(Main!$E$12=A1097,A1097,\"\")),\"\")","v":""},"","","","","","","",""]
[{"$nulls":23},{"$f":"IF(A1098<>\"\",IF(Main!$E$12=\"ALL\",A1098,IF(Main!$E$12=A1098,A1098,\"\")),\"\")","v":""},"","","","","","","",""]
[{"$nulls":23},{"$f":"IF(A1099<>\"\",IF(Main!$E$12=\"ALL\",A1099,IF(Main!$E$12=A1099,A1099,\"\")),\"\")","v":""},"","","","","","","",""]
[{"$nulls":23},{"$f":"IF(A1100<>\"\",IF(Main!$E$12=\"ALL\",A1100,IF(Main!$E$12=A1100,A1100,\"\")),\"\")","v":""},"","","","","","","",""]
[{"$nulls":23},{"$f":"IF(A1101<>\"\",IF(Main!$E$12=\"ALL\",A1101,IF(Main!$E$12=A1101,A1101,\"\")),\"\")","v":""},"","","","","","","",""]
[{"$nulls":23},{"$f":"IF(A1102<>\"\",IF(Main!$E$12=\"ALL\",A1102,IF(Main!$E$12=A1102,A1102,\"\")),\"\")","v":""},"","","","","","","",""]
[{"$nulls":23},{"$f":"IF(A1103<>\"\",IF(Main!$E$12=\"ALL\",A1103,IF(Main!$E$12=A1103,A1103,\"\")),\"\")","v":""},"","","","","","","",""]
[{"$nulls":23},{"$f":"IF(A1104<>\"\",IF(Main!$E$12=\"ALL\",A1104,IF(Main!$E$12=A1104,A1104,\"\")),\"\")","v":""},"","","","","","","",""]
[{"$nulls":23},{"$f":"IF(A1105<>\"\",IF(Main!$E$12=\"ALL\",A1105,IF(Main!$E$12=A1105,A1105,\"\")),\"\")","v":""},"","","","","","","",""]
[{"$nulls":23},{"$f":"IF(A1106<>\"\",IF(Main!$E$12=\"ALL\",A1106,IF(Main!$E$12=A1106,A1106,\"\")),\"\")","v":""},"","","","","","","",""]
[{"$nulls":23},{"$f":"IF(A1107<>\"\",IF(Main!$E$12=\"ALL\",A1107,IF(Main!$E$12=A1107,A1107,\"\")),\"\")","v":""},"","","","","","","",""]
[{"$nulls":23},{"$f":"IF(A1108<>\"\",IF(Main!$E$12=\"ALL\",A1108,IF(Main!$E$12=A1108,A1108,\"\")),\"\")","v":""},"","","","","","","",""]
[{"$nulls":23},{"$f":"IF(A1109<>\"\",IF(Main!$E$12=\"ALL\",A1109,IF(Main!$E$12=A1109,A1109,\"\")),\"\")","v":""},"","","","","","","",""]
[{"$nulls":23},{"$f":"IF(A1110<>\"\",IF(Main!$E$12=\"ALL\",A1110,IF(Main!$E$12=A1110,A1110,\"\")),\"\")","v":""},"","","","","","","",""]
[{"$nulls":23},{"$f":"IF(A1111<>\"\",IF(Main!$E$12=\"ALL\",A1111,IF(Main!$E$12=A1111,A1111,\"\")),\"\")","v":""},"","","","","","","",""]
[{"$nulls":23},{"$f":"IF(A1112<>\"\",IF(Main!$E$12=\"ALL\",A1112,IF(Main!$E$12=A1112,A1112,\"\")),\"\")","v":""},"","","","","","","",""]
[{"$nulls":23},{"$f":"IF(A1113<>\"\",IF(Main!$E$12=\"ALL\",A1113,IF(Main!$E$12=A1113,A1113,\"\")),\"\")","v":""},"","","","","","","",""]
[{"$nulls":23},{"$f":"IF(A1114<>\"\",IF(Main!$E$12=\"ALL\",A1114,IF(Main!$E$12=A1114,A1114,\"\")),\"\")","v":""},"","","","","","","",""]
[{"$nulls":23},{"$f":"IF(A1115<>\"\",IF(Main!$E$12=\"ALL\",A1115,IF(Main!$E$12=A1115,A1115,\"\")),\"\")","v":""},"","","","","","","",""]
[{"$nulls":23},{"$f":"IF(A1116<>\"\",IF(Main!$E$12=\"ALL\",A1116,IF(Main!$E$12=A1116,A1116,\"\")),\"\")","v":""},"","","","","","","",""]
[{"$nulls":23},{"$f":"IF(A1117<>\"\",IF(Main!$E$12=\"ALL\",A1117,IF(Main!$E$12=A1117,A1117,\"\")),\"\")","v":""},"","","","","","","",""]
[{"$nulls":23},{"$f":"IF(A1118<>\"\",IF(Main!$E$12=\"ALL\",A1118,IF(Main!$E$12=A1118,A1118,\"\")),\"\")","v":""},"","","","","","","",""]
[{"$nulls":23},{"$f":"IF(A1119<>\"\",IF(Main!$E$12=\"ALL\",A1119,IF(Main!$E$12=A1119,A1119,\"\")),\"\")","v":""},"","","","","","","",""]
[{"$nulls":23},{"$f":"IF(A1120<>\"\",IF(Main!$E$12=\"ALL\",A1120,IF(Main!$E$12=A1120,A1120,\"\")),\"\")","v":""},"","","","","","","",""]
[{"$nulls":23},{"$f":"IF(A1121<>\"\",IF(Main!$E$12=\"ALL\",A1121,IF(Main!$E$12=A1121,A1121,\"\")),\"\")","v":""},"","","","","","","",""]
[{"$nulls":23},{"$f":"IF(A1122<>\"\",IF(Main!$E$12=\"ALL\",A1122,IF(Main!$E$12=A1122,A1122,\"\")),\"\")","v":""},"","","","","","","",""]
[{"$nulls":23},{"$f":"IF(A1123<>\"\",IF(Main!$E$12=\"ALL\",A1123,IF(Main!$E$12=A1123,A1123,\"\")),\"\")","v":""},"","","","","","","",""]
[{"$nulls":23},{"$f":"IF(A1124<>\"\",IF(Main!$E$12=\"ALL\",A1124,IF(Main!$E$12=A1124,A1124,\"\")),\"\")","v":""},"","","","","","","",""]
[{"$nulls":23},{"$f":"IF(A1125<>\"\",IF(Main!$E$12=\"ALL\",A1125,IF(Main!$E$12=A1125,A1125,\"\")),\"\")","v":""},"","","","","","","",""]
[{"$nulls":23},{"$f":"IF(A1126<>\"\",IF(Main!$E$12=\"ALL\",A1126,IF(Main!$E$12=A1126,A1126,\"\")),\"\")","v":""},"","","","","","","",""]
[{"$nulls":23},{"$f":"IF(A1127<>\"\",IF(Main!$E$12=\"ALL\",A1127,IF(Main!$E$12=A1127,A1127,\"\")),\"\")","v":""},"","","","","","","",""]
[{"$nulls":23},{"$f":"IF(A1128<>\"\",IF(Main!$E$12=\"ALL\",A1128,IF(Main!$E$12=A1128,A1128,\"\")),\"\")","v":""},"","","","","","","",""]
[{"$nulls":23},{"$f":"IF(A1129<>\"\",IF(Main!$E$12=\"ALL\",A1129,IF(Main!$E$12=A1129,A1129,\"\")),\"\")","v":""},"","","","","","","",""]
[{"$nulls":23},{"$f":"IF(A1130<>\"\",IF(Main!$E$12=\"ALL\",A1130,IF(Main!$E$12=A1130,A1130,\"\")),\"\")","v":""},"","","","","","","",""]
[{"$nulls":23},{"$f":"IF(A1131<>\"\",IF(Main!$E$12=\"ALL\",A1131,IF(Main!$E$12=A1131,A1131,\"\")),\"\")","v":""},"","","","","","","",""]
[{"$nulls":23},{"$f":"IF(A1132<>\"\",IF(Main!$E$12=\"ALL\",A1132,IF(Main!$E$12=A1132,A1132,\"\")),\"\")","v":""},"","","","","","","",""]
[{"$nulls":23},{"$f":"IF(A1133<>\"\",IF(Main!$E$12=\"ALL\",A1133,IF(Main!$E$12=A1133,A1133,\"\")),\"\")","v":""},"","","","","","","",""]
[{"$nulls":23},{"$f":"IF(A1134<>\"\",IF(Main!$E$12=\"ALL\",A1134,IF(Main!$E$12=A1134,A1134,\"\")),\"\")","v":""},"","","","","","","",""]
[{"$nulls":23},{"$f":"IF(A1135<>\"\",IF(Main!$E$12=\"ALL\",A1135,IF(Main!$E$12=A1135,A1135,\"\")),\"\")","v":""},"","","","","","","",""]
[{"$nulls":23},{"$f":"IF(A1136<>\"\",IF(Main!$E$12=\"ALL\",A1136,IF(Main!$E$12=A1136,A1136,\"\")),\"\")","v":""},"","","","","","","",""]
[{"$nulls":23},{"$f":"IF(A1137<>\"\",IF(Main!$E$12=\"ALL\",A1137,IF(Main!$E$12=A1137,A1137,\"\")),\"\")","v":""},"","","","","","","",""]
[{"$nulls":23},{"$f":"IF(A1138<>\"\",IF(Main!$E$12=\"ALL\",A1138,IF(Main!$E$12=A1138,A1138,\"\")),\"\")","v":""},"","","","","","","",""]
[{"$nulls":23},{"$f":"IF(A1139<>\"\",IF(Main!$E$12=\"ALL\",A1139,IF(Main!$E$12=A1139,A1139,\"\")),\"\")","v":""},"","","","","","","",""]
[{"$nulls":23},{"$f":"IF(A1140<>\"\",IF(Main!$E$12=\"ALL\",A1140,IF(Main!$E$12=A1140,A1140,\"\")),\"\")","v":""},"","","","","","","",""]
[{"$nulls":23},{"$f":"IF(A1141<>\"\",IF(Main!$E$12=\"ALL\",A1141,IF(Main!$E$12=A1141,A1141,\"\")),\"\")","v":""},"","","","","","","",""]
[{"$nulls":23},{"$f":"IF(A1142<>\"\",IF(Main!$E$12=\"ALL\",A1142,IF(Main!$E$12=A1142,A1142,\"\")),\"\")","v":""},"","","","","","","",""]
[{"$nulls":23},{"$f":"IF(A1143<>\"\",IF(Main!$E$12=\"ALL\",A1143,IF(Main!$E$12=A1143,A1143,\"\")),\"\")","v":""},"","","","","","","",""]
[{"$nulls":23},{"$f":"IF(A1144<>\"\",IF(Main!$E$12=\"ALL\",A1144,IF(Main!$E$12=A1144,A1144,\"\")),\"\")","v":""},"","","","","","","",""]
[{"$nulls":23},{"$f":"IF(A1145<>\"\",IF(Main!$E$12=\"ALL\",A1145,IF(Main!$E$12=A1145,A1145,\"\")),\"\")","v":""},"","","","","","","",""]
[{"$nulls":23},{"$f":"IF(A1146<>\"\",IF(Main!$E$12=\"ALL\",A1146,IF(Main!$E$12=A1146,A1146,\"\")),\"\")","v":""},"","","","","","","",""]
[{"$nulls":23},{"$f":"IF(A1147<>\"\",IF(Main!$E$12=\"ALL\",A1147,IF(Main!$E$12=A1147,A1147,\"\")),\"\")","v":""},"","","","","","","",""]
[{"$nulls":23},{"$f":"IF(A1148<>\"\",IF(Main!$E$12=\"ALL\",A1148,IF(Main!$E$12=A1148,A1148,\"\")),\"\")","v":""},"","","","","","","",""]
[{"$nulls":23},{"$f":"IF(A1149<>\"\",IF(Main!$E$12=\"ALL\",A1149,IF(Main!$E$12=A1149,A1149,\"\")),\"\")","v":""},"","","","","","","",""]
[{"$nulls":23},{"$f":"IF(A1150<>\"\",IF(Main!$E$12=\"ALL\",A1150,IF(Main!$E$12=A1150,A1150,\"\")),\"\")","v":""},"","","","","","","",""]
[{"$nulls":23},{"$f":"IF(A1151<>\"\",IF(Main!$E$12=\"ALL\",A1151,IF(Main!$E$12=A1151,A1151,\"\")),\"\")","v":""},"","","","","","","",""]
[{"$nulls":23},{"$f":"IF(A1152<>\"\",IF(Main!$E$12=\"ALL\",A1152,IF(Main!$E$12=A1152,A1152,\"\")),\"\")","v":""},"","","","","","","",""]
[{"$nulls":23},{"$f":"IF(A1153<>\"\",IF(Main!$E$12=\"ALL\",A1153,IF(Main!$E$12=A1153,A1153,\"\")),\"\")","v":""},"","","","","","","",""]
[{"$nulls":23},{"$f":"IF(A1154<>\"\",IF(Main!$E$12=\"ALL\",A1154,IF(Main!$E$12=A1154,A1154,\"\")),\"\")","v":""},"","","","","","","",""]
[{"$nulls":23},{"$f":"IF(A1155<>\"\",IF(Main!$E$12=\"ALL\",A1155,IF(Main!$E$12=A1155,A1155,\"\")),\"\")","v":""},{"$f":"IF($X1155=\"\",\"\",D1155)","v":""},{"$f":"IF($X1155=\"\",\"\",F1155)","v":""},{"$f":"IF($X1155=\"\",\"\",J1155)","v":""},{"$f":"IF($X1155=\"\",\"\",N1155)","v":""},{"$f":"IF($X1155=\"\",\"\",IF(P1155=\"\",\"\",P1155))","v":""},{"$f":"IF($X1155=\"\",\"\",R1155)","v":""},{"$f":"IF($X1155=\"\",\"\",T1155)","v":""},{"$f":"IF($X1155=\"\",\"\",V1155)","v":""}]
[{"$nulls":23},{"$f":"IF(A1156<>\"\",IF(Main!$E$12=\"ALL\",A1156,IF(Main!$E$12=A1156,A1156,\"\")),\"\")","v":""},"","","","","","","",""]
[{"$nulls":23},{"$f":"IF(A1157<>\"\",IF(Main!$E$12=\"ALL\",A1157,IF(Main!$E$12=A1157,A1157,\"\")),\"\")","v":""},"","","","","","","",""]
[{"$nulls":23},{"$f":"IF(A1158<>\"\",IF(Main!$E$12=\"ALL\",A1158,IF(Main!$E$12=A1158,A1158,\"\")),\"\")","v":""},"","","","","","","",""]
[{"$nulls":23},{"$f":"IF(A1159<>\"\",IF(Main!$E$12=\"ALL\",A1159,IF(Main!$E$12=A1159,A1159,\"\")),\"\")","v":""},"","","","","","","",""]
[{"$nulls":23},{"$f":"IF(A1160<>\"\",IF(Main!$E$12=\"ALL\",A1160,IF(Main!$E$12=A1160,A1160,\"\")),\"\")","v":""},"","","","","","","",""]
[{"$nulls":23},{"$f":"IF(A1161<>\"\",IF(Main!$E$12=\"ALL\",A1161,IF(Main!$E$12=A1161,A1161,\"\")),\"\")","v":""},"","","","","","","",""]
[{"$nulls":23},{"$f":"IF(A1162<>\"\",IF(Main!$E$12=\"ALL\",A1162,IF(Main!$E$12=A1162,A1162,\"\")),\"\")","v":""},"","","","","","","",""]
[{"$nulls":23},{"$f":"IF(A1163<>\"\",IF(Main!$E$12=\"ALL\",A1163,IF(Main!$E$12=A1163,A1163,\"\")),\"\")","v":""},"","","","","","","",""]
[{"$nulls":23},{"$f":"IF(A1164<>\"\",IF(Main!$E$12=\"ALL\",A1164,IF(Main!$E$12=A1164,A1164,\"\")),\"\")","v":""},"","","","","","","",""]
[{"$nulls":23},{"$f":"IF(A1165<>\"\",IF(Main!$E$12=\"ALL\",A1165,IF(Main!$E$12=A1165,A1165,\"\")),\"\")","v":""},"","","","","","","",""]
[{"$nulls":23},{"$f":"IF(A1166<>\"\",IF(Main!$E$12=\"ALL\",A1166,IF(Main!$E$12=A1166,A1166,\"\")),\"\")","v":""},"","","","","","","",""]
[{"$nulls":23},{"$f":"IF(A1167<>\"\",IF(Main!$E$12=\"ALL\",A1167,IF(Main!$E$12=A1167,A1167,\"\")),\"\")","v":""},"","","","","","","",""]
[{"$nulls":23},{"$f":"IF(A1168<>\"\",IF(Main!$E$12=\"ALL\",A1168,IF(Main!$E$12=A1168,A1168,\"\")),\"\")","v":""},"","","","","","","",""]
[{"$nulls":23},{"$f":"IF(A1169<>\"\",IF(Main!$E$12=\"ALL\",A1169,IF(Main!$E$12=A1169,A1169,\"\")),\"\")","v":""},"","","","","","","",""]
[{"$nulls":23},{"$f":"IF(A1170<>\"\",IF(Main!$E$12=\"ALL\",A1170,IF(Main!$E$12=A1170,A1170,\"\")),\"\")","v":""},"","","","","","","",""]
[{"$nulls":23},{"$f":"IF(A1171<>\"\",IF(Main!$E$12=\"ALL\",A1171,IF(Main!$E$12=A1171,A1171,\"\")),\"\")","v":""},"","","","","","","",""]
[{"$nulls":23},{"$f":"IF(A1172<>\"\",IF(Main!$E$12=\"ALL\",A1172,IF(Main!$E$12=A1172,A1172,\"\")),\"\")","v":""},"","","","","","","",""]
[{"$nulls":23},{"$f":"IF(A1173<>\"\",IF(Main!$E$12=\"ALL\",A1173,IF(Main!$E$12=A1173,A1173,\"\")),\"\")","v":""},"","","","","","","",""]
[{"$nulls":23},{"$f":"IF(A1174<>\"\",IF(Main!$E$12=\"ALL\",A1174,IF(Main!$E$12=A1174,A1174,\"\")),\"\")","v":""},"","","","","","","",""]
[{"$nulls":23},{"$f":"IF(A1175<>\"\",IF(Main!$E$12=\"ALL\",A1175,IF(Main!$E$12=A1175,A1175,\"\")),\"\")","v":""},"","","","","","","",""]
[{"$nulls":23},{"$f":"IF(A1176<>\"\",IF(Main!$E$12=\"ALL\",A1176,IF(Main!$E$12=A1176,A1176,\"\")),\"\")","v":""},"","","","","","","",""]
[{"$nulls":23},{"$f":"IF(A1177<>\"\",IF(Main!$E$12=\"ALL\",A1177,IF(Main!$E$12=A1177,A1177,\"\")),\"\")","v":""},"","","","","","","",""]
[{"$nulls":23},{"$f":"IF(A1178<>\"\",IF(Main!$E$12=\"ALL\",A1178,IF(Main!$E$12=A1178,A1178,\"\")),\"\")","v":""},"","","","","","","",""]
[{"$nulls":23},{"$f":"IF(A1179<>\"\",IF(Main!$E$12=\"ALL\",A1179,IF(Main!$E$12=A1179,A1179,\"\")),\"\")","v":""},"","","","","","","",""]
[{"$nulls":23},{"$f":"IF(A1180<>\"\",IF(Main!$E$12=\"ALL\",A1180,IF(Main!$E$12=A1180,A1180,\"\")),\"\")","v":""},"","","","","","","",""]
[{"$nulls":23},{"$f":"IF(A1181<>\"\",IF(Main!$E$12=\"ALL\",A1181,IF(Main!$E$12=A1181,A1181,\"\")),\"\")","v":""},"","","","","","","",""]
[{"$nulls":23},{"$f":"IF(A1182<>\"\",IF(Main!$E$12=\"ALL\",A1182,IF(Main!$E$12=A1182,A1182,\"\")),\"\")","v":""},"","","","","","","",""]
[{"$nulls":23},{"$f":"IF(A1183<>\"\",IF(Main!$E$12=\"ALL\",A1183,IF(Main!$E$12=A1183,A1183,\"\")),\"\")","v":""},"","","","","","","",""]
[{"$nulls":23},{"$f":"IF(A1184<>\"\",IF(Main!$E$12=\"ALL\",A1184,IF(Main!$E$12=A1184,A1184,\"\")),\"\")","v":""},"","","","","","","",""]
[{"$nulls":23},{"$f":"IF(A1185<>\"\",IF(Main!$E$12=\"ALL\",A1185,IF(Main!$E$12=A1185,A1185,\"\")),\"\")","v":""},"","","","","","","",""]
[{"$nulls":23},{"$f":"IF(A1186<>\"\",IF(Main!$E$12=\"ALL\",A1186,IF(Main!$E$12=A1186,A1186,\"\")),\"\")","v":""},"","","","","","","",""]
[{"$nulls":23},{"$f":"IF(A1187<>\"\",IF(Main!$E$12=\"ALL\",A1187,IF(Main!$E$12=A1187,A1187,\"\")),\"\")","v":""},"","","","","","","",""]
[{"$nulls":23},{"$f":"IF(A1188<>\"\",IF(Main!$E$12=\"ALL\",A1188,IF(Main!$E$12=A1188,A1188,\"\")),\"\")","v":""},"","","","","","","",""]
[{"$nulls":23},{"$f":"IF(A1189<>\"\",IF(Main!$E$12=\"ALL\",A1189,IF(Main!$E$12=A1189,A1189,\"\")),\"\")","v":""},"","","","","","","",""]
[{"$nulls":23},{"$f":"IF(A1190<>\"\",IF(Main!$E$12=\"ALL\",A1190,IF(Main!$E$12=A1190,A1190,\"\")),\"\")","v":""},"","","","","","","",""]
[{"$nulls":23},{"$f":"IF(A1191<>\"\",IF(Main!$E$12=\"ALL\",A1191,IF(Main!$E$12=A1191,A1191,\"\")),\"\")","v":""},"","","","","","","",""]
[{"$nulls":23},{"$f":"IF(A1192<>\"\",IF(Main!$E$12=\"ALL\",A1192,IF(Main!$E$12=A1192,A1192,\"\")),\"\")","v":""},"","","","","","","",""]
[{"$nulls":23},{"$f":"IF(A1193<>\"\",IF(Main!$E$12=\"ALL\",A1193,IF(Main!$E$12=A1193,A1193,\"\")),\"\")","v":""},"","","","","","","",""]
[{"$nulls":23},{"$f":"IF(A1194<>\"\",IF(Main!$E$12=\"ALL\",A1194,IF(Main!$E$12=A1194,A1194,\"\")),\"\")","v":""},"","","","","","","",""]
[{"$nulls":23},{"$f":"IF(A1195<>\"\",IF(Main!$E$12=\"ALL\",A1195,IF(Main!$E$12=A1195,A1195,\"\")),\"\")","v":""},"","","","","","","",""]
[{"$nulls":23},{"$f":"IF(A1196<>\"\",IF(Main!$E$12=\"ALL\",A1196,IF(Main!$E$12=A1196,A1196,\"\")),\"\")","v":""},"","","","","","","",""]
[{"$nulls":23},{"$f":"IF(A1197<>\"\",IF(Main!$E$12=\"ALL\",A1197,IF(Main!$E$12=A1197,A1197,\"\")),\"\")","v":""},"","","","","","","",""]
[{"$nulls":23},{"$f":"IF(A1198<>\"\",IF(Main!$E$12=\"ALL\",A1198,IF(Main!$E$12=A1198,A1198,\"\")),\"\")","v":""},"","","","","","","",""]
[{"$nulls":23},{"$f":"IF(A1199<>\"\",IF(Main!$E$12=\"ALL\",A1199,IF(Main!$E$12=A1199,A1199,\"\")),\"\")","v":""},"","","","","","","",""]
[{"$nulls":23},{"$f":"IF(A1200<>\"\",IF(Main!$E$12=\"ALL\",A1200,IF(Main!$E$12=A1200,A1200,\"\")),\"\")","v":""},"","","","","","","",""]
[{"$nulls":23},{"$f":"IF(A1201<>\"\",IF(Main!$E$12=\"ALL\",A1201,IF(Main!$E$12=A1201,A1201,\"\")),\"\")","v":""},"","","","","","","",""]
[{"$nulls":23},{"$f":"IF(A1202<>\"\",IF(Main!$E$12=\"ALL\",A1202,IF(Main!$E$12=A1202,A1202,\"\")),\"\")","v":""},"","","","","","","",""]
[{"$nulls":23},{"$f":"IF(A1203<>\"\",IF(Main!$E$12=\"ALL\",A1203,IF(Main!$E$12=A1203,A1203,\"\")),\"\")","v":""},"","","","","","","",""]
[{"$nulls":23},{"$f":"IF(A1204<>\"\",IF(Main!$E$12=\"ALL\",A1204,IF(Main!$E$12=A1204,A1204,\"\")),\"\")","v":""},"","","","","","","",""]
[{"$nulls":23},{"$f":"IF(A1205<>\"\",IF(Main!$E$12=\"ALL\",A1205,IF(Main!$E$12=A1205,A1205,\"\")),\"\")","v":""},"","","","","","","",""]
[{"$nulls":23},{"$f":"IF(A1206<>\"\",IF(Main!$E$12=\"ALL\",A1206,IF(Main!$E$12=A1206,A1206,\"\")),\"\")","v":""},"","","","","","","",""]
[{"$nulls":23},{"$f":"IF(A1207<>\"\",IF(Main!$E$12=\"ALL\",A1207,IF(Main!$E$12=A1207,A1207,\"\")),\"\")","v":""},"","","","","","","",""]
[{"$nulls":23},{"$f":"IF(A1208<>\"\",IF(Main!$E$12=\"ALL\",A1208,IF(Main!$E$12=A1208,A1208,\"\")),\"\")","v":""},"","","","","","","",""]
[{"$nulls":23},{"$f":"IF(A1209<>\"\",IF(Main!$E$12=\"ALL\",A1209,IF(Main!$E$12=A1209,A1209,\"\")),\"\")","v":""},"","","","","","","",""]
[{"$nulls":23},{"$f":"IF(A1210<>\"\",IF(Main!$E$12=\"ALL\",A1210,IF(Main!$E$12=A1210,A1210,\"\")),\"\")","v":""},"","","","","","","",""]
[{"$nulls":23},{"$f":"IF(A1211<>\"\",IF(Main!$E$12=\"ALL\",A1211,IF(Main!$E$12=A1211,A1211,\"\")),\"\")","v":""},"","","","","","","",""]
[{"$nulls":23},{"$f":"IF(A1212<>\"\",IF(Main!$E$12=\"ALL\",A1212,IF(Main!$E$12=A1212,A1212,\"\")),\"\")","v":""},"","","","","","","",""]
[{"$nulls":23},{"$f":"IF(A1213<>\"\",IF(Main!$E$12=\"ALL\",A1213,IF(Main!$E$12=A1213,A1213,\"\")),\"\")","v":""},"","","","","","","",""]
[{"$nulls":23},{"$f":"IF(A1214<>\"\",IF(Main!$E$12=\"ALL\",A1214,IF(Main!$E$12=A1214,A1214,\"\")),\"\")","v":""},"","","","","","","",""]
[{"$nulls":23},{"$f":"IF(A1215<>\"\",IF(Main!$E$12=\"ALL\",A1215,IF(Main!$E$12=A1215,A1215,\"\")),\"\")","v":""},"","","","","","","",""]
[{"$nulls":23},{"$f":"IF(A1216<>\"\",IF(Main!$E$12=\"ALL\",A1216,IF(Main!$E$12=A1216,A1216,\"\")),\"\")","v":""},"","","","","","","",""]
[{"$nulls":23},{"$f":"IF(A1217<>\"\",IF(Main!$E$12=\"ALL\",A1217,IF(Main!$E$12=A1217,A1217,\"\")),\"\")","v":""},"","","","","","","",""]
[{"$nulls":23},{"$f":"IF(A1218<>\"\",IF(Main!$E$12=\"ALL\",A1218,IF(Main!$E$12=A1218,A1218,\"\")),\"\")","v":""},"","","","","","","",""]
[{"$nulls":23},{"$f":"IF(A1219<>\"\",IF(Main!$E$12=\"ALL\",A1219,IF(Main!$E$12=A1219,A1219,\"\")),\"\")","v":""},{"$f":"IF($X1219=\"\",\"\",D1219)","v":""},{"$f":"IF($X1219=\"\",\"\",F1219)","v":""},{"$f":"IF($X1219=\"\",\"\",J1219)","v":""},{"$f":"IF($X1219=\"\",\"\",N1219)","v":""},{"$f":"IF($X1219=\"\",\"\",IF(P1219=\"\",\"\",P1219))","v":""},{"$f":"IF($X1219=\"\",\"\",R1219)","v":""},{"$f":"IF($X1219=\"\",\"\",T1219)","v":""},{"$f":"IF($X1219=\"\",\"\",V1219)","v":""}]
[{"$nulls":23},{"$f":"IF(A1220<>\"\",IF(Main!$E$12=\"ALL\",A1220,IF(Main!$E$12=A1220,A1220,\"\")),\"\")","v":""},"","","","","","","",""]
[{"$nulls":23},{"$f":"IF(A1221<>\"\",IF(Main!$E$12=\"ALL\",A1221,IF(Main!$E$12=A1221,A1221,\"\")),\"\")","v":""},"","","","","","","",""]
[{"$nulls":23},{"$f":"IF(A1222<>\"\",IF(Main!$E$12=\"ALL\",A1222,IF(Main!$E$12=A1222,A1222,\"\")),\"\")","v":""},"","","","","","","",""]
[{"$nulls":23},{"$f":"IF(A1223<>\"\",IF(Main!$E$12=\"ALL\",A1223,IF(Main!$E$12=A1223,A1223,\"\")),\"\")","v":""},"","","","","","","",""]
[{"$nulls":23},{"$f":"IF(A1224<>\"\",IF(Main!$E$12=\"ALL\",A1224,IF(Main!$E$12=A1224,A1224,\"\")),\"\")","v":""},"","","","","","","",""]
[{"$nulls":23},{"$f":"IF(A1225<>\"\",IF(Main!$E$12=\"ALL\",A1225,IF(Main!$E$12=A1225,A1225,\"\")),\"\")","v":""},"","","","","","","",""]
[{"$nulls":23},{"$f":"IF(A1226<>\"\",IF(Main!$E$12=\"ALL\",A1226,IF(Main!$E$12=A1226,A1226,\"\")),\"\")","v":""},"","","","","","","",""]
[{"$nulls":23},{"$f":"IF(A1227<>\"\",IF(Main!$E$12=\"ALL\",A1227,IF(Main!$E$12=A1227,A1227,\"\")),\"\")","v":""},"","","","","","","",""]
[{"$nulls":23},{"$f":"IF(A1228<>\"\",IF(Main!$E$12=\"ALL\",A1228,IF(Main!$E$12=A1228,A1228,\"\")),\"\")","v":""},"","","","","","","",""]
[{"$nulls":23},{"$f":"IF(A1229<>\"\",IF(Main!$E$12=\"ALL\",A1229,IF(Main!$E$12=A1229,A1229,\"\")),\"\")","v":""},"","","","","","","",""]
[{"$nulls":23},{"$f":"IF(A1230<>\"\",IF(Main!$E$12=\"ALL\",A1230,IF(Main!$E$12=A1230,A1230,\"\")),\"\")","v":""},"","","","","","","",""]
[{"$nulls":23},{"$f":"IF(A1231<>\"\",IF(Main!$E$12=\"ALL\",A1231,IF(Main!$E$12=A1231,A1231,\"\")),\"\")","v":""},"","","","","","","",""]
[{"$nulls":23},{"$f":"IF(A1232<>\"\",IF(Main!$E$12=\"ALL\",A1232,IF(Main!$E$12=A1232,A1232,\"\")),\"\")","v":""},"","","","","","","",""]
[{"$nulls":23},{"$f":"IF(A1233<>\"\",IF(Main!$E$12=\"ALL\",A1233,IF(Main!$E$12=A1233,A1233,\"\")),\"\")","v":""},"","","","","","","",""]
[{"$nulls":23},{"$f":"IF(A1234<>\"\",IF(Main!$E$12=\"ALL\",A1234,IF(Main!$E$12=A1234,A1234,\"\")),\"\")","v":""},"","","","","","","",""]
[{"$nulls":23},{"$f":"IF(A1235<>\"\",IF(Main!$E$12=\"ALL\",A1235,IF(Main!$E$12=A1235,A1235,\"\")),\"\")","v":""},"","","","","","","",""]
[{"$nulls":23},{"$f":"IF(A1236<>\"\",IF(Main!$E$12=\"ALL\",A1236,IF(Main!$E$12=A1236,A1236,\"\")),\"\")","v":""},"","","","","","","",""]
[{"$nulls":23},{"$f":"IF(A1237<>\"\",IF(Main!$E$12=\"ALL\",A1237,IF(Main!$E$12=A1237,A1237,\"\")),\"\")","v":""},"","","","","","","",""]
[{"$nulls":23},{"$f":"IF(A1238<>\"\",IF(Main!$E$12=\"ALL\",A1238,IF(Main!$E$12=A1238,A1238,\"\")),\"\")","v":""},"","","","","","","",""]
[{"$nulls":23},{"$f":"IF(A1239<>\"\",IF(Main!$E$12=\"ALL\",A1239,IF(Main!$E$12=A1239,A1239,\"\")),\"\")","v":""},"","","","","","","",""]
[{"$nulls":23},{"$f":"IF(A1240<>\"\",IF(Main!$E$12=\"ALL\",A1240,IF(Main!$E$12=A1240,A1240,\"\")),\"\")","v":""},"","","","","","","",""]
[{"$nulls":23},{"$f":"IF(A1241<>\"\",IF(Main!$E$12=\"ALL\",A1241,IF(Main!$E$12=A1241,A1241,\"\")),\"\")","v":""},"","","","","","","",""]
[{"$nulls":23},{"$f":"IF(A1242<>\"\",IF(Main!$E$12=\"ALL\",A1242,IF(Main!$E$12=A1242,A1242,\"\")),\"\")","v":""},"","","","","","","",""]
[{"$nulls":23},{"$f":"IF(A1243<>\"\",IF(Main!$E$12=\"ALL\",A1243,IF(Main!$E$12=A1243,A1243,\"\")),\"\")","v":""},"","","","","","","",""]
[{"$nulls":23},{"$f":"IF(A1244<>\"\",IF(Main!$E$12=\"ALL\",A1244,IF(Main!$E$12=A1244,A1244,\"\")),\"\")","v":""},"","","","","","","",""]
[{"$nulls":23},{"$f":"IF(A1245<>\"\",IF(Main!$E$12=\"ALL\",A1245,IF(Main!$E$12=A1245,A1245,\"\")),\"\")","v":""},"","","","","","","",""]
[{"$nulls":23},{"$f":"IF(A1246<>\"\",IF(Main!$E$12=\"ALL\",A1246,IF(Main!$E$12=A1246,A1246,\"\")),\"\")","v":""},"","","","","","","",""]
[{"$nulls":23},{"$f":"IF(A1247<>\"\",IF(Main!$E$12=\"ALL\",A1247,IF(Main!$E$12=A1247,A1247,\"\")),\"\")","v":""},"","","","","","","",""]
[{"$nulls":23},{"$f":"IF(A1248<>\"\",IF(Main!$E$12=\"ALL\",A1248,IF(Main!$E$12=A1248,A1248,\"\")),\"\")","v":""},"","","","","","","",""]
[{"$nulls":23},{"$f":"IF(A1249<>\"\",IF(Main!$E$12=\"ALL\",A1249,IF(Main!$E$12=A1249,A1249,\"\")),\"\")","v":""},"","","","","","","",""]
[{"$nulls":23},{"$f":"IF(A1250<>\"\",IF(Main!$E$12=\"ALL\",A1250,IF(Main!$E$12=A1250,A1250,\"\")),\"\")","v":""},"","","","","","","",""]
[{"$nulls":23},{"$f":"IF(A1251<>\"\",IF(Main!$E$12=\"ALL\",A1251,IF(Main!$E$12=A1251,A1251,\"\")),\"\")","v":""},"","","","","","","",""]
[{"$nulls":23},{"$f":"IF(A1252<>\"\",IF(Main!$E$12=\"ALL\",A1252,IF(Main!$E$12=A1252,A1252,\"\")),\"\")","v":""},"","","","","","","",""]
[{"$nulls":23},{"$f":"IF(A1253<>\"\",IF(Main!$E$12=\"ALL\",A1253,IF(Main!$E$12=A1253,A1253,\"\")),\"\")","v":""},"","","","","","","",""]
[{"$nulls":23},{"$f":"IF(A1254<>\"\",IF(Main!$E$12=\"ALL\",A1254,IF(Main!$E$12=A1254,A1254,\"\")),\"\")","v":""},"","","","","","","",""]
[{"$nulls":23},{"$f":"IF(A1255<>\"\",IF(Main!$E$12=\"ALL\",A1255,IF(Main!$E$12=A1255,A1255,\"\")),\"\")","v":""},"","","","","","","",""]
[{"$nulls":23},{"$f":"IF(A1256<>\"\",IF(Main!$E$12=\"ALL\",A1256,IF(Main!$E$12=A1256,A1256,\"\")),\"\")","v":""},"","","","","","","",""]
[{"$nulls":23},{"$f":"IF(A1257<>\"\",IF(Main!$E$12=\"ALL\",A1257,IF(Main!$E$12=A1257,A1257,\"\")),\"\")","v":""},"","","","","","","",""]
[{"$nulls":23},{"$f":"IF(A1258<>\"\",IF(Main!$E$12=\"ALL\",A1258,IF(Main!$E$12=A1258,A1258,\"\")),\"\")","v":""},"","","","","","","",""]
[{"$nulls":23},{"$f":"IF(A1259<>\"\",IF(Main!$E$12=\"ALL\",A1259,IF(Main!$E$12=A1259,A1259,\"\")),\"\")","v":""},"","","","","","","",""]
[{"$nulls":23},{"$f":"IF(A1260<>\"\",IF(Main!$E$12=\"ALL\",A1260,IF(Main!$E$12=A1260,A1260,\"\")),\"\")","v":""},"","","","","","","",""]
[{"$nulls":23},{"$f":"IF(A1261<>\"\",IF(Main!$E$12=\"ALL\",A1261,IF(Main!$E$12=A1261,A1261,\"\")),\"\")","v":""},"","","","","","","",""]
[{"$nulls":23},{"$f":"IF(A1262<>\"\",IF(Main!$E$12=\"ALL\",A1262,IF(Main!$E$12=A1262,A1262,\"\")),\"\")","v":""},"","","","","","","",""]
[{"$nulls":23},{"$f":"IF(A1263<>\"\",IF(Main!$E$12=\"ALL\",A1263,IF(Main!$E$12=A1263,A1263,\"\")),\"\")","v":""},"","","","","","","",""]
[{"$nulls":23},{"$f":"IF(A1264<>\"\",IF(Main!$E$12=\"ALL\",A1264,IF(Main!$E$12=A1264,A1264,\"\")),\"\")","v":""},"","","","","","","",""]
[{"$nulls":23},{"$f":"IF(A1265<>\"\",IF(Main!$E$12=\"ALL\",A1265,IF(Main!$E$12=A1265,A1265,\"\")),\"\")","v":""},"","","","","","","",""]
[{"$nulls":23},{"$f":"IF(A1266<>\"\",IF(Main!$E$12=\"ALL\",A1266,IF(Main!$E$12=A1266,A1266,\"\")),\"\")","v":""},"","","","","","","",""]
[{"$nulls":23},{"$f":"IF(A1267<>\"\",IF(Main!$E$12=\"ALL\",A1267,IF(Main!$E$12=A1267,A1267,\"\")),\"\")","v":""},"","","","","","","",""]
[{"$nulls":23},{"$f":"IF(A1268<>\"\",IF(Main!$E$12=\"ALL\",A1268,IF(Main!$E$12=A1268,A1268,\"\")),\"\")","v":""},"","","","","","","",""]
[{"$nulls":23},{"$f":"IF(A1269<>\"\",IF(Main!$E$12=\"ALL\",A1269,IF(Main!$E$12=A1269,A1269,\"\")),\"\")","v":""},"","","","","","","",""]
[{"$nulls":23},{"$f":"IF(A1270<>\"\",IF(Main!$E$12=\"ALL\",A1270,IF(Main!$E$12=A1270,A1270,\"\")),\"\")","v":""},"","","","","","","",""]
[{"$nulls":23},{"$f":"IF(A1271<>\"\",IF(Main!$E$12=\"ALL\",A1271,IF(Main!$E$12=A1271,A1271,\"\")),\"\")","v":""},"","","","","","","",""]
[{"$nulls":23},{"$f":"IF(A1272<>\"\",IF(Main!$E$12=\"ALL\",A1272,IF(Main!$E$12=A1272,A1272,\"\")),\"\")","v":""},"","","","","","","",""]
[{"$nulls":23},{"$f":"IF(A1273<>\"\",IF(Main!$E$12=\"ALL\",A1273,IF(Main!$E$12=A1273,A1273,\"\")),\"\")","v":""},"","","","","","","",""]
[{"$nulls":23},{"$f":"IF(A1274<>\"\",IF(Main!$E$12=\"ALL\",A1274,IF(Main!$E$12=A1274,A1274,\"\")),\"\")","v":""},"","","","","","","",""]
[{"$nulls":23},{"$f":"IF(A1275<>\"\",IF(Main!$E$12=\"ALL\",A1275,IF(Main!$E$12=A1275,A1275,\"\")),\"\")","v":""},"","","","","","","",""]
[{"$nulls":23},{"$f":"IF(A1276<>\"\",IF(Main!$E$12=\"ALL\",A1276,IF(Main!$E$12=A1276,A1276,\"\")),\"\")","v":""},"","","","","","","",""]
[{"$nulls":23},{"$f":"IF(A1277<>\"\",IF(Main!$E$12=\"ALL\",A1277,IF(Main!$E$12=A1277,A1277,\"\")),\"\")","v":""},"","","","","","","",""]
[{"$nulls":23},{"$f":"IF(A1278<>\"\",IF(Main!$E$12=\"ALL\",A1278,IF(Main!$E$12=A1278,A1278,\"\")),\"\")","v":""},"","","","","","","",""]
[{"$nulls":23},{"$f":"IF(A1279<>\"\",IF(Main!$E$12=\"ALL\",A1279,IF(Main!$E$12=A1279,A1279,\"\")),\"\")","v":""},"","","","","","","",""]
[{"$nulls":23},{"$f":"IF(A1280<>\"\",IF(Main!$E$12=\"ALL\",A1280,IF(Main!$E$12=A1280,A1280,\"\")),\"\")","v":""},"","","","","","","",""]
[{"$nulls":23},{"$f":"IF(A1281<>\"\",IF(Main!$E$12=\"ALL\",A1281,IF(Main!$E$12=A1281,A1281,\"\")),\"\")","v":""},"","","","","","","",""]
[{"$nulls":23},{"$f":"IF(A1282<>\"\",IF(Main!$E$12=\"ALL\",A1282,IF(Main!$E$12=A1282,A1282,\"\")),\"\")","v":""},"","","","","","","",""]
[{"$nulls":23},{"$f":"IF(A1283<>\"\",IF(Main!$E$12=\"ALL\",A1283,IF(Main!$E$12=A1283,A1283,\"\")),\"\")","v":""},{"$f":"IF($X1283=\"\",\"\",D1283)","v":""},{"$f":"IF($X1283=\"\",\"\",F1283)","v":""},{"$f":"IF($X1283=\"\",\"\",J1283)","v":""},{"$f":"IF($X1283=\"\",\"\",N1283)","v":""},{"$f":"IF($X1283=\"\",\"\",IF(P1283=\"\",\"\",P1283))","v":""},{"$f":"IF($X1283=\"\",\"\",R1283)","v":""},{"$f":"IF($X1283=\"\",\"\",T1283)","v":""},{"$f":"IF($X1283=\"\",\"\",V1283)","v":""}]
[{"$nulls":23},{"$f":"IF(A1284<>\"\",IF(Main!$E$12=\"ALL\",A1284,IF(Main!$E$12=A1284,A1284,\"\")),\"\")","v":""},"","","","","","","",""]
[{"$nulls":23},{"$f":"IF(A1285<>\"\",IF(Main!$E$12=\"ALL\",A1285,IF(Main!$E$12=A1285,A1285,\"\")),\"\")","v":""},"","","","","","","",""]
[{"$nulls":23},{"$f":"IF(A1286<>\"\",IF(Main!$E$12=\"ALL\",A1286,IF(Main!$E$12=A1286,A1286,\"\")),\"\")","v":""},"","","","","","","",""]
[{"$nulls":23},{"$f":"IF(A1287<>\"\",IF(Main!$E$12=\"ALL\",A1287,IF(Main!$E$12=A1287,A1287,\"\")),\"\")","v":""},"","","","","","","",""]
[{"$nulls":23},{"$f":"IF(A1288<>\"\",IF(Main!$E$12=\"ALL\",A1288,IF(Main!$E$12=A1288,A1288,\"\")),\"\")","v":""},"","","","","","","",""]
[{"$nulls":23},{"$f":"IF(A1289<>\"\",IF(Main!$E$12=\"ALL\",A1289,IF(Main!$E$12=A1289,A1289,\"\")),\"\")","v":""},"","","","","","","",""]
[{"$nulls":23},{"$f":"IF(A1290<>\"\",IF(Main!$E$12=\"ALL\",A1290,IF(Main!$E$12=A1290,A1290,\"\")),\"\")","v":""},"","","","","","","",""]
[{"$nulls":23},{"$f":"IF(A1291<>\"\",IF(Main!$E$12=\"ALL\",A1291,IF(Main!$E$12=A1291,A1291,\"\")),\"\")","v":""},"","","","","","","",""]
[{"$nulls":23},{"$f":"IF(A1292<>\"\",IF(Main!$E$12=\"ALL\",A1292,IF(Main!$E$12=A1292,A1292,\"\")),\"\")","v":""},"","","","","","","",""]
[{"$nulls":23},{"$f":"IF(A1293<>\"\",IF(Main!$E$12=\"ALL\",A1293,IF(Main!$E$12=A1293,A1293,\"\")),\"\")","v":""},"","","","","","","",""]
[{"$nulls":23},{"$f":"IF(A1294<>\"\",IF(Main!$E$12=\"ALL\",A1294,IF(Main!$E$12=A1294,A1294,\"\")),\"\")","v":""},"","","","","","","",""]
[{"$nulls":23},{"$f":"IF(A1295<>\"\",IF(Main!$E$12=\"ALL\",A1295,IF(Main!$E$12=A1295,A1295,\"\")),\"\")","v":""},"","","","","","","",""]
[{"$nulls":23},{"$f":"IF(A1296<>\"\",IF(Main!$E$12=\"ALL\",A1296,IF(Main!$E$12=A1296,A1296,\"\")),\"\")","v":""},"","","","","","","",""]
[{"$nulls":23},{"$f":"IF(A1297<>\"\",IF(Main!$E$12=\"ALL\",A1297,IF(Main!$E$12=A1297,A1297,\"\")),\"\")","v":""},"","","","","","","",""]
[{"$nulls":23},{"$f":"IF(A1298<>\"\",IF(Main!$E$12=\"ALL\",A1298,IF(Main!$E$12=A1298,A1298,\"\")),\"\")","v":""},"","","","","","","",""]
[{"$nulls":23},{"$f":"IF(A1299<>\"\",IF(Main!$E$12=\"ALL\",A1299,IF(Main!$E$12=A1299,A1299,\"\")),\"\")","v":""},"","","","","","","",""]
[{"$nulls":23},{"$f":"IF(A1300<>\"\",IF(Main!$E$12=\"ALL\",A1300,IF(Main!$E$12=A1300,A1300,\"\")),\"\")","v":""},"","","","","","","",""]
[{"$nulls":23},{"$f":"IF(A1301<>\"\",IF(Main!$E$12=\"ALL\",A1301,IF(Main!$E$12=A1301,A1301,\"\")),\"\")","v":""},"","","","","","","",""]
[{"$nulls":23},{"$f":"IF(A1302<>\"\",IF(Main!$E$12=\"ALL\",A1302,IF(Main!$E$12=A1302,A1302,\"\")),\"\")","v":""},"","","","","","","",""]
[{"$nulls":23},{"$f":"IF(A1303<>\"\",IF(Main!$E$12=\"ALL\",A1303,IF(Main!$E$12=A1303,A1303,\"\")),\"\")","v":""},"","","","","","","",""]
[{"$nulls":23},{"$f":"IF(A1304<>\"\",IF(Main!$E$12=\"ALL\",A1304,IF(Main!$E$12=A1304,A1304,\"\")),\"\")","v":""},"","","","","","","",""]
[{"$nulls":23},{"$f":"IF(A1305<>\"\",IF(Main!$E$12=\"ALL\",A1305,IF(Main!$E$12=A1305,A1305,\"\")),\"\")","v":""},"","","","","","","",""]
[{"$nulls":23},{"$f":"IF(A1306<>\"\",IF(Main!$E$12=\"ALL\",A1306,IF(Main!$E$12=A1306,A1306,\"\")),\"\")","v":""},"","","","","","","",""]
[{"$nulls":23},{"$f":"IF(A1307<>\"\",IF(Main!$E$12=\"ALL\",A1307,IF(Main!$E$12=A1307,A1307,\"\")),\"\")","v":""},"","","","","","","",""]
[{"$nulls":23},{"$f":"IF(A1308<>\"\",IF(Main!$E$12=\"ALL\",A1308,IF(Main!$E$12=A1308,A1308,\"\")),\"\")","v":""},"","","","","","","",""]
[{"$nulls":23},{"$f":"IF(A1309<>\"\",IF(Main!$E$12=\"ALL\",A1309,IF(Main!$E$12=A1309,A1309,\"\")),\"\")","v":""},"","","","","","","",""]
[{"$nulls":23},{"$f":"IF(A1310<>\"\",IF(Main!$E$12=\"ALL\",A1310,IF(Main!$E$12=A1310,A1310,\"\")),\"\")","v":""},"","","","","","","",""]
[{"$nulls":23},{"$f":"IF(A1311<>\"\",IF(Main!$E$12=\"ALL\",A1311,IF(Main!$E$12=A1311,A1311,\"\")),\"\")","v":""},"","","","","","","",""]
[{"$nulls":23},{"$f":"IF(A1312<>\"\",IF(Main!$E$12=\"ALL\",A1312,IF(Main!$E$12=A1312,A1312,\"\")),\"\")","v":""},"","","","","","","",""]
[{"$nulls":23},{"$f":"IF(A1313<>\"\",IF(Main!$E$12=\"ALL\",A1313,IF(Main!$E$12=A1313,A1313,\"\")),\"\")","v":""},"","","","","","","",""]
[{"$nulls":23},{"$f":"IF(A1314<>\"\",IF(Main!$E$12=\"ALL\",A1314,IF(Main!$E$12=A1314,A1314,\"\")),\"\")","v":""},"","","","","","","",""]
[{"$nulls":23},{"$f":"IF(A1315<>\"\",IF(Main!$E$12=\"ALL\",A1315,IF(Main!$E$12=A1315,A1315,\"\")),\"\")","v":""},"","","","","","","",""]
[{"$nulls":23},{"$f":"IF(A1316<>\"\",IF(Main!$E$12=\"ALL\",A1316,IF(Main!$E$12=A1316,A1316,\"\")),\"\")","v":""},"","","","","","","",""]
[{"$nulls":23},{"$f":"IF(A1317<>\"\",IF(Main!$E$12=\"ALL\",A1317,IF(Main!$E$12=A1317,A1317,\"\")),\"\")","v":""},"","","","","","","",""]
[{"$nulls":23},{"$f":"IF(A1318<>\"\",IF(Main!$E$12=\"ALL\",A1318,IF(Main!$E$12=A1318,A1318,\"\")),\"\")","v":""},"","","","","","","",""]
[{"$nulls":23},{"$f":"IF(A1319<>\"\",IF(Main!$E$12=\"ALL\",A1319,IF(Main!$E$12=A1319,A1319,\"\")),\"\")","v":""},"","","","","","","",""]
[{"$nulls":23},{"$f":"IF(A1320<>\"\",IF(Main!$E$12=\"ALL\",A1320,IF(Main!$E$12=A1320,A1320,\"\")),\"\")","v":""},"","","","","","","",""]
[{"$nulls":23},{"$f":"IF(A1321<>\"\",IF(Main!$E$12=\"ALL\",A1321,IF(Main!$E$12=A1321,A1321,\"\")),\"\")","v":""},"","","","","","","",""]
[{"$nulls":23},{"$f":"IF(A1322<>\"\",IF(Main!$E$12=\"ALL\",A1322,IF(Main!$E$12=A1322,A1322,\"\")),\"\")","v":""},"","","","","","","",""]
[{"$nulls":23},{"$f":"IF(A1323<>\"\",IF(Main!$E$12=\"ALL\",A1323,IF(Main!$E$12=A1323,A1323,\"\")),\"\")","v":""},"","","","","","","",""]
[{"$nulls":23},{"$f":"IF(A1324<>\"\",IF(Main!$E$12=\"ALL\",A1324,IF(Main!$E$12=A1324,A1324,\"\")),\"\")","v":""},"","","","","","","",""]
[{"$nulls":23},{"$f":"IF(A1325<>\"\",IF(Main!$E$12=\"ALL\",A1325,IF(Main!$E$12=A1325,A1325,\"\")),\"\")","v":""},"","","","","","","",""]
[{"$nulls":23},{"$f":"IF(A1326<>\"\",IF(Main!$E$12=\"ALL\",A1326,IF(Main!$E$12=A1326,A1326,\"\")),\"\")","v":""},"","","","","","","",""]
[{"$nulls":23},{"$f":"IF(A1327<>\"\",IF(Main!$E$12=\"ALL\",A1327,IF(Main!$E$12=A1327,A1327,\"\")),\"\")","v":""},"","","","","","","",""]
[{"$nulls":23},{"$f":"IF(A1328<>\"\",IF(Main!$E$12=\"ALL\",A1328,IF(Main!$E$12=A1328,A1328,\"\")),\"\")","v":""},"","","","","","","",""]
[{"$nulls":23},{"$f":"IF(A1329<>\"\",IF(Main!$E$12=\"ALL\",A1329,IF(Main!$E$12=A1329,A1329,\"\")),\"\")","v":""},"","","","","","","",""]
[{"$nulls":23},{"$f":"IF(A1330<>\"\",IF(Main!$E$12=\"ALL\",A1330,IF(Main!$E$12=A1330,A1330,\"\")),\"\")","v":""},"","","","","","","",""]
[{"$nulls":23},{"$f":"IF(A1331<>\"\",IF(Main!$E$12=\"ALL\",A1331,IF(Main!$E$12=A1331,A1331,\"\")),\"\")","v":""},"","","","","","","",""]
[{"$nulls":23},{"$f":"IF(A1332<>\"\",IF(Main!$E$12=\"ALL\",A1332,IF(Main!$E$12=A1332,A1332,\"\")),\"\")","v":""},"","","","","","","",""]
[{"$nulls":23},{"$f":"IF(A1333<>\"\",IF(Main!$E$12=\"ALL\",A1333,IF(Main!$E$12=A1333,A1333,\"\")),\"\")","v":""},"","","","","","","",""]
[{"$nulls":23},{"$f":"IF(A1334<>\"\",IF(Main!$E$12=\"ALL\",A1334,IF(Main!$E$12=A1334,A1334,\"\")),\"\")","v":""},"","","","","","","",""]
[{"$nulls":23},{"$f":"IF(A1335<>\"\",IF(Main!$E$12=\"ALL\",A1335,IF(Main!$E$12=A1335,A1335,\"\")),\"\")","v":""},"","","","","","","",""]
[{"$nulls":23},{"$f":"IF(A1336<>\"\",IF(Main!$E$12=\"ALL\",A1336,IF(Main!$E$12=A1336,A1336,\"\")),\"\")","v":""},"","","","","","","",""]
[{"$nulls":23},{"$f":"IF(A1337<>\"\",IF(Main!$E$12=\"ALL\",A1337,IF(Main!$E$12=A1337,A1337,\"\")),\"\")","v":""},"","","","","","","",""]
[{"$nulls":23},{"$f":"IF(A1338<>\"\",IF(Main!$E$12=\"ALL\",A1338,IF(Main!$E$12=A1338,A1338,\"\")),\"\")","v":""},"","","","","","","",""]
[{"$nulls":23},{"$f":"IF(A1339<>\"\",IF(Main!$E$12=\"ALL\",A1339,IF(Main!$E$12=A1339,A1339,\"\")),\"\")","v":""},"","","","","","","",""]
[{"$nulls":23},{"$f":"IF(A1340<>\"\",IF(Main!$E$12=\"ALL\",A1340,IF(Main!$E$12=A1340,A1340,\"\")),\"\")","v":""},"","","","","","","",""]
[{"$nulls":23},{"$f":"IF(A1341<>\"\",IF(Main!$E$12=\"ALL\",A1341,IF(Main!$E$12=A1341,A1341,\"\")),\"\")","v":""},"","","","","","","",""]
[{"$nulls":23},{"$f":"IF(A1342<>\"\",IF(Main!$E$12=\"ALL\",A1342,IF(Main!$E$12=A1342,A1342,\"\")),\"\")","v":""},"","","","","","","",""]
[{"$nulls":23},{"$f":"IF(A1343<>\"\",IF(Main!$E$12=\"ALL\",A1343,IF(Main!$E$12=A1343,A1343,\"\")),\"\")","v":""},"","","","","","","",""]
[{"$nulls":23},{"$f":"IF(A1344<>\"\",IF(Main!$E$12=\"ALL\",A1344,IF(Main!$E$12=A1344,A1344,\"\")),\"\")","v":""},"","","","","","","",""]
[{"$nulls":23},{"$f":"IF(A1345<>\"\",IF(Main!$E$12=\"ALL\",A1345,IF(Main!$E$12=A1345,A1345,\"\")),\"\")","v":""},"","","","","","","",""]
[{"$nulls":23},{"$f":"IF(A1346<>\"\",IF(Main!$E$12=\"ALL\",A1346,IF(Main!$E$12=A1346,A1346,\"\")),\"\")","v":""},"","","","","","","",""]
[{"$nulls":23},{"$f":"IF(A1347<>\"\",IF(Main!$E$12=\"ALL\",A1347,IF(Main!$E$12=A1347,A1347,\"\")),\"\")","v":""},{"$f":"IF($X1347=\"\",\"\",D1347)","v":""},{"$f":"IF($X1347=\"\",\"\",F1347)","v":""},{"$f":"IF($X1347=\"\",\"\",J1347)","v":""},{"$f":"IF($X1347=\"\",\"\",N1347)","v":""},{"$f":"IF($X1347=\"\",\"\",IF(P1347=\"\",\"\",P1347))","v":""},{"$f":"IF($X1347=\"\",\"\",R1347)","v":""},{"$f":"IF($X1347=\"\",\"\",T1347)","v":""},{"$f":"IF($X1347=\"\",\"\",V1347)","v":""}]
[{"$nulls":23},{"$f":"IF(A1348<>\"\",IF(Main!$E$12=\"ALL\",A1348,IF(Main!$E$12=A1348,A1348,\"\")),\"\")","v":""},"","","","","","","",""]
[{"$nulls":23},{"$f":"IF(A1349<>\"\",IF(Main!$E$12=\"ALL\",A1349,IF(Main!$E$12=A1349,A1349,\"\")),\"\")","v":""},"","","","","","","",""]
[{"$nulls":23},{"$f":"IF(A1350<>\"\",IF(Main!$E$12=\"ALL\",A1350,IF(Main!$E$12=A1350,A1350,\"\")),\"\")","v":""},"","","","","","","",""]
[{"$nulls":23},{"$f":"IF(A1351<>\"\",IF(Main!$E$12=\"ALL\",A1351,IF(Main!$E$12=A1351,A1351,\"\")),\"\")","v":""},"","","","","","","",""]
[{"$nulls":23},{"$f":"IF(A1352<>\"\",IF(Main!$E$12=\"ALL\",A1352,IF(Main!$E$12=A1352,A1352,\"\")),\"\")","v":""},"","","","","","","",""]
[{"$nulls":23},{"$f":"IF(A1353<>\"\",IF(Main!$E$12=\"ALL\",A1353,IF(Main!$E$12=A1353,A1353,\"\")),\"\")","v":""},"","","","","","","",""]
[{"$nulls":23},{"$f":"IF(A1354<>\"\",IF(Main!$E$12=\"ALL\",A1354,IF(Main!$E$12=A1354,A1354,\"\")),\"\")","v":""},"","","","","","","",""]
[{"$nulls":23},{"$f":"IF(A1355<>\"\",IF(Main!$E$12=\"ALL\",A1355,IF(Main!$E$12=A1355,A1355,\"\")),\"\")","v":""},"","","","","","","",""]
[{"$nulls":23},{"$f":"IF(A1356<>\"\",IF(Main!$E$12=\"ALL\",A1356,IF(Main!$E$12=A1356,A1356,\"\")),\"\")","v":""},"","","","","","","",""]
[{"$nulls":23},{"$f":"IF(A1357<>\"\",IF(Main!$E$12=\"ALL\",A1357,IF(Main!$E$12=A1357,A1357,\"\")),\"\")","v":""},"","","","","","","",""]
[{"$nulls":23},{"$f":"IF(A1358<>\"\",IF(Main!$E$12=\"ALL\",A1358,IF(Main!$E$12=A1358,A1358,\"\")),\"\")","v":""},"","","","","","","",""]
[{"$nulls":23},{"$f":"IF(A1359<>\"\",IF(Main!$E$12=\"ALL\",A1359,IF(Main!$E$12=A1359,A1359,\"\")),\"\")","v":""},"","","","","","","",""]
[{"$nulls":23},{"$f":"IF(A1360<>\"\",IF(Main!$E$12=\"ALL\",A1360,IF(Main!$E$12=A1360,A1360,\"\")),\"\")","v":""},"","","","","","","",""]
[{"$nulls":23},{"$f":"IF(A1361<>\"\",IF(Main!$E$12=\"ALL\",A1361,IF(Main!$E$12=A1361,A1361,\"\")),\"\")","v":""},"","","","","","","",""]
[{"$nulls":23},{"$f":"IF(A1362<>\"\",IF(Main!$E$12=\"ALL\",A1362,IF(Main!$E$12=A1362,A1362,\"\")),\"\")","v":""},"","","","","","","",""]
[{"$nulls":23},{"$f":"IF(A1363<>\"\",IF(Main!$E$12=\"ALL\",A1363,IF(Main!$E$12=A1363,A1363,\"\")),\"\")","v":""},"","","","","","","",""]
[{"$nulls":23},{"$f":"IF(A1364<>\"\",IF(Main!$E$12=\"ALL\",A1364,IF(Main!$E$12=A1364,A1364,\"\")),\"\")","v":""},"","","","","","","",""]
[{"$nulls":23},{"$f":"IF(A1365<>\"\",IF(Main!$E$12=\"ALL\",A1365,IF(Main!$E$12=A1365,A1365,\"\")),\"\")","v":""},"","","","","","","",""]
[{"$nulls":23},{"$f":"IF(A1366<>\"\",IF(Main!$E$12=\"ALL\",A1366,IF(Main!$E$12=A1366,A1366,\"\")),\"\")","v":""},"","","","","","","",""]
[{"$nulls":23},{"$f":"IF(A1367<>\"\",IF(Main!$E$12=\"ALL\",A1367,IF(Main!$E$12=A1367,A1367,\"\")),\"\")","v":""},"","","","","","","",""]
[{"$nulls":23},{"$f":"IF(A1368<>\"\",IF(Main!$E$12=\"ALL\",A1368,IF(Main!$E$12=A1368,A1368,\"\")),\"\")","v":""},"","","","","","","",""]
[{"$nulls":23},{"$f":"IF(A1369<>\"\",IF(Main!$E$12=\"ALL\",A1369,IF(Main!$E$12=A1369,A1369,\"\")),\"\")","v":""},"","","","","","","",""]
[{"$nulls":23},{"$f":"IF(A1370<>\"\",IF(Main!$E$12=\"ALL\",A1370,IF(Main!$E$12=A1370,A1370,\"\")),\"\")","v":""},"","","","","","","",""]
[{"$nulls":23},{"$f":"IF(A1371<>\"\",IF(Main!$E$12=\"ALL\",A1371,IF(Main!$E$12=A1371,A1371,\"\")),\"\")","v":""},"","","","","","","",""]
[{"$nulls":23},{"$f":"IF(A1372<>\"\",IF(Main!$E$12=\"ALL\",A1372,IF(Main!$E$12=A1372,A1372,\"\")),\"\")","v":""},"","","","","","","",""]
[{"$nulls":23},{"$f":"IF(A1373<>\"\",IF(Main!$E$12=\"ALL\",A1373,IF(Main!$E$12=A1373,A1373,\"\")),\"\")","v":""},"","","","","","","",""]
[{"$nulls":23},{"$f":"IF(A1374<>\"\",IF(Main!$E$12=\"ALL\",A1374,IF(Main!$E$12=A1374,A1374,\"\")),\"\")","v":""},"","","","","","","",""]
[{"$nulls":23},{"$f":"IF(A1375<>\"\",IF(Main!$E$12=\"ALL\",A1375,IF(Main!$E$12=A1375,A1375,\"\")),\"\")","v":""},"","","","","","","",""]
[{"$nulls":23},{"$f":"IF(A1376<>\"\",IF(Main!$E$12=\"ALL\",A1376,IF(Main!$E$12=A1376,A1376,\"\")),\"\")","v":""},"","","","","","","",""]
[{"$nulls":23},{"$f":"IF(A1377<>\"\",IF(Main!$E$12=\"ALL\",A1377,IF(Main!$E$12=A1377,A1377,\"\")),\"\")","v":""},"","","","","","","",""]
[{"$nulls":23},{"$f":"IF(A1378<>\"\",IF(Main!$E$12=\"ALL\",A1378,IF(Main!$E$12=A1378,A1378,\"\")),\"\")","v":""},"","","","","","","",""]
[{"$nulls":23},{"$f":"IF(A1379<>\"\",IF(Main!$E$12=\"ALL\",A1379,IF(Main!$E$12=A1379,A1379,\"\")),\"\")","v":""},"","","","","","","",""]
[{"$nulls":23},{"$f":"IF(A1380<>\"\",IF(Main!$E$12=\"ALL\",A1380,IF(Main!$E$12=A1380,A1380,\"\")),\"\")","v":""},"","","","","","","",""]
[{"$nulls":23},{"$f":"IF(A1381<>\"\",IF(Main!$E$12=\"ALL\",A1381,IF(Main!$E$12=A1381,A1381,\"\")),\"\")","v":""},"","","","","","","",""]
[{"$nulls":23},{"$f":"IF(A1382<>\"\",IF(Main!$E$12=\"ALL\",A1382,IF(Main!$E$12=A1382,A1382,\"\")),\"\")","v":""},"","","","","","","",""]
[{"$nulls":23},{"$f":"IF(A1383<>\"\",IF(Main!$E$12=\"ALL\",A1383,IF(Main!$E$12=A1383,A1383,\"\")),\"\")","v":""},"","","","","","","",""]
[{"$nulls":23},{"$f":"IF(A1384<>\"\",IF(Main!$E$12=\"ALL\",A1384,IF(Main!$E$12=A1384,A1384,\"\")),\"\")","v":""},"","","","","","","",""]
[{"$nulls":23},{"$f":"IF(A1385<>\"\",IF(Main!$E$12=\"ALL\",A1385,IF(Main!$E$12=A1385,A1385,\"\")),\"\")","v":""},"","","","","","","",""]
[{"$nulls":23},{"$f":"IF(A1386<>\"\",IF(Main!$E$12=\"ALL\",A1386,IF(Main!$E$12=A1386,A1386,\"\")),\"\")","v":""},"","","","","","","",""]
[{"$nulls":23},{"$f":"IF(A1387<>\"\",IF(Main!$E$12=\"ALL\",A1387,IF(Main!$E$12=A1387,A1387,\"\")),\"\")","v":""},"","","","","","","",""]
[{"$nulls":23},{"$f":"IF(A1388<>\"\",IF(Main!$E$12=\"ALL\",A1388,IF(Main!$E$12=A1388,A1388,\"\")),\"\")","v":""},"","","","","","","",""]
[{"$nulls":23},{"$f":"IF(A1389<>\"\",IF(Main!$E$12=\"ALL\",A1389,IF(Main!$E$12=A1389,A1389,\"\")),\"\")","v":""},"","","","","","","",""]
[{"$nulls":23},{"$f":"IF(A1390<>\"\",IF(Main!$E$12=\"ALL\",A1390,IF(Main!$E$12=A1390,A1390,\"\")),\"\")","v":""},"","","","","","","",""]
[{"$nulls":23},{"$f":"IF(A1391<>\"\",IF(Main!$E$12=\"ALL\",A1391,IF(Main!$E$12=A1391,A1391,\"\")),\"\")","v":""},"","","","","","","",""]
[{"$nulls":23},{"$f":"IF(A1392<>\"\",IF(Main!$E$12=\"ALL\",A1392,IF(Main!$E$12=A1392,A1392,\"\")),\"\")","v":""},"","","","","","","",""]
[{"$nulls":23},{"$f":"IF(A1393<>\"\",IF(Main!$E$12=\"ALL\",A1393,IF(Main!$E$12=A1393,A1393,\"\")),\"\")","v":""},"","","","","","","",""]
[{"$nulls":23},{"$f":"IF(A1394<>\"\",IF(Main!$E$12=\"ALL\",A1394,IF(Main!$E$12=A1394,A1394,\"\")),\"\")","v":""},"","","","","","","",""]
[{"$nulls":23},{"$f":"IF(A1395<>\"\",IF(Main!$E$12=\"ALL\",A1395,IF(Main!$E$12=A1395,A1395,\"\")),\"\")","v":""},"","","","","","","",""]
[{"$nulls":23},{"$f":"IF(A1396<>\"\",IF(Main!$E$12=\"ALL\",A1396,IF(Main!$E$12=A1396,A1396,\"\")),\"\")","v":""},"","","","","","","",""]
[{"$nulls":23},{"$f":"IF(A1397<>\"\",IF(Main!$E$12=\"ALL\",A1397,IF(Main!$E$12=A1397,A1397,\"\")),\"\")","v":""},"","","","","","","",""]
[{"$nulls":23},{"$f":"IF(A1398<>\"\",IF(Main!$E$12=\"ALL\",A1398,IF(Main!$E$12=A1398,A1398,\"\")),\"\")","v":""},"","","","","","","",""]
[{"$nulls":23},{"$f":"IF(A1399<>\"\",IF(Main!$E$12=\"ALL\",A1399,IF(Main!$E$12=A1399,A1399,\"\")),\"\")","v":""},"","","","","","","",""]
[{"$nulls":23},{"$f":"IF(A1400<>\"\",IF(Main!$E$12=\"ALL\",A1400,IF(Main!$E$12=A1400,A1400,\"\")),\"\")","v":""},"","","","","","","",""]
[{"$nulls":23},{"$f":"IF(A1401<>\"\",IF(Main!$E$12=\"ALL\",A1401,IF(Main!$E$12=A1401,A1401,\"\")),\"\")","v":""},"","","","","","","",""]
[{"$nulls":23},{"$f":"IF(A1402<>\"\",IF(Main!$E$12=\"ALL\",A1402,IF(Main!$E$12=A1402,A1402,\"\")),\"\")","v":""},"","","","","","","",""]
[{"$nulls":23},{"$f":"IF(A1403<>\"\",IF(Main!$E$12=\"ALL\",A1403,IF(Main!$E$12=A1403,A1403,\"\")),\"\")","v":""},"","","","","","","",""]
[{"$nulls":23},{"$f":"IF(A1404<>\"\",IF(Main!$E$12=\"ALL\",A1404,IF(Main!$E$12=A1404,A1404,\"\")),\"\")","v":""},"","","","","","","",""]
[{"$nulls":23},{"$f":"IF(A1405<>\"\",IF(Main!$E$12=\"ALL\",A1405,IF(Main!$E$12=A1405,A1405,\"\")),\"\")","v":""},"","","","","","","",""]
[{"$nulls":23},{"$f":"IF(A1406<>\"\",IF(Main!$E$12=\"ALL\",A1406,IF(Main!$E$12=A1406,A1406,\"\")),\"\")","v":""},"","","","","","","",""]
[{"$nulls":23},{"$f":"IF(A1407<>\"\",IF(Main!$E$12=\"ALL\",A1407,IF(Main!$E$12=A1407,A1407,\"\")),\"\")","v":""},"","","","","","","",""]
[{"$nulls":23},{"$f":"IF(A1408<>\"\",IF(Main!$E$12=\"ALL\",A1408,IF(Main!$E$12=A1408,A1408,\"\")),\"\")","v":""},"","","","","","","",""]
[{"$nulls":23},{"$f":"IF(A1409<>\"\",IF(Main!$E$12=\"ALL\",A1409,IF(Main!$E$12=A1409,A1409,\"\")),\"\")","v":""},"","","","","","","",""]
[{"$nulls":23},{"$f":"IF(A1410<>\"\",IF(Main!$E$12=\"ALL\",A1410,IF(Main!$E$12=A1410,A1410,\"\")),\"\")","v":""},"","","","","","","",""]
[{"$nulls":23},{"$f":"IF(A1411<>\"\",IF(Main!$E$12=\"ALL\",A1411,IF(Main!$E$12=A1411,A1411,\"\")),\"\")","v":""},{"$f":"IF($X1411=\"\",\"\",D1411)","v":""},{"$f":"IF($X1411=\"\",\"\",F1411)","v":""},{"$f":"IF($X1411=\"\",\"\",J1411)","v":""},{"$f":"IF($X1411=\"\",\"\",N1411)","v":""},{"$f":"IF($X1411=\"\",\"\",IF(P1411=\"\",\"\",P1411))","v":""},{"$f":"IF($X1411=\"\",\"\",R1411)","v":""},{"$f":"IF($X1411=\"\",\"\",T1411)","v":""},{"$f":"IF($X1411=\"\",\"\",V1411)","v":""}]
[{"$nulls":23},{"$f":"IF(A1412<>\"\",IF(Main!$E$12=\"ALL\",A1412,IF(Main!$E$12=A1412,A1412,\"\")),\"\")","v":""},"","","","","","","",""]
[{"$nulls":23},{"$f":"IF(A1413<>\"\",IF(Main!$E$12=\"ALL\",A1413,IF(Main!$E$12=A1413,A1413,\"\")),\"\")","v":""},"","","","","","","",""]
[{"$nulls":23},{"$f":"IF(A1414<>\"\",IF(Main!$E$12=\"ALL\",A1414,IF(Main!$E$12=A1414,A1414,\"\")),\"\")","v":""},"","","","","","","",""]
[{"$nulls":23},{"$f":"IF(A1415<>\"\",IF(Main!$E$12=\"ALL\",A1415,IF(Main!$E$12=A1415,A1415,\"\")),\"\")","v":""},"","","","","","","",""]
[{"$nulls":23},{"$f":"IF(A1416<>\"\",IF(Main!$E$12=\"ALL\",A1416,IF(Main!$E$12=A1416,A1416,\"\")),\"\")","v":""},"","","","","","","",""]
[{"$nulls":23},{"$f":"IF(A1417<>\"\",IF(Main!$E$12=\"ALL\",A1417,IF(Main!$E$12=A1417,A1417,\"\")),\"\")","v":""},"","","","","","","",""]
[{"$nulls":23},{"$f":"IF(A1418<>\"\",IF(Main!$E$12=\"ALL\",A1418,IF(Main!$E$12=A1418,A1418,\"\")),\"\")","v":""},"","","","","","","",""]
[{"$nulls":23},{"$f":"IF(A1419<>\"\",IF(Main!$E$12=\"ALL\",A1419,IF(Main!$E$12=A1419,A1419,\"\")),\"\")","v":""},"","","","","","","",""]
[{"$nulls":23},{"$f":"IF(A1420<>\"\",IF(Main!$E$12=\"ALL\",A1420,IF(Main!$E$12=A1420,A1420,\"\")),\"\")","v":""},"","","","","","","",""]
[{"$nulls":23},{"$f":"IF(A1421<>\"\",IF(Main!$E$12=\"ALL\",A1421,IF(Main!$E$12=A1421,A1421,\"\")),\"\")","v":""},"","","","","","","",""]
[{"$nulls":23},{"$f":"IF(A1422<>\"\",IF(Main!$E$12=\"ALL\",A1422,IF(Main!$E$12=A1422,A1422,\"\")),\"\")","v":""},"","","","","","","",""]
[{"$nulls":23},{"$f":"IF(A1423<>\"\",IF(Main!$E$12=\"ALL\",A1423,IF(Main!$E$12=A1423,A1423,\"\")),\"\")","v":""},"","","","","","","",""]
[{"$nulls":23},{"$f":"IF(A1424<>\"\",IF(Main!$E$12=\"ALL\",A1424,IF(Main!$E$12=A1424,A1424,\"\")),\"\")","v":""},"","","","","","","",""]
[{"$nulls":23},{"$f":"IF(A1425<>\"\",IF(Main!$E$12=\"ALL\",A1425,IF(Main!$E$12=A1425,A1425,\"\")),\"\")","v":""},"","","","","","","",""]
[{"$nulls":23},{"$f":"IF(A1426<>\"\",IF(Main!$E$12=\"ALL\",A1426,IF(Main!$E$12=A1426,A1426,\"\")),\"\")","v":""},"","","","","","","",""]
[{"$nulls":23},{"$f":"IF(A1427<>\"\",IF(Main!$E$12=\"ALL\",A1427,IF(Main!$E$12=A1427,A1427,\"\")),\"\")","v":""},"","","","","","","",""]
[{"$nulls":23},{"$f":"IF(A1428<>\"\",IF(Main!$E$12=\"ALL\",A1428,IF(Main!$E$12=A1428,A1428,\"\")),\"\")","v":""},"","","","","","","",""]
[{"$nulls":23},{"$f":"IF(A1429<>\"\",IF(Main!$E$12=\"ALL\",A1429,IF(Main!$E$12=A1429,A1429,\"\")),\"\")","v":""},"","","","","","","",""]
[{"$nulls":23},{"$f":"IF(A1430<>\"\",IF(Main!$E$12=\"ALL\",A1430,IF(Main!$E$12=A1430,A1430,\"\")),\"\")","v":""},"","","","","","","",""]
[{"$nulls":23},{"$f":"IF(A1431<>\"\",IF(Main!$E$12=\"ALL\",A1431,IF(Main!$E$12=A1431,A1431,\"\")),\"\")","v":""},"","","","","","","",""]
[{"$nulls":23},{"$f":"IF(A1432<>\"\",IF(Main!$E$12=\"ALL\",A1432,IF(Main!$E$12=A1432,A1432,\"\")),\"\")","v":""},"","","","","","","",""]
[{"$nulls":23},{"$f":"IF(A1433<>\"\",IF(Main!$E$12=\"ALL\",A1433,IF(Main!$E$12=A1433,A1433,\"\")),\"\")","v":""},"","","","","","","",""]
[{"$nulls":23},{"$f":"IF(A1434<>\"\",IF(Main!$E$12=\"ALL\",A1434,IF(Main!$E$12=A1434,A1434,\"\")),\"\")","v":""},"","","","","","","",""]
[{"$nulls":23},{"$f":"IF(A1435<>\"\",IF(Main!$E$12=\"ALL\",A1435,IF(Main!$E$12=A1435,A1435,\"\")),\"\")","v":""},"","","","","","","",""]
[{"$nulls":23},{"$f":"IF(A1436<>\"\",IF(Main!$E$12=\"ALL\",A1436,IF(Main!$E$12=A1436,A1436,\"\")),\"\")","v":""},"","","","","","","",""]
[{"$nulls":23},{"$f":"IF(A1437<>\"\",IF(Main!$E$12=\"ALL\",A1437,IF(Main!$E$12=A1437,A1437,\"\")),\"\")","v":""},"","","","","","","",""]
[{"$nulls":23},{"$f":"IF(A1438<>\"\",IF(Main!$E$12=\"ALL\",A1438,IF(Main!$E$12=A1438,A1438,\"\")),\"\")","v":""},"","","","","","","",""]
[{"$nulls":23},{"$f":"IF(A1439<>\"\",IF(Main!$E$12=\"ALL\",A1439,IF(Main!$E$12=A1439,A1439,\"\")),\"\")","v":""},"","","","","","","",""]
[{"$nulls":23},{"$f":"IF(A1440<>\"\",IF(Main!$E$12=\"ALL\",A1440,IF(Main!$E$12=A1440,A1440,\"\")),\"\")","v":""},"","","","","","","",""]
[{"$nulls":23},{"$f":"IF(A1441<>\"\",IF(Main!$E$12=\"ALL\",A1441,IF(Main!$E$12=A1441,A1441,\"\")),\"\")","v":""},"","","","","","","",""]
[{"$nulls":23},{"$f":"IF(A1442<>\"\",IF(Main!$E$12=\"ALL\",A1442,IF(Main!$E$12=A1442,A1442,\"\")),\"\")","v":""},"","","","","","","",""]
[{"$nulls":23},{"$f":"IF(A1443<>\"\",IF(Main!$E$12=\"ALL\",A1443,IF(Main!$E$12=A1443,A1443,\"\")),\"\")","v":""},"","","","","","","",""]
[{"$nulls":23},{"$f":"IF(A1444<>\"\",IF(Main!$E$12=\"ALL\",A1444,IF(Main!$E$12=A1444,A1444,\"\")),\"\")","v":""},"","","","","","","",""]
[{"$nulls":23},{"$f":"IF(A1445<>\"\",IF(Main!$E$12=\"ALL\",A1445,IF(Main!$E$12=A1445,A1445,\"\")),\"\")","v":""},"","","","","","","",""]
[{"$nulls":23},{"$f":"IF(A1446<>\"\",IF(Main!$E$12=\"ALL\",A1446,IF(Main!$E$12=A1446,A1446,\"\")),\"\")","v":""},"","","","","","","",""]
[{"$nulls":23},{"$f":"IF(A1447<>\"\",IF(Main!$E$12=\"ALL\",A1447,IF(Main!$E$12=A1447,A1447,\"\")),\"\")","v":""},"","","","","","","",""]
[{"$nulls":23},{"$f":"IF(A1448<>\"\",IF(Main!$E$12=\"ALL\",A1448,IF(Main!$E$12=A1448,A1448,\"\")),\"\")","v":""},"","","","","","","",""]
[{"$nulls":23},{"$f":"IF(A1449<>\"\",IF(Main!$E$12=\"ALL\",A1449,IF(Main!$E$12=A1449,A1449,\"\")),\"\")","v":""},"","","","","","","",""]
[{"$nulls":23},{"$f":"IF(A1450<>\"\",IF(Main!$E$12=\"ALL\",A1450,IF(Main!$E$12=A1450,A1450,\"\")),\"\")","v":""},"","","","","","","",""]
[{"$nulls":23},{"$f":"IF(A1451<>\"\",IF(Main!$E$12=\"ALL\",A1451,IF(Main!$E$12=A1451,A1451,\"\")),\"\")","v":""},"","","","","","","",""]
[{"$nulls":23},{"$f":"IF(A1452<>\"\",IF(Main!$E$12=\"ALL\",A1452,IF(Main!$E$12=A1452,A1452,\"\")),\"\")","v":""},"","","","","","","",""]
[{"$nulls":23},{"$f":"IF(A1453<>\"\",IF(Main!$E$12=\"ALL\",A1453,IF(Main!$E$12=A1453,A1453,\"\")),\"\")","v":""},"","","","","","","",""]
[{"$nulls":23},{"$f":"IF(A1454<>\"\",IF(Main!$E$12=\"ALL\",A1454,IF(Main!$E$12=A1454,A1454,\"\")),\"\")","v":""},"","","","","","","",""]
[{"$nulls":23},{"$f":"IF(A1455<>\"\",IF(Main!$E$12=\"ALL\",A1455,IF(Main!$E$12=A1455,A1455,\"\")),\"\")","v":""},"","","","","","","",""]
[{"$nulls":23},{"$f":"IF(A1456<>\"\",IF(Main!$E$12=\"ALL\",A1456,IF(Main!$E$12=A1456,A1456,\"\")),\"\")","v":""},"","","","","","","",""]
[{"$nulls":23},{"$f":"IF(A1457<>\"\",IF(Main!$E$12=\"ALL\",A1457,IF(Main!$E$12=A1457,A1457,\"\")),\"\")","v":""},"","","","","","","",""]
[{"$nulls":23},{"$f":"IF(A1458<>\"\",IF(Main!$E$12=\"ALL\",A1458,IF(Main!$E$12=A1458,A1458,\"\")),\"\")","v":""},"","","","","","","",""]
[{"$nulls":23},{"$f":"IF(A1459<>\"\",IF(Main!$E$12=\"ALL\",A1459,IF(Main!$E$12=A1459,A1459,\"\")),\"\")","v":""},"","","","","","","",""]
[{"$nulls":23},{"$f":"IF(A1460<>\"\",IF(Main!$E$12=\"ALL\",A1460,IF(Main!$E$12=A1460,A1460,\"\")),\"\")","v":""},"","","","","","","",""]
[{"$nulls":23},{"$f":"IF(A1461<>\"\",IF(Main!$E$12=\"ALL\",A1461,IF(Main!$E$12=A1461,A1461,\"\")),\"\")","v":""},"","","","","","","",""]
[{"$nulls":23},{"$f":"IF(A1462<>\"\",IF(Main!$E$12=\"ALL\",A1462,IF(Main!$E$12=A1462,A1462,\"\")),\"\")","v":""},"","","","","","","",""]
[{"$nulls":23},{"$f":"IF(A1463<>\"\",IF(Main!$E$12=\"ALL\",A1463,IF(Main!$E$12=A1463,A1463,\"\")),\"\")","v":""},"","","","","","","",""]
[{"$nulls":23},{"$f":"IF(A1464<>\"\",IF(Main!$E$12=\"ALL\",A1464,IF(Main!$E$12=A1464,A1464,\"\")),\"\")","v":""},"","","","","","","",""]
[{"$nulls":23},{"$f":"IF(A1465<>\"\",IF(Main!$E$12=\"ALL\",A1465,IF(Main!$E$12=A1465,A1465,\"\")),\"\")","v":""},"","","","","","","",""]
[{"$nulls":23},{"$f":"IF(A1466<>\"\",IF(Main!$E$12=\"ALL\",A1466,IF(Main!$E$12=A1466,A1466,\"\")),\"\")","v":""},"","","","","","","",""]
[{"$nulls":23},{"$f":"IF(A1467<>\"\",IF(Main!$E$12=\"ALL\",A1467,IF(Main!$E$12=A1467,A1467,\"\")),\"\")","v":""},"","","","","","","",""]
[{"$nulls":23},{"$f":"IF(A1468<>\"\",IF(Main!$E$12=\"ALL\",A1468,IF(Main!$E$12=A1468,A1468,\"\")),\"\")","v":""},"","","","","","","",""]
[{"$nulls":23},{"$f":"IF(A1469<>\"\",IF(Main!$E$12=\"ALL\",A1469,IF(Main!$E$12=A1469,A1469,\"\")),\"\")","v":""},"","","","","","","",""]
[{"$nulls":23},{"$f":"IF(A1470<>\"\",IF(Main!$E$12=\"ALL\",A1470,IF(Main!$E$12=A1470,A1470,\"\")),\"\")","v":""},"","","","","","","",""]
[{"$nulls":23},{"$f":"IF(A1471<>\"\",IF(Main!$E$12=\"ALL\",A1471,IF(Main!$E$12=A1471,A1471,\"\")),\"\")","v":""},"","","","","","","",""]
[{"$nulls":23},{"$f":"IF(A1472<>\"\",IF(Main!$E$12=\"ALL\",A1472,IF(Main!$E$12=A1472,A1472,\"\")),\"\")","v":""},"","","","","","","",""]
[{"$nulls":23},{"$f":"IF(A1473<>\"\",IF(Main!$E$12=\"ALL\",A1473,IF(Main!$E$12=A1473,A1473,\"\")),\"\")","v":""},"","","","","","","",""]
[{"$nulls":23},{"$f":"IF(A1474<>\"\",IF(Main!$E$12=\"ALL\",A1474,IF(Main!$E$12=A1474,A1474,\"\")),\"\")","v":""},"","","","","","","",""]
[{"$nulls":23},{"$f":"IF(A1475<>\"\",IF(Main!$E$12=\"ALL\",A1475,IF(Main!$E$12=A1475,A1475,\"\")),\"\")","v":""},{"$f":"IF($X1475=\"\",\"\",D1475)","v":""},{"$f":"IF($X1475=\"\",\"\",F1475)","v":""},{"$f":"IF($X1475=\"\",\"\",J1475)","v":""},{"$f":"IF($X1475=\"\",\"\",N1475)","v":""},{"$f":"IF($X1475=\"\",\"\",IF(P1475=\"\",\"\",P1475))","v":""},{"$f":"IF($X1475=\"\",\"\",R1475)","v":""},{"$f":"IF($X1475=\"\",\"\",T1475)","v":""},{"$f":"IF($X1475=\"\",\"\",V1475)","v":""}]
[{"$nulls":23},{"$f":"IF(A1476<>\"\",IF(Main!$E$12=\"ALL\",A1476,IF(Main!$E$12=A1476,A1476,\"\")),\"\")","v":""},"","","","","","","",""]
[{"$nulls":23},{"$f":"IF(A1477<>\"\",IF(Main!$E$12=\"ALL\",A1477,IF(Main!$E$12=A1477,A1477,\"\")),\"\")","v":""},"","","","","","","",""]
[{"$nulls":23},{"$f":"IF(A1478<>\"\",IF(Main!$E$12=\"ALL\",A1478,IF(Main!$E$12=A1478,A1478,\"\")),\"\")","v":""},"","","","","","","",""]
[{"$nulls":23},{"$f":"IF(A1479<>\"\",IF(Main!$E$12=\"ALL\",A1479,IF(Main!$E$12=A1479,A1479,\"\")),\"\")","v":""},"","","","","","","",""]
[{"$nulls":23},{"$f":"IF(A1480<>\"\",IF(Main!$E$12=\"ALL\",A1480,IF(Main!$E$12=A1480,A1480,\"\")),\"\")","v":""},"","","","","","","",""]
[{"$nulls":23},{"$f":"IF(A1481<>\"\",IF(Main!$E$12=\"ALL\",A1481,IF(Main!$E$12=A1481,A1481,\"\")),\"\")","v":""},"","","","","","","",""]
[{"$nulls":23},{"$f":"IF(A1482<>\"\",IF(Main!$E$12=\"ALL\",A1482,IF(Main!$E$12=A1482,A1482,\"\")),\"\")","v":""},"","","","","","","",""]
[{"$nulls":23},{"$f":"IF(A1483<>\"\",IF(Main!$E$12=\"ALL\",A1483,IF(Main!$E$12=A1483,A1483,\"\")),\"\")","v":""},"","","","","","","",""]
[{"$nulls":23},{"$f":"IF(A1484<>\"\",IF(Main!$E$12=\"ALL\",A1484,IF(Main!$E$12=A1484,A1484,\"\")),\"\")","v":""},"","","","","","","",""]
[{"$nulls":23},{"$f":"IF(A1485<>\"\",IF(Main!$E$12=\"ALL\",A1485,IF(Main!$E$12=A1485,A1485,\"\")),\"\")","v":""},"","","","","","","",""]
[{"$nulls":23},{"$f":"IF(A1486<>\"\",IF(Main!$E$12=\"ALL\",A1486,IF(Main!$E$12=A1486,A1486,\"\")),\"\")","v":""},"","","","","","","",""]
[{"$nulls":23},{"$f":"IF(A1487<>\"\",IF(Main!$E$12=\"ALL\",A1487,IF(Main!$E$12=A1487,A1487,\"\")),\"\")","v":""},"","","","","","","",""]
[{"$nulls":23},{"$f":"IF(A1488<>\"\",IF(Main!$E$12=\"ALL\",A1488,IF(Main!$E$12=A1488,A1488,\"\")),\"\")","v":""},"","","","","","","",""]
[{"$nulls":23},{"$f":"IF(A1489<>\"\",IF(Main!$E$12=\"ALL\",A1489,IF(Main!$E$12=A1489,A1489,\"\")),\"\")","v":""},"","","","","","","",""]
[{"$nulls":23},{"$f":"IF(A1490<>\"\",IF(Main!$E$12=\"ALL\",A1490,IF(Main!$E$12=A1490,A1490,\"\")),\"\")","v":""},"","","","","","","",""]
[{"$nulls":23},{"$f":"IF(A1491<>\"\",IF(Main!$E$12=\"ALL\",A1491,IF(Main!$E$12=A1491,A1491,\"\")),\"\")","v":""},"","","","","","","",""]
[{"$nulls":23},{"$f":"IF(A1492<>\"\",IF(Main!$E$12=\"ALL\",A1492,IF(Main!$E$12=A1492,A1492,\"\")),\"\")","v":""},"","","","","","","",""]
[{"$nulls":23},{"$f":"IF(A1493<>\"\",IF(Main!$E$12=\"ALL\",A1493,IF(Main!$E$12=A1493,A1493,\"\")),\"\")","v":""},"","","","","","","",""]
[{"$nulls":23},{"$f":"IF(A1494<>\"\",IF(Main!$E$12=\"ALL\",A1494,IF(Main!$E$12=A1494,A1494,\"\")),\"\")","v":""},"","","","","","","",""]
[{"$nulls":23},{"$f":"IF(A1495<>\"\",IF(Main!$E$12=\"ALL\",A1495,IF(Main!$E$12=A1495,A1495,\"\")),\"\")","v":""},"","","","","","","",""]
[{"$nulls":23},{"$f":"IF(A1496<>\"\",IF(Main!$E$12=\"ALL\",A1496,IF(Main!$E$12=A1496,A1496,\"\")),\"\")","v":""},"","","","","","","",""]
[{"$nulls":23},{"$f":"IF(A1497<>\"\",IF(Main!$E$12=\"ALL\",A1497,IF(Main!$E$12=A1497,A1497,\"\")),\"\")","v":""},"","","","","","","",""]
[{"$nulls":23},{"$f":"IF(A1498<>\"\",IF(Main!$E$12=\"ALL\",A1498,IF(Main!$E$12=A1498,A1498,\"\")),\"\")","v":""},"","","","","","","",""]
[{"$nulls":23},{"$f":"IF(A1499<>\"\",IF(Main!$E$12=\"ALL\",A1499,IF(Main!$E$12=A1499,A1499,\"\")),\"\")","v":""},"","","","","","","",""]
[{"$nulls":23},{"$f":"IF(A1500<>\"\",IF(Main!$E$12=\"ALL\",A1500,IF(Main!$E$12=A1500,A1500,\"\")),\"\")","v":""},"","","","","","","",""]
[{"$nulls":23},{"$f":"IF(A1501<>\"\",IF(Main!$E$12=\"ALL\",A1501,IF(Main!$E$12=A1501,A1501,\"\")),\"\")","v":""},"","","","","","","",""]
[{"$nulls":23},{"$f":"IF(A1502<>\"\",IF(Main!$E$12=\"ALL\",A1502,IF(Main!$E$12=A1502,A1502,\"\")),\"\")","v":""},"","","","","","","",""]
[{"$nulls":23},{"$f":"IF(A1503<>\"\",IF(Main!$E$12=\"ALL\",A1503,IF(Main!$E$12=A1503,A1503,\"\")),\"\")","v":""},"","","","","","","",""]
[{"$nulls":23},{"$f":"IF(A1504<>\"\",IF(Main!$E$12=\"ALL\",A1504,IF(Main!$E$12=A1504,A1504,\"\")),\"\")","v":""},"","","","","","","",""]
[{"$nulls":23},{"$f":"IF(A1505<>\"\",IF(Main!$E$12=\"ALL\",A1505,IF(Main!$E$12=A1505,A1505,\"\")),\"\")","v":""},"","","","","","","",""]
[{"$nulls":23},{"$f":"IF(A1506<>\"\",IF(Main!$E$12=\"ALL\",A1506,IF(Main!$E$12=A1506,A1506,\"\")),\"\")","v":""},"","","","","","","",""]
[{"$nulls":23},{"$f":"IF(A1507<>\"\",IF(Main!$E$12=\"ALL\",A1507,IF(Main!$E$12=A1507,A1507,\"\")),\"\")","v":""},"","","","","","","",""]
[{"$nulls":23},{"$f":"IF(A1508<>\"\",IF(Main!$E$12=\"ALL\",A1508,IF(Main!$E$12=A1508,A1508,\"\")),\"\")","v":""},"","","","","","","",""]
[{"$nulls":23},{"$f":"IF(A1509<>\"\",IF(Main!$E$12=\"ALL\",A1509,IF(Main!$E$12=A1509,A1509,\"\")),\"\")","v":""},"","","","","","","",""]
[{"$nulls":23},{"$f":"IF(A1510<>\"\",IF(Main!$E$12=\"ALL\",A1510,IF(Main!$E$12=A1510,A1510,\"\")),\"\")","v":""},"","","","","","","",""]
[{"$nulls":23},{"$f":"IF(A1511<>\"\",IF(Main!$E$12=\"ALL\",A1511,IF(Main!$E$12=A1511,A1511,\"\")),\"\")","v":""},"","","","","","","",""]
[{"$nulls":23},{"$f":"IF(A1512<>\"\",IF(Main!$E$12=\"ALL\",A1512,IF(Main!$E$12=A1512,A1512,\"\")),\"\")","v":""},"","","","","","","",""]
[{"$nulls":23},{"$f":"IF(A1513<>\"\",IF(Main!$E$12=\"ALL\",A1513,IF(Main!$E$12=A1513,A1513,\"\")),\"\")","v":""},"","","","","","","",""]
[{"$nulls":23},{"$f":"IF(A1514<>\"\",IF(Main!$E$12=\"ALL\",A1514,IF(Main!$E$12=A1514,A1514,\"\")),\"\")","v":""},"","","","","","","",""]
[{"$nulls":23},{"$f":"IF(A1515<>\"\",IF(Main!$E$12=\"ALL\",A1515,IF(Main!$E$12=A1515,A1515,\"\")),\"\")","v":""},"","","","","","","",""]
[{"$nulls":23},{"$f":"IF(A1516<>\"\",IF(Main!$E$12=\"ALL\",A1516,IF(Main!$E$12=A1516,A1516,\"\")),\"\")","v":""},"","","","","","","",""]
[{"$nulls":23},{"$f":"IF(A1517<>\"\",IF(Main!$E$12=\"ALL\",A1517,IF(Main!$E$12=A1517,A1517,\"\")),\"\")","v":""},"","","","","","","",""]
[{"$nulls":23},{"$f":"IF(A1518<>\"\",IF(Main!$E$12=\"ALL\",A1518,IF(Main!$E$12=A1518,A1518,\"\")),\"\")","v":""},"","","","","","","",""]
[{"$nulls":23},{"$f":"IF(A1519<>\"\",IF(Main!$E$12=\"ALL\",A1519,IF(Main!$E$12=A1519,A1519,\"\")),\"\")","v":""},"","","","","","","",""]
[{"$nulls":23},{"$f":"IF(A1520<>\"\",IF(Main!$E$12=\"ALL\",A1520,IF(Main!$E$12=A1520,A1520,\"\")),\"\")","v":""},"","","","","","","",""]
[{"$nulls":23},{"$f":"IF(A1521<>\"\",IF(Main!$E$12=\"ALL\",A1521,IF(Main!$E$12=A1521,A1521,\"\")),\"\")","v":""},"","","","","","","",""]
[{"$nulls":23},{"$f":"IF(A1522<>\"\",IF(Main!$E$12=\"ALL\",A1522,IF(Main!$E$12=A1522,A1522,\"\")),\"\")","v":""},"","","","","","","",""]
[{"$nulls":23},{"$f":"IF(A1523<>\"\",IF(Main!$E$12=\"ALL\",A1523,IF(Main!$E$12=A1523,A1523,\"\")),\"\")","v":""},"","","","","","","",""]
[{"$nulls":23},{"$f":"IF(A1524<>\"\",IF(Main!$E$12=\"ALL\",A1524,IF(Main!$E$12=A1524,A1524,\"\")),\"\")","v":""},"","","","","","","",""]
[{"$nulls":23},{"$f":"IF(A1525<>\"\",IF(Main!$E$12=\"ALL\",A1525,IF(Main!$E$12=A1525,A1525,\"\")),\"\")","v":""},"","","","","","","",""]
[{"$nulls":23},{"$f":"IF(A1526<>\"\",IF(Main!$E$12=\"ALL\",A1526,IF(Main!$E$12=A1526,A1526,\"\")),\"\")","v":""},"","","","","","","",""]
[{"$nulls":23},{"$f":"IF(A1527<>\"\",IF(Main!$E$12=\"ALL\",A1527,IF(Main!$E$12=A1527,A1527,\"\")),\"\")","v":""},"","","","","","","",""]
[{"$nulls":23},{"$f":"IF(A1528<>\"\",IF(Main!$E$12=\"ALL\",A1528,IF(Main!$E$12=A1528,A1528,\"\")),\"\")","v":""},"","","","","","","",""]
[{"$nulls":23},{"$f":"IF(A1529<>\"\",IF(Main!$E$12=\"ALL\",A1529,IF(Main!$E$12=A1529,A1529,\"\")),\"\")","v":""},"","","","","","","",""]
[{"$nulls":23},{"$f":"IF(A1530<>\"\",IF(Main!$E$12=\"ALL\",A1530,IF(Main!$E$12=A1530,A1530,\"\")),\"\")","v":""},"","","","","","","",""]
[{"$nulls":23},{"$f":"IF(A1531<>\"\",IF(Main!$E$12=\"ALL\",A1531,IF(Main!$E$12=A1531,A1531,\"\")),\"\")","v":""},"","","","","","","",""]
[{"$nulls":23},{"$f":"IF(A1532<>\"\",IF(Main!$E$12=\"ALL\",A1532,IF(Main!$E$12=A1532,A1532,\"\")),\"\")","v":""},"","","","","","","",""]
[{"$nulls":23},{"$f":"IF(A1533<>\"\",IF(Main!$E$12=\"ALL\",A1533,IF(Main!$E$12=A1533,A1533,\"\")),\"\")","v":""},"","","","","","","",""]
[{"$nulls":23},{"$f":"IF(A1534<>\"\",IF(Main!$E$12=\"ALL\",A1534,IF(Main!$E$12=A1534,A1534,\"\")),\"\")","v":""},"","","","","","","",""]
[{"$nulls":23},{"$f":"IF(A1535<>\"\",IF(Main!$E$12=\"ALL\",A1535,IF(Main!$E$12=A1535,A1535,\"\")),\"\")","v":""},"","","","","","","",""]
[{"$nulls":23},{"$f":"IF(A1536<>\"\",IF(Main!$E$12=\"ALL\",A1536,IF(Main!$E$12=A1536,A1536,\"\")),\"\")","v":""},"","","","","","","",""]
[{"$nulls":23},{"$f":"IF(A1537<>\"\",IF(Main!$E$12=\"ALL\",A1537,IF(Main!$E$12=A1537,A1537,\"\")),\"\")","v":""},"","","","","","","",""]
[{"$nulls":23},{"$f":"IF(A1538<>\"\",IF(Main!$E$12=\"ALL\",A1538,IF(Main!$E$12=A1538,A1538,\"\")),\"\")","v":""},"","","","","","","",""]
[{"$nulls":23},{"$f":"IF(A1539<>\"\",IF(Main!$E$12=\"ALL\",A1539,IF(Main!$E$12=A1539,A1539,\"\")),\"\")","v":""},{"$f":"IF($X1539=\"\",\"\",D1539)","v":""},{"$f":"IF($X1539=\"\",\"\",F1539)","v":""},{"$f":"IF($X1539=\"\",\"\",J1539)","v":""},{"$f":"IF($X1539=\"\",\"\",N1539)","v":""},{"$f":"IF($X1539=\"\",\"\",IF(P1539=\"\",\"\",P1539))","v":""},{"$f":"IF($X1539=\"\",\"\",R1539)","v":""},{"$f":"IF($X1539=\"\",\"\",T1539)","v":""},{"$f":"IF($X1539=\"\",\"\",V1539)","v":""}]
[{"$nulls":23},{"$f":"IF(A1540<>\"\",IF(Main!$E$12=\"ALL\",A1540,IF(Main!$E$12=A1540,A1540,\"\")),\"\")","v":""},"","","","","","","",""]
[{"$nulls":23},{"$f":"IF(A1541<>\"\",IF(Main!$E$12=\"ALL\",A1541,IF(Main!$E$12=A1541,A1541,\"\")),\"\")","v":""},"","","","","","","",""]
[{"$nulls":23},{"$f":"IF(A1542<>\"\",IF(Main!$E$12=\"ALL\",A1542,IF(Main!$E$12=A1542,A1542,\"\")),\"\")","v":""},"","","","","","","",""]
[{"$nulls":23},{"$f":"IF(A1543<>\"\",IF(Main!$E$12=\"ALL\",A1543,IF(Main!$E$12=A1543,A1543,\"\")),\"\")","v":""},"","","","","","","",""]
[{"$nulls":23},{"$f":"IF(A1544<>\"\",IF(Main!$E$12=\"ALL\",A1544,IF(Main!$E$12=A1544,A1544,\"\")),\"\")","v":""},"","","","","","","",""]
[{"$nulls":23},{"$f":"IF(A1545<>\"\",IF(Main!$E$12=\"ALL\",A1545,IF(Main!$E$12=A1545,A1545,\"\")),\"\")","v":""},"","","","","","","",""]
[{"$nulls":23},{"$f":"IF(A1546<>\"\",IF(Main!$E$12=\"ALL\",A1546,IF(Main!$E$12=A1546,A1546,\"\")),\"\")","v":""},"","","","","","","",""]
[{"$nulls":23},{"$f":"IF(A1547<>\"\",IF(Main!$E$12=\"ALL\",A1547,IF(Main!$E$12=A1547,A1547,\"\")),\"\")","v":""},"","","","","","","",""]
[{"$nulls":23},{"$f":"IF(A1548<>\"\",IF(Main!$E$12=\"ALL\",A1548,IF(Main!$E$12=A1548,A1548,\"\")),\"\")","v":""},"","","","","","","",""]
[{"$nulls":23},{"$f":"IF(A1549<>\"\",IF(Main!$E$12=\"ALL\",A1549,IF(Main!$E$12=A1549,A1549,\"\")),\"\")","v":""},"","","","","","","",""]
[{"$nulls":23},{"$f":"IF(A1550<>\"\",IF(Main!$E$12=\"ALL\",A1550,IF(Main!$E$12=A1550,A1550,\"\")),\"\")","v":""},"","","","","","","",""]
[{"$nulls":23},{"$f":"IF(A1551<>\"\",IF(Main!$E$12=\"ALL\",A1551,IF(Main!$E$12=A1551,A1551,\"\")),\"\")","v":""},"","","","","","","",""]
[{"$nulls":23},{"$f":"IF(A1552<>\"\",IF(Main!$E$12=\"ALL\",A1552,IF(Main!$E$12=A1552,A1552,\"\")),\"\")","v":""},"","","","","","","",""]
[{"$nulls":23},{"$f":"IF(A1553<>\"\",IF(Main!$E$12=\"ALL\",A1553,IF(Main!$E$12=A1553,A1553,\"\")),\"\")","v":""},"","","","","","","",""]
[{"$nulls":23},{"$f":"IF(A1554<>\"\",IF(Main!$E$12=\"ALL\",A1554,IF(Main!$E$12=A1554,A1554,\"\")),\"\")","v":""},"","","","","","","",""]
[{"$nulls":23},{"$f":"IF(A1555<>\"\",IF(Main!$E$12=\"ALL\",A1555,IF(Main!$E$12=A1555,A1555,\"\")),\"\")","v":""},"","","","","","","",""]
[{"$nulls":23},{"$f":"IF(A1556<>\"\",IF(Main!$E$12=\"ALL\",A1556,IF(Main!$E$12=A1556,A1556,\"\")),\"\")","v":""},"","","","","","","",""]
[{"$nulls":23},{"$f":"IF(A1557<>\"\",IF(Main!$E$12=\"ALL\",A1557,IF(Main!$E$12=A1557,A1557,\"\")),\"\")","v":""},"","","","","","","",""]
[{"$nulls":23},{"$f":"IF(A1558<>\"\",IF(Main!$E$12=\"ALL\",A1558,IF(Main!$E$12=A1558,A1558,\"\")),\"\")","v":""},"","","","","","","",""]
[{"$nulls":23},{"$f":"IF(A1559<>\"\",IF(Main!$E$12=\"ALL\",A1559,IF(Main!$E$12=A1559,A1559,\"\")),\"\")","v":""},"","","","","","","",""]
[{"$nulls":23},{"$f":"IF(A1560<>\"\",IF(Main!$E$12=\"ALL\",A1560,IF(Main!$E$12=A1560,A1560,\"\")),\"\")","v":""},"","","","","","","",""]
[{"$nulls":23},{"$f":"IF(A1561<>\"\",IF(Main!$E$12=\"ALL\",A1561,IF(Main!$E$12=A1561,A1561,\"\")),\"\")","v":""},"","","","","","","",""]
[{"$nulls":23},{"$f":"IF(A1562<>\"\",IF(Main!$E$12=\"ALL\",A1562,IF(Main!$E$12=A1562,A1562,\"\")),\"\")","v":""},"","","","","","","",""]
[{"$nulls":23},{"$f":"IF(A1563<>\"\",IF(Main!$E$12=\"ALL\",A1563,IF(Main!$E$12=A1563,A1563,\"\")),\"\")","v":""},"","","","","","","",""]
[{"$nulls":23},{"$f":"IF(A1564<>\"\",IF(Main!$E$12=\"ALL\",A1564,IF(Main!$E$12=A1564,A1564,\"\")),\"\")","v":""},"","","","","","","",""]
[{"$nulls":23},{"$f":"IF(A1565<>\"\",IF(Main!$E$12=\"ALL\",A1565,IF(Main!$E$12=A1565,A1565,\"\")),\"\")","v":""},"","","","","","","",""]
[{"$nulls":23},{"$f":"IF(A1566<>\"\",IF(Main!$E$12=\"ALL\",A1566,IF(Main!$E$12=A1566,A1566,\"\")),\"\")","v":""},"","","","","","","",""]
[{"$nulls":23},{"$f":"IF(A1567<>\"\",IF(Main!$E$12=\"ALL\",A1567,IF(Main!$E$12=A1567,A1567,\"\")),\"\")","v":""},"","","","","","","",""]
[{"$nulls":23},{"$f":"IF(A1568<>\"\",IF(Main!$E$12=\"ALL\",A1568,IF(Main!$E$12=A1568,A1568,\"\")),\"\")","v":""},"","","","","","","",""]
[{"$nulls":23},{"$f":"IF(A1569<>\"\",IF(Main!$E$12=\"ALL\",A1569,IF(Main!$E$12=A1569,A1569,\"\")),\"\")","v":""},"","","","","","","",""]
[{"$nulls":23},{"$f":"IF(A1570<>\"\",IF(Main!$E$12=\"ALL\",A1570,IF(Main!$E$12=A1570,A1570,\"\")),\"\")","v":""},"","","","","","","",""]
[{"$nulls":23},{"$f":"IF(A1571<>\"\",IF(Main!$E$12=\"ALL\",A1571,IF(Main!$E$12=A1571,A1571,\"\")),\"\")","v":""},"","","","","","","",""]
[{"$nulls":23},{"$f":"IF(A1572<>\"\",IF(Main!$E$12=\"ALL\",A1572,IF(Main!$E$12=A1572,A1572,\"\")),\"\")","v":""},"","","","","","","",""]
[{"$nulls":23},{"$f":"IF(A1573<>\"\",IF(Main!$E$12=\"ALL\",A1573,IF(Main!$E$12=A1573,A1573,\"\")),\"\")","v":""},"","","","","","","",""]
[{"$nulls":23},{"$f":"IF(A1574<>\"\",IF(Main!$E$12=\"ALL\",A1574,IF(Main!$E$12=A1574,A1574,\"\")),\"\")","v":""},"","","","","","","",""]
[{"$nulls":23},{"$f":"IF(A1575<>\"\",IF(Main!$E$12=\"ALL\",A1575,IF(Main!$E$12=A1575,A1575,\"\")),\"\")","v":""},"","","","","","","",""]
[{"$nulls":23},{"$f":"IF(A1576<>\"\",IF(Main!$E$12=\"ALL\",A1576,IF(Main!$E$12=A1576,A1576,\"\")),\"\")","v":""},"","","","","","","",""]
[{"$nulls":23},{"$f":"IF(A1577<>\"\",IF(Main!$E$12=\"ALL\",A1577,IF(Main!$E$12=A1577,A1577,\"\")),\"\")","v":""},"","","","","","","",""]
[{"$nulls":23},{"$f":"IF(A1578<>\"\",IF(Main!$E$12=\"ALL\",A1578,IF(Main!$E$12=A1578,A1578,\"\")),\"\")","v":""},"","","","","","","",""]
[{"$nulls":23},{"$f":"IF(A1579<>\"\",IF(Main!$E$12=\"ALL\",A1579,IF(Main!$E$12=A1579,A1579,\"\")),\"\")","v":""},"","","","","","","",""]
[{"$nulls":23},{"$f":"IF(A1580<>\"\",IF(Main!$E$12=\"ALL\",A1580,IF(Main!$E$12=A1580,A1580,\"\")),\"\")","v":""},"","","","","","","",""]
[{"$nulls":23},{"$f":"IF(A1581<>\"\",IF(Main!$E$12=\"ALL\",A1581,IF(Main!$E$12=A1581,A1581,\"\")),\"\")","v":""},"","","","","","","",""]
[{"$nulls":23},{"$f":"IF(A1582<>\"\",IF(Main!$E$12=\"ALL\",A1582,IF(Main!$E$12=A1582,A1582,\"\")),\"\")","v":""},"","","","","","","",""]
[{"$nulls":23},{"$f":"IF(A1583<>\"\",IF(Main!$E$12=\"ALL\",A1583,IF(Main!$E$12=A1583,A1583,\"\")),\"\")","v":""},"","","","","","","",""]
[{"$nulls":23},{"$f":"IF(A1584<>\"\",IF(Main!$E$12=\"ALL\",A1584,IF(Main!$E$12=A1584,A1584,\"\")),\"\")","v":""},"","","","","","","",""]
[{"$nulls":23},{"$f":"IF(A1585<>\"\",IF(Main!$E$12=\"ALL\",A1585,IF(Main!$E$12=A1585,A1585,\"\")),\"\")","v":""},"","","","","","","",""]
[{"$nulls":23},{"$f":"IF(A1586<>\"\",IF(Main!$E$12=\"ALL\",A1586,IF(Main!$E$12=A1586,A1586,\"\")),\"\")","v":""},"","","","","","","",""]
[{"$nulls":23},{"$f":"IF(A1587<>\"\",IF(Main!$E$12=\"ALL\",A1587,IF(Main!$E$12=A1587,A1587,\"\")),\"\")","v":""},"","","","","","","",""]
[{"$nulls":23},{"$f":"IF(A1588<>\"\",IF(Main!$E$12=\"ALL\",A1588,IF(Main!$E$12=A1588,A1588,\"\")),\"\")","v":""},"","","","","","","",""]
[{"$nulls":23},{"$f":"IF(A1589<>\"\",IF(Main!$E$12=\"ALL\",A1589,IF(Main!$E$12=A1589,A1589,\"\")),\"\")","v":""},"","","","","","","",""]
[{"$nulls":23},{"$f":"IF(A1590<>\"\",IF(Main!$E$12=\"ALL\",A1590,IF(Main!$E$12=A1590,A1590,\"\")),\"\")","v":""},"","","","","","","",""]
[{"$nulls":23},{"$f":"IF(A1591<>\"\",IF(Main!$E$12=\"ALL\",A1591,IF(Main!$E$12=A1591,A1591,\"\")),\"\")","v":""},"","","","","","","",""]
[{"$nulls":23},{"$f":"IF(A1592<>\"\",IF(Main!$E$12=\"ALL\",A1592,IF(Main!$E$12=A1592,A1592,\"\")),\"\")","v":""},"","","","","","","",""]
[{"$nulls":23},{"$f":"IF(A1593<>\"\",IF(Main!$E$12=\"ALL\",A1593,IF(Main!$E$12=A1593,A1593,\"\")),\"\")","v":""},"","","","","","","",""]
[{"$nulls":23},{"$f":"IF(A1594<>\"\",IF(Main!$E$12=\"ALL\",A1594,IF(Main!$E$12=A1594,A1594,\"\")),\"\")","v":""},"","","","","","","",""]
[{"$nulls":23},{"$f":"IF(A1595<>\"\",IF(Main!$E$12=\"ALL\",A1595,IF(Main!$E$12=A1595,A1595,\"\")),\"\")","v":""},"","","","","","","",""]
[{"$nulls":23},{"$f":"IF(A1596<>\"\",IF(Main!$E$12=\"ALL\",A1596,IF(Main!$E$12=A1596,A1596,\"\")),\"\")","v":""},"","","","","","","",""]
[{"$nulls":23},{"$f":"IF(A1597<>\"\",IF(Main!$E$12=\"ALL\",A1597,IF(Main!$E$12=A1597,A1597,\"\")),\"\")","v":""},"","","","","","","",""]
[{"$nulls":23},{"$f":"IF(A1598<>\"\",IF(Main!$E$12=\"ALL\",A1598,IF(Main!$E$12=A1598,A1598,\"\")),\"\")","v":""},"","","","","","","",""]
[{"$nulls":23},{"$f":"IF(A1599<>\"\",IF(Main!$E$12=\"ALL\",A1599,IF(Main!$E$12=A1599,A1599,\"\")),\"\")","v":""},"","","","","","","",""]
[{"$nulls":23},{"$f":"IF(A1600<>\"\",IF(Main!$E$12=\"ALL\",A1600,IF(Main!$E$12=A1600,A1600,\"\")),\"\")","v":""},"","","","","","","",""]
[{"$nulls":23},{"$f":"IF(A1601<>\"\",IF(Main!$E$12=\"ALL\",A1601,IF(Main!$E$12=A1601,A1601,\"\")),\"\")","v":""},"","","","","","","",""]
[{"$nulls":23},{"$f":"IF(A1602<>\"\",IF(Main!$E$12=\"ALL\",A1602,IF(Main!$E$12=A1602,A1602,\"\")),\"\")","v":""},"","","","","","","",""]
[{"$nulls":23},{"$f":"IF(A1603<>\"\",IF(Main!$E$12=\"ALL\",A1603,IF(Main!$E$12=A1603,A1603,\"\")),\"\")","v":""},{"$f":"IF($X1603=\"\",\"\",D1603)","v":""},{"$f":"IF($X1603=\"\",\"\",F1603)","v":""},{"$f":"IF($X1603=\"\",\"\",J1603)","v":""},{"$f":"IF($X1603=\"\",\"\",N1603)","v":""},{"$f":"IF($X1603=\"\",\"\",IF(P1603=\"\",\"\",P1603))","v":""},{"$f":"IF($X1603=\"\",\"\",R1603)","v":""},{"$f":"IF($X1603=\"\",\"\",T1603)","v":""},{"$f":"IF($X1603=\"\",\"\",V1603)","v":""}]
[{"$nulls":23},{"$f":"IF(A1604<>\"\",IF(Main!$E$12=\"ALL\",A1604,IF(Main!$E$12=A1604,A1604,\"\")),\"\")","v":""},"","","","","","","",""]
[{"$nulls":23},{"$f":"IF(A1605<>\"\",IF(Main!$E$12=\"ALL\",A1605,IF(Main!$E$12=A1605,A1605,\"\")),\"\")","v":""},"","","","","","","",""]
[{"$nulls":23},{"$f":"IF(A1606<>\"\",IF(Main!$E$12=\"ALL\",A1606,IF(Main!$E$12=A1606,A1606,\"\")),\"\")","v":""},"","","","","","","",""]
[{"$nulls":23},{"$f":"IF(A1607<>\"\",IF(Main!$E$12=\"ALL\",A1607,IF(Main!$E$12=A1607,A1607,\"\")),\"\")","v":""},"","","","","","","",""]
[{"$nulls":23},{"$f":"IF(A1608<>\"\",IF(Main!$E$12=\"ALL\",A1608,IF(Main!$E$12=A1608,A1608,\"\")),\"\")","v":""},"","","","","","","",""]
[{"$nulls":23},{"$f":"IF(A1609<>\"\",IF(Main!$E$12=\"ALL\",A1609,IF(Main!$E$12=A1609,A1609,\"\")),\"\")","v":""},"","","","","","","",""]
[{"$nulls":23},{"$f":"IF(A1610<>\"\",IF(Main!$E$12=\"ALL\",A1610,IF(Main!$E$12=A1610,A1610,\"\")),\"\")","v":""},"","","","","","","",""]
[{"$nulls":23},{"$f":"IF(A1611<>\"\",IF(Main!$E$12=\"ALL\",A1611,IF(Main!$E$12=A1611,A1611,\"\")),\"\")","v":""},"","","","","","","",""]
[{"$nulls":23},{"$f":"IF(A1612<>\"\",IF(Main!$E$12=\"ALL\",A1612,IF(Main!$E$12=A1612,A1612,\"\")),\"\")","v":""},"","","","","","","",""]
[{"$nulls":23},{"$f":"IF(A1613<>\"\",IF(Main!$E$12=\"ALL\",A1613,IF(Main!$E$12=A1613,A1613,\"\")),\"\")","v":""},"","","","","","","",""]
[{"$nulls":23},{"$f":"IF(A1614<>\"\",IF(Main!$E$12=\"ALL\",A1614,IF(Main!$E$12=A1614,A1614,\"\")),\"\")","v":""},"","","","","","","",""]
[{"$nulls":23},{"$f":"IF(A1615<>\"\",IF(Main!$E$12=\"ALL\",A1615,IF(Main!$E$12=A1615,A1615,\"\")),\"\")","v":""},"","","","","","","",""]
[{"$nulls":23},{"$f":"IF(A1616<>\"\",IF(Main!$E$12=\"ALL\",A1616,IF(Main!$E$12=A1616,A1616,\"\")),\"\")","v":""},"","","","","","","",""]
[{"$nulls":23},{"$f":"IF(A1617<>\"\",IF(Main!$E$12=\"ALL\",A1617,IF(Main!$E$12=A1617,A1617,\"\")),\"\")","v":""},"","","","","","","",""]
[{"$nulls":23},{"$f":"IF(A1618<>\"\",IF(Main!$E$12=\"ALL\",A1618,IF(Main!$E$12=A1618,A1618,\"\")),\"\")","v":""},"","","","","","","",""]
[{"$nulls":23},{"$f":"IF(A1619<>\"\",IF(Main!$E$12=\"ALL\",A1619,IF(Main!$E$12=A1619,A1619,\"\")),\"\")","v":""},"","","","","","","",""]
[{"$nulls":23},{"$f":"IF(A1620<>\"\",IF(Main!$E$12=\"ALL\",A1620,IF(Main!$E$12=A1620,A1620,\"\")),\"\")","v":""},"","","","","","","",""]
[{"$nulls":23},{"$f":"IF(A1621<>\"\",IF(Main!$E$12=\"ALL\",A1621,IF(Main!$E$12=A1621,A1621,\"\")),\"\")","v":""},"","","","","","","",""]
[{"$nulls":23},{"$f":"IF(A1622<>\"\",IF(Main!$E$12=\"ALL\",A1622,IF(Main!$E$12=A1622,A1622,\"\")),\"\")","v":""},"","","","","","","",""]
[{"$nulls":23},{"$f":"IF(A1623<>\"\",IF(Main!$E$12=\"ALL\",A1623,IF(Main!$E$12=A1623,A1623,\"\")),\"\")","v":""},"","","","","","","",""]
[{"$nulls":23},{"$f":"IF(A1624<>\"\",IF(Main!$E$12=\"ALL\",A1624,IF(Main!$E$12=A1624,A1624,\"\")),\"\")","v":""},"","","","","","","",""]
[{"$nulls":23},{"$f":"IF(A1625<>\"\",IF(Main!$E$12=\"ALL\",A1625,IF(Main!$E$12=A1625,A1625,\"\")),\"\")","v":""},"","","","","","","",""]
[{"$nulls":23},{"$f":"IF(A1626<>\"\",IF(Main!$E$12=\"ALL\",A1626,IF(Main!$E$12=A1626,A1626,\"\")),\"\")","v":""},"","","","","","","",""]
[{"$nulls":23},{"$f":"IF(A1627<>\"\",IF(Main!$E$12=\"ALL\",A1627,IF(Main!$E$12=A1627,A1627,\"\")),\"\")","v":""},"","","","","","","",""]
[{"$nulls":23},{"$f":"IF(A1628<>\"\",IF(Main!$E$12=\"ALL\",A1628,IF(Main!$E$12=A1628,A1628,\"\")),\"\")","v":""},"","","","","","","",""]
[{"$nulls":23},{"$f":"IF(A1629<>\"\",IF(Main!$E$12=\"ALL\",A1629,IF(Main!$E$12=A1629,A1629,\"\")),\"\")","v":""},"","","","","","","",""]
[{"$nulls":23},{"$f":"IF(A1630<>\"\",IF(Main!$E$12=\"ALL\",A1630,IF(Main!$E$12=A1630,A1630,\"\")),\"\")","v":""},"","","","","","","",""]
[{"$nulls":23},{"$f":"IF(A1631<>\"\",IF(Main!$E$12=\"ALL\",A1631,IF(Main!$E$12=A1631,A1631,\"\")),\"\")","v":""},"","","","","","","",""]
[{"$nulls":23},{"$f":"IF(A1632<>\"\",IF(Main!$E$12=\"ALL\",A1632,IF(Main!$E$12=A1632,A1632,\"\")),\"\")","v":""},"","","","","","","",""]
[{"$nulls":23},{"$f":"IF(A1633<>\"\",IF(Main!$E$12=\"ALL\",A1633,IF(Main!$E$12=A1633,A1633,\"\")),\"\")","v":""},"","","","","","","",""]
[{"$nulls":23},{"$f":"IF(A1634<>\"\",IF(Main!$E$12=\"ALL\",A1634,IF(Main!$E$12=A1634,A1634,\"\")),\"\")","v":""},"","","","","","","",""]
[{"$nulls":23},{"$f":"IF(A1635<>\"\",IF(Main!$E$12=\"ALL\",A1635,IF(Main!$E$12=A1635,A1635,\"\")),\"\")","v":""},"","","","","","","",""]
[{"$nulls":23},{"$f":"IF(A1636<>\"\",IF(Main!$E$12=\"ALL\",A1636,IF(Main!$E$12=A1636,A1636,\"\")),\"\")","v":""},"","","","","","","",""]
[{"$nulls":23},{"$f":"IF(A1637<>\"\",IF(Main!$E$12=\"ALL\",A1637,IF(Main!$E$12=A1637,A1637,\"\")),\"\")","v":""},"","","","","","","",""]
[{"$nulls":23},{"$f":"IF(A1638<>\"\",IF(Main!$E$12=\"ALL\",A1638,IF(Main!$E$12=A1638,A1638,\"\")),\"\")","v":""},"","","","","","","",""]
[{"$nulls":23},{"$f":"IF(A1639<>\"\",IF(Main!$E$12=\"ALL\",A1639,IF(Main!$E$12=A1639,A1639,\"\")),\"\")","v":""},"","","","","","","",""]
[{"$nulls":23},{"$f":"IF(A1640<>\"\",IF(Main!$E$12=\"ALL\",A1640,IF(Main!$E$12=A1640,A1640,\"\")),\"\")","v":""},"","","","","","","",""]
[{"$nulls":23},{"$f":"IF(A1641<>\"\",IF(Main!$E$12=\"ALL\",A1641,IF(Main!$E$12=A1641,A1641,\"\")),\"\")","v":""},"","","","","","","",""]
[{"$nulls":23},{"$f":"IF(A1642<>\"\",IF(Main!$E$12=\"ALL\",A1642,IF(Main!$E$12=A1642,A1642,\"\")),\"\")","v":""},"","","","","","","",""]
[{"$nulls":23},{"$f":"IF(A1643<>\"\",IF(Main!$E$12=\"ALL\",A1643,IF(Main!$E$12=A1643,A1643,\"\")),\"\")","v":""},"","","","","","","",""]
[{"$nulls":23},{"$f":"IF(A1644<>\"\",IF(Main!$E$12=\"ALL\",A1644,IF(Main!$E$12=A1644,A1644,\"\")),\"\")","v":""},"","","","","","","",""]
[{"$nulls":23},{"$f":"IF(A1645<>\"\",IF(Main!$E$12=\"ALL\",A1645,IF(Main!$E$12=A1645,A1645,\"\")),\"\")","v":""},"","","","","","","",""]
[{"$nulls":23},{"$f":"IF(A1646<>\"\",IF(Main!$E$12=\"ALL\",A1646,IF(Main!$E$12=A1646,A1646,\"\")),\"\")","v":""},"","","","","","","",""]
[{"$nulls":23},{"$f":"IF(A1647<>\"\",IF(Main!$E$12=\"ALL\",A1647,IF(Main!$E$12=A1647,A1647,\"\")),\"\")","v":""},"","","","","","","",""]
[{"$nulls":23},{"$f":"IF(A1648<>\"\",IF(Main!$E$12=\"ALL\",A1648,IF(Main!$E$12=A1648,A1648,\"\")),\"\")","v":""},"","","","","","","",""]
[{"$nulls":23},{"$f":"IF(A1649<>\"\",IF(Main!$E$12=\"ALL\",A1649,IF(Main!$E$12=A1649,A1649,\"\")),\"\")","v":""},"","","","","","","",""]
[{"$nulls":23},{"$f":"IF(A1650<>\"\",IF(Main!$E$12=\"ALL\",A1650,IF(Main!$E$12=A1650,A1650,\"\")),\"\")","v":""},"","","","","","","",""]
[{"$nulls":23},{"$f":"IF(A1651<>\"\",IF(Main!$E$12=\"ALL\",A1651,IF(Main!$E$12=A1651,A1651,\"\")),\"\")","v":""},"","","","","","","",""]
[{"$nulls":23},{"$f":"IF(A1652<>\"\",IF(Main!$E$12=\"ALL\",A1652,IF(Main!$E$12=A1652,A1652,\"\")),\"\")","v":""},"","","","","","","",""]
[{"$nulls":23},{"$f":"IF(A1653<>\"\",IF(Main!$E$12=\"ALL\",A1653,IF(Main!$E$12=A1653,A1653,\"\")),\"\")","v":""},"","","","","","","",""]
[{"$nulls":23},{"$f":"IF(A1654<>\"\",IF(Main!$E$12=\"ALL\",A1654,IF(Main!$E$12=A1654,A1654,\"\")),\"\")","v":""},"","","","","","","",""]
[{"$nulls":23},{"$f":"IF(A1655<>\"\",IF(Main!$E$12=\"ALL\",A1655,IF(Main!$E$12=A1655,A1655,\"\")),\"\")","v":""},"","","","","","","",""]
[{"$nulls":23},{"$f":"IF(A1656<>\"\",IF(Main!$E$12=\"ALL\",A1656,IF(Main!$E$12=A1656,A1656,\"\")),\"\")","v":""},"","","","","","","",""]
[{"$nulls":23},{"$f":"IF(A1657<>\"\",IF(Main!$E$12=\"ALL\",A1657,IF(Main!$E$12=A1657,A1657,\"\")),\"\")","v":""},"","","","","","","",""]
[{"$nulls":23},{"$f":"IF(A1658<>\"\",IF(Main!$E$12=\"ALL\",A1658,IF(Main!$E$12=A1658,A1658,\"\")),\"\")","v":""},"","","","","","","",""]
[{"$nulls":23},{"$f":"IF(A1659<>\"\",IF(Main!$E$12=\"ALL\",A1659,IF(Main!$E$12=A1659,A1659,\"\")),\"\")","v":""},"","","","","","","",""]
[{"$nulls":23},{"$f":"IF(A1660<>\"\",IF(Main!$E$12=\"ALL\",A1660,IF(Main!$E$12=A1660,A1660,\"\")),\"\")","v":""},"","","","","","","",""]
[{"$nulls":23},{"$f":"IF(A1661<>\"\",IF(Main!$E$12=\"ALL\",A1661,IF(Main!$E$12=A1661,A1661,\"\")),\"\")","v":""},"","","","","","","",""]
[{"$nulls":23},{"$f":"IF(A1662<>\"\",IF(Main!$E$12=\"ALL\",A1662,IF(Main!$E$12=A1662,A1662,\"\")),\"\")","v":""},"","","","","","","",""]
[{"$nulls":23},{"$f":"IF(A1663<>\"\",IF(Main!$E$12=\"ALL\",A1663,IF(Main!$E$12=A1663,A1663,\"\")),\"\")","v":""},"","","","","","","",""]
[{"$nulls":23},{"$f":"IF(A1664<>\"\",IF(Main!$E$12=\"ALL\",A1664,IF(Main!$E$12=A1664,A1664,\"\")),\"\")","v":""},"","","","","","","",""]
[{"$nulls":23},{"$f":"IF(A1665<>\"\",IF(Main!$E$12=\"ALL\",A1665,IF(Main!$E$12=A1665,A1665,\"\")),\"\")","v":""},"","","","","","","",""]
[{"$nulls":23},{"$f":"IF(A1666<>\"\",IF(Main!$E$12=\"ALL\",A1666,IF(Main!$E$12=A1666,A1666,\"\")),\"\")","v":""},"","","","","","","",""]
[{"$nulls":23},{"$f":"IF(A1667<>\"\",IF(Main!$E$12=\"ALL\",A1667,IF(Main!$E$12=A1667,A1667,\"\")),\"\")","v":""},{"$f":"IF($X1667=\"\",\"\",D1667)","v":""},{"$f":"IF($X1667=\"\",\"\",F1667)","v":""},{"$f":"IF($X1667=\"\",\"\",J1667)","v":""},{"$f":"IF($X1667=\"\",\"\",N1667)","v":""},{"$f":"IF($X1667=\"\",\"\",IF(P1667=\"\",\"\",P1667))","v":""},{"$f":"IF($X1667=\"\",\"\",R1667)","v":""},{"$f":"IF($X1667=\"\",\"\",T1667)","v":""},{"$f":"IF($X1667=\"\",\"\",V1667)","v":""}]
[{"$nulls":23},{"$f":"IF(A1668<>\"\",IF(Main!$E$12=\"ALL\",A1668,IF(Main!$E$12=A1668,A1668,\"\")),\"\")","v":""},"","","","","","","",""]
[{"$nulls":23},{"$f":"IF(A1669<>\"\",IF(Main!$E$12=\"ALL\",A1669,IF(Main!$E$12=A1669,A1669,\"\")),\"\")","v":""},"","","","","","","",""]
[{"$nulls":23},{"$f":"IF(A1670<>\"\",IF(Main!$E$12=\"ALL\",A1670,IF(Main!$E$12=A1670,A1670,\"\")),\"\")","v":""},"","","","","","","",""]
[{"$nulls":23},{"$f":"IF(A1671<>\"\",IF(Main!$E$12=\"ALL\",A1671,IF(Main!$E$12=A1671,A1671,\"\")),\"\")","v":""},"","","","","","","",""]
[{"$nulls":23},{"$f":"IF(A1672<>\"\",IF(Main!$E$12=\"ALL\",A1672,IF(Main!$E$12=A1672,A1672,\"\")),\"\")","v":""},"","","","","","","",""]
[{"$nulls":23},{"$f":"IF(A1673<>\"\",IF(Main!$E$12=\"ALL\",A1673,IF(Main!$E$12=A1673,A1673,\"\")),\"\")","v":""},"","","","","","","",""]
[{"$nulls":23},{"$f":"IF(A1674<>\"\",IF(Main!$E$12=\"ALL\",A1674,IF(Main!$E$12=A1674,A1674,\"\")),\"\")","v":""},"","","","","","","",""]
[{"$nulls":23},{"$f":"IF(A1675<>\"\",IF(Main!$E$12=\"ALL\",A1675,IF(Main!$E$12=A1675,A1675,\"\")),\"\")","v":""},"","","","","","","",""]
[{"$nulls":23},{"$f":"IF(A1676<>\"\",IF(Main!$E$12=\"ALL\",A1676,IF(Main!$E$12=A1676,A1676,\"\")),\"\")","v":""},"","","","","","","",""]
[{"$nulls":23},{"$f":"IF(A1677<>\"\",IF(Main!$E$12=\"ALL\",A1677,IF(Main!$E$12=A1677,A1677,\"\")),\"\")","v":""},"","","","","","","",""]
[{"$nulls":23},{"$f":"IF(A1678<>\"\",IF(Main!$E$12=\"ALL\",A1678,IF(Main!$E$12=A1678,A1678,\"\")),\"\")","v":""},"","","","","","","",""]
[{"$nulls":23},{"$f":"IF(A1679<>\"\",IF(Main!$E$12=\"ALL\",A1679,IF(Main!$E$12=A1679,A1679,\"\")),\"\")","v":""},"","","","","","","",""]
[{"$nulls":23},{"$f":"IF(A1680<>\"\",IF(Main!$E$12=\"ALL\",A1680,IF(Main!$E$12=A1680,A1680,\"\")),\"\")","v":""},"","","","","","","",""]
[{"$nulls":23},{"$f":"IF(A1681<>\"\",IF(Main!$E$12=\"ALL\",A1681,IF(Main!$E$12=A1681,A1681,\"\")),\"\")","v":""},"","","","","","","",""]
[{"$nulls":23},{"$f":"IF(A1682<>\"\",IF(Main!$E$12=\"ALL\",A1682,IF(Main!$E$12=A1682,A1682,\"\")),\"\")","v":""},"","","","","","","",""]
[{"$nulls":23},{"$f":"IF(A1683<>\"\",IF(Main!$E$12=\"ALL\",A1683,IF(Main!$E$12=A1683,A1683,\"\")),\"\")","v":""},"","","","","","","",""]
[{"$nulls":23},{"$f":"IF(A1684<>\"\",IF(Main!$E$12=\"ALL\",A1684,IF(Main!$E$12=A1684,A1684,\"\")),\"\")","v":""},"","","","","","","",""]
[{"$nulls":23},{"$f":"IF(A1685<>\"\",IF(Main!$E$12=\"ALL\",A1685,IF(Main!$E$12=A1685,A1685,\"\")),\"\")","v":""},"","","","","","","",""]
[{"$nulls":23},{"$f":"IF(A1686<>\"\",IF(Main!$E$12=\"ALL\",A1686,IF(Main!$E$12=A1686,A1686,\"\")),\"\")","v":""},"","","","","","","",""]
[{"$nulls":23},{"$f":"IF(A1687<>\"\",IF(Main!$E$12=\"ALL\",A1687,IF(Main!$E$12=A1687,A1687,\"\")),\"\")","v":""},"","","","","","","",""]
[{"$nulls":23},{"$f":"IF(A1688<>\"\",IF(Main!$E$12=\"ALL\",A1688,IF(Main!$E$12=A1688,A1688,\"\")),\"\")","v":""},"","","","","","","",""]
[{"$nulls":23},{"$f":"IF(A1689<>\"\",IF(Main!$E$12=\"ALL\",A1689,IF(Main!$E$12=A1689,A1689,\"\")),\"\")","v":""},"","","","","","","",""]
[{"$nulls":23},{"$f":"IF(A1690<>\"\",IF(Main!$E$12=\"ALL\",A1690,IF(Main!$E$12=A1690,A1690,\"\")),\"\")","v":""},"","","","","","","",""]
[{"$nulls":23},{"$f":"IF(A1691<>\"\",IF(Main!$E$12=\"ALL\",A1691,IF(Main!$E$12=A1691,A1691,\"\")),\"\")","v":""},"","","","","","","",""]
[{"$nulls":23},{"$f":"IF(A1692<>\"\",IF(Main!$E$12=\"ALL\",A1692,IF(Main!$E$12=A1692,A1692,\"\")),\"\")","v":""},"","","","","","","",""]
[{"$nulls":23},{"$f":"IF(A1693<>\"\",IF(Main!$E$12=\"ALL\",A1693,IF(Main!$E$12=A1693,A1693,\"\")),\"\")","v":""},"","","","","","","",""]
[{"$nulls":23},{"$f":"IF(A1694<>\"\",IF(Main!$E$12=\"ALL\",A1694,IF(Main!$E$12=A1694,A1694,\"\")),\"\")","v":""},"","","","","","","",""]
[{"$nulls":23},{"$f":"IF(A1695<>\"\",IF(Main!$E$12=\"ALL\",A1695,IF(Main!$E$12=A1695,A1695,\"\")),\"\")","v":""},"","","","","","","",""]
[{"$nulls":23},{"$f":"IF(A1696<>\"\",IF(Main!$E$12=\"ALL\",A1696,IF(Main!$E$12=A1696,A1696,\"\")),\"\")","v":""},"","","","","","","",""]
[{"$nulls":23},{"$f":"IF(A1697<>\"\",IF(Main!$E$12=\"ALL\",A1697,IF(Main!$E$12=A1697,A1697,\"\")),\"\")","v":""},"","","","","","","",""]
[{"$nulls":23},{"$f":"IF(A1698<>\"\",IF(Main!$E$12=\"ALL\",A1698,IF(Main!$E$12=A1698,A1698,\"\")),\"\")","v":""},"","","","","","","",""]
[{"$nulls":23},{"$f":"IF(A1699<>\"\",IF(Main!$E$12=\"ALL\",A1699,IF(Main!$E$12=A1699,A1699,\"\")),\"\")","v":""},"","","","","","","",""]
[{"$nulls":23},{"$f":"IF(A1700<>\"\",IF(Main!$E$12=\"ALL\",A1700,IF(Main!$E$12=A1700,A1700,\"\")),\"\")","v":""},"","","","","","","",""]
[{"$nulls":23},{"$f":"IF(A1701<>\"\",IF(Main!$E$12=\"ALL\",A1701,IF(Main!$E$12=A1701,A1701,\"\")),\"\")","v":""},"","","","","","","",""]
[{"$nulls":23},{"$f":"IF(A1702<>\"\",IF(Main!$E$12=\"ALL\",A1702,IF(Main!$E$12=A1702,A1702,\"\")),\"\")","v":""},"","","","","","","",""]
[{"$nulls":23},{"$f":"IF(A1703<>\"\",IF(Main!$E$12=\"ALL\",A1703,IF(Main!$E$12=A1703,A1703,\"\")),\"\")","v":""},"","","","","","","",""]
[{"$nulls":23},{"$f":"IF(A1704<>\"\",IF(Main!$E$12=\"ALL\",A1704,IF(Main!$E$12=A1704,A1704,\"\")),\"\")","v":""},"","","","","","","",""]
[{"$nulls":23},{"$f":"IF(A1705<>\"\",IF(Main!$E$12=\"ALL\",A1705,IF(Main!$E$12=A1705,A1705,\"\")),\"\")","v":""},"","","","","","","",""]
[{"$nulls":23},{"$f":"IF(A1706<>\"\",IF(Main!$E$12=\"ALL\",A1706,IF(Main!$E$12=A1706,A1706,\"\")),\"\")","v":""},"","","","","","","",""]
[{"$nulls":23},{"$f":"IF(A1707<>\"\",IF(Main!$E$12=\"ALL\",A1707,IF(Main!$E$12=A1707,A1707,\"\")),\"\")","v":""},"","","","","","","",""]
[{"$nulls":23},{"$f":"IF(A1708<>\"\",IF(Main!$E$12=\"ALL\",A1708,IF(Main!$E$12=A1708,A1708,\"\")),\"\")","v":""},"","","","","","","",""]
[{"$nulls":23},{"$f":"IF(A1709<>\"\",IF(Main!$E$12=\"ALL\",A1709,IF(Main!$E$12=A1709,A1709,\"\")),\"\")","v":""},"","","","","","","",""]
[{"$nulls":23},{"$f":"IF(A1710<>\"\",IF(Main!$E$12=\"ALL\",A1710,IF(Main!$E$12=A1710,A1710,\"\")),\"\")","v":""},"","","","","","","",""]
[{"$nulls":23},{"$f":"IF(A1711<>\"\",IF(Main!$E$12=\"ALL\",A1711,IF(Main!$E$12=A1711,A1711,\"\")),\"\")","v":""},"","","","","","","",""]
[{"$nulls":23},{"$f":"IF(A1712<>\"\",IF(Main!$E$12=\"ALL\",A1712,IF(Main!$E$12=A1712,A1712,\"\")),\"\")","v":""},"","","","","","","",""]
[{"$nulls":23},{"$f":"IF(A1713<>\"\",IF(Main!$E$12=\"ALL\",A1713,IF(Main!$E$12=A1713,A1713,\"\")),\"\")","v":""},"","","","","","","",""]
[{"$nulls":23},{"$f":"IF(A1714<>\"\",IF(Main!$E$12=\"ALL\",A1714,IF(Main!$E$12=A1714,A1714,\"\")),\"\")","v":""},"","","","","","","",""]
[{"$nulls":23},{"$f":"IF(A1715<>\"\",IF(Main!$E$12=\"ALL\",A1715,IF(Main!$E$12=A1715,A1715,\"\")),\"\")","v":""},"","","","","","","",""]
[{"$nulls":23},{"$f":"IF(A1716<>\"\",IF(Main!$E$12=\"ALL\",A1716,IF(Main!$E$12=A1716,A1716,\"\")),\"\")","v":""},"","","","","","","",""]
[{"$nulls":23},{"$f":"IF(A1717<>\"\",IF(Main!$E$12=\"ALL\",A1717,IF(Main!$E$12=A1717,A1717,\"\")),\"\")","v":""},"","","","","","","",""]
[{"$nulls":23},{"$f":"IF(A1718<>\"\",IF(Main!$E$12=\"ALL\",A1718,IF(Main!$E$12=A1718,A1718,\"\")),\"\")","v":""},"","","","","","","",""]
[{"$nulls":23},{"$f":"IF(A1719<>\"\",IF(Main!$E$12=\"ALL\",A1719,IF(Main!$E$12=A1719,A1719,\"\")),\"\")","v":""},"","","","","","","",""]
[{"$nulls":23},{"$f":"IF(A1720<>\"\",IF(Main!$E$12=\"ALL\",A1720,IF(Main!$E$12=A1720,A1720,\"\")),\"\")","v":""},"","","","","","","",""]
[{"$nulls":23},{"$f":"IF(A1721<>\"\",IF(Main!$E$12=\"ALL\",A1721,IF(Main!$E$12=A1721,A1721,\"\")),\"\")","v":""},"","","","","","","",""]
[{"$nulls":23},{"$f":"IF(A1722<>\"\",IF(Main!$E$12=\"ALL\",A1722,IF(Main!$E$12=A1722,A1722,\"\")),\"\")","v":""},"","","","","","","",""]
[{"$nulls":23},{"$f":"IF(A1723<>\"\",IF(Main!$E$12=\"ALL\",A1723,IF(Main!$E$12=A1723,A1723,\"\")),\"\")","v":""},"","","","","","","",""]
[{"$nulls":23},{"$f":"IF(A1724<>\"\",IF(Main!$E$12=\"ALL\",A1724,IF(Main!$E$12=A1724,A1724,\"\")),\"\")","v":""},"","","","","","","",""]
[{"$nulls":23},{"$f":"IF(A1725<>\"\",IF(Main!$E$12=\"ALL\",A1725,IF(Main!$E$12=A1725,A1725,\"\")),\"\")","v":""},"","","","","","","",""]
[{"$nulls":23},{"$f":"IF(A1726<>\"\",IF(Main!$E$12=\"ALL\",A1726,IF(Main!$E$12=A1726,A1726,\"\")),\"\")","v":""},"","","","","","","",""]
[{"$nulls":23},{"$f":"IF(A1727<>\"\",IF(Main!$E$12=\"ALL\",A1727,IF(Main!$E$12=A1727,A1727,\"\")),\"\")","v":""},"","","","","","","",""]
[{"$nulls":23},{"$f":"IF(A1728<>\"\",IF(Main!$E$12=\"ALL\",A1728,IF(Main!$E$12=A1728,A1728,\"\")),\"\")","v":""},"","","","","","","",""]
[{"$nulls":23},{"$f":"IF(A1729<>\"\",IF(Main!$E$12=\"ALL\",A1729,IF(Main!$E$12=A1729,A1729,\"\")),\"\")","v":""},"","","","","","","",""]
[{"$nulls":23},{"$f":"IF(A1730<>\"\",IF(Main!$E$12=\"ALL\",A1730,IF(Main!$E$12=A1730,A1730,\"\")),\"\")","v":""},"","","","","","","",""]
[{"$nulls":23},{"$f":"IF(A1731<>\"\",IF(Main!$E$12=\"ALL\",A1731,IF(Main!$E$12=A1731,A1731,\"\")),\"\")","v":""},{"$f":"IF($X1731=\"\",\"\",D1731)","v":""},{"$f":"IF($X1731=\"\",\"\",F1731)","v":""},{"$f":"IF($X1731=\"\",\"\",J1731)","v":""},{"$f":"IF($X1731=\"\",\"\",N1731)","v":""},{"$f":"IF($X1731=\"\",\"\",IF(P1731=\"\",\"\",P1731))","v":""},{"$f":"IF($X1731=\"\",\"\",R1731)","v":""},{"$f":"IF($X1731=\"\",\"\",T1731)","v":""},{"$f":"IF($X1731=\"\",\"\",V1731)","v":""}]
[{"$nulls":23},{"$f":"IF(A1732<>\"\",IF(Main!$E$12=\"ALL\",A1732,IF(Main!$E$12=A1732,A1732,\"\")),\"\")","v":""},"","","","","","","",""]
[{"$nulls":23},{"$f":"IF(A1733<>\"\",IF(Main!$E$12=\"ALL\",A1733,IF(Main!$E$12=A1733,A1733,\"\")),\"\")","v":""},"","","","","","","",""]
[{"$nulls":23},{"$f":"IF(A1734<>\"\",IF(Main!$E$12=\"ALL\",A1734,IF(Main!$E$12=A1734,A1734,\"\")),\"\")","v":""},"","","","","","","",""]
[{"$nulls":23},{"$f":"IF(A1735<>\"\",IF(Main!$E$12=\"ALL\",A1735,IF(Main!$E$12=A1735,A1735,\"\")),\"\")","v":""},"","","","","","","",""]
[{"$nulls":23},{"$f":"IF(A1736<>\"\",IF(Main!$E$12=\"ALL\",A1736,IF(Main!$E$12=A1736,A1736,\"\")),\"\")","v":""},"","","","","","","",""]
[{"$nulls":23},{"$f":"IF(A1737<>\"\",IF(Main!$E$12=\"ALL\",A1737,IF(Main!$E$12=A1737,A1737,\"\")),\"\")","v":""},"","","","","","","",""]
[{"$nulls":23},{"$f":"IF(A1738<>\"\",IF(Main!$E$12=\"ALL\",A1738,IF(Main!$E$12=A1738,A1738,\"\")),\"\")","v":""},"","","","","","","",""]
[{"$nulls":23},{"$f":"IF(A1739<>\"\",IF(Main!$E$12=\"ALL\",A1739,IF(Main!$E$12=A1739,A1739,\"\")),\"\")","v":""},"","","","","","","",""]
[{"$nulls":23},{"$f":"IF(A1740<>\"\",IF(Main!$E$12=\"ALL\",A1740,IF(Main!$E$12=A1740,A1740,\"\")),\"\")","v":""},"","","","","","","",""]
[{"$nulls":23},{"$f":"IF(A1741<>\"\",IF(Main!$E$12=\"ALL\",A1741,IF(Main!$E$12=A1741,A1741,\"\")),\"\")","v":""},"","","","","","","",""]
[{"$nulls":23},{"$f":"IF(A1742<>\"\",IF(Main!$E$12=\"ALL\",A1742,IF(Main!$E$12=A1742,A1742,\"\")),\"\")","v":""},"","","","","","","",""]
[{"$nulls":23},{"$f":"IF(A1743<>\"\",IF(Main!$E$12=\"ALL\",A1743,IF(Main!$E$12=A1743,A1743,\"\")),\"\")","v":""},"","","","","","","",""]
[{"$nulls":23},{"$f":"IF(A1744<>\"\",IF(Main!$E$12=\"ALL\",A1744,IF(Main!$E$12=A1744,A1744,\"\")),\"\")","v":""},"","","","","","","",""]
[{"$nulls":23},{"$f":"IF(A1745<>\"\",IF(Main!$E$12=\"ALL\",A1745,IF(Main!$E$12=A1745,A1745,\"\")),\"\")","v":""},"","","","","","","",""]
[{"$nulls":23},{"$f":"IF(A1746<>\"\",IF(Main!$E$12=\"ALL\",A1746,IF(Main!$E$12=A1746,A1746,\"\")),\"\")","v":""},"","","","","","","",""]
[{"$nulls":23},{"$f":"IF(A1747<>\"\",IF(Main!$E$12=\"ALL\",A1747,IF(Main!$E$12=A1747,A1747,\"\")),\"\")","v":""},"","","","","","","",""]
[{"$nulls":23},{"$f":"IF(A1748<>\"\",IF(Main!$E$12=\"ALL\",A1748,IF(Main!$E$12=A1748,A1748,\"\")),\"\")","v":""},"","","","","","","",""]
[{"$nulls":23},{"$f":"IF(A1749<>\"\",IF(Main!$E$12=\"ALL\",A1749,IF(Main!$E$12=A1749,A1749,\"\")),\"\")","v":""},"","","","","","","",""]
[{"$nulls":23},{"$f":"IF(A1750<>\"\",IF(Main!$E$12=\"ALL\",A1750,IF(Main!$E$12=A1750,A1750,\"\")),\"\")","v":""},"","","","","","","",""]
[{"$nulls":23},{"$f":"IF(A1751<>\"\",IF(Main!$E$12=\"ALL\",A1751,IF(Main!$E$12=A1751,A1751,\"\")),\"\")","v":""},"","","","","","","",""]
[{"$nulls":23},{"$f":"IF(A1752<>\"\",IF(Main!$E$12=\"ALL\",A1752,IF(Main!$E$12=A1752,A1752,\"\")),\"\")","v":""},"","","","","","","",""]
[{"$nulls":23},{"$f":"IF(A1753<>\"\",IF(Main!$E$12=\"ALL\",A1753,IF(Main!$E$12=A1753,A1753,\"\")),\"\")","v":""},"","","","","","","",""]
[{"$nulls":23},{"$f":"IF(A1754<>\"\",IF(Main!$E$12=\"ALL\",A1754,IF(Main!$E$12=A1754,A1754,\"\")),\"\")","v":""},"","","","","","","",""]
[{"$nulls":23},{"$f":"IF(A1755<>\"\",IF(Main!$E$12=\"ALL\",A1755,IF(Main!$E$12=A1755,A1755,\"\")),\"\")","v":""},"","","","","","","",""]
[{"$nulls":23},{"$f":"IF(A1756<>\"\",IF(Main!$E$12=\"ALL\",A1756,IF(Main!$E$12=A1756,A1756,\"\")),\"\")","v":""},"","","","","","","",""]
[{"$nulls":23},{"$f":"IF(A1757<>\"\",IF(Main!$E$12=\"ALL\",A1757,IF(Main!$E$12=A1757,A1757,\"\")),\"\")","v":""},"","","","","","","",""]
[{"$nulls":23},{"$f":"IF(A1758<>\"\",IF(Main!$E$12=\"ALL\",A1758,IF(Main!$E$12=A1758,A1758,\"\")),\"\")","v":""},"","","","","","","",""]
[{"$nulls":23},{"$f":"IF(A1759<>\"\",IF(Main!$E$12=\"ALL\",A1759,IF(Main!$E$12=A1759,A1759,\"\")),\"\")","v":""},"","","","","","","",""]
[{"$nulls":23},{"$f":"IF(A1760<>\"\",IF(Main!$E$12=\"ALL\",A1760,IF(Main!$E$12=A1760,A1760,\"\")),\"\")","v":""},"","","","","","","",""]
[{"$nulls":23},{"$f":"IF(A1761<>\"\",IF(Main!$E$12=\"ALL\",A1761,IF(Main!$E$12=A1761,A1761,\"\")),\"\")","v":""},"","","","","","","",""]
[{"$nulls":23},{"$f":"IF(A1762<>\"\",IF(Main!$E$12=\"ALL\",A1762,IF(Main!$E$12=A1762,A1762,\"\")),\"\")","v":""},"","","","","","","",""]
[{"$nulls":23},{"$f":"IF(A1763<>\"\",IF(Main!$E$12=\"ALL\",A1763,IF(Main!$E$12=A1763,A1763,\"\")),\"\")","v":""},"","","","","","","",""]
[{"$nulls":23},{"$f":"IF(A1764<>\"\",IF(Main!$E$12=\"ALL\",A1764,IF(Main!$E$12=A1764,A1764,\"\")),\"\")","v":""},"","","","","","","",""]
[{"$nulls":23},{"$f":"IF(A1765<>\"\",IF(Main!$E$12=\"ALL\",A1765,IF(Main!$E$12=A1765,A1765,\"\")),\"\")","v":""},"","","","","","","",""]
[{"$nulls":23},{"$f":"IF(A1766<>\"\",IF(Main!$E$12=\"ALL\",A1766,IF(Main!$E$12=A1766,A1766,\"\")),\"\")","v":""},"","","","","","","",""]
[{"$nulls":23},{"$f":"IF(A1767<>\"\",IF(Main!$E$12=\"ALL\",A1767,IF(Main!$E$12=A1767,A1767,\"\")),\"\")","v":""},"","","","","","","",""]
[{"$nulls":23},{"$f":"IF(A1768<>\"\",IF(Main!$E$12=\"ALL\",A1768,IF(Main!$E$12=A1768,A1768,\"\")),\"\")","v":""},"","","","","","","",""]
[{"$nulls":23},{"$f":"IF(A1769<>\"\",IF(Main!$E$12=\"ALL\",A1769,IF(Main!$E$12=A1769,A1769,\"\")),\"\")","v":""},"","","","","","","",""]
[{"$nulls":23},{"$f":"IF(A1770<>\"\",IF(Main!$E$12=\"ALL\",A1770,IF(Main!$E$12=A1770,A1770,\"\")),\"\")","v":""},"","","","","","","",""]
[{"$nulls":23},{"$f":"IF(A1771<>\"\",IF(Main!$E$12=\"ALL\",A1771,IF(Main!$E$12=A1771,A1771,\"\")),\"\")","v":""},"","","","","","","",""]
[{"$nulls":23},{"$f":"IF(A1772<>\"\",IF(Main!$E$12=\"ALL\",A1772,IF(Main!$E$12=A1772,A1772,\"\")),\"\")","v":""},"","","","","","","",""]
[{"$nulls":23},{"$f":"IF(A1773<>\"\",IF(Main!$E$12=\"ALL\",A1773,IF(Main!$E$12=A1773,A1773,\"\")),\"\")","v":""},"","","","","","","",""]
[{"$nulls":23},{"$f":"IF(A1774<>\"\",IF(Main!$E$12=\"ALL\",A1774,IF(Main!$E$12=A1774,A1774,\"\")),\"\")","v":""},"","","","","","","",""]
[{"$nulls":23},{"$f":"IF(A1775<>\"\",IF(Main!$E$12=\"ALL\",A1775,IF(Main!$E$12=A1775,A1775,\"\")),\"\")","v":""},"","","","","","","",""]
[{"$nulls":23},{"$f":"IF(A1776<>\"\",IF(Main!$E$12=\"ALL\",A1776,IF(Main!$E$12=A1776,A1776,\"\")),\"\")","v":""},"","","","","","","",""]
[{"$nulls":23},{"$f":"IF(A1777<>\"\",IF(Main!$E$12=\"ALL\",A1777,IF(Main!$E$12=A1777,A1777,\"\")),\"\")","v":""},"","","","","","","",""]
[{"$nulls":23},{"$f":"IF(A1778<>\"\",IF(Main!$E$12=\"ALL\",A1778,IF(Main!$E$12=A1778,A1778,\"\")),\"\")","v":""},"","","","","","","",""]
[{"$nulls":23},{"$f":"IF(A1779<>\"\",IF(Main!$E$12=\"ALL\",A1779,IF(Main!$E$12=A1779,A1779,\"\")),\"\")","v":""},"","","","","","","",""]
[{"$nulls":23},{"$f":"IF(A1780<>\"\",IF(Main!$E$12=\"ALL\",A1780,IF(Main!$E$12=A1780,A1780,\"\")),\"\")","v":""},"","","","","","","",""]
[{"$nulls":23},{"$f":"IF(A1781<>\"\",IF(Main!$E$12=\"ALL\",A1781,IF(Main!$E$12=A1781,A1781,\"\")),\"\")","v":""},"","","","","","","",""]
[{"$nulls":23},{"$f":"IF(A1782<>\"\",IF(Main!$E$12=\"ALL\",A1782,IF(Main!$E$12=A1782,A1782,\"\")),\"\")","v":""},"","","","","","","",""]
[{"$nulls":23},{"$f":"IF(A1783<>\"\",IF(Main!$E$12=\"ALL\",A1783,IF(Main!$E$12=A1783,A1783,\"\")),\"\")","v":""},"","","","","","","",""]
[{"$nulls":23},{"$f":"IF(A1784<>\"\",IF(Main!$E$12=\"ALL\",A1784,IF(Main!$E$12=A1784,A1784,\"\")),\"\")","v":""},"","","","","","","",""]
[{"$nulls":23},{"$f":"IF(A1785<>\"\",IF(Main!$E$12=\"ALL\",A1785,IF(Main!$E$12=A1785,A1785,\"\")),\"\")","v":""},"","","","","","","",""]
[{"$nulls":23},{"$f":"IF(A1786<>\"\",IF(Main!$E$12=\"ALL\",A1786,IF(Main!$E$12=A1786,A1786,\"\")),\"\")","v":""},"","","","","","","",""]
[{"$nulls":23},{"$f":"IF(A1787<>\"\",IF(Main!$E$12=\"ALL\",A1787,IF(Main!$E$12=A1787,A1787,\"\")),\"\")","v":""},"","","","","","","",""]
[{"$nulls":23},{"$f":"IF(A1788<>\"\",IF(Main!$E$12=\"ALL\",A1788,IF(Main!$E$12=A1788,A1788,\"\")),\"\")","v":""},"","","","","","","",""]
[{"$nulls":23},{"$f":"IF(A1789<>\"\",IF(Main!$E$12=\"ALL\",A1789,IF(Main!$E$12=A1789,A1789,\"\")),\"\")","v":""},"","","","","","","",""]
[{"$nulls":23},{"$f":"IF(A1790<>\"\",IF(Main!$E$12=\"ALL\",A1790,IF(Main!$E$12=A1790,A1790,\"\")),\"\")","v":""},"","","","","","","",""]
[{"$nulls":23},{"$f":"IF(A1791<>\"\",IF(Main!$E$12=\"ALL\",A1791,IF(Main!$E$12=A1791,A1791,\"\")),\"\")","v":""},"","","","","","","",""]
[{"$nulls":23},{"$f":"IF(A1792<>\"\",IF(Main!$E$12=\"ALL\",A1792,IF(Main!$E$12=A1792,A1792,\"\")),\"\")","v":""},"","","","","","","",""]
[{"$nulls":23},{"$f":"IF(A1793<>\"\",IF(Main!$E$12=\"ALL\",A1793,IF(Main!$E$12=A1793,A1793,\"\")),\"\")","v":""},"","","","","","","",""]
[{"$nulls":23},{"$f":"IF(A1794<>\"\",IF(Main!$E$12=\"ALL\",A1794,IF(Main!$E$12=A1794,A1794,\"\")),\"\")","v":""},"","","","","","","",""]
[{"$nulls":23},{"$f":"IF(A1795<>\"\",IF(Main!$E$12=\"ALL\",A1795,IF(Main!$E$12=A1795,A1795,\"\")),\"\")","v":""},{"$f":"IF($X1795=\"\",\"\",D1795)","v":""},{"$f":"IF($X1795=\"\",\"\",F1795)","v":""},{"$f":"IF($X1795=\"\",\"\",J1795)","v":""},{"$f":"IF($X1795=\"\",\"\",N1795)","v":""},{"$f":"IF($X1795=\"\",\"\",IF(P1795=\"\",\"\",P1795))","v":""},{"$f":"IF($X1795=\"\",\"\",R1795)","v":""},{"$f":"IF($X1795=\"\",\"\",T1795)","v":""},{"$f":"IF($X1795=\"\",\"\",V1795)","v":""}]
[{"$nulls":23},{"$f":"IF(A1796<>\"\",IF(Main!$E$12=\"ALL\",A1796,IF(Main!$E$12=A1796,A1796,\"\")),\"\")","v":""},"","","","","","","",""]
[{"$nulls":23},{"$f":"IF(A1797<>\"\",IF(Main!$E$12=\"ALL\",A1797,IF(Main!$E$12=A1797,A1797,\"\")),\"\")","v":""},"","","","","","","",""]
[{"$nulls":23},{"$f":"IF(A1798<>\"\",IF(Main!$E$12=\"ALL\",A1798,IF(Main!$E$12=A1798,A1798,\"\")),\"\")","v":""},"","","","","","","",""]
[{"$nulls":23},{"$f":"IF(A1799<>\"\",IF(Main!$E$12=\"ALL\",A1799,IF(Main!$E$12=A1799,A1799,\"\")),\"\")","v":""},"","","","","","","",""]
[{"$nulls":23},{"$f":"IF(A1800<>\"\",IF(Main!$E$12=\"ALL\",A1800,IF(Main!$E$12=A1800,A1800,\"\")),\"\")","v":""},"","","","","","","",""]
[{"$nulls":23},{"$f":"IF(A1801<>\"\",IF(Main!$E$12=\"ALL\",A1801,IF(Main!$E$12=A1801,A1801,\"\")),\"\")","v":""},"","","","","","","",""]
[{"$nulls":23},{"$f":"IF(A1802<>\"\",IF(Main!$E$12=\"ALL\",A1802,IF(Main!$E$12=A1802,A1802,\"\")),\"\")","v":""},"","","","","","","",""]
[{"$nulls":23},{"$f":"IF(A1803<>\"\",IF(Main!$E$12=\"ALL\",A1803,IF(Main!$E$12=A1803,A1803,\"\")),\"\")","v":""},"","","","","","","",""]
[{"$nulls":23},{"$f":"IF(A1804<>\"\",IF(Main!$E$12=\"ALL\",A1804,IF(Main!$E$12=A1804,A1804,\"\")),\"\")","v":""},"","","","","","","",""]
[{"$nulls":23},{"$f":"IF(A1805<>\"\",IF(Main!$E$12=\"ALL\",A1805,IF(Main!$E$12=A1805,A1805,\"\")),\"\")","v":""},"","","","","","","",""]
[{"$nulls":23},{"$f":"IF(A1806<>\"\",IF(Main!$E$12=\"ALL\",A1806,IF(Main!$E$12=A1806,A1806,\"\")),\"\")","v":""},"","","","","","","",""]
[{"$nulls":23},{"$f":"IF(A1807<>\"\",IF(Main!$E$12=\"ALL\",A1807,IF(Main!$E$12=A1807,A1807,\"\")),\"\")","v":""},"","","","","","","",""]
[{"$nulls":23},{"$f":"IF(A1808<>\"\",IF(Main!$E$12=\"ALL\",A1808,IF(Main!$E$12=A1808,A1808,\"\")),\"\")","v":""},"","","","","","","",""]
[{"$nulls":23},{"$f":"IF(A1809<>\"\",IF(Main!$E$12=\"ALL\",A1809,IF(Main!$E$12=A1809,A1809,\"\")),\"\")","v":""},"","","","","","","",""]
[{"$nulls":23},{"$f":"IF(A1810<>\"\",IF(Main!$E$12=\"ALL\",A1810,IF(Main!$E$12=A1810,A1810,\"\")),\"\")","v":""},"","","","","","","",""]
[{"$nulls":23},{"$f":"IF(A1811<>\"\",IF(Main!$E$12=\"ALL\",A1811,IF(Main!$E$12=A1811,A1811,\"\")),\"\")","v":""},"","","","","","","",""]
[{"$nulls":23},{"$f":"IF(A1812<>\"\",IF(Main!$E$12=\"ALL\",A1812,IF(Main!$E$12=A1812,A1812,\"\")),\"\")","v":""},"","","","","","","",""]
[{"$nulls":23},{"$f":"IF(A1813<>\"\",IF(Main!$E$12=\"ALL\",A1813,IF(Main!$E$12=A1813,A1813,\"\")),\"\")","v":""},"","","","","","","",""]
[{"$nulls":23},{"$f":"IF(A1814<>\"\",IF(Main!$E$12=\"ALL\",A1814,IF(Main!$E$12=A1814,A1814,\"\")),\"\")","v":""},"","","","","","","",""]
[{"$nulls":23},{"$f":"IF(A1815<>\"\",IF(Main!$E$12=\"ALL\",A1815,IF(Main!$E$12=A1815,A1815,\"\")),\"\")","v":""},"","","","","","","",""]
[{"$nulls":23},{"$f":"IF(A1816<>\"\",IF(Main!$E$12=\"ALL\",A1816,IF(Main!$E$12=A1816,A1816,\"\")),\"\")","v":""},"","","","","","","",""]
[{"$nulls":23},{"$f":"IF(A1817<>\"\",IF(Main!$E$12=\"ALL\",A1817,IF(Main!$E$12=A1817,A1817,\"\")),\"\")","v":""},"","","","","","","",""]
[{"$nulls":23},{"$f":"IF(A1818<>\"\",IF(Main!$E$12=\"ALL\",A1818,IF(Main!$E$12=A1818,A1818,\"\")),\"\")","v":""},"","","","","","","",""]
[{"$nulls":23},{"$f":"IF(A1819<>\"\",IF(Main!$E$12=\"ALL\",A1819,IF(Main!$E$12=A1819,A1819,\"\")),\"\")","v":""},"","","","","","","",""]
[{"$nulls":23},{"$f":"IF(A1820<>\"\",IF(Main!$E$12=\"ALL\",A1820,IF(Main!$E$12=A1820,A1820,\"\")),\"\")","v":""},"","","","","","","",""]
[{"$nulls":23},{"$f":"IF(A1821<>\"\",IF(Main!$E$12=\"ALL\",A1821,IF(Main!$E$12=A1821,A1821,\"\")),\"\")","v":""},"","","","","","","",""]
[{"$nulls":23},{"$f":"IF(A1822<>\"\",IF(Main!$E$12=\"ALL\",A1822,IF(Main!$E$12=A1822,A1822,\"\")),\"\")","v":""},"","","","","","","",""]
[{"$nulls":23},{"$f":"IF(A1823<>\"\",IF(Main!$E$12=\"ALL\",A1823,IF(Main!$E$12=A1823,A1823,\"\")),\"\")","v":""},"","","","","","","",""]
[{"$nulls":23},{"$f":"IF(A1824<>\"\",IF(Main!$E$12=\"ALL\",A1824,IF(Main!$E$12=A1824,A1824,\"\")),\"\")","v":""},"","","","","","","",""]
[{"$nulls":23},{"$f":"IF(A1825<>\"\",IF(Main!$E$12=\"ALL\",A1825,IF(Main!$E$12=A1825,A1825,\"\")),\"\")","v":""},"","","","","","","",""]
[{"$nulls":23},{"$f":"IF(A1826<>\"\",IF(Main!$E$12=\"ALL\",A1826,IF(Main!$E$12=A1826,A1826,\"\")),\"\")","v":""},"","","","","","","",""]
[{"$nulls":23},{"$f":"IF(A1827<>\"\",IF(Main!$E$12=\"ALL\",A1827,IF(Main!$E$12=A1827,A1827,\"\")),\"\")","v":""},"","","","","","","",""]
[{"$nulls":23},{"$f":"IF(A1828<>\"\",IF(Main!$E$12=\"ALL\",A1828,IF(Main!$E$12=A1828,A1828,\"\")),\"\")","v":""},"","","","","","","",""]
[{"$nulls":23},{"$f":"IF(A1829<>\"\",IF(Main!$E$12=\"ALL\",A1829,IF(Main!$E$12=A1829,A1829,\"\")),\"\")","v":""},"","","","","","","",""]
[{"$nulls":23},{"$f":"IF(A1830<>\"\",IF(Main!$E$12=\"ALL\",A1830,IF(Main!$E$12=A1830,A1830,\"\")),\"\")","v":""},"","","","","","","",""]
[{"$nulls":23},{"$f":"IF(A1831<>\"\",IF(Main!$E$12=\"ALL\",A1831,IF(Main!$E$12=A1831,A1831,\"\")),\"\")","v":""},"","","","","","","",""]
[{"$nulls":23},{"$f":"IF(A1832<>\"\",IF(Main!$E$12=\"ALL\",A1832,IF(Main!$E$12=A1832,A1832,\"\")),\"\")","v":""},"","","","","","","",""]
[{"$nulls":23},{"$f":"IF(A1833<>\"\",IF(Main!$E$12=\"ALL\",A1833,IF(Main!$E$12=A1833,A1833,\"\")),\"\")","v":""},"","","","","","","",""]
[{"$nulls":23},{"$f":"IF(A1834<>\"\",IF(Main!$E$12=\"ALL\",A1834,IF(Main!$E$12=A1834,A1834,\"\")),\"\")","v":""},"","","","","","","",""]
[{"$nulls":23},{"$f":"IF(A1835<>\"\",IF(Main!$E$12=\"ALL\",A1835,IF(Main!$E$12=A1835,A1835,\"\")),\"\")","v":""},"","","","","","","",""]
[{"$nulls":23},{"$f":"IF(A1836<>\"\",IF(Main!$E$12=\"ALL\",A1836,IF(Main!$E$12=A1836,A1836,\"\")),\"\")","v":""},"","","","","","","",""]
[{"$nulls":23},{"$f":"IF(A1837<>\"\",IF(Main!$E$12=\"ALL\",A1837,IF(Main!$E$12=A1837,A1837,\"\")),\"\")","v":""},"","","","","","","",""]
[{"$nulls":23},{"$f":"IF(A1838<>\"\",IF(Main!$E$12=\"ALL\",A1838,IF(Main!$E$12=A1838,A1838,\"\")),\"\")","v":""},"","","","","","","",""]
[{"$nulls":23},{"$f":"IF(A1839<>\"\",IF(Main!$E$12=\"ALL\",A1839,IF(Main!$E$12=A1839,A1839,\"\")),\"\")","v":""},"","","","","","","",""]
[{"$nulls":23},{"$f":"IF(A1840<>\"\",IF(Main!$E$12=\"ALL\",A1840,IF(Main!$E$12=A1840,A1840,\"\")),\"\")","v":""},"","","","","","","",""]
[{"$nulls":23},{"$f":"IF(A1841<>\"\",IF(Main!$E$12=\"ALL\",A1841,IF(Main!$E$12=A1841,A1841,\"\")),\"\")","v":""},"","","","","","","",""]
[{"$nulls":23},{"$f":"IF(A1842<>\"\",IF(Main!$E$12=\"ALL\",A1842,IF(Main!$E$12=A1842,A1842,\"\")),\"\")","v":""},"","","","","","","",""]
[{"$nulls":23},{"$f":"IF(A1843<>\"\",IF(Main!$E$12=\"ALL\",A1843,IF(Main!$E$12=A1843,A1843,\"\")),\"\")","v":""},"","","","","","","",""]
[{"$nulls":23},{"$f":"IF(A1844<>\"\",IF(Main!$E$12=\"ALL\",A1844,IF(Main!$E$12=A1844,A1844,\"\")),\"\")","v":""},"","","","","","","",""]
[{"$nulls":23},{"$f":"IF(A1845<>\"\",IF(Main!$E$12=\"ALL\",A1845,IF(Main!$E$12=A1845,A1845,\"\")),\"\")","v":""},"","","","","","","",""]
[{"$nulls":23},{"$f":"IF(A1846<>\"\",IF(Main!$E$12=\"ALL\",A1846,IF(Main!$E$12=A1846,A1846,\"\")),\"\")","v":""},"","","","","","","",""]
[{"$nulls":23},{"$f":"IF(A1847<>\"\",IF(Main!$E$12=\"ALL\",A1847,IF(Main!$E$12=A1847,A1847,\"\")),\"\")","v":""},"","","","","","","",""]
[{"$nulls":23},{"$f":"IF(A1848<>\"\",IF(Main!$E$12=\"ALL\",A1848,IF(Main!$E$12=A1848,A1848,\"\")),\"\")","v":""},"","","","","","","",""]
[{"$nulls":23},{"$f":"IF(A1849<>\"\",IF(Main!$E$12=\"ALL\",A1849,IF(Main!$E$12=A1849,A1849,\"\")),\"\")","v":""},"","","","","","","",""]
[{"$nulls":23},{"$f":"IF(A1850<>\"\",IF(Main!$E$12=\"ALL\",A1850,IF(Main!$E$12=A1850,A1850,\"\")),\"\")","v":""},"","","","","","","",""]
[{"$nulls":23},{"$f":"IF(A1851<>\"\",IF(Main!$E$12=\"ALL\",A1851,IF(Main!$E$12=A1851,A1851,\"\")),\"\")","v":""},"","","","","","","",""]
[{"$nulls":23},{"$f":"IF(A1852<>\"\",IF(Main!$E$12=\"ALL\",A1852,IF(Main!$E$12=A1852,A1852,\"\")),\"\")","v":""},"","","","","","","",""]
[{"$nulls":23},{"$f":"IF(A1853<>\"\",IF(Main!$E$12=\"ALL\",A1853,IF(Main!$E$12=A1853,A1853,\"\")),\"\")","v":""},"","","","","","","",""]
[{"$nulls":23},{"$f":"IF(A1854<>\"\",IF(Main!$E$12=\"ALL\",A1854,IF(Main!$E$12=A1854,A1854,\"\")),\"\")","v":""},"","","","","","","",""]
[{"$nulls":23},{"$f":"IF(A1855<>\"\",IF(Main!$E$12=\"ALL\",A1855,IF(Main!$E$12=A1855,A1855,\"\")),\"\")","v":""},"","","","","","","",""]
[{"$nulls":23},{"$f":"IF(A1856<>\"\",IF(Main!$E$12=\"ALL\",A1856,IF(Main!$E$12=A1856,A1856,\"\")),\"\")","v":""},"","","","","","","",""]
[{"$nulls":23},{"$f":"IF(A1857<>\"\",IF(Main!$E$12=\"ALL\",A1857,IF(Main!$E$12=A1857,A1857,\"\")),\"\")","v":""},"","","","","","","",""]
[{"$nulls":23},{"$f":"IF(A1858<>\"\",IF(Main!$E$12=\"ALL\",A1858,IF(Main!$E$12=A1858,A1858,\"\")),\"\")","v":""},"","","","","","","",""]
[{"$nulls":23},{"$f":"IF(A1859<>\"\",IF(Main!$E$12=\"ALL\",A1859,IF(Main!$E$12=A1859,A1859,\"\")),\"\")","v":""},{"$f":"IF($X1859=\"\",\"\",D1859)","v":""},{"$f":"IF($X1859=\"\",\"\",F1859)","v":""},{"$f":"IF($X1859=\"\",\"\",J1859)","v":""},{"$f":"IF($X1859=\"\",\"\",N1859)","v":""},{"$f":"IF($X1859=\"\",\"\",IF(P1859=\"\",\"\",P1859))","v":""},{"$f":"IF($X1859=\"\",\"\",R1859)","v":""},{"$f":"IF($X1859=\"\",\"\",T1859)","v":""},{"$f":"IF($X1859=\"\",\"\",V1859)","v":""}]
[{"$nulls":23},{"$f":"IF(A1860<>\"\",IF(Main!$E$12=\"ALL\",A1860,IF(Main!$E$12=A1860,A1860,\"\")),\"\")","v":""},"","","","","","","",""]
[{"$nulls":23},{"$f":"IF(A1861<>\"\",IF(Main!$E$12=\"ALL\",A1861,IF(Main!$E$12=A1861,A1861,\"\")),\"\")","v":""},"","","","","","","",""]
[{"$nulls":23},{"$f":"IF(A1862<>\"\",IF(Main!$E$12=\"ALL\",A1862,IF(Main!$E$12=A1862,A1862,\"\")),\"\")","v":""},"","","","","","","",""]
[{"$nulls":23},{"$f":"IF(A1863<>\"\",IF(Main!$E$12=\"ALL\",A1863,IF(Main!$E$12=A1863,A1863,\"\")),\"\")","v":""},"","","","","","","",""]
[{"$nulls":23},{"$f":"IF(A1864<>\"\",IF(Main!$E$12=\"ALL\",A1864,IF(Main!$E$12=A1864,A1864,\"\")),\"\")","v":""},"","","","","","","",""]
[{"$nulls":23},{"$f":"IF(A1865<>\"\",IF(Main!$E$12=\"ALL\",A1865,IF(Main!$E$12=A1865,A1865,\"\")),\"\")","v":""},"","","","","","","",""]
[{"$nulls":23},{"$f":"IF(A1866<>\"\",IF(Main!$E$12=\"ALL\",A1866,IF(Main!$E$12=A1866,A1866,\"\")),\"\")","v":""},"","","","","","","",""]
[{"$nulls":23},{"$f":"IF(A1867<>\"\",IF(Main!$E$12=\"ALL\",A1867,IF(Main!$E$12=A1867,A1867,\"\")),\"\")","v":""},"","","","","","","",""]
[{"$nulls":23},{"$f":"IF(A1868<>\"\",IF(Main!$E$12=\"ALL\",A1868,IF(Main!$E$12=A1868,A1868,\"\")),\"\")","v":""},"","","","","","","",""]
[{"$nulls":23},{"$f":"IF(A1869<>\"\",IF(Main!$E$12=\"ALL\",A1869,IF(Main!$E$12=A1869,A1869,\"\")),\"\")","v":""},"","","","","","","",""]
[{"$nulls":23},{"$f":"IF(A1870<>\"\",IF(Main!$E$12=\"ALL\",A1870,IF(Main!$E$12=A1870,A1870,\"\")),\"\")","v":""},"","","","","","","",""]
[{"$nulls":23},{"$f":"IF(A1871<>\"\",IF(Main!$E$12=\"ALL\",A1871,IF(Main!$E$12=A1871,A1871,\"\")),\"\")","v":""},"","","","","","","",""]
[{"$nulls":23},{"$f":"IF(A1872<>\"\",IF(Main!$E$12=\"ALL\",A1872,IF(Main!$E$12=A1872,A1872,\"\")),\"\")","v":""},"","","","","","","",""]
[{"$nulls":23},{"$f":"IF(A1873<>\"\",IF(Main!$E$12=\"ALL\",A1873,IF(Main!$E$12=A1873,A1873,\"\")),\"\")","v":""},"","","","","","","",""]
[{"$nulls":23},{"$f":"IF(A1874<>\"\",IF(Main!$E$12=\"ALL\",A1874,IF(Main!$E$12=A1874,A1874,\"\")),\"\")","v":""},"","","","","","","",""]
[{"$nulls":23},{"$f":"IF(A1875<>\"\",IF(Main!$E$12=\"ALL\",A1875,IF(Main!$E$12=A1875,A1875,\"\")),\"\")","v":""},"","","","","","","",""]
[{"$nulls":23},{"$f":"IF(A1876<>\"\",IF(Main!$E$12=\"ALL\",A1876,IF(Main!$E$12=A1876,A1876,\"\")),\"\")","v":""},"","","","","","","",""]
[{"$nulls":23},{"$f":"IF(A1877<>\"\",IF(Main!$E$12=\"ALL\",A1877,IF(Main!$E$12=A1877,A1877,\"\")),\"\")","v":""},"","","","","","","",""]
[{"$nulls":23},{"$f":"IF(A1878<>\"\",IF(Main!$E$12=\"ALL\",A1878,IF(Main!$E$12=A1878,A1878,\"\")),\"\")","v":""},"","","","","","","",""]
[{"$nulls":23},{"$f":"IF(A1879<>\"\",IF(Main!$E$12=\"ALL\",A1879,IF(Main!$E$12=A1879,A1879,\"\")),\"\")","v":""},"","","","","","","",""]
[{"$nulls":23},{"$f":"IF(A1880<>\"\",IF(Main!$E$12=\"ALL\",A1880,IF(Main!$E$12=A1880,A1880,\"\")),\"\")","v":""},"","","","","","","",""]
[{"$nulls":23},{"$f":"IF(A1881<>\"\",IF(Main!$E$12=\"ALL\",A1881,IF(Main!$E$12=A1881,A1881,\"\")),\"\")","v":""},"","","","","","","",""]
[{"$nulls":23},{"$f":"IF(A1882<>\"\",IF(Main!$E$12=\"ALL\",A1882,IF(Main!$E$12=A1882,A1882,\"\")),\"\")","v":""},"","","","","","","",""]
[{"$nulls":23},{"$f":"IF(A1883<>\"\",IF(Main!$E$12=\"ALL\",A1883,IF(Main!$E$12=A1883,A1883,\"\")),\"\")","v":""},"","","","","","","",""]
[{"$nulls":23},{"$f":"IF(A1884<>\"\",IF(Main!$E$12=\"ALL\",A1884,IF(Main!$E$12=A1884,A1884,\"\")),\"\")","v":""},"","","","","","","",""]
[{"$nulls":23},{"$f":"IF(A1885<>\"\",IF(Main!$E$12=\"ALL\",A1885,IF(Main!$E$12=A1885,A1885,\"\")),\"\")","v":""},"","","","","","","",""]
[{"$nulls":23},{"$f":"IF(A1886<>\"\",IF(Main!$E$12=\"ALL\",A1886,IF(Main!$E$12=A1886,A1886,\"\")),\"\")","v":""},"","","","","","","",""]
[{"$nulls":23},{"$f":"IF(A1887<>\"\",IF(Main!$E$12=\"ALL\",A1887,IF(Main!$E$12=A1887,A1887,\"\")),\"\")","v":""},"","","","","","","",""]
[{"$nulls":23},{"$f":"IF(A1888<>\"\",IF(Main!$E$12=\"ALL\",A1888,IF(Main!$E$12=A1888,A1888,\"\")),\"\")","v":""},"","","","","","","",""]
[{"$nulls":23},{"$f":"IF(A1889<>\"\",IF(Main!$E$12=\"ALL\",A1889,IF(Main!$E$12=A1889,A1889,\"\")),\"\")","v":""},"","","","","","","",""]
[{"$nulls":23},{"$f":"IF(A1890<>\"\",IF(Main!$E$12=\"ALL\",A1890,IF(Main!$E$12=A1890,A1890,\"\")),\"\")","v":""},"","","","","","","",""]
[{"$nulls":23},{"$f":"IF(A1891<>\"\",IF(Main!$E$12=\"ALL\",A1891,IF(Main!$E$12=A1891,A1891,\"\")),\"\")","v":""},"","","","","","","",""]
[{"$nulls":23},{"$f":"IF(A1892<>\"\",IF(Main!$E$12=\"ALL\",A1892,IF(Main!$E$12=A1892,A1892,\"\")),\"\")","v":""},"","","","","","","",""]
[{"$nulls":23},{"$f":"IF(A1893<>\"\",IF(Main!$E$12=\"ALL\",A1893,IF(Main!$E$12=A1893,A1893,\"\")),\"\")","v":""},"","","","","","","",""]
[{"$nulls":23},{"$f":"IF(A1894<>\"\",IF(Main!$E$12=\"ALL\",A1894,IF(Main!$E$12=A1894,A1894,\"\")),\"\")","v":""},"","","","","","","",""]
[{"$nulls":23},{"$f":"IF(A1895<>\"\",IF(Main!$E$12=\"ALL\",A1895,IF(Main!$E$12=A1895,A1895,\"\")),\"\")","v":""},"","","","","","","",""]
[{"$nulls":23},{"$f":"IF(A1896<>\"\",IF(Main!$E$12=\"ALL\",A1896,IF(Main!$E$12=A1896,A1896,\"\")),\"\")","v":""},"","","","","","","",""]
[{"$nulls":23},{"$f":"IF(A1897<>\"\",IF(Main!$E$12=\"ALL\",A1897,IF(Main!$E$12=A1897,A1897,\"\")),\"\")","v":""},"","","","","","","",""]
[{"$nulls":23},{"$f":"IF(A1898<>\"\",IF(Main!$E$12=\"ALL\",A1898,IF(Main!$E$12=A1898,A1898,\"\")),\"\")","v":""},"","","","","","","",""]
[{"$nulls":23},{"$f":"IF(A1899<>\"\",IF(Main!$E$12=\"ALL\",A1899,IF(Main!$E$12=A1899,A1899,\"\")),\"\")","v":""},"","","","","","","",""]
[{"$nulls":23},{"$f":"IF(A1900<>\"\",IF(Main!$E$12=\"ALL\",A1900,IF(Main!$E$12=A1900,A1900,\"\")),\"\")","v":""},"","","","","","","",""]
[{"$nulls":23},{"$f":"IF(A1901<>\"\",IF(Main!$E$12=\"ALL\",A1901,IF(Main!$E$12=A1901,A1901,\"\")),\"\")","v":""},"","","","","","","",""]
[{"$nulls":23},{"$f":"IF(A1902<>\"\",IF(Main!$E$12=\"ALL\",A1902,IF(Main!$E$12=A1902,A1902,\"\")),\"\")","v":""},"","","","","","","",""]
[{"$nulls":23},{"$f":"IF(A1903<>\"\",IF(Main!$E$12=\"ALL\",A1903,IF(Main!$E$12=A1903,A1903,\"\")),\"\")","v":""},"","","","","","","",""]
[{"$nulls":23},{"$f":"IF(A1904<>\"\",IF(Main!$E$12=\"ALL\",A1904,IF(Main!$E$12=A1904,A1904,\"\")),\"\")","v":""},"","","","","","","",""]
[{"$nulls":23},{"$f":"IF(A1905<>\"\",IF(Main!$E$12=\"ALL\",A1905,IF(Main!$E$12=A1905,A1905,\"\")),\"\")","v":""},"","","","","","","",""]
[{"$nulls":23},{"$f":"IF(A1906<>\"\",IF(Main!$E$12=\"ALL\",A1906,IF(Main!$E$12=A1906,A1906,\"\")),\"\")","v":""},"","","","","","","",""]
[{"$nulls":23},{"$f":"IF(A1907<>\"\",IF(Main!$E$12=\"ALL\",A1907,IF(Main!$E$12=A1907,A1907,\"\")),\"\")","v":""},"","","","","","","",""]
[{"$nulls":23},{"$f":"IF(A1908<>\"\",IF(Main!$E$12=\"ALL\",A1908,IF(Main!$E$12=A1908,A1908,\"\")),\"\")","v":""},"","","","","","","",""]
[{"$nulls":23},{"$f":"IF(A1909<>\"\",IF(Main!$E$12=\"ALL\",A1909,IF(Main!$E$12=A1909,A1909,\"\")),\"\")","v":""},"","","","","","","",""]
[{"$nulls":23},{"$f":"IF(A1910<>\"\",IF(Main!$E$12=\"ALL\",A1910,IF(Main!$E$12=A1910,A1910,\"\")),\"\")","v":""},"","","","","","","",""]
[{"$nulls":23},{"$f":"IF(A1911<>\"\",IF(Main!$E$12=\"ALL\",A1911,IF(Main!$E$12=A1911,A1911,\"\")),\"\")","v":""},"","","","","","","",""]
[{"$nulls":23},{"$f":"IF(A1912<>\"\",IF(Main!$E$12=\"ALL\",A1912,IF(Main!$E$12=A1912,A1912,\"\")),\"\")","v":""},"","","","","","","",""]
[{"$nulls":23},{"$f":"IF(A1913<>\"\",IF(Main!$E$12=\"ALL\",A1913,IF(Main!$E$12=A1913,A1913,\"\")),\"\")","v":""},"","","","","","","",""]
[{"$nulls":23},{"$f":"IF(A1914<>\"\",IF(Main!$E$12=\"ALL\",A1914,IF(Main!$E$12=A1914,A1914,\"\")),\"\")","v":""},"","","","","","","",""]
[{"$nulls":23},{"$f":"IF(A1915<>\"\",IF(Main!$E$12=\"ALL\",A1915,IF(Main!$E$12=A1915,A1915,\"\")),\"\")","v":""},"","","","","","","",""]
[{"$nulls":23},{"$f":"IF(A1916<>\"\",IF(Main!$E$12=\"ALL\",A1916,IF(Main!$E$12=A1916,A1916,\"\")),\"\")","v":""},"","","","","","","",""]
[{"$nulls":23},{"$f":"IF(A1917<>\"\",IF(Main!$E$12=\"ALL\",A1917,IF(Main!$E$12=A1917,A1917,\"\")),\"\")","v":""},"","","","","","","",""]
[{"$nulls":23},{"$f":"IF(A1918<>\"\",IF(Main!$E$12=\"ALL\",A1918,IF(Main!$E$12=A1918,A1918,\"\")),\"\")","v":""},"","","","","","","",""]
[{"$nulls":23},{"$f":"IF(A1919<>\"\",IF(Main!$E$12=\"ALL\",A1919,IF(Main!$E$12=A1919,A1919,\"\")),\"\")","v":""},"","","","","","","",""]
[{"$nulls":23},{"$f":"IF(A1920<>\"\",IF(Main!$E$12=\"ALL\",A1920,IF(Main!$E$12=A1920,A1920,\"\")),\"\")","v":""},"","","","","","","",""]
[{"$nulls":23},{"$f":"IF(A1921<>\"\",IF(Main!$E$12=\"ALL\",A1921,IF(Main!$E$12=A1921,A1921,\"\")),\"\")","v":""},"","","","","","","",""]
[{"$nulls":23},{"$f":"IF(A1922<>\"\",IF(Main!$E$12=\"ALL\",A1922,IF(Main!$E$12=A1922,A1922,\"\")),\"\")","v":""},"","","","","","","",""]
[{"$nulls":23},{"$f":"IF(A1923<>\"\",IF(Main!$E$12=\"ALL\",A1923,IF(Main!$E$12=A1923,A1923,\"\")),\"\")","v":""},{"$f":"IF($X1923=\"\",\"\",D1923)","v":""},{"$f":"IF($X1923=\"\",\"\",F1923)","v":""},{"$f":"IF($X1923=\"\",\"\",J1923)","v":""},{"$f":"IF($X1923=\"\",\"\",N1923)","v":""},{"$f":"IF($X1923=\"\",\"\",IF(P1923=\"\",\"\",P1923))","v":""},{"$f":"IF($X1923=\"\",\"\",R1923)","v":""},{"$f":"IF($X1923=\"\",\"\",T1923)","v":""},{"$f":"IF($X1923=\"\",\"\",V1923)","v":""}]
[{"$nulls":23},{"$f":"IF(A1924<>\"\",IF(Main!$E$12=\"ALL\",A1924,IF(Main!$E$12=A1924,A1924,\"\")),\"\")","v":""},"","","","","","","",""]
[{"$nulls":23},{"$f":"IF(A1925<>\"\",IF(Main!$E$12=\"ALL\",A1925,IF(Main!$E$12=A1925,A1925,\"\")),\"\")","v":""},"","","","","","","",""]
[{"$nulls":23},{"$f":"IF(A1926<>\"\",IF(Main!$E$12=\"ALL\",A1926,IF(Main!$E$12=A1926,A1926,\"\")),\"\")","v":""},"","","","","","","",""]
[{"$nulls":23},{"$f":"IF(A1927<>\"\",IF(Main!$E$12=\"ALL\",A1927,IF(Main!$E$12=A1927,A1927,\"\")),\"\")","v":""},"","","","","","","",""]
[{"$nulls":23},{"$f":"IF(A1928<>\"\",IF(Main!$E$12=\"ALL\",A1928,IF(Main!$E$12=A1928,A1928,\"\")),\"\")","v":""},"","","","","","","",""]
[{"$nulls":23},{"$f":"IF(A1929<>\"\",IF(Main!$E$12=\"ALL\",A1929,IF(Main!$E$12=A1929,A1929,\"\")),\"\")","v":""},"","","","","","","",""]
[{"$nulls":23},{"$f":"IF(A1930<>\"\",IF(Main!$E$12=\"ALL\",A1930,IF(Main!$E$12=A1930,A1930,\"\")),\"\")","v":""},"","","","","","","",""]
[{"$nulls":23},{"$f":"IF(A1931<>\"\",IF(Main!$E$12=\"ALL\",A1931,IF(Main!$E$12=A1931,A1931,\"\")),\"\")","v":""},"","","","","","","",""]
[{"$nulls":23},{"$f":"IF(A1932<>\"\",IF(Main!$E$12=\"ALL\",A1932,IF(Main!$E$12=A1932,A1932,\"\")),\"\")","v":""},"","","","","","","",""]
[{"$nulls":23},{"$f":"IF(A1933<>\"\",IF(Main!$E$12=\"ALL\",A1933,IF(Main!$E$12=A1933,A1933,\"\")),\"\")","v":""},"","","","","","","",""]
[{"$nulls":23},{"$f":"IF(A1934<>\"\",IF(Main!$E$12=\"ALL\",A1934,IF(Main!$E$12=A1934,A1934,\"\")),\"\")","v":""},"","","","","","","",""]
[{"$nulls":23},{"$f":"IF(A1935<>\"\",IF(Main!$E$12=\"ALL\",A1935,IF(Main!$E$12=A1935,A1935,\"\")),\"\")","v":""},"","","","","","","",""]
[{"$nulls":23},{"$f":"IF(A1936<>\"\",IF(Main!$E$12=\"ALL\",A1936,IF(Main!$E$12=A1936,A1936,\"\")),\"\")","v":""},"","","","","","","",""]
[{"$nulls":23},{"$f":"IF(A1937<>\"\",IF(Main!$E$12=\"ALL\",A1937,IF(Main!$E$12=A1937,A1937,\"\")),\"\")","v":""},"","","","","","","",""]
[{"$nulls":23},{"$f":"IF(A1938<>\"\",IF(Main!$E$12=\"ALL\",A1938,IF(Main!$E$12=A1938,A1938,\"\")),\"\")","v":""},"","","","","","","",""]
[{"$nulls":23},{"$f":"IF(A1939<>\"\",IF(Main!$E$12=\"ALL\",A1939,IF(Main!$E$12=A1939,A1939,\"\")),\"\")","v":""},"","","","","","","",""]
[{"$nulls":23},{"$f":"IF(A1940<>\"\",IF(Main!$E$12=\"ALL\",A1940,IF(Main!$E$12=A1940,A1940,\"\")),\"\")","v":""},"","","","","","","",""]
[{"$nulls":23},{"$f":"IF(A1941<>\"\",IF(Main!$E$12=\"ALL\",A1941,IF(Main!$E$12=A1941,A1941,\"\")),\"\")","v":""},"","","","","","","",""]
[{"$nulls":23},{"$f":"IF(A1942<>\"\",IF(Main!$E$12=\"ALL\",A1942,IF(Main!$E$12=A1942,A1942,\"\")),\"\")","v":""},"","","","","","","",""]
[{"$nulls":23},{"$f":"IF(A1943<>\"\",IF(Main!$E$12=\"ALL\",A1943,IF(Main!$E$12=A1943,A1943,\"\")),\"\")","v":""},"","","","","","","",""]
[{"$nulls":23},{"$f":"IF(A1944<>\"\",IF(Main!$E$12=\"ALL\",A1944,IF(Main!$E$12=A1944,A1944,\"\")),\"\")","v":""},"","","","","","","",""]
[{"$nulls":23},{"$f":"IF(A1945<>\"\",IF(Main!$E$12=\"ALL\",A1945,IF(Main!$E$12=A1945,A1945,\"\")),\"\")","v":""},"","","","","","","",""]
[{"$nulls":23},{"$f":"IF(A1946<>\"\",IF(Main!$E$12=\"ALL\",A1946,IF(Main!$E$12=A1946,A1946,\"\")),\"\")","v":""},"","","","","","","",""]
[{"$nulls":23},{"$f":"IF(A1947<>\"\",IF(Main!$E$12=\"ALL\",A1947,IF(Main!$E$12=A1947,A1947,\"\")),\"\")","v":""},"","","","","","","",""]
[{"$nulls":23},{"$f":"IF(A1948<>\"\",IF(Main!$E$12=\"ALL\",A1948,IF(Main!$E$12=A1948,A1948,\"\")),\"\")","v":""},"","","","","","","",""]
[{"$nulls":23},{"$f":"IF(A1949<>\"\",IF(Main!$E$12=\"ALL\",A1949,IF(Main!$E$12=A1949,A1949,\"\")),\"\")","v":""},"","","","","","","",""]
[{"$nulls":23},{"$f":"IF(A1950<>\"\",IF(Main!$E$12=\"ALL\",A1950,IF(Main!$E$12=A1950,A1950,\"\")),\"\")","v":""},"","","","","","","",""]
[{"$nulls":23},{"$f":"IF(A1951<>\"\",IF(Main!$E$12=\"ALL\",A1951,IF(Main!$E$12=A1951,A1951,\"\")),\"\")","v":""},"","","","","","","",""]
[{"$nulls":23},{"$f":"IF(A1952<>\"\",IF(Main!$E$12=\"ALL\",A1952,IF(Main!$E$12=A1952,A1952,\"\")),\"\")","v":""},"","","","","","","",""]
[{"$nulls":23},{"$f":"IF(A1953<>\"\",IF(Main!$E$12=\"ALL\",A1953,IF(Main!$E$12=A1953,A1953,\"\")),\"\")","v":""},"","","","","","","",""]
[{"$nulls":23},{"$f":"IF(A1954<>\"\",IF(Main!$E$12=\"ALL\",A1954,IF(Main!$E$12=A1954,A1954,\"\")),\"\")","v":""},"","","","","","","",""]
[{"$nulls":23},{"$f":"IF(A1955<>\"\",IF(Main!$E$12=\"ALL\",A1955,IF(Main!$E$12=A1955,A1955,\"\")),\"\")","v":""},"","","","","","","",""]
[{"$nulls":23},{"$f":"IF(A1956<>\"\",IF(Main!$E$12=\"ALL\",A1956,IF(Main!$E$12=A1956,A1956,\"\")),\"\")","v":""},"","","","","","","",""]
[{"$nulls":23},{"$f":"IF(A1957<>\"\",IF(Main!$E$12=\"ALL\",A1957,IF(Main!$E$12=A1957,A1957,\"\")),\"\")","v":""},"","","","","","","",""]
[{"$nulls":23},{"$f":"IF(A1958<>\"\",IF(Main!$E$12=\"ALL\",A1958,IF(Main!$E$12=A1958,A1958,\"\")),\"\")","v":""},"","","","","","","",""]
[{"$nulls":23},{"$f":"IF(A1959<>\"\",IF(Main!$E$12=\"ALL\",A1959,IF(Main!$E$12=A1959,A1959,\"\")),\"\")","v":""},"","","","","","","",""]
[{"$nulls":23},{"$f":"IF(A1960<>\"\",IF(Main!$E$12=\"ALL\",A1960,IF(Main!$E$12=A1960,A1960,\"\")),\"\")","v":""},"","","","","","","",""]
[{"$nulls":23},{"$f":"IF(A1961<>\"\",IF(Main!$E$12=\"ALL\",A1961,IF(Main!$E$12=A1961,A1961,\"\")),\"\")","v":""},"","","","","","","",""]
[{"$nulls":23},{"$f":"IF(A1962<>\"\",IF(Main!$E$12=\"ALL\",A1962,IF(Main!$E$12=A1962,A1962,\"\")),\"\")","v":""},"","","","","","","",""]
[{"$nulls":23},{"$f":"IF(A1963<>\"\",IF(Main!$E$12=\"ALL\",A1963,IF(Main!$E$12=A1963,A1963,\"\")),\"\")","v":""},"","","","","","","",""]
[{"$nulls":23},{"$f":"IF(A1964<>\"\",IF(Main!$E$12=\"ALL\",A1964,IF(Main!$E$12=A1964,A1964,\"\")),\"\")","v":""},"","","","","","","",""]
[{"$nulls":23},{"$f":"IF(A1965<>\"\",IF(Main!$E$12=\"ALL\",A1965,IF(Main!$E$12=A1965,A1965,\"\")),\"\")","v":""},"","","","","","","",""]
[{"$nulls":23},{"$f":"IF(A1966<>\"\",IF(Main!$E$12=\"ALL\",A1966,IF(Main!$E$12=A1966,A1966,\"\")),\"\")","v":""},"","","","","","","",""]
[{"$nulls":23},{"$f":"IF(A1967<>\"\",IF(Main!$E$12=\"ALL\",A1967,IF(Main!$E$12=A1967,A1967,\"\")),\"\")","v":""},"","","","","","","",""]
[{"$nulls":23},{"$f":"IF(A1968<>\"\",IF(Main!$E$12=\"ALL\",A1968,IF(Main!$E$12=A1968,A1968,\"\")),\"\")","v":""},"","","","","","","",""]
[{"$nulls":23},{"$f":"IF(A1969<>\"\",IF(Main!$E$12=\"ALL\",A1969,IF(Main!$E$12=A1969,A1969,\"\")),\"\")","v":""},"","","","","","","",""]
[{"$nulls":23},{"$f":"IF(A1970<>\"\",IF(Main!$E$12=\"ALL\",A1970,IF(Main!$E$12=A1970,A1970,\"\")),\"\")","v":""},"","","","","","","",""]
[{"$nulls":23},{"$f":"IF(A1971<>\"\",IF(Main!$E$12=\"ALL\",A1971,IF(Main!$E$12=A1971,A1971,\"\")),\"\")","v":""},"","","","","","","",""]
[{"$nulls":23},{"$f":"IF(A1972<>\"\",IF(Main!$E$12=\"ALL\",A1972,IF(Main!$E$12=A1972,A1972,\"\")),\"\")","v":""},"","","","","","","",""]
[{"$nulls":23},{"$f":"IF(A1973<>\"\",IF(Main!$E$12=\"ALL\",A1973,IF(Main!$E$12=A1973,A1973,\"\")),\"\")","v":""},"","","","","","","",""]
[{"$nulls":23},{"$f":"IF(A1974<>\"\",IF(Main!$E$12=\"ALL\",A1974,IF(Main!$E$12=A1974,A1974,\"\")),\"\")","v":""},"","","","","","","",""]
[{"$nulls":23},{"$f":"IF(A1975<>\"\",IF(Main!$E$12=\"ALL\",A1975,IF(Main!$E$12=A1975,A1975,\"\")),\"\")","v":""},"","","","","","","",""]
[{"$nulls":23},{"$f":"IF(A1976<>\"\",IF(Main!$E$12=\"ALL\",A1976,IF(Main!$E$12=A1976,A1976,\"\")),\"\")","v":""},"","","","","","","",""]
[{"$nulls":23},{"$f":"IF(A1977<>\"\",IF(Main!$E$12=\"ALL\",A1977,IF(Main!$E$12=A1977,A1977,\"\")),\"\")","v":""},"","","","","","","",""]
[{"$nulls":23},{"$f":"IF(A1978<>\"\",IF(Main!$E$12=\"ALL\",A1978,IF(Main!$E$12=A1978,A1978,\"\")),\"\")","v":""},"","","","","","","",""]
[{"$nulls":23},{"$f":"IF(A1979<>\"\",IF(Main!$E$12=\"ALL\",A1979,IF(Main!$E$12=A1979,A1979,\"\")),\"\")","v":""},"","","","","","","",""]
[{"$nulls":23},{"$f":"IF(A1980<>\"\",IF(Main!$E$12=\"ALL\",A1980,IF(Main!$E$12=A1980,A1980,\"\")),\"\")","v":""},"","","","","","","",""]
[{"$nulls":23},{"$f":"IF(A1981<>\"\",IF(Main!$E$12=\"ALL\",A1981,IF(Main!$E$12=A1981,A1981,\"\")),\"\")","v":""},"","","","","","","",""]
[{"$nulls":23},{"$f":"IF(A1982<>\"\",IF(Main!$E$12=\"ALL\",A1982,IF(Main!$E$12=A1982,A1982,\"\")),\"\")","v":""},"","","","","","","",""]
[{"$nulls":23},{"$f":"IF(A1983<>\"\",IF(Main!$E$12=\"ALL\",A1983,IF(Main!$E$12=A1983,A1983,\"\")),\"\")","v":""},"","","","","","","",""]
[{"$nulls":23},{"$f":"IF(A1984<>\"\",IF(Main!$E$12=\"ALL\",A1984,IF(Main!$E$12=A1984,A1984,\"\")),\"\")","v":""},"","","","","","","",""]
[{"$nulls":23},{"$f":"IF(A1985<>\"\",IF(Main!$E$12=\"ALL\",A1985,IF(Main!$E$12=A1985,A1985,\"\")),\"\")","v":""},"","","","","","","",""]
[{"$nulls":23},{"$f":"IF(A1986<>\"\",IF(Main!$E$12=\"ALL\",A1986,IF(Main!$E$12=A1986,A1986,\"\")),\"\")","v":""},"","","","","","","",""]
[{"$nulls":23},{"$f":"IF(A1987<>\"\",IF(Main!$E$12=\"ALL\",A1987,IF(Main!$E$12=A1987,A1987,\"\")),\"\")","v":""},{"$f":"IF($X1987=\"\",\"\",D1987)","v":""},{"$f":"IF($X1987=\"\",\"\",F1987)","v":""},{"$f":"IF($X1987=\"\",\"\",J1987)","v":""},{"$f":"IF($X1987=\"\",\"\",N1987)","v":""},{"$f":"IF($X1987=\"\",\"\",IF(P1987=\"\",\"\",P1987))","v":""},{"$f":"IF($X1987=\"\",\"\",R1987)","v":""},{"$f":"IF($X1987=\"\",\"\",T1987)","v":""},{"$f":"IF($X1987=\"\",\"\",V1987)","v":""}]
[{"$nulls":23},{"$f":"IF(A1988<>\"\",IF(Main!$E$12=\"ALL\",A1988,IF(Main!$E$12=A1988,A1988,\"\")),\"\")","v":""},"","","","","","","",""]
[{"$nulls":23},{"$f":"IF(A1989<>\"\",IF(Main!$E$12=\"ALL\",A1989,IF(Main!$E$12=A1989,A1989,\"\")),\"\")","v":""},"","","","","","","",""]
[{"$nulls":23},{"$f":"IF(A1990<>\"\",IF(Main!$E$12=\"ALL\",A1990,IF(Main!$E$12=A1990,A1990,\"\")),\"\")","v":""},"","","","","","","",""]
[{"$nulls":23},{"$f":"IF(A1991<>\"\",IF(Main!$E$12=\"ALL\",A1991,IF(Main!$E$12=A1991,A1991,\"\")),\"\")","v":""},"","","","","","","",""]
[{"$nulls":23},{"$f":"IF(A1992<>\"\",IF(Main!$E$12=\"ALL\",A1992,IF(Main!$E$12=A1992,A1992,\"\")),\"\")","v":""},"","","","","","","",""]
[{"$nulls":23},{"$f":"IF(A1993<>\"\",IF(Main!$E$12=\"ALL\",A1993,IF(Main!$E$12=A1993,A1993,\"\")),\"\")","v":""},"","","","","","","",""]
[{"$nulls":23},{"$f":"IF(A1994<>\"\",IF(Main!$E$12=\"ALL\",A1994,IF(Main!$E$12=A1994,A1994,\"\")),\"\")","v":""},"","","","","","","",""]
[{"$nulls":23},{"$f":"IF(A1995<>\"\",IF(Main!$E$12=\"ALL\",A1995,IF(Main!$E$12=A1995,A1995,\"\")),\"\")","v":""},"","","","","","","",""]
[{"$nulls":23},{"$f":"IF(A1996<>\"\",IF(Main!$E$12=\"ALL\",A1996,IF(Main!$E$12=A1996,A1996,\"\")),\"\")","v":""},"","","","","","","",""]
[{"$nulls":23},{"$f":"IF(A1997<>\"\",IF(Main!$E$12=\"ALL\",A1997,IF(Main!$E$12=A1997,A1997,\"\")),\"\")","v":""},"","","","","","","",""]
[{"$nulls":23},{"$f":"IF(A1998<>\"\",IF(Main!$E$12=\"ALL\",A1998,IF(Main!$E$12=A1998,A1998,\"\")),\"\")","v":""},"","","","","","","",""]
[{"$nulls":23},{"$f":"IF(A1999<>\"\",IF(Main!$E$12=\"ALL\",A1999,IF(Main!$E$12=A1999,A1999,\"\")),\"\")","v":""},"","","","","","","",""]
[{"$nulls":23},{"$f":"IF(A2000<>\"\",IF(Main!$E$12=\"ALL\",A2000,IF(Main!$E$12=A2000,A2000,\"\")),\"\")","v":""},"","","","","","","",""]
[{"$nulls":23},{"$f":"IF(A2018<>\"\",IF(Main!$E$12=\"ALL\",A2018,IF(Main!$E$12=A2018,A2018,\"\")),\"\")","v":""},"","","","","","","",""]
[{"$nulls":23},{"$f":"IF(A2034<>\"\",IF(Main!$E$12=\"ALL\",A2034,IF(Main!$E$12=A2034,A2034,\"\")),\"\")","v":""},"","","","","","","",""]
[{"$nulls":23},{"$f":"IF(A2067<>\"\",IF(Main!$E$12=\"ALL\",A2067,IF(Main!$E$12=A2067,A2067,\"\")),\"\")","v":""},"","","","","","","",""]
[{"$nulls":23},{"$f":"IF(A2092<>\"\",IF(Main!$E$12=\"ALL\",A2092,IF(Main!$E$12=A2092,A2092,\"\")),\"\")","v":""},"","","","","","","",""]
[{"$nulls":23},{"$f":"IF(A2110<>\"\",IF(Main!$E$12=\"ALL\",A2110,IF(Main!$E$12=A2110,A2110,\"\")),\"\")","v":""},"","","","","","","",""]
[{"$nulls":23},{"$f":"IF(A2133<>\"\",IF(Main!$E$12=\"ALL\",A2133,IF(Main!$E$12=A2133,A2133,\"\")),\"\")","v":""},"","","","","","","",""]
[{"$nulls":23},{"$f":"IF(A2158<>\"\",IF(Main!$E$12=\"ALL\",A2158,IF(Main!$E$12=A2158,A2158,\"\")),\"\")","v":""},"","","","","","","",""]
[{"$nulls":23},{"$f":"IF(A2167<>\"\",IF(Main!$E$12=\"ALL\",A2167,IF(Main!$E$12=A2167,A2167,\"\")),\"\")","v":""},"","","","","","","",""]
[{"$nulls":23},{"$f":"IF(A2202<>\"\",IF(Main!$E$12=\"ALL\",A2202,IF(Main!$E$12=A2202,A2202,\"\")),\"\")","v":""},"","","","","","","",""]
[{"$nulls":23},{"$f":"IF(A2224<>\"\",IF(Main!$E$12=\"ALL\",A2224,IF(Main!$E$12=A2224,A2224,\"\")),\"\")","v":""},"","","","","","","",""]
[{"$nulls":23},{"$f":"IF(A2257<>\"\",IF(Main!$E$12=\"ALL\",A2257,IF(Main!$E$12=A2257,A2257,\"\")),\"\")","v":""},"","","","","","","",""]
[{"$nulls":23},{"$f":"IF(A2282<>\"\",IF(Main!$E$12=\"ALL\",A2282,IF(Main!$E$12=A2282,A2282,\"\")),\"\")","v":""},"","","","","","","",""]
[{"$nulls":23},{"$f":"IF(A2305<>\"\",IF(Main!$E$12=\"ALL\",A2305,IF(Main!$E$12=A2305,A2305,\"\")),\"\")","v":""},"","","","","","","",""]
[{"$nulls":23},{"$f":"IF(A2323<>\"\",IF(Main!$E$12=\"ALL\",A2323,IF(Main!$E$12=A2323,A2323,\"\")),\"\")","v":""},"","","","","","","",""]
[{"$nulls":23},{"$f":"IF(A2348<>\"\",IF(Main!$E$12=\"ALL\",A2348,IF(Main!$E$12=A2348,A2348,\"\")),\"\")","v":""},"","","","","","","",""]
[{"$nulls":23},{"$f":"IF(A2357<>\"\",IF(Main!$E$12=\"ALL\",A2357,IF(Main!$E$12=A2357,A2357,\"\")),\"\")","v":""},"","","","","","","",""]
[{"$nulls":23},{"$f":"IF(A2397<>\"\",IF(Main!$E$12=\"ALL\",A2397,IF(Main!$E$12=A2397,A2397,\"\")),\"\")","v":""},"","","","","","","",""]
[{"$nulls":23},{"$f":"IF(A2414<>\"\",IF(Main!$E$12=\"ALL\",A2414,IF(Main!$E$12=A2414,A2414,\"\")),\"\")","v":""},"","","","","","","",""]
[{"$nulls":23},{"$f":"IF(A2447<>\"\",IF(Main!$E$12=\"ALL\",A2447,IF(Main!$E$12=A2447,A2447,\"\")),\"\")","v":""},"","","","","","","",""]
[{"$nulls":23},{"$f":"IF(A2472<>\"\",IF(Main!$E$12=\"ALL\",A2472,IF(Main!$E$12=A2472,A2472,\"\")),\"\")","v":""},"","","","","","","",""]
[{"$nulls":23},{"$f":"IF(A2477<>\"\",IF(Main!$E$12=\"ALL\",A2477,IF(Main!$E$12=A2477,A2477,\"\")),\"\")","v":""},"","","","","","","",""]
[{"$nulls":23},{"$f":"IF(A2505<>\"\",IF(Main!$E$12=\"ALL\",A2505,IF(Main!$E$12=A2505,A2505,\"\")),\"\")","v":""},"","","","","","","",""]
[{"$nulls":23},{"$f":"IF(A2538<>\"\",IF(Main!$E$12=\"ALL\",A2538,IF(Main!$E$12=A2538,A2538,\"\")),\"\")","v":""},"","","","","","","",""]
[{"$nulls":23},{"$f":"IF(A2547<>\"\",IF(Main!$E$12=\"ALL\",A2547,IF(Main!$E$12=A2547,A2547,\"\")),\"\")","v":""},"","","","","","","",""]
[{"$nulls":23},{"$f":"IF(A2592<>\"\",IF(Main!$E$12=\"ALL\",A2592,IF(Main!$E$12=A2592,A2592,\"\")),\"\")","v":""},"","","","","","","",""]
[{"$nulls":23},{"$f":"IF(A2604<>\"\",IF(Main!$E$12=\"ALL\",A2604,IF(Main!$E$12=A2604,A2604,\"\")),\"\")","v":""},"","","","","","","",""]
[{"$nulls":23},{"$f":"IF(A2637<>\"\",IF(Main!$E$12=\"ALL\",A2637,IF(Main!$E$12=A2637,A2637,\"\")),\"\")","v":""},"","","","","","","",""]
[{"$nulls":23},{"$f":"IF(A2662<>\"\",IF(Main!$E$12=\"ALL\",A2662,IF(Main!$E$12=A2662,A2662,\"\")),\"\")","v":""},"","","","","","","",""]
[{"$nulls":23},{"$f":"IF(A2672<>\"\",IF(Main!$E$12=\"ALL\",A2672,IF(Main!$E$12=A2672,A2672,\"\")),\"\")","v":""},"","","","","","","",""]
[{"$nulls":23},{"$f":"IF(A2695<>\"\",IF(Main!$E$12=\"ALL\",A2695,IF(Main!$E$12=A2695,A2695,\"\")),\"\")","v":""},"","","","","","","",""]
[{"$nulls":23},{"$f":"IF(A2728<>\"\",IF(Main!$E$12=\"ALL\",A2728,IF(Main!$E$12=A2728,A2728,\"\")),\"\")","v":""},"","","","","","","",""]
[{"$nulls":23},{"$f":"IF(A2737<>\"\",IF(Main!$E$12=\"ALL\",A2737,IF(Main!$E$12=A2737,A2737,\"\")),\"\")","v":""},"","","","","","","",""]
[{"$nulls":23},{"$f":"IF(A2764<>\"\",IF(Main!$E$12=\"ALL\",A2764,IF(Main!$E$12=A2764,A2764,\"\")),\"\")","v":""},"","","","","","","",""]
[{"$nulls":23},{"$f":"IF(A2794<>\"\",IF(Main!$E$12=\"ALL\",A2794,IF(Main!$E$12=A2794,A2794,\"\")),\"\")","v":""},"","","","","","","",""]
[{"$nulls":23},{"$f":"IF(A2827<>\"\",IF(Main!$E$12=\"ALL\",A2827,IF(Main!$E$12=A2827,A2827,\"\")),\"\")","v":""},"","","","","","","",""]
[{"$nulls":23},{"$f":"IF(A2852<>\"\",IF(Main!$E$12=\"ALL\",A2852,IF(Main!$E$12=A2852,A2852,\"\")),\"\")","v":""},"","","","","","","",""]
[{"$nulls":23},{"$f":"IF(A2867<>\"\",IF(Main!$E$12=\"ALL\",A2867,IF(Main!$E$12=A2867,A2867,\"\")),\"\")","v":""},"","","","","","","",""]
[{"$nulls":23},{"$f":"IF(A2885<>\"\",IF(Main!$E$12=\"ALL\",A2885,IF(Main!$E$12=A2885,A2885,\"\")),\"\")","v":""},"","","","","","","",""]
[{"$nulls":23},{"$f":"IF(A2918<>\"\",IF(Main!$E$12=\"ALL\",A2918,IF(Main!$E$12=A2918,A2918,\"\")),\"\")","v":""},"","","","","","","",""]
[{"$nulls":23},{"$f":"IF(A2927<>\"\",IF(Main!$E$12=\"ALL\",A2927,IF(Main!$E$12=A2927,A2927,\"\")),\"\")","v":""},"","","","","","","",""]
[{"$nulls":23},{"$f":"IF(A2959<>\"\",IF(Main!$E$12=\"ALL\",A2959,IF(Main!$E$12=A2959,A2959,\"\")),\"\")","v":""},"","","","","","","",""]
[{"$nulls":23},{"$f":"IF(A2984<>\"\",IF(Main!$E$12=\"ALL\",A2984,IF(Main!$E$12=A2984,A2984,\"\")),\"\")","v":""},"","","","","","","",""]
[{"$nulls":23},{"$f":"IF(A3009<>\"\",IF(Main!$E$12=\"ALL\",A3009,IF(Main!$E$12=A3009,A3009,\"\")),\"\")","v":""},"","","","","","","",""]
[{"$nulls":23},{"$f":"IF(A3042<>\"\",IF(Main!$E$12=\"ALL\",A3042,IF(Main!$E$12=A3042,A3042,\"\")),\"\")","v":""},"","","","","","","",""]
[{"$nulls":23},{"$f":"IF(A3062<>\"\",IF(Main!$E$12=\"ALL\",A3062,IF(Main!$E$12=A3062,A3062,\"\")),\"\")","v":""},"","","","","","","",""]
[{"$nulls":23},{"$f":"IF(A3075<>\"\",IF(Main!$E$12=\"ALL\",A3075,IF(Main!$E$12=A3075,A3075,\"\")),\"\")","v":""},{"$f":"IF($X3075=\"\",\"\",D3075)","v":""},{"$f":"IF($X3075=\"\",\"\",F3075)","v":""},{"$f":"IF($X3075=\"\",\"\",J3075)","v":""},{"$f":"IF($X3075=\"\",\"\",N3075)","v":""},{"$f":"IF($X3075=\"\",\"\",IF(P3075=\"\",\"\",P3075))","v":""},{"$f":"IF($X3075=\"\",\"\",R3075)","v":""},{"$f":"IF($X3075=\"\",\"\",T3075)","v":""},{"$f":"IF($X3075=\"\",\"\",V3075)","v":""}]
[{"$nulls":23},{"$f":"IF(A3108<>\"\",IF(Main!$E$12=\"ALL\",A3108,IF(Main!$E$12=A3108,A3108,\"\")),\"\")","v":""},"","","","","","","",""]
[{"$nulls":23},{"$f":"IF(A3117<>\"\",IF(Main!$E$12=\"ALL\",A3117,IF(Main!$E$12=A3117,A3117,\"\")),\"\")","v":""},"","","","","","","",""]
[{"$nulls":23},{"$f":"IF(A3154<>\"\",IF(Main!$E$12=\"ALL\",A3154,IF(Main!$E$12=A3154,A3154,\"\")),\"\")","v":""},"","","","","","","",""]
[{"$nulls":23},{"$f":"IF(A3174<>\"\",IF(Main!$E$12=\"ALL\",A3174,IF(Main!$E$12=A3174,A3174,\"\")),\"\")","v":""},"","","","","","","",""]
[{"$nulls":23},{"$f":"IF(A3199<>\"\",IF(Main!$E$12=\"ALL\",A3199,IF(Main!$E$12=A3199,A3199,\"\")),\"\")","v":""},"","","","","","","",""]
[{"$nulls":23},{"$f":"IF(A3232<>\"\",IF(Main!$E$12=\"ALL\",A3232,IF(Main!$E$12=A3232,A3232,\"\")),\"\")","v":""},"","","","","","","",""]
[{"$nulls":23},{"$f":"IF(A3257<>\"\",IF(Main!$E$12=\"ALL\",A3257,IF(Main!$E$12=A3257,A3257,\"\")),\"\")","v":""},"","","","","","","",""]
[{"$nulls":23},{"$f":"IF(A3265<>\"\",IF(Main!$E$12=\"ALL\",A3265,IF(Main!$E$12=A3265,A3265,\"\")),\"\")","v":""},"","","","","","","",""]
[{"$nulls":23},{"$f":"IF(A3298<>\"\",IF(Main!$E$12=\"ALL\",A3298,IF(Main!$E$12=A3298,A3298,\"\")),\"\")","v":""},"","","","","","","",""]
[{"$nulls":23},{"$f":"IF(A3323<>\"\",IF(Main!$E$12=\"ALL\",A3323,IF(Main!$E$12=A3323,A3323,\"\")),\"\")","v":""},"","","","","","","",""]
[{"$nulls":23},{"$f":"IF(A3349<>\"\",IF(Main!$E$12=\"ALL\",A3349,IF(Main!$E$12=A3349,A3349,\"\")),\"\")","v":""},"","","","","","","",""]
[{"$nulls":23},{"$f":"IF(A3364<>\"\",IF(Main!$E$12=\"ALL\",A3364,IF(Main!$E$12=A3364,A3364,\"\")),\"\")","v":""},"","","","","","","",""]
[{"$nulls":23},{"$f":"IF(A3389<>\"\",IF(Main!$E$12=\"ALL\",A3389,IF(Main!$E$12=A3389,A3389,\"\")),\"\")","v":""},"","","","","","","",""]
[{"$nulls":23},{"$f":"IF(A3422<>\"\",IF(Main!$E$12=\"ALL\",A3422,IF(Main!$E$12=A3422,A3422,\"\")),\"\")","v":""},"","","","","","","",""]
[{"$nulls":23},{"$f":"IF(A3429<>\"\",IF(Main!$E$12=\"ALL\",A3429,IF(Main!$E$12=A3429,A3429,\"\")),\"\")","v":""},"","","","","","","",""]
[{"$nulls":23},{"$f":"IF(A3455<>\"\",IF(Main!$E$12=\"ALL\",A3455,IF(Main!$E$12=A3455,A3455,\"\")),\"\")","v":""},"","","","","","","",""]
[{"$nulls":23},{"$f":"IF(A3488<>\"\",IF(Main!$E$12=\"ALL\",A3488,IF(Main!$E$12=A3488,A3488,\"\")),\"\")","v":""},"","","","","","","",""]
[{"$nulls":23},{"$f":"IF(A3513<>\"\",IF(Main!$E$12=\"ALL\",A3513,IF(Main!$E$12=A3513,A3513,\"\")),\"\")","v":""},"","","","","","","",""]
[{"$nulls":23},{"$f":"IF(A3521<>\"\",IF(Main!$E$12=\"ALL\",A3521,IF(Main!$E$12=A3521,A3521,\"\")),\"\")","v":""},"","","","","","","",""]
[{"$nulls":23},{"$f":"IF(A3554<>\"\",IF(Main!$E$12=\"ALL\",A3554,IF(Main!$E$12=A3554,A3554,\"\")),\"\")","v":""},"","","","","","","",""]
[{"$nulls":23},{"$f":"IF(A3579<>\"\",IF(Main!$E$12=\"ALL\",A3579,IF(Main!$E$12=A3579,A3579,\"\")),\"\")","v":""},"","","","","","","",""]
[{"$nulls":23},{"$f":"IF(A3612<>\"\",IF(Main!$E$12=\"ALL\",A3612,IF(Main!$E$12=A3612,A3612,\"\")),\"\")","v":""},"","","","","","","",""]
[{"$nulls":23},{"$f":"IF(A3624<>\"\",IF(Main!$E$12=\"ALL\",A3624,IF(Main!$E$12=A3624,A3624,\"\")),\"\")","v":""},"","","","","","","",""]
[{"$nulls":23},{"$f":"IF(A3645<>\"\",IF(Main!$E$12=\"ALL\",A3645,IF(Main!$E$12=A3645,A3645,\"\")),\"\")","v":""},"","","","","","","",""]
[{"$nulls":23},{"$f":"IF(A3678<>\"\",IF(Main!$E$12=\"ALL\",A3678,IF(Main!$E$12=A3678,A3678,\"\")),\"\")","v":""},"","","","","","","",""]
[{"$nulls":23},{"$f":"IF(A3703<>\"\",IF(Main!$E$12=\"ALL\",A3703,IF(Main!$E$12=A3703,A3703,\"\")),\"\")","v":""},"","","","","","","",""]
[{"$nulls":23},{"$f":"IF(A3716<>\"\",IF(Main!$E$12=\"ALL\",A3716,IF(Main!$E$12=A3716,A3716,\"\")),\"\")","v":""},"","","","","","","",""]
[{"$nulls":23},{"$f":"IF(A3744<>\"\",IF(Main!$E$12=\"ALL\",A3744,IF(Main!$E$12=A3744,A3744,\"\")),\"\")","v":""},"","","","","","","",""]
[{"$nulls":23},{"$f":"IF(A3769<>\"\",IF(Main!$E$12=\"ALL\",A3769,IF(Main!$E$12=A3769,A3769,\"\")),\"\")","v":""},"","","","","","","",""]
[{"$nulls":23},{"$f":"IF(A3802<>\"\",IF(Main!$E$12=\"ALL\",A3802,IF(Main!$E$12=A3802,A3802,\"\")),\"\")","v":""},"","","","","","","",""]
[{"$nulls":23},{"$f":"IF(A3808<>\"\",IF(Main!$E$12=\"ALL\",A3808,IF(Main!$E$12=A3808,A3808,\"\")),\"\")","v":""},"","","","","","","",""]
[{"$nulls":23},{"$f":"IF(A3835<>\"\",IF(Main!$E$12=\"ALL\",A3835,IF(Main!$E$12=A3835,A3835,\"\")),\"\")","v":""},"","","","","","","",""]
[{"$nulls":23},{"$f":"IF(A3868<>\"\",IF(Main!$E$12=\"ALL\",A3868,IF(Main!$E$12=A3868,A3868,\"\")),\"\")","v":""},"","","","","","","",""]
[{"$nulls":23},{"$f":"IF(A3893<>\"\",IF(Main!$E$12=\"ALL\",A3893,IF(Main!$E$12=A3893,A3893,\"\")),\"\")","v":""},"","","","","","","",""]
[{"$nulls":23},{"$f":"IF(A3911<>\"\",IF(Main!$E$12=\"ALL\",A3911,IF(Main!$E$12=A3911,A3911,\"\")),\"\")","v":""},"","","","","","","",""]
[{"$nulls":23},{"$f":"IF(A3934<>\"\",IF(Main!$E$12=\"ALL\",A3934,IF(Main!$E$12=A3934,A3934,\"\")),\"\")","v":""},"","","","","","","",""]
[{"$nulls":23},{"$f":"IF(A3959<>\"\",IF(Main!$E$12=\"ALL\",A3959,IF(Main!$E$12=A3959,A3959,\"\")),\"\")","v":""},"","","","","","","",""]
[{"$nulls":23},{"$f":"IF(A3992<>\"\",IF(Main!$E$12=\"ALL\",A3992,IF(Main!$E$12=A3992,A3992,\"\")),\"\")","v":""},"","","","","","","",""]
[{"$nulls":23},{"$f":"IF(A4003<>\"\",IF(Main!$E$12=\"ALL\",A4003,IF(Main!$E$12=A4003,A4003,\"\")),\"\")","v":""},"","","","","","","",""]
[{"$nulls":23},{"$f":"IF(A4025<>\"\",IF(Main!$E$12=\"ALL\",A4025,IF(Main!$E$12=A4025,A4025,\"\")),\"\")","v":""},"","","","","","","",""]
[{"$nulls":23},{"$f":"IF(A4058<>\"\",IF(Main!$E$12=\"ALL\",A4058,IF(Main!$E$12=A4058,A4058,\"\")),\"\")","v":""},"","","","","","","",""]
[{"$nulls":23},{"$f":"IF(A4083<>\"\",IF(Main!$E$12=\"ALL\",A4083,IF(Main!$E$12=A4083,A4083,\"\")),\"\")","v":""},"","","","","","","",""]
[{"$nulls":23},{"$f":"IF(A4106<>\"\",IF(Main!$E$12=\"ALL\",A4106,IF(Main!$E$12=A4106,A4106,\"\")),\"\")","v":""},"","","","","","","",""]
[{"$nulls":23},{"$f":"IF(A4124<>\"\",IF(Main!$E$12=\"ALL\",A4124,IF(Main!$E$12=A4124,A4124,\"\")),\"\")","v":""},"","","","","","","",""]
[{"$nulls":23},{"$f":"IF(A4149<>\"\",IF(Main!$E$12=\"ALL\",A4149,IF(Main!$E$12=A4149,A4149,\"\")),\"\")","v":""},"","","","","","","",""]
[{"$nulls":23},{"$f":"IF(A4182<>\"\",IF(Main!$E$12=\"ALL\",A4182,IF(Main!$E$12=A4182,A4182,\"\")),\"\")","v":""},"","","","","","","",""]
[{"$nulls":23},{"$f":"IF(A4198<>\"\",IF(Main!$E$12=\"ALL\",A4198,IF(Main!$E$12=A4198,A4198,\"\")),\"\")","v":""},"","","","","","","",""]
[{"$nulls":23},{"$f":"IF(A4215<>\"\",IF(Main!$E$12=\"ALL\",A4215,IF(Main!$E$12=A4215,A4215,\"\")),\"\")","v":""},"","","","","","","",""]
[{"$nulls":23},{"$f":"IF(A4248<>\"\",IF(Main!$E$12=\"ALL\",A4248,IF(Main!$E$12=A4248,A4248,\"\")),\"\")","v":""},"","","","","","","",""]
[{"$nulls":23},{"$f":"IF(A4273<>\"\",IF(Main!$E$12=\"ALL\",A4273,IF(Main!$E$12=A4273,A4273,\"\")),\"\")","v":""},"","","","","","","",""]
[{"$nulls":23},{"$f":"IF(A4301<>\"\",IF(Main!$E$12=\"ALL\",A4301,IF(Main!$E$12=A4301,A4301,\"\")),\"\")","v":""},"","","","","","","",""]
[{"$nulls":23},{"$f":"IF(A4306<>\"\",IF(Main!$E$12=\"ALL\",A4306,IF(Main!$E$12=A4306,A4306,\"\")),\"\")","v":""},"","","","","","","",""]
[{"$nulls":23},{"$f":"IF(A4339<>\"\",IF(Main!$E$12=\"ALL\",A4339,IF(Main!$E$12=A4339,A4339,\"\")),\"\")","v":""},"","","","","","","",""]
[{"$nulls":23},{"$f":"IF(A4372<>\"\",IF(Main!$E$12=\"ALL\",A4372,IF(Main!$E$12=A4372,A4372,\"\")),\"\")","v":""},"","","","","","","",""]
[{"$nulls":23},{"$f":"IF(A4393<>\"\",IF(Main!$E$12=\"ALL\",A4393,IF(Main!$E$12=A4393,A4393,\"\")),\"\")","v":""},"","","","","","","",""]
[{"$nulls":23},{"$f":"IF(A4405<>\"\",IF(Main!$E$12=\"ALL\",A4405,IF(Main!$E$12=A4405,A4405,\"\")),\"\")","v":""},"","","","","","","",""]
[{"$nulls":23},{"$f":"IF(A4438<>\"\",IF(Main!$E$12=\"ALL\",A4438,IF(Main!$E$12=A4438,A4438,\"\")),\"\")","v":""},"","","","","","","",""]
[{"$nulls":23},{"$f":"IF(A4463<>\"\",IF(Main!$E$12=\"ALL\",A4463,IF(Main!$E$12=A4463,A4463,\"\")),\"\")","v":""},"","","","","","","",""]
[{"$nulls":23},{"$f":"IF(A4473<>\"\",IF(Main!$E$12=\"ALL\",A4473,IF(Main!$E$12=A4473,A4473,\"\")),\"\")","v":""},"","","","","","","",""]
[{"$nulls":23},{"$f":"IF(A4496<>\"\",IF(Main!$E$12=\"ALL\",A4496,IF(Main!$E$12=A4496,A4496,\"\")),\"\")","v":""},"","","","","","","",""]
[{"$nulls":23},{"$f":"IF(A4529<>\"\",IF(Main!$E$12=\"ALL\",A4529,IF(Main!$E$12=A4529,A4529,\"\")),\"\")","v":""},"","","","","","","",""]
[{"$nulls":23},{"$f":"IF(A4562<>\"\",IF(Main!$E$12=\"ALL\",A4562,IF(Main!$E$12=A4562,A4562,\"\")),\"\")","v":""},"","","","","","","",""]
[{"$nulls":23},{"$f":"IF(A4588<>\"\",IF(Main!$E$12=\"ALL\",A4588,IF(Main!$E$12=A4588,A4588,\"\")),\"\")","v":""},"","","","","","","",""]
[{"$nulls":23},{"$f":"IF(A4595<>\"\",IF(Main!$E$12=\"ALL\",A4595,IF(Main!$E$12=A4595,A4595,\"\")),\"\")","v":""},"","","","","","","",""]
[{"$nulls":23},{"$f":"IF(A4620<>\"\",IF(Main!$E$12=\"ALL\",A4620,IF(Main!$E$12=A4620,A4620,\"\")),\"\")","v":""},"","","","","","","",""]
[{"$nulls":23},{"$f":"IF(A4653<>\"\",IF(Main!$E$12=\"ALL\",A4653,IF(Main!$E$12=A4653,A4653,\"\")),\"\")","v":""},"","","","","","","",""]
[{"$nulls":23},{"$f":"IF(A4668<>\"\",IF(Main!$E$12=\"ALL\",A4668,IF(Main!$E$12=A4668,A4668,\"\")),\"\")","v":""},"","","","","","","",""]
[{"$nulls":23},{"$f":"IF(A4686<>\"\",IF(Main!$E$12=\"ALL\",A4686,IF(Main!$E$12=A4686,A4686,\"\")),\"\")","v":""},"","","","","","","",""]
[{"$nulls":23},{"$f":"IF(A4719<>\"\",IF(Main!$E$12=\"ALL\",A4719,IF(Main!$E$12=A4719,A4719,\"\")),\"\")","v":""},"","","","","","","",""]
[{"$nulls":23},{"$f":"IF(A4752<>\"\",IF(Main!$E$12=\"ALL\",A4752,IF(Main!$E$12=A4752,A4752,\"\")),\"\")","v":""},"","","","","","","",""]
[{"$nulls":23},{"$f":"IF(A4760<>\"\",IF(Main!$E$12=\"ALL\",A4760,IF(Main!$E$12=A4760,A4760,\"\")),\"\")","v":""},"","","","","","","",""]
[{"$nulls":23},{"$f":"IF(A4785<>\"\",IF(Main!$E$12=\"ALL\",A4785,IF(Main!$E$12=A4785,A4785,\"\")),\"\")","v":""},"","","","","","","",""]
[{"$nulls":23},{"$f":"IF(A4810<>\"\",IF(Main!$E$12=\"ALL\",A4810,IF(Main!$E$12=A4810,A4810,\"\")),\"\")","v":""},"","","","","","","",""]
[{"$nulls":23},{"$f":"IF(A4843<>\"\",IF(Main!$E$12=\"ALL\",A4843,IF(Main!$E$12=A4843,A4843,\"\")),\"\")","v":""},"","","","","","","",""]
[{"$nulls":23},{"$f":"IF(A4863<>\"\",IF(Main!$E$12=\"ALL\",A4863,IF(Main!$E$12=A4863,A4863,\"\")),\"\")","v":""},"","","","","","","",""]
[{"$nulls":23},{"$f":"IF(A4876<>\"\",IF(Main!$E$12=\"ALL\",A4876,IF(Main!$E$12=A4876,A4876,\"\")),\"\")","v":""},"","","","","","","",""]
[{"$nulls":23},{"$f":"IF(A4909<>\"\",IF(Main!$E$12=\"ALL\",A4909,IF(Main!$E$12=A4909,A4909,\"\")),\"\")","v":""},"","","","","","","",""]
[{"$nulls":23},{"$f":"IF(A4942<>\"\",IF(Main!$E$12=\"ALL\",A4942,IF(Main!$E$12=A4942,A4942,\"\")),\"\")","v":""},"","","","","","","",""]
[{"$nulls":23},{"$f":"IF(A4955<>\"\",IF(Main!$E$12=\"ALL\",A4955,IF(Main!$E$12=A4955,A4955,\"\")),\"\")","v":""},"","","","","","","",""]
[{"$nulls":23},{"$f":"IF(A4975<>\"\",IF(Main!$E$12=\"ALL\",A4975,IF(Main!$E$12=A4975,A4975,\"\")),\"\")","v":""},"","","","","","","",""]
[{"$nulls":23},{"$f":"IF(A5000<>\"\",IF(Main!$E$12=\"ALL\",A5000,IF(Main!$E$12=A5000,A5000,\"\")),\"\")","v":""},"","","","","","","",""]
[{"$nulls":23},{"$f":"IF(A5033<>\"\",IF(Main!$E$12=\"ALL\",A5033,IF(Main!$E$12=A5033,A5033,\"\")),\"\")","v":""},"","","","","","","",""]
[{"$nulls":23},{"$f":"IF(A5058<>\"\",IF(Main!$E$12=\"ALL\",A5058,IF(Main!$E$12=A5058,A5058,\"\")),\"\")","v":""},"","","","","","","",""]
[{"$nulls":23},{"$f":"IF(A5066<>\"\",IF(Main!$E$12=\"ALL\",A5066,IF(Main!$E$12=A5066,A5066,\"\")),\"\")","v":""},"","","","","","","",""]
[{"$nulls":23},{"$f":"IF(A5099<>\"\",IF(Main!$E$12=\"ALL\",A5099,IF(Main!$E$12=A5099,A5099,\"\")),\"\")","v":""},"","","","","","","",""]
[{"$nulls":23},{"$f":"IF(A5124<>\"\",IF(Main!$E$12=\"ALL\",A5124,IF(Main!$E$12=A5124,A5124,\"\")),\"\")","v":""},"","","","","","","",""]
[{"$nulls":23},{"$f":"IF(A5150<>\"\",IF(Main!$E$12=\"ALL\",A5150,IF(Main!$E$12=A5150,A5150,\"\")),\"\")","v":""},"","","","","","","",""]
[{"$nulls":23},{"$f":"IF(A5165<>\"\",IF(Main!$E$12=\"ALL\",A5165,IF(Main!$E$12=A5165,A5165,\"\")),\"\")","v":""},"","","","","","","",""]
[{"$nulls":23},{"$f":"IF(A5190<>\"\",IF(Main!$E$12=\"ALL\",A5190,IF(Main!$E$12=A5190,A5190,\"\")),\"\")","v":""},"","","","","","","",""]
[{"$nulls":23},{"$f":"IF(A5223<>\"\",IF(Main!$E$12=\"ALL\",A5223,IF(Main!$E$12=A5223,A5223,\"\")),\"\")","v":""},"","","","","","","",""]
[{"$nulls":23},{"$f":"IF(A5253<>\"\",IF(Main!$E$12=\"ALL\",A5253,IF(Main!$E$12=A5253,A5253,\"\")),\"\")","v":""},"","","","","","","",""]
[{"$nulls":23},{"$f":"IF(A5256<>\"\",IF(Main!$E$12=\"ALL\",A5256,IF(Main!$E$12=A5256,A5256,\"\")),\"\")","v":""},"","","","","","","",""]
[{"$nulls":23},{"$f":"IF(A5289<>\"\",IF(Main!$E$12=\"ALL\",A5289,IF(Main!$E$12=A5289,A5289,\"\")),\"\")","v":""},"","","","","","","",""]
[{"$nulls":23},{"$f":"IF(A5314<>\"\",IF(Main!$E$12=\"ALL\",A5314,IF(Main!$E$12=A5314,A5314,\"\")),\"\")","v":""},"","","","","","","",""]
[{"$nulls":23},{"$f":"IF(A5345<>\"\",IF(Main!$E$12=\"ALL\",A5345,IF(Main!$E$12=A5345,A5345,\"\")),\"\")","v":""},"","","","","","","",""]
[{"$nulls":23},{"$f":"IF(A5355<>\"\",IF(Main!$E$12=\"ALL\",A5355,IF(Main!$E$12=A5355,A5355,\"\")),\"\")","v":""},"","","","","","","",""]
[{"$nulls":23},{"$f":"IF(A5380<>\"\",IF(Main!$E$12=\"ALL\",A5380,IF(Main!$E$12=A5380,A5380,\"\")),\"\")","v":""},"","","","","","","",""]
[{"$nulls":23},{"$f":"IF(A5413<>\"\",IF(Main!$E$12=\"ALL\",A5413,IF(Main!$E$12=A5413,A5413,\"\")),\"\")","v":""},"","","","","","","",""]
[{"$nulls":23},{"$f":"IF(A5437<>\"\",IF(Main!$E$12=\"ALL\",A5437,IF(Main!$E$12=A5437,A5437,\"\")),\"\")","v":""},"","","","","","","",""]
[{"$nulls":23},{"$f":"IF(A5446<>\"\",IF(Main!$E$12=\"ALL\",A5446,IF(Main!$E$12=A5446,A5446,\"\")),\"\")","v":""},"","","","","","","",""]
[{"$nulls":23},{"$f":"IF(A5479<>\"\",IF(Main!$E$12=\"ALL\",A5479,IF(Main!$E$12=A5479,A5479,\"\")),\"\")","v":""},"","","","","","","",""]
[{"$nulls":23},{"$f":"IF(A5504<>\"\",IF(Main!$E$12=\"ALL\",A5504,IF(Main!$E$12=A5504,A5504,\"\")),\"\")","v":""},"","","","","","","",""]
[{"$nulls":23},{"$f":"IF(A5517<>\"\",IF(Main!$E$12=\"ALL\",A5517,IF(Main!$E$12=A5517,A5517,\"\")),\"\")","v":""},"","","","","","","",""]
[{"$nulls":23},{"$f":"IF(A5545<>\"\",IF(Main!$E$12=\"ALL\",A5545,IF(Main!$E$12=A5545,A5545,\"\")),\"\")","v":""},"","","","","","","",""]
[{"$nulls":23},{"$f":"IF(A5570<>\"\",IF(Main!$E$12=\"ALL\",A5570,IF(Main!$E$12=A5570,A5570,\"\")),\"\")","v":""},"","","","","","","",""]
[{"$nulls":23},{"$f":"IF(A5603<>\"\",IF(Main!$E$12=\"ALL\",A5603,IF(Main!$E$12=A5603,A5603,\"\")),\"\")","v":""},"","","","","","","",""]
[{"$nulls":23},{"$f":"IF(A5632<>\"\",IF(Main!$E$12=\"ALL\",A5632,IF(Main!$E$12=A5632,A5632,\"\")),\"\")","v":""},"","","","","","","",""]
[{"$nulls":23},{"$f":"IF(A5636<>\"\",IF(Main!$E$12=\"ALL\",A5636,IF(Main!$E$12=A5636,A5636,\"\")),\"\")","v":""},"","","","","","","",""]
[{"$nulls":23},{"$f":"IF(A5669<>\"\",IF(Main!$E$12=\"ALL\",A5669,IF(Main!$E$12=A5669,A5669,\"\")),\"\")","v":""},"","","","","","","",""]
[{"$nulls":23},{"$f":"IF(A5694<>\"\",IF(Main!$E$12=\"ALL\",A5694,IF(Main!$E$12=A5694,A5694,\"\")),\"\")","v":""},"","","","","","","",""]
[{"$nulls":23},{"$f":"IF(A5712<>\"\",IF(Main!$E$12=\"ALL\",A5712,IF(Main!$E$12=A5712,A5712,\"\")),\"\")","v":""},"","","","","","","",""]
[{"$nulls":23},{"$f":"IF(A5735<>\"\",IF(Main!$E$12=\"ALL\",A5735,IF(Main!$E$12=A5735,A5735,\"\")),\"\")","v":""},"","","","","","","",""]
[{"$nulls":23},{"$f":"IF(A5760<>\"\",IF(Main!$E$12=\"ALL\",A5760,IF(Main!$E$12=A5760,A5760,\"\")),\"\")","v":""},"","","","","","","",""]
[{"$nulls":23},{"$f":"IF(A5793<>\"\",IF(Main!$E$12=\"ALL\",A5793,IF(Main!$E$12=A5793,A5793,\"\")),\"\")","v":""},"","","","","","","",""]
[{"$nulls":23},{"$f":"IF(A5804<>\"\",IF(Main!$E$12=\"ALL\",A5804,IF(Main!$E$12=A5804,A5804,\"\")),\"\")","v":""},"","","","","","","",""]
[{"$nulls":23},{"$f":"IF(A5826<>\"\",IF(Main!$E$12=\"ALL\",A5826,IF(Main!$E$12=A5826,A5826,\"\")),\"\")","v":""},"","","","","","","",""]
[{"$nulls":23},{"$f":"IF(A5859<>\"\",IF(Main!$E$12=\"ALL\",A5859,IF(Main!$E$12=A5859,A5859,\"\")),\"\")","v":""},"","","","","","","",""]
[{"$nulls":23},{"$f":"IF(A5884<>\"\",IF(Main!$E$12=\"ALL\",A5884,IF(Main!$E$12=A5884,A5884,\"\")),\"\")","v":""},"","","","","","","",""]
[{"$nulls":23},{"$f":"IF(A5907<>\"\",IF(Main!$E$12=\"ALL\",A5907,IF(Main!$E$12=A5907,A5907,\"\")),\"\")","v":""},"","","","","","","",""]
[{"$nulls":23},{"$f":"IF(A5941<>\"\",IF(Main!$E$12=\"ALL\",A5941,IF(Main!$E$12=A5941,A5941,\"\")),\"\")","v":""},"","","","","","","",""]
[{"$nulls":23},{"$f":"IF(A5950<>\"\",IF(Main!$E$12=\"ALL\",A5950,IF(Main!$E$12=A5950,A5950,\"\")),\"\")","v":""},"","","","","","","",""]
[{"$nulls":23},{"$f":"IF(A5983<>\"\",IF(Main!$E$12=\"ALL\",A5983,IF(Main!$E$12=A5983,A5983,\"\")),\"\")","v":""},"","","","","","","",""]
[{"$nulls":23},{"$f":"IF(A5999<>\"\",IF(Main!$E$12=\"ALL\",A5999,IF(Main!$E$12=A5999,A5999,\"\")),\"\")","v":""},"","","","","","","",""]
[{"$nulls":23},{"$f":"IF(A6016<>\"\",IF(Main!$E$12=\"ALL\",A6016,IF(Main!$E$12=A6016,A6016,\"\")),\"\")","v":""},"","","","","","","",""]
[{"$nulls":23},{"$f":"IF(A6049<>\"\",IF(Main!$E$12=\"ALL\",A6049,IF(Main!$E$12=A6049,A6049,\"\")),\"\")","v":""},"","","","","","","",""]
[{"$nulls":23},{"$f":"IF(A6074<>\"\",IF(Main!$E$12=\"ALL\",A6074,IF(Main!$E$12=A6074,A6074,\"\")),\"\")","v":""},"","","","","","","",""]
[{"$nulls":23},{"$f":"IF(A6102<>\"\",IF(Main!$E$12=\"ALL\",A6102,IF(Main!$E$12=A6102,A6102,\"\")),\"\")","v":""},"","","","","","","",""]
[{"$nulls":23},{"$f":"IF(A6131<>\"\",IF(Main!$E$12=\"ALL\",A6131,IF(Main!$E$12=A6131,A6131,\"\")),\"\")","v":""},"","","","","","","",""]
[{"$nulls":23},{"$f":"IF(A6140<>\"\",IF(Main!$E$12=\"ALL\",A6140,IF(Main!$E$12=A6140,A6140,\"\")),\"\")","v":""},"","","","","","","",""]
[{"$nulls":23},{"$f":"IF(A6173<>\"\",IF(Main!$E$12=\"ALL\",A6173,IF(Main!$E$12=A6173,A6173,\"\")),\"\")","v":""},"","","","","","","",""]
[{"$nulls":23},{"$f":"IF(A6194<>\"\",IF(Main!$E$12=\"ALL\",A6194,IF(Main!$E$12=A6194,A6194,\"\")),\"\")","v":""},"","","","","","","",""]
[{"$nulls":23},{"$f":"IF(A6206<>\"\",IF(Main!$E$12=\"ALL\",A6206,IF(Main!$E$12=A6206,A6206,\"\")),\"\")","v":""},"","","","","","","",""]
[{"$nulls":23},{"$f":"IF(A6239<>\"\",IF(Main!$E$12=\"ALL\",A6239,IF(Main!$E$12=A6239,A6239,\"\")),\"\")","v":""},"","","","","","","",""]
[{"$nulls":23},{"$f":"IF(A6264<>\"\",IF(Main!$E$12=\"ALL\",A6264,IF(Main!$E$12=A6264,A6264,\"\")),\"\")","v":""},"","","","","","","",""]
[{"$nulls":23},{"$f":"IF(A6297<>\"\",IF(Main!$E$12=\"ALL\",A6297,IF(Main!$E$12=A6297,A6297,\"\")),\"\")","v":""},"","","","","","","",""]
[{"$nulls":23},{"$f":"IF(A6321<>\"\",IF(Main!$E$12=\"ALL\",A6321,IF(Main!$E$12=A6321,A6321,\"\")),\"\")","v":""},"","","","","","","",""]
[{"$nulls":23},{"$f":"IF(A6330<>\"\",IF(Main!$E$12=\"ALL\",A6330,IF(Main!$E$12=A6330,A6330,\"\")),\"\")","v":""},"","","","","","","",""]
[{"$nulls":23},{"$f":"IF(A6363<>\"\",IF(Main!$E$12=\"ALL\",A6363,IF(Main!$E$12=A6363,A6363,\"\")),\"\")","v":""},"","","","","","","",""]
[{"$nulls":23},{"$f":"IF(A6389<>\"\",IF(Main!$E$12=\"ALL\",A6389,IF(Main!$E$12=A6389,A6389,\"\")),\"\")","v":""},"","","","","","","",""]
[{"$nulls":23},{"$f":"IF(A6396<>\"\",IF(Main!$E$12=\"ALL\",A6396,IF(Main!$E$12=A6396,A6396,\"\")),\"\")","v":""},"","","","","","","",""]
[{"$nulls":23},{"$f":"IF(A6421<>\"\",IF(Main!$E$12=\"ALL\",A6421,IF(Main!$E$12=A6421,A6421,\"\")),\"\")","v":""},"","","","","","","",""]
[{"$nulls":23},{"$f":"IF(A6454<>\"\",IF(Main!$E$12=\"ALL\",A6454,IF(Main!$E$12=A6454,A6454,\"\")),\"\")","v":""},"","","","","","","",""]
[{"$nulls":23},{"$f":"IF(A6469<>\"\",IF(Main!$E$12=\"ALL\",A6469,IF(Main!$E$12=A6469,A6469,\"\")),\"\")","v":""},"","","","","","","",""]
[{"$nulls":23},{"$f":"IF(A6511<>\"\",IF(Main!$E$12=\"ALL\",A6511,IF(Main!$E$12=A6511,A6511,\"\")),\"\")","v":""},"","","","","","","",""]
[{"$nulls":23},{"$f":"IF(A6520<>\"\",IF(Main!$E$12=\"ALL\",A6520,IF(Main!$E$12=A6520,A6520,\"\")),\"\")","v":""},"","","","","","","",""]
[{"$nulls":23},{"$f":"IF(A6553<>\"\",IF(Main!$E$12=\"ALL\",A6553,IF(Main!$E$12=A6553,A6553,\"\")),\"\")","v":""},"","","","","","","",""]
[{"$nulls":23},{"$f":"IF(A6561<>\"\",IF(Main!$E$12=\"ALL\",A6561,IF(Main!$E$12=A6561,A6561,\"\")),\"\")","v":""},"","","","","","","",""]
[{"$nulls":23},{"$f":"IF(A6586<>\"\",IF(Main!$E$12=\"ALL\",A6586,IF(Main!$E$12=A6586,A6586,\"\")),\"\")","v":""},"","","","","","","",""]
[{"$nulls":23},{"$f":"IF(A6611<>\"\",IF(Main!$E$12=\"ALL\",A6611,IF(Main!$E$12=A6611,A6611,\"\")),\"\")","v":""},"","","","","","","",""]
[{"$nulls":23},{"$f":"IF(A6644<>\"\",IF(Main!$E$12=\"ALL\",A6644,IF(Main!$E$12=A6644,A6644,\"\")),\"\")","v":""},"","","","","","","",""]
[{"$nulls":23},{"$f":"IF(A6664<>\"\",IF(Main!$E$12=\"ALL\",A6664,IF(Main!$E$12=A6664,A6664,\"\")),\"\")","v":""},"","","","","","","",""]
[{"$nulls":23},{"$f":"IF(A6701<>\"\",IF(Main!$E$12=\"ALL\",A6701,IF(Main!$E$12=A6701,A6701,\"\")),\"\")","v":""},"","","","","","","",""]
[{"$nulls":23},{"$f":"IF(A6710<>\"\",IF(Main!$E$12=\"ALL\",A6710,IF(Main!$E$12=A6710,A6710,\"\")),\"\")","v":""},"","","","","","","",""]
[{"$nulls":23},{"$f":"IF(A6735<>\"\",IF(Main!$E$12=\"ALL\",A6735,IF(Main!$E$12=A6735,A6735,\"\")),\"\")","v":""},"","","","","","","",""]
[{"$nulls":23},{"$f":"IF(A6756<>\"\",IF(Main!$E$12=\"ALL\",A6756,IF(Main!$E$12=A6756,A6756,\"\")),\"\")","v":""},"","","","","","","",""]
[{"$nulls":23},{"$f":"IF(A6776<>\"\",IF(Main!$E$12=\"ALL\",A6776,IF(Main!$E$12=A6776,A6776,\"\")),\"\")","v":""},"","","","","","","",""]
[{"$nulls":23},{"$f":"IF(A6801<>\"\",IF(Main!$E$12=\"ALL\",A6801,IF(Main!$E$12=A6801,A6801,\"\")),\"\")","v":""},"","","","","","","",""]
[{"$nulls":23},{"$f":"IF(A6834<>\"\",IF(Main!$E$12=\"ALL\",A6834,IF(Main!$E$12=A6834,A6834,\"\")),\"\")","v":""},"","","","","","","",""]
[{"$nulls":23},{"$f":"IF(A6859<>\"\",IF(Main!$E$12=\"ALL\",A6859,IF(Main!$E$12=A6859,A6859,\"\")),\"\")","v":""},"","","","","","","",""]
[{"$nulls":23},{"$f":"IF(A6891<>\"\",IF(Main!$E$12=\"ALL\",A6891,IF(Main!$E$12=A6891,A6891,\"\")),\"\")","v":""},"","","","","","","",""]
[{"$nulls":23},{"$f":"IF(A6900<>\"\",IF(Main!$E$12=\"ALL\",A6900,IF(Main!$E$12=A6900,A6900,\"\")),\"\")","v":""},"","","","","","","",""]
[{"$nulls":23},{"$f":"IF(A6925<>\"\",IF(Main!$E$12=\"ALL\",A6925,IF(Main!$E$12=A6925,A6925,\"\")),\"\")","v":""},"","","","","","","",""]
[{"$nulls":23},{"$f":"IF(A6951<>\"\",IF(Main!$E$12=\"ALL\",A6951,IF(Main!$E$12=A6951,A6951,\"\")),\"\")","v":""},"","","","","","","",""]
[{"$nulls":23},{"$f":"IF(A6966<>\"\",IF(Main!$E$12=\"ALL\",A6966,IF(Main!$E$12=A6966,A6966,\"\")),\"\")","v":""},"","","","","","","",""]
[{"$nulls":23},{"$f":"IF(A6991<>\"\",IF(Main!$E$12=\"ALL\",A6991,IF(Main!$E$12=A6991,A6991,\"\")),\"\")","v":""},"","","","","","","",""]
[{"$nulls":23},{"$f":"IF(A7024<>\"\",IF(Main!$E$12=\"ALL\",A7024,IF(Main!$E$12=A7024,A7024,\"\")),\"\")","v":""},"","","","","","","",""]
[{"$nulls":23},{"$f":"IF(A7054<>\"\",IF(Main!$E$12=\"ALL\",A7054,IF(Main!$E$12=A7054,A7054,\"\")),\"\")","v":""},"","","","","","","",""]
[{"$nulls":23},{"$f":"IF(A7081<>\"\",IF(Main!$E$12=\"ALL\",A7081,IF(Main!$E$12=A7081,A7081,\"\")),\"\")","v":""},"","","","","","","",""]
[{"$nulls":23},{"$f":"IF(A7090<>\"\",IF(Main!$E$12=\"ALL\",A7090,IF(Main!$E$12=A7090,A7090,\"\")),\"\")","v":""},"","","","","","","",""]
[{"$nulls":23},{"$f":"IF(A7115<>\"\",IF(Main!$E$12=\"ALL\",A7115,IF(Main!$E$12=A7115,A7115,\"\")),\"\")","v":""},"","","","","","","",""]
[{"$nulls":23},{"$f":"IF(A7146<>\"\",IF(Main!$E$12=\"ALL\",A7146,IF(Main!$E$12=A7146,A7146,\"\")),\"\")","v":""},"","","","","","","",""]
[{"$nulls":23},{"$f":"IF(A7156<>\"\",IF(Main!$E$12=\"ALL\",A7156,IF(Main!$E$12=A7156,A7156,\"\")),\"\")","v":""},"","","","","","","",""]
[{"$nulls":23},{"$f":"IF(A7181<>\"\",IF(Main!$E$12=\"ALL\",A7181,IF(Main!$E$12=A7181,A7181,\"\")),\"\")","v":""},"","","","","","","",""]
[{"$nulls":23},{"$f":"IF(A7214<>\"\",IF(Main!$E$12=\"ALL\",A7214,IF(Main!$E$12=A7214,A7214,\"\")),\"\")","v":""},"","","","","","","",""]
[{"$nulls":23},{"$f":"IF(A7238<>\"\",IF(Main!$E$12=\"ALL\",A7238,IF(Main!$E$12=A7238,A7238,\"\")),\"\")","v":""},"","","","","","","",""]
[{"$nulls":23},{"$f":"IF(A7271<>\"\",IF(Main!$E$12=\"ALL\",A7271,IF(Main!$E$12=A7271,A7271,\"\")),\"\")","v":""},"","","","","","","",""]
[{"$nulls":23},{"$f":"IF(A7280<>\"\",IF(Main!$E$12=\"ALL\",A7280,IF(Main!$E$12=A7280,A7280,\"\")),\"\")","v":""},"","","","","","","",""]
[{"$nulls":23},{"$f":"IF(A7305<>\"\",IF(Main!$E$12=\"ALL\",A7305,IF(Main!$E$12=A7305,A7305,\"\")),\"\")","v":""},"","","","","","","",""]
[{"$nulls":23},{"$f":"IF(A7341<>\"\",IF(Main!$E$12=\"ALL\",A7341,IF(Main!$E$12=A7341,A7341,\"\")),\"\")","v":""},"","","","","","","",""]
[{"$nulls":23},{"$f":"IF(A7346<>\"\",IF(Main!$E$12=\"ALL\",A7346,IF(Main!$E$12=A7346,A7346,\"\")),\"\")","v":""},"","","","","","","",""]
[{"$nulls":23},{"$f":"IF(A7371<>\"\",IF(Main!$E$12=\"ALL\",A7371,IF(Main!$E$12=A7371,A7371,\"\")),\"\")","v":""},"","","","","","","",""]
[{"$nulls":23},{"$f":"IF(A7404<>\"\",IF(Main!$E$12=\"ALL\",A7404,IF(Main!$E$12=A7404,A7404,\"\")),\"\")","v":""},"","","","","","","",""]
[{"$nulls":23},{"$f":"IF(A7433<>\"\",IF(Main!$E$12=\"ALL\",A7433,IF(Main!$E$12=A7433,A7433,\"\")),\"\")","v":""},"","","","","","","",""]
[{"$nulls":23},{"$f":"IF(A7461<>\"\",IF(Main!$E$12=\"ALL\",A7461,IF(Main!$E$12=A7461,A7461,\"\")),\"\")","v":""},"","","","","","","",""]
[{"$nulls":23},{"$f":"IF(A7470<>\"\",IF(Main!$E$12=\"ALL\",A7470,IF(Main!$E$12=A7470,A7470,\"\")),\"\")","v":""},"","","","","","","",""]
[{"$nulls":23},{"$f":"IF(A7495<>\"\",IF(Main!$E$12=\"ALL\",A7495,IF(Main!$E$12=A7495,A7495,\"\")),\"\")","v":""},"","","","","","","",""]
[{"$nulls":23},{"$f":"IF(A7513<>\"\",IF(Main!$E$12=\"ALL\",A7513,IF(Main!$E$12=A7513,A7513,\"\")),\"\")","v":""},"","","","","","","",""]
[{"$nulls":23},{"$f":"IF(A7536<>\"\",IF(Main!$E$12=\"ALL\",A7536,IF(Main!$E$12=A7536,A7536,\"\")),\"\")","v":""},"","","","","","","",""]
[{"$nulls":23},{"$f":"IF(A7561<>\"\",IF(Main!$E$12=\"ALL\",A7561,IF(Main!$E$12=A7561,A7561,\"\")),\"\")","v":""},"","","","","","","",""]
[{"$nulls":23},{"$f":"IF(A7594<>\"\",IF(Main!$E$12=\"ALL\",A7594,IF(Main!$E$12=A7594,A7594,\"\")),\"\")","v":""},"","","","","","","",""]
[{"$nulls":23},{"$f":"IF(A7628<>\"\",IF(Main!$E$12=\"ALL\",A7628,IF(Main!$E$12=A7628,A7628,\"\")),\"\")","v":""},"","","","","","","",""]
[{"$nulls":23},{"$f":"IF(A7651<>\"\",IF(Main!$E$12=\"ALL\",A7651,IF(Main!$E$12=A7651,A7651,\"\")),\"\")","v":""},"","","","","","","",""]
[{"$nulls":23},{"$f":"IF(A7660<>\"\",IF(Main!$E$12=\"ALL\",A7660,IF(Main!$E$12=A7660,A7660,\"\")),\"\")","v":""},"","","","","","","",""]
[{"$nulls":23},{"$f":"IF(A7685<>\"\",IF(Main!$E$12=\"ALL\",A7685,IF(Main!$E$12=A7685,A7685,\"\")),\"\")","v":""},"","","","","","","",""]
[{"$nulls":23},{"$f":"IF(A7708<>\"\",IF(Main!$E$12=\"ALL\",A7708,IF(Main!$E$12=A7708,A7708,\"\")),\"\")","v":""},"","","","","","","",""]
[{"$nulls":23},{"$f":"IF(A7742<>\"\",IF(Main!$E$12=\"ALL\",A7742,IF(Main!$E$12=A7742,A7742,\"\")),\"\")","v":""},"","","","","","","",""]
[{"$nulls":23},{"$f":"IF(A7751<>\"\",IF(Main!$E$12=\"ALL\",A7751,IF(Main!$E$12=A7751,A7751,\"\")),\"\")","v":""},"","","","","","","",""]
[{"$nulls":23},{"$f":"IF(A7784<>\"\",IF(Main!$E$12=\"ALL\",A7784,IF(Main!$E$12=A7784,A7784,\"\")),\"\")","v":""},"","","","","","","",""]
[{"$nulls":23},{"$f":"IF(A7800<>\"\",IF(Main!$E$12=\"ALL\",A7800,IF(Main!$E$12=A7800,A7800,\"\")),\"\")","v":""},"","","","","","","",""]
[{"$nulls":23},{"$f":"IF(A7841<>\"\",IF(Main!$E$12=\"ALL\",A7841,IF(Main!$E$12=A7841,A7841,\"\")),\"\")","v":""},"","","","","","","",""]
[{"$nulls":23},{"$f":"IF(A7850<>\"\",IF(Main!$E$12=\"ALL\",A7850,IF(Main!$E$12=A7850,A7850,\"\")),\"\")","v":""},"","","","","","","",""]
[{"$nulls":23},{"$f":"IF(A7875<>\"\",IF(Main!$E$12=\"ALL\",A7875,IF(Main!$E$12=A7875,A7875,\"\")),\"\")","v":""},{"$f":"IF($X7875=\"\",\"\",D7875)","v":""},{"$f":"IF($X7875=\"\",\"\",F7875)","v":""},{"$f":"IF($X7875=\"\",\"\",J7875)","v":""},{"$f":"IF($X7875=\"\",\"\",N7875)","v":""},{"$f":"IF($X7875=\"\",\"\",IF(P7875=\"\",\"\",P7875))","v":""},{"$f":"IF($X7875=\"\",\"\",R7875)","v":""},{"$f":"IF($X7875=\"\",\"\",T7875)","v":""},{"$f":"IF($X7875=\"\",\"\",V7875)","v":""}]
[{"$nulls":23},{"$f":"IF(A7903<>\"\",IF(Main!$E$12=\"ALL\",A7903,IF(Main!$E$12=A7903,A7903,\"\")),\"\")","v":""},"","","","","","","",""]
[{"$nulls":23},{"$f":"IF(A7932<>\"\",IF(Main!$E$12=\"ALL\",A7932,IF(Main!$E$12=A7932,A7932,\"\")),\"\")","v":""},"","","","","","","",""]
[{"$nulls":23},{"$f":"IF(A7941<>\"\",IF(Main!$E$12=\"ALL\",A7941,IF(Main!$E$12=A7941,A7941,\"\")),\"\")","v":""},"","","","","","","",""]
[{"$nulls":23},{"$f":"IF(A7974<>\"\",IF(Main!$E$12=\"ALL\",A7974,IF(Main!$E$12=A7974,A7974,\"\")),\"\")","v":""},"","","","","","","",""]
[{"$nulls":23},{"$f":"IF(A7999<>\"\",IF(Main!$E$12=\"ALL\",A7999,IF(Main!$E$12=A7999,A7999,\"\")),\"\")","v":""},"","","","","","","",""]
[{"$nulls":23},{"$f":"IF(A8018<>\"\",IF(Main!$E$12=\"ALL\",A8018,IF(Main!$E$12=A8018,A8018,\"\")),\"\")","v":""},"","","","","","","",""]
[{"$nulls":23},{"$f":"IF(A8056<>\"\",IF(Main!$E$12=\"ALL\",A8056,IF(Main!$E$12=A8056,A8056,\"\")),\"\")","v":""},"","","","","","","",""]
[{"$nulls":23},{"$f":"IF(A8065<>\"\",IF(Main!$E$12=\"ALL\",A8065,IF(Main!$E$12=A8065,A8065,\"\")),\"\")","v":""},"","","","","","","",""]
[{"$nulls":23},{"$f":"IF(A8098<>\"\",IF(Main!$E$12=\"ALL\",A8098,IF(Main!$E$12=A8098,A8098,\"\")),\"\")","v":""},"","","","","","","",""]
[{"$nulls":23},{"$f":"IF(A8110<>\"\",IF(Main!$E$12=\"ALL\",A8110,IF(Main!$E$12=A8110,A8110,\"\")),\"\")","v":""},"","","","","","","",""]
[{"$nulls":23},{"$f":"IF(A8131<>\"\",IF(Main!$E$12=\"ALL\",A8131,IF(Main!$E$12=A8131,A8131,\"\")),\"\")","v":""},{"$f":"IF($X8131=\"\",\"\",D8131)","v":""},{"$f":"IF($X8131=\"\",\"\",F8131)","v":""},{"$f":"IF($X8131=\"\",\"\",J8131)","v":""},{"$f":"IF($X8131=\"\",\"\",N8131)","v":""},{"$f":"IF($X8131=\"\",\"\",IF(P8131=\"\",\"\",P8131))","v":""},{"$f":"IF($X8131=\"\",\"\",R8131)","v":""},{"$f":"IF($X8131=\"\",\"\",T8131)","v":""},{"$f":"IF($X8131=\"\",\"\",V8131)","v":""}]
[{"$nulls":23},{"$f":"IF(A8164<>\"\",IF(Main!$E$12=\"ALL\",A8164,IF(Main!$E$12=A8164,A8164,\"\")),\"\")","v":""},"","","","","","","",""]
[{"$nulls":23},{"$f":"IF(A8189<>\"\",IF(Main!$E$12=\"ALL\",A8189,IF(Main!$E$12=A8189,A8189,\"\")),\"\")","v":""},"","","","","","","",""]
[{"$nulls":23},{"$f":"IF(A8213<>\"\",IF(Main!$E$12=\"ALL\",A8213,IF(Main!$E$12=A8213,A8213,\"\")),\"\")","v":""},"","","","","","","",""]
[{"$nulls":23},{"$f":"IF(A8246<>\"\",IF(Main!$E$12=\"ALL\",A8246,IF(Main!$E$12=A8246,A8246,\"\")),\"\")","v":""},"","","","","","","",""]
[{"$nulls":23},{"$f":"IF(A8255<>\"\",IF(Main!$E$12=\"ALL\",A8255,IF(Main!$E$12=A8255,A8255,\"\")),\"\")","v":""},"","","","","","","",""]
[{"$nulls":23},{"$f":"IF(A8288<>\"\",IF(Main!$E$12=\"ALL\",A8288,IF(Main!$E$12=A8288,A8288,\"\")),\"\")","v":""},"","","","","","","",""]
[{"$nulls":23},{"$f":"IF(A8305<>\"\",IF(Main!$E$12=\"ALL\",A8305,IF(Main!$E$12=A8305,A8305,\"\")),\"\")","v":""},"","","","","","","",""]
[{"$nulls":23},{"$f":"IF(A8321<>\"\",IF(Main!$E$12=\"ALL\",A8321,IF(Main!$E$12=A8321,A8321,\"\")),\"\")","v":""},"","","","","","","",""]
[{"$nulls":23},{"$f":"IF(A8354<>\"\",IF(Main!$E$12=\"ALL\",A8354,IF(Main!$E$12=A8354,A8354,\"\")),\"\")","v":""},"","","","","","","",""]
[{"$nulls":23},{"$f":"IF(A8379<>\"\",IF(Main!$E$12=\"ALL\",A8379,IF(Main!$E$12=A8379,A8379,\"\")),\"\")","v":""},"","","","","","","",""]
[{"$nulls":23},{"$f":"IF(A8408<>\"\",IF(Main!$E$12=\"ALL\",A8408,IF(Main!$E$12=A8408,A8408,\"\")),\"\")","v":""},"","","","","","","",""]
[{"$nulls":23},{"$f":"IF(A8436<>\"\",IF(Main!$E$12=\"ALL\",A8436,IF(Main!$E$12=A8436,A8436,\"\")),\"\")","v":""},"","","","","","","",""]
[{"$nulls":23},{"$f":"IF(A8445<>\"\",IF(Main!$E$12=\"ALL\",A8445,IF(Main!$E$12=A8445,A8445,\"\")),\"\")","v":""},"","","","","","","",""]
[{"$nulls":23},{"$f":"IF(A8478<>\"\",IF(Main!$E$12=\"ALL\",A8478,IF(Main!$E$12=A8478,A8478,\"\")),\"\")","v":""},"","","","","","","",""]
[{"$nulls":23},{"$f":"IF(A8500<>\"\",IF(Main!$E$12=\"ALL\",A8500,IF(Main!$E$12=A8500,A8500,\"\")),\"\")","v":""},"","","","","","","",""]
[{"$nulls":23},{"$f":"IF(A8511<>\"\",IF(Main!$E$12=\"ALL\",A8511,IF(Main!$E$12=A8511,A8511,\"\")),\"\")","v":""},"","","","","","","",""]
[{"$nulls":23},{"$f":"IF(A8536<>\"\",IF(Main!$E$12=\"ALL\",A8536,IF(Main!$E$12=A8536,A8536,\"\")),\"\")","v":""},"","","","","","","",""]
[{"$nulls":23},{"$f":"IF(A8569<>\"\",IF(Main!$E$12=\"ALL\",A8569,IF(Main!$E$12=A8569,A8569,\"\")),\"\")","v":""},"","","","","","","",""]
[{"$nulls":23},{"$f":"IF(A8580<>\"\",IF(Main!$E$12=\"ALL\",A8580,IF(Main!$E$12=A8580,A8580,\"\")),\"\")","v":""},"","","","","","","",""]
[{"$nulls":23},{"$f":"IF(A8626<>\"\",IF(Main!$E$12=\"ALL\",A8626,IF(Main!$E$12=A8626,A8626,\"\")),\"\")","v":""},"","","","","","","",""]
[{"$nulls":23},{"$f":"IF(A8635<>\"\",IF(Main!$E$12=\"ALL\",A8635,IF(Main!$E$12=A8635,A8635,\"\")),\"\")","v":""},"","","","","","","",""]
[{"$nulls":23},{"$f":"IF(A8668<>\"\",IF(Main!$E$12=\"ALL\",A8668,IF(Main!$E$12=A8668,A8668,\"\")),\"\")","v":""},"","","","","","","",""]
[{"$nulls":23},{"$f":"IF(A8695<>\"\",IF(Main!$E$12=\"ALL\",A8695,IF(Main!$E$12=A8695,A8695,\"\")),\"\")","v":""},"","","","","","","",""]
[{"$nulls":23},{"$f":"IF(A8701<>\"\",IF(Main!$E$12=\"ALL\",A8701,IF(Main!$E$12=A8701,A8701,\"\")),\"\")","v":""},"","","","","","","",""]
[{"$nulls":23},{"$f":"IF(A8726<>\"\",IF(Main!$E$12=\"ALL\",A8726,IF(Main!$E$12=A8726,A8726,\"\")),\"\")","v":""},"","","","","","","",""]
[{"$nulls":23},{"$f":"IF(A8759<>\"\",IF(Main!$E$12=\"ALL\",A8759,IF(Main!$E$12=A8759,A8759,\"\")),\"\")","v":""},"","","","","","","",""]
[{"$nulls":23},{"$f":"IF(A8775<>\"\",IF(Main!$E$12=\"ALL\",A8775,IF(Main!$E$12=A8775,A8775,\"\")),\"\")","v":""},"","","","","","","",""]
[{"$nulls":23},{"$f":"IF(A8816<>\"\",IF(Main!$E$12=\"ALL\",A8816,IF(Main!$E$12=A8816,A8816,\"\")),\"\")","v":""},"","","","","","","",""]
[{"$nulls":23},{"$f":"IF(A8825<>\"\",IF(Main!$E$12=\"ALL\",A8825,IF(Main!$E$12=A8825,A8825,\"\")),\"\")","v":""},"","","","","","","",""]
[{"$nulls":23},{"$f":"IF(A8850<>\"\",IF(Main!$E$12=\"ALL\",A8850,IF(Main!$E$12=A8850,A8850,\"\")),\"\")","v":""},"","","","","","","",""]
[{"$nulls":23},{"$f":"IF(A8867<>\"\",IF(Main!$E$12=\"ALL\",A8867,IF(Main!$E$12=A8867,A8867,\"\")),\"\")","v":""},"","","","","","","",""]
[{"$nulls":23},{"$f":"IF(A8891<>\"\",IF(Main!$E$12=\"ALL\",A8891,IF(Main!$E$12=A8891,A8891,\"\")),\"\")","v":""},"","","","","","","",""]
[{"$nulls":23},{"$f":"IF(A8916<>\"\",IF(Main!$E$12=\"ALL\",A8916,IF(Main!$E$12=A8916,A8916,\"\")),\"\")","v":""},"","","","","","","",""]
[{"$nulls":23},{"$f":"IF(A8949<>\"\",IF(Main!$E$12=\"ALL\",A8949,IF(Main!$E$12=A8949,A8949,\"\")),\"\")","v":""},"","","","","","","",""]
[{"$nulls":23},{"$f":"IF(A8970<>\"\",IF(Main!$E$12=\"ALL\",A8970,IF(Main!$E$12=A8970,A8970,\"\")),\"\")","v":""},"","","","","","","",""]
[{"$nulls":23},{"$f":"IF(A9006<>\"\",IF(Main!$E$12=\"ALL\",A9006,IF(Main!$E$12=A9006,A9006,\"\")),\"\")","v":""},"","","","","","","",""]
[{"$nulls":23},{"$f":"IF(A9015<>\"\",IF(Main!$E$12=\"ALL\",A9015,IF(Main!$E$12=A9015,A9015,\"\")),\"\")","v":""},"","","","","","","",""]
[{"$nulls":23},{"$f":"IF(A9040<>\"\",IF(Main!$E$12=\"ALL\",A9040,IF(Main!$E$12=A9040,A9040,\"\")),\"\")","v":""},"","","","","","","",""]
[{"$nulls":23},{"$f":"IF(A9062<>\"\",IF(Main!$E$12=\"ALL\",A9062,IF(Main!$E$12=A9062,A9062,\"\")),\"\")","v":""},"","","","","","","",""]
[{"$nulls":23},{"$f":"IF(A9081<>\"\",IF(Main!$E$12=\"ALL\",A9081,IF(Main!$E$12=A9081,A9081,\"\")),\"\")","v":""},"","","","","","","",""]
[{"$nulls":23},{"$f":"IF(A9106<>\"\",IF(Main!$E$12=\"ALL\",A9106,IF(Main!$E$12=A9106,A9106,\"\")),\"\")","v":""},"","","","","","","",""]
[{"$nulls":23},{"$f":"IF(A9139<>\"\",IF(Main!$E$12=\"ALL\",A9139,IF(Main!$E$12=A9139,A9139,\"\")),\"\")","v":""},"","","","","","","",""]
[{"$nulls":23},{"$f":"IF(A9165<>\"\",IF(Main!$E$12=\"ALL\",A9165,IF(Main!$E$12=A9165,A9165,\"\")),\"\")","v":""},"","","","","","","",""]
[{"$nulls":23},{"$f":"IF(A9196<>\"\",IF(Main!$E$12=\"ALL\",A9196,IF(Main!$E$12=A9196,A9196,\"\")),\"\")","v":""},"","","","","","","",""]
[{"$nulls":23},{"$f":"IF(A9205<>\"\",IF(Main!$E$12=\"ALL\",A9205,IF(Main!$E$12=A9205,A9205,\"\")),\"\")","v":""},"","","","","","","",""]
[{"$nulls":23},{"$f":"IF(A9230<>\"\",IF(Main!$E$12=\"ALL\",A9230,IF(Main!$E$12=A9230,A9230,\"\")),\"\")","v":""},"","","","","","","",""]
[{"$nulls":23},{"$f":"IF(A9257<>\"\",IF(Main!$E$12=\"ALL\",A9257,IF(Main!$E$12=A9257,A9257,\"\")),\"\")","v":""},"","","","","","","",""]
[{"$nulls":23},{"$f":"IF(A9271<>\"\",IF(Main!$E$12=\"ALL\",A9271,IF(Main!$E$12=A9271,A9271,\"\")),\"\")","v":""},"","","","","","","",""]
[{"$nulls":23},{"$f":"IF(A9296<>\"\",IF(Main!$E$12=\"ALL\",A9296,IF(Main!$E$12=A9296,A9296,\"\")),\"\")","v":""},"","","","","","","",""]
[{"$nulls":23},{"$f":"IF(A9329<>\"\",IF(Main!$E$12=\"ALL\",A9329,IF(Main!$E$12=A9329,A9329,\"\")),\"\")","v":""},"","","","","","","",""]
[{"$nulls":23},{"$f":"IF(A9349<>\"\",IF(Main!$E$12=\"ALL\",A9349,IF(Main!$E$12=A9349,A9349,\"\")),\"\")","v":""},"","","","","","","",""]
[{"$nulls":23},{"$f":"IF(A9386<>\"\",IF(Main!$E$12=\"ALL\",A9386,IF(Main!$E$12=A9386,A9386,\"\")),\"\")","v":""},"","","","","","","",""]
[{"$nulls":23},{"$f":"IF(A9395<>\"\",IF(Main!$E$12=\"ALL\",A9395,IF(Main!$E$12=A9395,A9395,\"\")),\"\")","v":""},"","","","","","","",""]
[{"$nulls":23},{"$f":"IF(A9420<>\"\",IF(Main!$E$12=\"ALL\",A9420,IF(Main!$E$12=A9420,A9420,\"\")),\"\")","v":""},"","","","","","","",""]
[{"$nulls":23},{"$f":"IF(A9452<>\"\",IF(Main!$E$12=\"ALL\",A9452,IF(Main!$E$12=A9452,A9452,\"\")),\"\")","v":""},"","","","","","","",""]
[{"$nulls":23},{"$f":"IF(A9461<>\"\",IF(Main!$E$12=\"ALL\",A9461,IF(Main!$E$12=A9461,A9461,\"\")),\"\")","v":""},"","","","","","","",""]
[{"$nulls":23},{"$f":"IF(A9486<>\"\",IF(Main!$E$12=\"ALL\",A9486,IF(Main!$E$12=A9486,A9486,\"\")),\"\")","v":""},"","","","","","","",""]
[{"$nulls":23},{"$f":"IF(A9519<>\"\",IF(Main!$E$12=\"ALL\",A9519,IF(Main!$E$12=A9519,A9519,\"\")),\"\")","v":""},"","","","","","","",""]
[{"$nulls":23},{"$f":"IF(A9544<>\"\",IF(Main!$E$12=\"ALL\",A9544,IF(Main!$E$12=A9544,A9544,\"\")),\"\")","v":""},"","","","","","","",""]
[{"$nulls":23},{"$f":"IF(A9576<>\"\",IF(Main!$E$12=\"ALL\",A9576,IF(Main!$E$12=A9576,A9576,\"\")),\"\")","v":""},"","","","","","","",""]
[{"$nulls":23},{"$f":"IF(A9585<>\"\",IF(Main!$E$12=\"ALL\",A9585,IF(Main!$E$12=A9585,A9585,\"\")),\"\")","v":""},"","","","","","","",""]
[{"$nulls":23},{"$f":"IF(A9610<>\"\",IF(Main!$E$12=\"ALL\",A9610,IF(Main!$E$12=A9610,A9610,\"\")),\"\")","v":""},"","","","","","","",""]
[{"$nulls":23},{"$f":"IF(A9647<>\"\",IF(Main!$E$12=\"ALL\",A9647,IF(Main!$E$12=A9647,A9647,\"\")),\"\")","v":""},"","","","","","","",""]
[{"$nulls":23},{"$f":"IF(A9651<>\"\",IF(Main!$E$12=\"ALL\",A9651,IF(Main!$E$12=A9651,A9651,\"\")),\"\")","v":""},"","","","","","","",""]
[{"$nulls":23},{"$f":"IF(A9676<>\"\",IF(Main!$E$12=\"ALL\",A9676,IF(Main!$E$12=A9676,A9676,\"\")),\"\")","v":""},"","","","","","","",""]
[{"$nulls":23},{"$f":"IF(A9709<>\"\",IF(Main!$E$12=\"ALL\",A9709,IF(Main!$E$12=A9709,A9709,\"\")),\"\")","v":""},"","","","","","","",""]
[{"$nulls":23},{"$f":"IF(A9739<>\"\",IF(Main!$E$12=\"ALL\",A9739,IF(Main!$E$12=A9739,A9739,\"\")),\"\")","v":""},"","","","","","","",""]
[{"$nulls":23},{"$f":"IF(A9766<>\"\",IF(Main!$E$12=\"ALL\",A9766,IF(Main!$E$12=A9766,A9766,\"\")),\"\")","v":""},"","","","","","","",""]
[{"$nulls":23},{"$f":"IF(A9775<>\"\",IF(Main!$E$12=\"ALL\",A9775,IF(Main!$E$12=A9775,A9775,\"\")),\"\")","v":""},"","","","","","","",""]
[{"$nulls":23},{"$f":"IF(A9800<>\"\",IF(Main!$E$12=\"ALL\",A9800,IF(Main!$E$12=A9800,A9800,\"\")),\"\")","v":""},"","","","","","","",""]
[{"$nulls":23},{"$f":"IF(A9819<>\"\",IF(Main!$E$12=\"ALL\",A9819,IF(Main!$E$12=A9819,A9819,\"\")),\"\")","v":""},"","","","","","","",""]
[{"$nulls":23},{"$f":"IF(A9857<>\"\",IF(Main!$E$12=\"ALL\",A9857,IF(Main!$E$12=A9857,A9857,\"\")),\"\")","v":""},"","","","","","","",""]
[{"$nulls":23},{"$f":"IF(A9866<>\"\",IF(Main!$E$12=\"ALL\",A9866,IF(Main!$E$12=A9866,A9866,\"\")),\"\")","v":""},"","","","","","","",""]
[{"$nulls":23},{"$f":"IF(A9899<>\"\",IF(Main!$E$12=\"ALL\",A9899,IF(Main!$E$12=A9899,A9899,\"\")),\"\")","v":""},"","","","","","","",""]
[{"$nulls":23},{"$f":"IF(A9911<>\"\",IF(Main!$E$12=\"ALL\",A9911,IF(Main!$E$12=A9911,A9911,\"\")),\"\")","v":""},"","","","","","","",""]
[{"$nulls":23},{"$f":"IF(A9956<>\"\",IF(Main!$E$12=\"ALL\",A9956,IF(Main!$E$12=A9956,A9956,\"\")),\"\")","v":""},"","","","","","","",""]
[{"$nulls":23},{"$f":"IF(A9965<>\"\",IF(Main!$E$12=\"ALL\",A9965,IF(Main!$E$12=A9965,A9965,\"\")),\"\")","v":""},"","","","","","","",""]
[{"$nulls":23},{"$f":"IF(A9990<>\"\",IF(Main!$E$12=\"ALL\",A9990,IF(Main!$E$12=A9990,A9990,\"\")),\"\")","v":""},"","","","","","","",""]
[{"$nulls":23},{"$f":"IF(A10014<>\"\",IF(Main!$E$12=\"ALL\",A10014,IF(Main!$E$12=A10014,A10014,\"\")),\"\")","v":""},"","","","","","","",""]
[{"$nulls":23},{"$f":"IF(A10047<>\"\",IF(Main!$E$12=\"ALL\",A10047,IF(Main!$E$12=A10047,A10047,\"\")),\"\")","v":""},"","","","","","","",""]
[{"$nulls":23},{"$f":"IF(A10056<>\"\",IF(Main!$E$12=\"ALL\",A10056,IF(Main!$E$12=A10056,A10056,\"\")),\"\")","v":""},"","","","","","","",""]
[{"$nulls":23},{"$f":"IF(A10089<>\"\",IF(Main!$E$12=\"ALL\",A10089,IF(Main!$E$12=A10089,A10089,\"\")),\"\")","v":""},"","","","","","","",""]
[{"$nulls":23},{"$f":"IF(A10106<>\"\",IF(Main!$E$12=\"ALL\",A10106,IF(Main!$E$12=A10106,A10106,\"\")),\"\")","v":""},"","","","","","","",""]
[{"$nulls":23},{"$f":"IF(A10146<>\"\",IF(Main!$E$12=\"ALL\",A10146,IF(Main!$E$12=A10146,A10146,\"\")),\"\")","v":""},"","","","","","","",""]
[{"$nulls":23},{"$f":"IF(A10147<>\"\",IF(Main!$E$12=\"ALL\",A10147,IF(Main!$E$12=A10147,A10147,\"\")),\"\")","v":""},"","","","","","","",""]
[{"$nulls":23},{"$f":"IF(A10180<>\"\",IF(Main!$E$12=\"ALL\",A10180,IF(Main!$E$12=A10180,A10180,\"\")),\"\")","v":""},"","","","","","","",""]
[{"$nulls":23},{"$f":"IF(A10209<>\"\",IF(Main!$E$12=\"ALL\",A10209,IF(Main!$E$12=A10209,A10209,\"\")),\"\")","v":""},"","","","","","","",""]
[{"$nulls":23},{"$f":"IF(A10237<>\"\",IF(Main!$E$12=\"ALL\",A10237,IF(Main!$E$12=A10237,A10237,\"\")),\"\")","v":""},"","","","","","","",""]
[{"$nulls":23},{"$f":"IF(A10246<>\"\",IF(Main!$E$12=\"ALL\",A10246,IF(Main!$E$12=A10246,A10246,\"\")),\"\")","v":""},"","","","","","","",""]
[{"$nulls":23},{"$f":"IF(A10279<>\"\",IF(Main!$E$12=\"ALL\",A10279,IF(Main!$E$12=A10279,A10279,\"\")),\"\")","v":""},"","","","","","","",""]
[{"$nulls":23},{"$f":"IF(A10301<>\"\",IF(Main!$E$12=\"ALL\",A10301,IF(Main!$E$12=A10301,A10301,\"\")),\"\")","v":""},"","","","","","","",""]
[{"$nulls":23},{"$f":"IF(A10336<>\"\",IF(Main!$E$12=\"ALL\",A10336,IF(Main!$E$12=A10336,A10336,\"\")),\"\")","v":""},"","","","","","","",""]
[{"$nulls":23},{"$f":"IF(A10337<>\"\",IF(Main!$E$12=\"ALL\",A10337,IF(Main!$E$12=A10337,A10337,\"\")),\"\")","v":""},"","","","","","","",""]
[{"$nulls":23},{"$f":"IF(A10370<>\"\",IF(Main!$E$12=\"ALL\",A10370,IF(Main!$E$12=A10370,A10370,\"\")),\"\")","v":""},"","","","","","","",""]
[{"$nulls":23},{"$f":"IF(A10404<>\"\",IF(Main!$E$12=\"ALL\",A10404,IF(Main!$E$12=A10404,A10404,\"\")),\"\")","v":""},"","","","","","","",""]
[{"$nulls":23},{"$f":"IF(A10427<>\"\",IF(Main!$E$12=\"ALL\",A10427,IF(Main!$E$12=A10427,A10427,\"\")),\"\")","v":""},"","","","","","","",""]
[{"$nulls":23},{"$f":"IF(A10436<>\"\",IF(Main!$E$12=\"ALL\",A10436,IF(Main!$E$12=A10436,A10436,\"\")),\"\")","v":""},"","","","","","","",""]
[{"$nulls":23},{"$f":"IF(A10469<>\"\",IF(Main!$E$12=\"ALL\",A10469,IF(Main!$E$12=A10469,A10469,\"\")),\"\")","v":""},"","","","","","","",""]
[{"$nulls":23},{"$f":"IF(A10496<>\"\",IF(Main!$E$12=\"ALL\",A10496,IF(Main!$E$12=A10496,A10496,\"\")),\"\")","v":""},"","","","","","","",""]
[{"$nulls":23},{"$f":"IF(A10526<>\"\",IF(Main!$E$12=\"ALL\",A10526,IF(Main!$E$12=A10526,A10526,\"\")),\"\")","v":""},"","","","","","","",""]
[{"$nulls":23},{"$f":"IF(A10527<>\"\",IF(Main!$E$12=\"ALL\",A10527,IF(Main!$E$12=A10527,A10527,\"\")),\"\")","v":""},"","","","","","","",""]
[{"$nulls":23},{"$f":"IF(A10560<>\"\",IF(Main!$E$12=\"ALL\",A10560,IF(Main!$E$12=A10560,A10560,\"\")),\"\")","v":""},"","","","","","","",""]
[{"$nulls":23},{"$f":"IF(A10576<>\"\",IF(Main!$E$12=\"ALL\",A10576,IF(Main!$E$12=A10576,A10576,\"\")),\"\")","v":""},"","","","","","","",""]
[{"$nulls":23},{"$f":"IF(A10617<>\"\",IF(Main!$E$12=\"ALL\",A10617,IF(Main!$E$12=A10617,A10617,\"\")),\"\")","v":""},"","","","","","","",""]
[{"$nulls":23},{"$f":"IF(A10626<>\"\",IF(Main!$E$12=\"ALL\",A10626,IF(Main!$E$12=A10626,A10626,\"\")),\"\")","v":""},"","","","","","","",""]
[{"$nulls":23},{"$f":"IF(A10651<>\"\",IF(Main!$E$12=\"ALL\",A10651,IF(Main!$E$12=A10651,A10651,\"\")),\"\")","v":""},"","","","","","","",""]
[{"$nulls":23},{"$f":"IF(A10691<>\"\",IF(Main!$E$12=\"ALL\",A10691,IF(Main!$E$12=A10691,A10691,\"\")),\"\")","v":""},{"$f":"IF($X10691=\"\",\"\",D10691)","v":""},{"$f":"IF($X10691=\"\",\"\",F10691)","v":""},{"$f":"IF($X10691=\"\",\"\",J10691)","v":""},{"$f":"IF($X10691=\"\",\"\",N10691)","v":""},{"$f":"IF($X10691=\"\",\"\",IF(P10691=\"\",\"\",P10691))","v":""},{"$f":"IF($X10691=\"\",\"\",R10691)","v":""},{"$f":"IF($X10691=\"\",\"\",T10691)","v":""},{"$f":"IF($X10691=\"\",\"\",V10691)","v":""}]
[{"$nulls":23},{"$f":"IF(A10716<>\"\",IF(Main!$E$12=\"ALL\",A10716,IF(Main!$E$12=A10716,A10716,\"\")),\"\")","v":""},"","","","","","","",""]
[{"$nulls":23},{"$f":"IF(A10717<>\"\",IF(Main!$E$12=\"ALL\",A10717,IF(Main!$E$12=A10717,A10717,\"\")),\"\")","v":""},"","","","","","","",""]
[{"$nulls":23},{"$f":"IF(A10750<>\"\",IF(Main!$E$12=\"ALL\",A10750,IF(Main!$E$12=A10750,A10750,\"\")),\"\")","v":""},"","","","","","","",""]
[{"$nulls":23},{"$f":"IF(A10771<>\"\",IF(Main!$E$12=\"ALL\",A10771,IF(Main!$E$12=A10771,A10771,\"\")),\"\")","v":""},"","","","","","","",""]
[{"$nulls":23},{"$f":"IF(A10807<>\"\",IF(Main!$E$12=\"ALL\",A10807,IF(Main!$E$12=A10807,A10807,\"\")),\"\")","v":""},"","","","","","","",""]
[{"$nulls":23},{"$f":"IF(A10816<>\"\",IF(Main!$E$12=\"ALL\",A10816,IF(Main!$E$12=A10816,A10816,\"\")),\"\")","v":""},"","","","","","","",""]
[{"$nulls":23},{"$f":"IF(A10841<>\"\",IF(Main!$E$12=\"ALL\",A10841,IF(Main!$E$12=A10841,A10841,\"\")),\"\")","v":""},"","","","","","","",""]
[{"$nulls":23},{"$f":"IF(A10863<>\"\",IF(Main!$E$12=\"ALL\",A10863,IF(Main!$E$12=A10863,A10863,\"\")),\"\")","v":""},"","","","","","","",""]
[{"$nulls":23},{"$f":"IF(A10906<>\"\",IF(Main!$E$12=\"ALL\",A10906,IF(Main!$E$12=A10906,A10906,\"\")),\"\")","v":""},"","","","","","","",""]
[{"$nulls":23},{"$f":"IF(A10907<>\"\",IF(Main!$E$12=\"ALL\",A10907,IF(Main!$E$12=A10907,A10907,\"\")),\"\")","v":""},"","","","","","","",""]
[{"$nulls":23},{"$f":"IF(A10940<>\"\",IF(Main!$E$12=\"ALL\",A10940,IF(Main!$E$12=A10940,A10940,\"\")),\"\")","v":""},"","","","","","","",""]
[{"$nulls":23},{"$f":"IF(A10955<>\"\",IF(Main!$E$12=\"ALL\",A10955,IF(Main!$E$12=A10955,A10955,\"\")),\"\")","v":""},"","","","","","","",""]
[{"$nulls":23},{"$f":"IF(A10997<>\"\",IF(Main!$E$12=\"ALL\",A10997,IF(Main!$E$12=A10997,A10997,\"\")),\"\")","v":""},"","","","","","","",""]
[{"$nulls":23},{"$f":"IF(A11006<>\"\",IF(Main!$E$12=\"ALL\",A11006,IF(Main!$E$12=A11006,A11006,\"\")),\"\")","v":""},"","","","","","","",""]
[{"$nulls":23},{"$f":"IF(A11031<>\"\",IF(Main!$E$12=\"ALL\",A11031,IF(Main!$E$12=A11031,A11031,\"\")),\"\")","v":""},"","","","","","","",""]
[{"$nulls":23},{"$f":"IF(A11058<>\"\",IF(Main!$E$12=\"ALL\",A11058,IF(Main!$E$12=A11058,A11058,\"\")),\"\")","v":""},"","","","","","","",""]
[{"$nulls":23},{"$f":"IF(A11096<>\"\",IF(Main!$E$12=\"ALL\",A11096,IF(Main!$E$12=A11096,A11096,\"\")),\"\")","v":""},"","","","","","","",""]
[{"$nulls":23},{"$f":"IF(A11097<>\"\",IF(Main!$E$12=\"ALL\",A11097,IF(Main!$E$12=A11097,A11097,\"\")),\"\")","v":""},"","","","","","","",""]
[{"$nulls":23},{"$f":"IF(A11130<>\"\",IF(Main!$E$12=\"ALL\",A11130,IF(Main!$E$12=A11130,A11130,\"\")),\"\")","v":""},"","","","","","","",""]
[{"$nulls":23},{"$f":"IF(A11150<>\"\",IF(Main!$E$12=\"ALL\",A11150,IF(Main!$E$12=A11150,A11150,\"\")),\"\")","v":""},"","","","","","","",""]
[{"$nulls":23},{"$f":"IF(A11187<>\"\",IF(Main!$E$12=\"ALL\",A11187,IF(Main!$E$12=A11187,A11187,\"\")),\"\")","v":""},"","","","","","","",""]
[{"$nulls":23},{"$f":"IF(A11196<>\"\",IF(Main!$E$12=\"ALL\",A11196,IF(Main!$E$12=A11196,A11196,\"\")),\"\")","v":""},"","","","","","","",""]
[{"$nulls":23},{"$f":"IF(A11221<>\"\",IF(Main!$E$12=\"ALL\",A11221,IF(Main!$E$12=A11221,A11221,\"\")),\"\")","v":""},"","","","","","","",""]
[{"$nulls":23},{"$f":"IF(A11253<>\"\",IF(Main!$E$12=\"ALL\",A11253,IF(Main!$E$12=A11253,A11253,\"\")),\"\")","v":""},"","","","","","","",""]
[{"$nulls":23},{"$f":"IF(A11286<>\"\",IF(Main!$E$12=\"ALL\",A11286,IF(Main!$E$12=A11286,A11286,\"\")),\"\")","v":""},"","","","","","","",""]
[{"$nulls":23},{"$f":"IF(A11287<>\"\",IF(Main!$E$12=\"ALL\",A11287,IF(Main!$E$12=A11287,A11287,\"\")),\"\")","v":""},"","","","","","","",""]
[{"$nulls":23},{"$f":"IF(A11320<>\"\",IF(Main!$E$12=\"ALL\",A11320,IF(Main!$E$12=A11320,A11320,\"\")),\"\")","v":""},"","","","","","","",""]
[{"$nulls":23},{"$f":"IF(A11345<>\"\",IF(Main!$E$12=\"ALL\",A11345,IF(Main!$E$12=A11345,A11345,\"\")),\"\")","v":""},"","","","","","","",""]
[{"$nulls":23},{"$f":"IF(A11377<>\"\",IF(Main!$E$12=\"ALL\",A11377,IF(Main!$E$12=A11377,A11377,\"\")),\"\")","v":""},"","","","","","","",""]
[{"$nulls":23},{"$f":"IF(A11386<>\"\",IF(Main!$E$12=\"ALL\",A11386,IF(Main!$E$12=A11386,A11386,\"\")),\"\")","v":""},"","","","","","","",""]
[{"$nulls":23},{"$f":"IF(A11411<>\"\",IF(Main!$E$12=\"ALL\",A11411,IF(Main!$E$12=A11411,A11411,\"\")),\"\")","v":""},"","","","","","","",""]
[{"$nulls":23},{"$f":"IF(A11448<>\"\",IF(Main!$E$12=\"ALL\",A11448,IF(Main!$E$12=A11448,A11448,\"\")),\"\")","v":""},"","","","","","","",""]
[{"$nulls":23},{"$f":"IF(A11468<>\"\",IF(Main!$E$12=\"ALL\",A11468,IF(Main!$E$12=A11468,A11468,\"\")),\"\")","v":""},"","","","","","","",""]
[{"$nulls":23},{"$f":"IF(A11477<>\"\",IF(Main!$E$12=\"ALL\",A11477,IF(Main!$E$12=A11477,A11477,\"\")),\"\")","v":""},"","","","","","","",""]
[{"$nulls":23},{"$f":"IF(A11510<>\"\",IF(Main!$E$12=\"ALL\",A11510,IF(Main!$E$12=A11510,A11510,\"\")),\"\")","v":""},"","","","","","","",""]
[{"$nulls":23},{"$f":"IF(A11540<>\"\",IF(Main!$E$12=\"ALL\",A11540,IF(Main!$E$12=A11540,A11540,\"\")),\"\")","v":""},"","","","","","","",""]
[{"$nulls":23},{"$f":"IF(A11567<>\"\",IF(Main!$E$12=\"ALL\",A11567,IF(Main!$E$12=A11567,A11567,\"\")),\"\")","v":""},"","","","","","","",""]
[{"$nulls":23},{"$f":"IF(A11576<>\"\",IF(Main!$E$12=\"ALL\",A11576,IF(Main!$E$12=A11576,A11576,\"\")),\"\")","v":""},"","","","","","","",""]
[{"$nulls":23},{"$f":"IF(A11601<>\"\",IF(Main!$E$12=\"ALL\",A11601,IF(Main!$E$12=A11601,A11601,\"\")),\"\")","v":""},"","","","","","","",""]
[{"$nulls":23},{"$f":"IF(A11620<>\"\",IF(Main!$E$12=\"ALL\",A11620,IF(Main!$E$12=A11620,A11620,\"\")),\"\")","v":""},"","","","","","","",""]
[{"$nulls":23},{"$f":"IF(A11658<>\"\",IF(Main!$E$12=\"ALL\",A11658,IF(Main!$E$12=A11658,A11658,\"\")),\"\")","v":""},"","","","","","","",""]
[{"$nulls":23},{"$f":"IF(A11667<>\"\",IF(Main!$E$12=\"ALL\",A11667,IF(Main!$E$12=A11667,A11667,\"\")),\"\")","v":""},"","","","","","","",""]
[{"$nulls":23},{"$f":"IF(A11700<>\"\",IF(Main!$E$12=\"ALL\",A11700,IF(Main!$E$12=A11700,A11700,\"\")),\"\")","v":""},"","","","","","","",""]
[{"$nulls":23},{"$f":"IF(A11735<>\"\",IF(Main!$E$12=\"ALL\",A11735,IF(Main!$E$12=A11735,A11735,\"\")),\"\")","v":""},"","","","","","","",""]
[{"$nulls":23},{"$f":"IF(A11757<>\"\",IF(Main!$E$12=\"ALL\",A11757,IF(Main!$E$12=A11757,A11757,\"\")),\"\")","v":""},"","","","","","","",""]
[{"$nulls":23},{"$f":"IF(A11766<>\"\",IF(Main!$E$12=\"ALL\",A11766,IF(Main!$E$12=A11766,A11766,\"\")),\"\")","v":""},"","","","","","","",""]
[{"$nulls":23},{"$f":"IF(A11791<>\"\",IF(Main!$E$12=\"ALL\",A11791,IF(Main!$E$12=A11791,A11791,\"\")),\"\")","v":""},"","","","","","","",""]
[{"$nulls":23},{"$f":"IF(A11815<>\"\",IF(Main!$E$12=\"ALL\",A11815,IF(Main!$E$12=A11815,A11815,\"\")),\"\")","v":""},"","","","","","","",""]
[{"$nulls":23},{"$f":"IF(A11848<>\"\",IF(Main!$E$12=\"ALL\",A11848,IF(Main!$E$12=A11848,A11848,\"\")),\"\")","v":""},"","","","","","","",""]
[{"$nulls":23},{"$f":"IF(A11857<>\"\",IF(Main!$E$12=\"ALL\",A11857,IF(Main!$E$12=A11857,A11857,\"\")),\"\")","v":""},"","","","","","","",""]
[{"$nulls":23},{"$f":"IF(A11890<>\"\",IF(Main!$E$12=\"ALL\",A11890,IF(Main!$E$12=A11890,A11890,\"\")),\"\")","v":""},"","","","","","","",""]
[{"$nulls":23},{"$f":"IF(A11907<>\"\",IF(Main!$E$12=\"ALL\",A11907,IF(Main!$E$12=A11907,A11907,\"\")),\"\")","v":""},{"$f":"IF($X11907=\"\",\"\",D11907)","v":""},{"$f":"IF($X11907=\"\",\"\",F11907)","v":""},{"$f":"IF($X11907=\"\",\"\",J11907)","v":""},{"$f":"IF($X11907=\"\",\"\",N11907)","v":""},{"$f":"IF($X11907=\"\",\"\",IF(P11907=\"\",\"\",P11907))","v":""},{"$f":"IF($X11907=\"\",\"\",R11907)","v":""},{"$f":"IF($X11907=\"\",\"\",T11907)","v":""},{"$f":"IF($X11907=\"\",\"\",V11907)","v":""}]
[{"$nulls":23},{"$f":"IF(A11947<>\"\",IF(Main!$E$12=\"ALL\",A11947,IF(Main!$E$12=A11947,A11947,\"\")),\"\")","v":""},"","","","","","","",""]
[{"$nulls":23},{"$f":"IF(A11972<>\"\",IF(Main!$E$12=\"ALL\",A11972,IF(Main!$E$12=A11972,A11972,\"\")),\"\")","v":""},"","","","","","","",""]
[{"$nulls":23},{"$f":"IF(A11981<>\"\",IF(Main!$E$12=\"ALL\",A11981,IF(Main!$E$12=A11981,A11981,\"\")),\"\")","v":""},"","","","","","","",""]
[{"$nulls":23},{"$f":"IF(A12010<>\"\",IF(Main!$E$12=\"ALL\",A12010,IF(Main!$E$12=A12010,A12010,\"\")),\"\")","v":""},"","","","","","","",""]
[{"$nulls":23},{"$f":"IF(A12038<>\"\",IF(Main!$E$12=\"ALL\",A12038,IF(Main!$E$12=A12038,A12038,\"\")),\"\")","v":""},"","","","","","","",""]
[{"$nulls":23},{"$f":"IF(A12047<>\"\",IF(Main!$E$12=\"ALL\",A12047,IF(Main!$E$12=A12047,A12047,\"\")),\"\")","v":""},"","","","","","","",""]
[{"$nulls":23},{"$f":"IF(A12080<>\"\",IF(Main!$E$12=\"ALL\",A12080,IF(Main!$E$12=A12080,A12080,\"\")),\"\")","v":""},"","","","","","","",""]
[{"$nulls":23},{"$f":"IF(A12102<>\"\",IF(Main!$E$12=\"ALL\",A12102,IF(Main!$E$12=A12102,A12102,\"\")),\"\")","v":""},"","","","","","","",""]
[{"$nulls":23},{"$f":"IF(A12137<>\"\",IF(Main!$E$12=\"ALL\",A12137,IF(Main!$E$12=A12137,A12137,\"\")),\"\")","v":""},"","","","","","","",""]
[{"$nulls":23},{"$f":"IF(A12162<>\"\",IF(Main!$E$12=\"ALL\",A12162,IF(Main!$E$12=A12162,A12162,\"\")),\"\")","v":""},"","","","","","","",""]
[{"$nulls":23},{"$f":"IF(A12171<>\"\",IF(Main!$E$12=\"ALL\",A12171,IF(Main!$E$12=A12171,A12171,\"\")),\"\")","v":""},"","","","","","","",""]
[{"$nulls":23},{"$f":"IF(A12205<>\"\",IF(Main!$E$12=\"ALL\",A12205,IF(Main!$E$12=A12205,A12205,\"\")),\"\")","v":""},"","","","","","","",""]
[{"$nulls":23},{"$f":"IF(A12228<>\"\",IF(Main!$E$12=\"ALL\",A12228,IF(Main!$E$12=A12228,A12228,\"\")),\"\")","v":""},"","","","","","","",""]
[{"$nulls":23},{"$f":"IF(A12237<>\"\",IF(Main!$E$12=\"ALL\",A12237,IF(Main!$E$12=A12237,A12237,\"\")),\"\")","v":""},"","","","","","","",""]
[{"$nulls":23},{"$f":"IF(A12262<>\"\",IF(Main!$E$12=\"ALL\",A12262,IF(Main!$E$12=A12262,A12262,\"\")),\"\")","v":""},"","","","","","","",""]
[{"$nulls":23},{"$f":"IF(A12297<>\"\",IF(Main!$E$12=\"ALL\",A12297,IF(Main!$E$12=A12297,A12297,\"\")),\"\")","v":""},"","","","","","","",""]
[{"$nulls":23},{"$f":"IF(A12327<>\"\",IF(Main!$E$12=\"ALL\",A12327,IF(Main!$E$12=A12327,A12327,\"\")),\"\")","v":""},"","","","","","","",""]
[{"$nulls":23},{"$f":"IF(A12352<>\"\",IF(Main!$E$12=\"ALL\",A12352,IF(Main!$E$12=A12352,A12352,\"\")),\"\")","v":""},"","","","","","","",""]
[{"$nulls":23},{"$f":"IF(A12361<>\"\",IF(Main!$E$12=\"ALL\",A12361,IF(Main!$E$12=A12361,A12361,\"\")),\"\")","v":""},"","","","","","","",""]
[{"$nulls":23},{"$f":"IF(A12400<>\"\",IF(Main!$E$12=\"ALL\",A12400,IF(Main!$E$12=A12400,A12400,\"\")),\"\")","v":""},"","","","","","","",""]
[{"$nulls":23},{"$f":"IF(A12418<>\"\",IF(Main!$E$12=\"ALL\",A12418,IF(Main!$E$12=A12418,A12418,\"\")),\"\")","v":""},"","","","","","","",""]
[{"$nulls":23},{"$f":"IF(A12427<>\"\",IF(Main!$E$12=\"ALL\",A12427,IF(Main!$E$12=A12427,A12427,\"\")),\"\")","v":""},"","","","","","","",""]
[{"$nulls":23},{"$f":"IF(A12452<>\"\",IF(Main!$E$12=\"ALL\",A12452,IF(Main!$E$12=A12452,A12452,\"\")),\"\")","v":""},"","","","","","","",""]
[{"$nulls":23},{"$f":"IF(A12492<>\"\",IF(Main!$E$12=\"ALL\",A12492,IF(Main!$E$12=A12492,A12492,\"\")),\"\")","v":""},"","","","","","","",""]
[{"$nulls":23},{"$f":"IF(A12517<>\"\",IF(Main!$E$12=\"ALL\",A12517,IF(Main!$E$12=A12517,A12517,\"\")),\"\")","v":""},"","","","","","","",""]
[{"$nulls":23},{"$f":"IF(A12542<>\"\",IF(Main!$E$12=\"ALL\",A12542,IF(Main!$E$12=A12542,A12542,\"\")),\"\")","v":""},"","","","","","","",""]
[{"$nulls":23},{"$f":"IF(A12551<>\"\",IF(Main!$E$12=\"ALL\",A12551,IF(Main!$E$12=A12551,A12551,\"\")),\"\")","v":""},"","","","","","","",""]
[{"$nulls":23},{"$f":"IF(A12572<>\"\",IF(Main!$E$12=\"ALL\",A12572,IF(Main!$E$12=A12572,A12572,\"\")),\"\")","v":""},"","","","","","","",""]
[{"$nulls":23},{"$f":"IF(A12608<>\"\",IF(Main!$E$12=\"ALL\",A12608,IF(Main!$E$12=A12608,A12608,\"\")),\"\")","v":""},"","","","","","","",""]
[{"$nulls":23},{"$f":"IF(A12617<>\"\",IF(Main!$E$12=\"ALL\",A12617,IF(Main!$E$12=A12617,A12617,\"\")),\"\")","v":""},"","","","","","","",""]
[{"$nulls":23},{"$f":"IF(A12642<>\"\",IF(Main!$E$12=\"ALL\",A12642,IF(Main!$E$12=A12642,A12642,\"\")),\"\")","v":""},"","","","","","","",""]
[{"$nulls":23},{"$f":"IF(A12687<>\"\",IF(Main!$E$12=\"ALL\",A12687,IF(Main!$E$12=A12687,A12687,\"\")),\"\")","v":""},"","","","","","","",""]
[{"$nulls":23},{"$f":"IF(A12707<>\"\",IF(Main!$E$12=\"ALL\",A12707,IF(Main!$E$12=A12707,A12707,\"\")),\"\")","v":""},"","","","","","","",""]
[{"$nulls":23},{"$f":"IF(A12732<>\"\",IF(Main!$E$12=\"ALL\",A12732,IF(Main!$E$12=A12732,A12732,\"\")),\"\")","v":""},"","","","","","","",""]
[{"$nulls":23},{"$f":"IF(A12741<>\"\",IF(Main!$E$12=\"ALL\",A12741,IF(Main!$E$12=A12741,A12741,\"\")),\"\")","v":""},"","","","","","","",""]
[{"$nulls":23},{"$f":"IF(A12779<>\"\",IF(Main!$E$12=\"ALL\",A12779,IF(Main!$E$12=A12779,A12779,\"\")),\"\")","v":""},"","","","","","","",""]
[{"$nulls":23},{"$f":"IF(A12798<>\"\",IF(Main!$E$12=\"ALL\",A12798,IF(Main!$E$12=A12798,A12798,\"\")),\"\")","v":""},"","","","","","","",""]
[{"$nulls":23},{"$f":"IF(A12807<>\"\",IF(Main!$E$12=\"ALL\",A12807,IF(Main!$E$12=A12807,A12807,\"\")),\"\")","v":""},"","","","","","","",""]
[{"$nulls":23},{"$f":"IF(A12832<>\"\",IF(Main!$E$12=\"ALL\",A12832,IF(Main!$E$12=A12832,A12832,\"\")),\"\")","v":""},"","","","","","","",""]
[{"$nulls":23},{"$f":"IF(A12859<>\"\",IF(Main!$E$12=\"ALL\",A12859,IF(Main!$E$12=A12859,A12859,\"\")),\"\")","v":""},"","","","","","","",""]
[{"$nulls":23},{"$f":"IF(A12897<>\"\",IF(Main!$E$12=\"ALL\",A12897,IF(Main!$E$12=A12897,A12897,\"\")),\"\")","v":""},"","","","","","","",""]
[{"$nulls":23},{"$f":"IF(A12922<>\"\",IF(Main!$E$12=\"ALL\",A12922,IF(Main!$E$12=A12922,A12922,\"\")),\"\")","v":""},"","","","","","","",""]
[{"$nulls":23},{"$f":"IF(A12931<>\"\",IF(Main!$E$12=\"ALL\",A12931,IF(Main!$E$12=A12931,A12931,\"\")),\"\")","v":""},{"$f":"IF($X12931=\"\",\"\",D12931)","v":""},{"$f":"IF($X12931=\"\",\"\",F12931)","v":""},{"$f":"IF($X12931=\"\",\"\",J12931)","v":""},{"$f":"IF($X12931=\"\",\"\",N12931)","v":""},{"$f":"IF($X12931=\"\",\"\",IF(P12931=\"\",\"\",P12931))","v":""},{"$f":"IF($X12931=\"\",\"\",R12931)","v":""},{"$f":"IF($X12931=\"\",\"\",T12931)","v":""},{"$f":"IF($X12931=\"\",\"\",V12931)","v":""}]
[{"$nulls":23},{"$f":"IF(A12951<>\"\",IF(Main!$E$12=\"ALL\",A12951,IF(Main!$E$12=A12951,A12951,\"\")),\"\")","v":""},"","","","","","","",""]
[{"$nulls":23},{"$f":"IF(A12988<>\"\",IF(Main!$E$12=\"ALL\",A12988,IF(Main!$E$12=A12988,A12988,\"\")),\"\")","v":""},"","","","","","","",""]
[{"$nulls":23},{"$f":"IF(A12997<>\"\",IF(Main!$E$12=\"ALL\",A12997,IF(Main!$E$12=A12997,A12997,\"\")),\"\")","v":""},"","","","","","","",""]
[{"$nulls":23},{"$f":"IF(A13022<>\"\",IF(Main!$E$12=\"ALL\",A13022,IF(Main!$E$12=A13022,A13022,\"\")),\"\")","v":""},"","","","","","","",""]
[{"$nulls":23},{"$f":"IF(A13054<>\"\",IF(Main!$E$12=\"ALL\",A13054,IF(Main!$E$12=A13054,A13054,\"\")),\"\")","v":""},"","","","","","","",""]
[{"$nulls":23},{"$f":"IF(A13087<>\"\",IF(Main!$E$12=\"ALL\",A13087,IF(Main!$E$12=A13087,A13087,\"\")),\"\")","v":""},"","","","","","","",""]
[{"$nulls":23},{"$f":"IF(A13112<>\"\",IF(Main!$E$12=\"ALL\",A13112,IF(Main!$E$12=A13112,A13112,\"\")),\"\")","v":""},"","","","","","","",""]
[{"$nulls":23},{"$f":"IF(A13121<>\"\",IF(Main!$E$12=\"ALL\",A13121,IF(Main!$E$12=A13121,A13121,\"\")),\"\")","v":""},"","","","","","","",""]
[{"$nulls":23},{"$f":"IF(A13146<>\"\",IF(Main!$E$12=\"ALL\",A13146,IF(Main!$E$12=A13146,A13146,\"\")),\"\")","v":""},"","","","","","","",""]
[{"$nulls":23},{"$f":"IF(A13178<>\"\",IF(Main!$E$12=\"ALL\",A13178,IF(Main!$E$12=A13178,A13178,\"\")),\"\")","v":""},"","","","","","","",""]
[{"$nulls":23},{"$f":"IF(A13187<>\"\",IF(Main!$E$12=\"ALL\",A13187,IF(Main!$E$12=A13187,A13187,\"\")),\"\")","v":""},{"$f":"IF($X13187=\"\",\"\",D13187)","v":""},{"$f":"IF($X13187=\"\",\"\",F13187)","v":""},{"$f":"IF($X13187=\"\",\"\",J13187)","v":""},{"$f":"IF($X13187=\"\",\"\",N13187)","v":""},{"$f":"IF($X13187=\"\",\"\",IF(P13187=\"\",\"\",P13187))","v":""},{"$f":"IF($X13187=\"\",\"\",R13187)","v":""},{"$f":"IF($X13187=\"\",\"\",T13187)","v":""},{"$f":"IF($X13187=\"\",\"\",V13187)","v":""}]
[{"$nulls":23},{"$f":"IF(A13212<>\"\",IF(Main!$E$12=\"ALL\",A13212,IF(Main!$E$12=A13212,A13212,\"\")),\"\")","v":""},"","","","","","","",""]
[{"$nulls":23},{"$f":"IF(A13249<>\"\",IF(Main!$E$12=\"ALL\",A13249,IF(Main!$E$12=A13249,A13249,\"\")),\"\")","v":""},"","","","","","","",""]
[{"$nulls":23},{"$f":"IF(A13269<>\"\",IF(Main!$E$12=\"ALL\",A13269,IF(Main!$E$12=A13269,A13269,\"\")),\"\")","v":""},"","","","","","","",""]
[{"$nulls":23},{"$f":"IF(A13302<>\"\",IF(Main!$E$12=\"ALL\",A13302,IF(Main!$E$12=A13302,A13302,\"\")),\"\")","v":""},"","","","","","","",""]
[{"$nulls":23},{"$f":"IF(A13311<>\"\",IF(Main!$E$12=\"ALL\",A13311,IF(Main!$E$12=A13311,A13311,\"\")),\"\")","v":""},"","","","","","","",""]
[{"$nulls":23},{"$f":"IF(A13341<>\"\",IF(Main!$E$12=\"ALL\",A13341,IF(Main!$E$12=A13341,A13341,\"\")),\"\")","v":""},"","","","","","","",""]
[{"$nulls":23},{"$f":"IF(A13368<>\"\",IF(Main!$E$12=\"ALL\",A13368,IF(Main!$E$12=A13368,A13368,\"\")),\"\")","v":""},"","","","","","","",""]
[{"$nulls":23},{"$f":"IF(A13377<>\"\",IF(Main!$E$12=\"ALL\",A13377,IF(Main!$E$12=A13377,A13377,\"\")),\"\")","v":""},"","","","","","","",""]
[{"$nulls":23},{"$f":"IF(A13402<>\"\",IF(Main!$E$12=\"ALL\",A13402,IF(Main!$E$12=A13402,A13402,\"\")),\"\")","v":""},"","","","","","","",""]
[{"$nulls":23},{"$f":"IF(A13444<>\"\",IF(Main!$E$12=\"ALL\",A13444,IF(Main!$E$12=A13444,A13444,\"\")),\"\")","v":""},"","","","","","","",""]
[{"$nulls":23},{"$f":"IF(A13459<>\"\",IF(Main!$E$12=\"ALL\",A13459,IF(Main!$E$12=A13459,A13459,\"\")),\"\")","v":""},"","","","","","","",""]
[{"$nulls":23},{"$f":"IF(A13492<>\"\",IF(Main!$E$12=\"ALL\",A13492,IF(Main!$E$12=A13492,A13492,\"\")),\"\")","v":""},"","","","","","","",""]
[{"$nulls":23},{"$f":"IF(A13501<>\"\",IF(Main!$E$12=\"ALL\",A13501,IF(Main!$E$12=A13501,A13501,\"\")),\"\")","v":""},"","","","","","","",""]
[{"$nulls":23},{"$f":"IF(A13536<>\"\",IF(Main!$E$12=\"ALL\",A13536,IF(Main!$E$12=A13536,A13536,\"\")),\"\")","v":""},"","","","","","","",""]
[{"$nulls":23},{"$f":"IF(A13558<>\"\",IF(Main!$E$12=\"ALL\",A13558,IF(Main!$E$12=A13558,A13558,\"\")),\"\")","v":""},"","","","","","","",""]
[{"$nulls":23},{"$f":"IF(A13583<>\"\",IF(Main!$E$12=\"ALL\",A13583,IF(Main!$E$12=A13583,A13583,\"\")),\"\")","v":""},"","","","","","","",""]
[{"$nulls":23},{"$f":"IF(A13592<>\"\",IF(Main!$E$12=\"ALL\",A13592,IF(Main!$E$12=A13592,A13592,\"\")),\"\")","v":""},"","","","","","","",""]
[{"$nulls":23},{"$f":"IF(A13616<>\"\",IF(Main!$E$12=\"ALL\",A13616,IF(Main!$E$12=A13616,A13616,\"\")),\"\")","v":""},"","","","","","","",""]
[{"$nulls":23},{"$f":"IF(A13649<>\"\",IF(Main!$E$12=\"ALL\",A13649,IF(Main!$E$12=A13649,A13649,\"\")),\"\")","v":""},"","","","","","","",""]
[{"$nulls":23},{"$f":"IF(A13682<>\"\",IF(Main!$E$12=\"ALL\",A13682,IF(Main!$E$12=A13682,A13682,\"\")),\"\")","v":""},"","","","","","","",""]
[{"$nulls":23},{"$f":"IF(A13691<>\"\",IF(Main!$E$12=\"ALL\",A13691,IF(Main!$E$12=A13691,A13691,\"\")),\"\")","v":""},"","","","","","","",""]
[{"$nulls":23},{"$f":"IF(A13731<>\"\",IF(Main!$E$12=\"ALL\",A13731,IF(Main!$E$12=A13731,A13731,\"\")),\"\")","v":""},"","","","","","","",""]
[{"$nulls":23},{"$f":"IF(A13748<>\"\",IF(Main!$E$12=\"ALL\",A13748,IF(Main!$E$12=A13748,A13748,\"\")),\"\")","v":""},"","","","","","","",""]
[{"$nulls":23},{"$f":"IF(A13773<>\"\",IF(Main!$E$12=\"ALL\",A13773,IF(Main!$E$12=A13773,A13773,\"\")),\"\")","v":""},"","","","","","","",""]
[{"$nulls":23},{"$f":"IF(A13782<>\"\",IF(Main!$E$12=\"ALL\",A13782,IF(Main!$E$12=A13782,A13782,\"\")),\"\")","v":""},"","","","","","","",""]
[{"$nulls":23},{"$f":"IF(A13811<>\"\",IF(Main!$E$12=\"ALL\",A13811,IF(Main!$E$12=A13811,A13811,\"\")),\"\")","v":""},"","","","","","","",""]
[{"$nulls":23},{"$f":"IF(A13839<>\"\",IF(Main!$E$12=\"ALL\",A13839,IF(Main!$E$12=A13839,A13839,\"\")),\"\")","v":""},"","","","","","","",""]
[{"$nulls":23},{"$f":"IF(A13872<>\"\",IF(Main!$E$12=\"ALL\",A13872,IF(Main!$E$12=A13872,A13872,\"\")),\"\")","v":""},"","","","","","","",""]
[{"$nulls":23},{"$f":"IF(A13881<>\"\",IF(Main!$E$12=\"ALL\",A13881,IF(Main!$E$12=A13881,A13881,\"\")),\"\")","v":""},"","","","","","","",""]
[{"$nulls":23},{"$f":"IF(A13906<>\"\",IF(Main!$E$12=\"ALL\",A13906,IF(Main!$E$12=A13906,A13906,\"\")),\"\")","v":""},"","","","","","","",""]
[{"$nulls":23},{"$f":"IF(A13926<>\"\",IF(Main!$E$12=\"ALL\",A13926,IF(Main!$E$12=A13926,A13926,\"\")),\"\")","v":""},"","","","","","","",""]
[{"$nulls":23},{"$f":"IF(A13963<>\"\",IF(Main!$E$12=\"ALL\",A13963,IF(Main!$E$12=A13963,A13963,\"\")),\"\")","v":""},"","","","","","","",""]
[{"$nulls":23},{"$f":"IF(A13972<>\"\",IF(Main!$E$12=\"ALL\",A13972,IF(Main!$E$12=A13972,A13972,\"\")),\"\")","v":""},"","","","","","","",""]
[{"$nulls":23},{"$f":"IF(A14005<>\"\",IF(Main!$E$12=\"ALL\",A14005,IF(Main!$E$12=A14005,A14005,\"\")),\"\")","v":""},"","","","","","","",""]
[{"$nulls":23},{"$f":"IF(A14041<>\"\",IF(Main!$E$12=\"ALL\",A14041,IF(Main!$E$12=A14041,A14041,\"\")),\"\")","v":""},"","","","","","","",""]
[{"$nulls":23},{"$f":"IF(A14062<>\"\",IF(Main!$E$12=\"ALL\",A14062,IF(Main!$E$12=A14062,A14062,\"\")),\"\")","v":""},"","","","","","","",""]
[{"$nulls":23},{"$f":"IF(A14087<>\"\",IF(Main!$E$12=\"ALL\",A14087,IF(Main!$E$12=A14087,A14087,\"\")),\"\")","v":""},"","","","","","","",""]
[{"$nulls":23},{"$f":"IF(A14096<>\"\",IF(Main!$E$12=\"ALL\",A14096,IF(Main!$E$12=A14096,A14096,\"\")),\"\")","v":""},"","","","","","","",""]
[{"$nulls":23},{"$f":"IF(A14121<>\"\",IF(Main!$E$12=\"ALL\",A14121,IF(Main!$E$12=A14121,A14121,\"\")),\"\")","v":""},"","","","","","","",""]
[{"$nulls":23},{"$f":"IF(A14153<>\"\",IF(Main!$E$12=\"ALL\",A14153,IF(Main!$E$12=A14153,A14153,\"\")),\"\")","v":""},"","","","","","","",""]
[{"$nulls":23},{"$f":"IF(A14162<>\"\",IF(Main!$E$12=\"ALL\",A14162,IF(Main!$E$12=A14162,A14162,\"\")),\"\")","v":""},"","","","","","","",""]
[{"$nulls":23},{"$f":"IF(A14195<>\"\",IF(Main!$E$12=\"ALL\",A14195,IF(Main!$E$12=A14195,A14195,\"\")),\"\")","v":""},"","","","","","","",""]
[{"$nulls":23},{"$f":"IF(A14213<>\"\",IF(Main!$E$12=\"ALL\",A14213,IF(Main!$E$12=A14213,A14213,\"\")),\"\")","v":""},"","","","","","","",""]
[{"$nulls":23},{"$f":"IF(A14252<>\"\",IF(Main!$E$12=\"ALL\",A14252,IF(Main!$E$12=A14252,A14252,\"\")),\"\")","v":""},"","","","","","","",""]
[{"$nulls":23},{"$f":"IF(A14277<>\"\",IF(Main!$E$12=\"ALL\",A14277,IF(Main!$E$12=A14277,A14277,\"\")),\"\")","v":""},"","","","","","","",""]
[{"$nulls":23},{"$f":"IF(A14286<>\"\",IF(Main!$E$12=\"ALL\",A14286,IF(Main!$E$12=A14286,A14286,\"\")),\"\")","v":""},"","","","","","","",""]
[{"$nulls":23},{"$f":"IF(A14316<>\"\",IF(Main!$E$12=\"ALL\",A14316,IF(Main!$E$12=A14316,A14316,\"\")),\"\")","v":""},"","","","","","","",""]
[{"$nulls":23},{"$f":"IF(A14343<>\"\",IF(Main!$E$12=\"ALL\",A14343,IF(Main!$E$12=A14343,A14343,\"\")),\"\")","v":""},"","","","","","","",""]
[{"$nulls":23},{"$f":"IF(A14352<>\"\",IF(Main!$E$12=\"ALL\",A14352,IF(Main!$E$12=A14352,A14352,\"\")),\"\")","v":""},"","","","","","","",""]
[{"$nulls":23},{"$f":"IF(A14377<>\"\",IF(Main!$E$12=\"ALL\",A14377,IF(Main!$E$12=A14377,A14377,\"\")),\"\")","v":""},"","","","","","","",""]
[{"$nulls":23},{"$f":"IF(A14408<>\"\",IF(Main!$E$12=\"ALL\",A14408,IF(Main!$E$12=A14408,A14408,\"\")),\"\")","v":""},"","","","","","","",""]
[{"$nulls":23},{"$f":"IF(A14442<>\"\",IF(Main!$E$12=\"ALL\",A14442,IF(Main!$E$12=A14442,A14442,\"\")),\"\")","v":""},"","","","","","","",""]
[{"$nulls":23},{"$f":"IF(A14467<>\"\",IF(Main!$E$12=\"ALL\",A14467,IF(Main!$E$12=A14467,A14467,\"\")),\"\")","v":""},{"$f":"IF($X14467=\"\",\"\",D14467)","v":""},{"$f":"IF($X14467=\"\",\"\",F14467)","v":""},{"$f":"IF($X14467=\"\",\"\",J14467)","v":""},{"$f":"IF($X14467=\"\",\"\",N14467)","v":""},{"$f":"IF($X14467=\"\",\"\",IF(P14467=\"\",\"\",P14467))","v":""},{"$f":"IF($X14467=\"\",\"\",R14467)","v":""},{"$f":"IF($X14467=\"\",\"\",T14467)","v":""},{"$f":"IF($X14467=\"\",\"\",V14467)","v":""}]
[{"$nulls":23},{"$f":"IF(A14476<>\"\",IF(Main!$E$12=\"ALL\",A14476,IF(Main!$E$12=A14476,A14476,\"\")),\"\")","v":""},"","","","","","","",""]
[{"$nulls":23},{"$f":"IF(A14511<>\"\",IF(Main!$E$12=\"ALL\",A14511,IF(Main!$E$12=A14511,A14511,\"\")),\"\")","v":""},"","","","","","","",""]
[{"$nulls":23},{"$f":"IF(A14533<>\"\",IF(Main!$E$12=\"ALL\",A14533,IF(Main!$E$12=A14533,A14533,\"\")),\"\")","v":""},"","","","","","","",""]
[{"$nulls":23},{"$f":"IF(A14542<>\"\",IF(Main!$E$12=\"ALL\",A14542,IF(Main!$E$12=A14542,A14542,\"\")),\"\")","v":""},"","","","","","","",""]
[{"$nulls":23},{"$f":"IF(A14567<>\"\",IF(Main!$E$12=\"ALL\",A14567,IF(Main!$E$12=A14567,A14567,\"\")),\"\")","v":""},"","","","","","","",""]
[{"$nulls":23},{"$f":"IF(A14603<>\"\",IF(Main!$E$12=\"ALL\",A14603,IF(Main!$E$12=A14603,A14603,\"\")),\"\")","v":""},"","","","","","","",""]
[{"$nulls":23},{"$f":"IF(A14632<>\"\",IF(Main!$E$12=\"ALL\",A14632,IF(Main!$E$12=A14632,A14632,\"\")),\"\")","v":""},"","","","","","","",""]
[{"$nulls":23},{"$f":"IF(A14657<>\"\",IF(Main!$E$12=\"ALL\",A14657,IF(Main!$E$12=A14657,A14657,\"\")),\"\")","v":""},"","","","","","","",""]
[{"$nulls":23},{"$f":"IF(A14666<>\"\",IF(Main!$E$12=\"ALL\",A14666,IF(Main!$E$12=A14666,A14666,\"\")),\"\")","v":""},"","","","","","","",""]
[{"$nulls":23},{"$f":"IF(A14706<>\"\",IF(Main!$E$12=\"ALL\",A14706,IF(Main!$E$12=A14706,A14706,\"\")),\"\")","v":""},"","","","","","","",""]
[{"$nulls":23},{"$f":"IF(A14723<>\"\",IF(Main!$E$12=\"ALL\",A14723,IF(Main!$E$12=A14723,A14723,\"\")),\"\")","v":""},{"$f":"IF($X14723=\"\",\"\",D14723)","v":""},{"$f":"IF($X14723=\"\",\"\",F14723)","v":""},{"$f":"IF($X14723=\"\",\"\",J14723)","v":""},{"$f":"IF($X14723=\"\",\"\",N14723)","v":""},{"$f":"IF($X14723=\"\",\"\",IF(P14723=\"\",\"\",P14723))","v":""},{"$f":"IF($X14723=\"\",\"\",R14723)","v":""},{"$f":"IF($X14723=\"\",\"\",T14723)","v":""},{"$f":"IF($X14723=\"\",\"\",V14723)","v":""}]
[{"$nulls":23},{"$f":"IF(A14732<>\"\",IF(Main!$E$12=\"ALL\",A14732,IF(Main!$E$12=A14732,A14732,\"\")),\"\")","v":""},"","","","","","","",""]
[{"$nulls":23},{"$f":"IF(A14757<>\"\",IF(Main!$E$12=\"ALL\",A14757,IF(Main!$E$12=A14757,A14757,\"\")),\"\")","v":""},"","","","","","","",""]
[{"$nulls":23},{"$f":"IF(A14798<>\"\",IF(Main!$E$12=\"ALL\",A14798,IF(Main!$E$12=A14798,A14798,\"\")),\"\")","v":""},"","","","","","","",""]
[{"$nulls":23},{"$f":"IF(A14822<>\"\",IF(Main!$E$12=\"ALL\",A14822,IF(Main!$E$12=A14822,A14822,\"\")),\"\")","v":""},"","","","","","","",""]
[{"$nulls":23},{"$f":"IF(A14847<>\"\",IF(Main!$E$12=\"ALL\",A14847,IF(Main!$E$12=A14847,A14847,\"\")),\"\")","v":""},"","","","","","","",""]
[{"$nulls":23},{"$f":"IF(A14856<>\"\",IF(Main!$E$12=\"ALL\",A14856,IF(Main!$E$12=A14856,A14856,\"\")),\"\")","v":""},"","","","","","","",""]
[{"$nulls":23},{"$f":"IF(A14890<>\"\",IF(Main!$E$12=\"ALL\",A14890,IF(Main!$E$12=A14890,A14890,\"\")),\"\")","v":""},"","","","","","","",""]
[{"$nulls":23},{"$f":"IF(A14913<>\"\",IF(Main!$E$12=\"ALL\",A14913,IF(Main!$E$12=A14913,A14913,\"\")),\"\")","v":""},"","","","","","","",""]
[{"$nulls":23},{"$f":"IF(A14922<>\"\",IF(Main!$E$12=\"ALL\",A14922,IF(Main!$E$12=A14922,A14922,\"\")),\"\")","v":""},"","","","","","","",""]
[{"$nulls":23},{"$f":"IF(A14947<>\"\",IF(Main!$E$12=\"ALL\",A14947,IF(Main!$E$12=A14947,A14947,\"\")),\"\")","v":""},"","","","","","","",""]
[{"$nulls":23},{"$f":"IF(A14970<>\"\",IF(Main!$E$12=\"ALL\",A14970,IF(Main!$E$12=A14970,A14970,\"\")),\"\")","v":""},"","","","","","","",""]
[{"$nulls":23},{"$f":"IF(A15012<>\"\",IF(Main!$E$12=\"ALL\",A15012,IF(Main!$E$12=A15012,A15012,\"\")),\"\")","v":""},"","","","","","","",""]
[{"$nulls":23},{"$f":"IF(A15037<>\"\",IF(Main!$E$12=\"ALL\",A15037,IF(Main!$E$12=A15037,A15037,\"\")),\"\")","v":""},"","","","","","","",""]
[{"$nulls":23},{"$f":"IF(A15046<>\"\",IF(Main!$E$12=\"ALL\",A15046,IF(Main!$E$12=A15046,A15046,\"\")),\"\")","v":""},"","","","","","","",""]
[{"$nulls":23},{"$f":"IF(A15085<>\"\",IF(Main!$E$12=\"ALL\",A15085,IF(Main!$E$12=A15085,A15085,\"\")),\"\")","v":""},"","","","","","","",""]
[{"$nulls":23},{"$f":"IF(A15103<>\"\",IF(Main!$E$12=\"ALL\",A15103,IF(Main!$E$12=A15103,A15103,\"\")),\"\")","v":""},"","","","","","","",""]
[{"$nulls":23},{"$f":"IF(A15112<>\"\",IF(Main!$E$12=\"ALL\",A15112,IF(Main!$E$12=A15112,A15112,\"\")),\"\")","v":""},"","","","","","","",""]
[{"$nulls":23},{"$f":"IF(A15137<>\"\",IF(Main!$E$12=\"ALL\",A15137,IF(Main!$E$12=A15137,A15137,\"\")),\"\")","v":""},"","","","","","","",""]
[{"$nulls":23},{"$f":"IF(A15165<>\"\",IF(Main!$E$12=\"ALL\",A15165,IF(Main!$E$12=A15165,A15165,\"\")),\"\")","v":""},"","","","","","","",""]
[{"$nulls":23},{"$f":"IF(A15202<>\"\",IF(Main!$E$12=\"ALL\",A15202,IF(Main!$E$12=A15202,A15202,\"\")),\"\")","v":""},"","","","","","","",""]
[{"$nulls":23},{"$f":"IF(A15227<>\"\",IF(Main!$E$12=\"ALL\",A15227,IF(Main!$E$12=A15227,A15227,\"\")),\"\")","v":""},"","","","","","","",""]
[{"$nulls":23},{"$f":"IF(A15236<>\"\",IF(Main!$E$12=\"ALL\",A15236,IF(Main!$E$12=A15236,A15236,\"\")),\"\")","v":""},"","","","","","","",""]
[{"$nulls":23},{"$f":"IF(A15257<>\"\",IF(Main!$E$12=\"ALL\",A15257,IF(Main!$E$12=A15257,A15257,\"\")),\"\")","v":""},"","","","","","","",""]
[{"$nulls":23},{"$f":"IF(A15293<>\"\",IF(Main!$E$12=\"ALL\",A15293,IF(Main!$E$12=A15293,A15293,\"\")),\"\")","v":""},"","","","","","","",""]
[{"$nulls":23},{"$f":"IF(A15302<>\"\",IF(Main!$E$12=\"ALL\",A15302,IF(Main!$E$12=A15302,A15302,\"\")),\"\")","v":""},"","","","","","","",""]
[{"$nulls":23},{"$f":"IF(A15327<>\"\",IF(Main!$E$12=\"ALL\",A15327,IF(Main!$E$12=A15327,A15327,\"\")),\"\")","v":""},"","","","","","","",""]
[{"$nulls":23},{"$f":"IF(A15360<>\"\",IF(Main!$E$12=\"ALL\",A15360,IF(Main!$E$12=A15360,A15360,\"\")),\"\")","v":""},"","","","","","","",""]
[{"$nulls":23},{"$f":"IF(A15384<>\"\",IF(Main!$E$12=\"ALL\",A15384,IF(Main!$E$12=A15384,A15384,\"\")),\"\")","v":""},"","","","","","","",""]
[{"$nulls":23},{"$f":"IF(A15417<>\"\",IF(Main!$E$12=\"ALL\",A15417,IF(Main!$E$12=A15417,A15417,\"\")),\"\")","v":""},"","","","","","","",""]
[{"$nulls":23},{"$f":"IF(A15426<>\"\",IF(Main!$E$12=\"ALL\",A15426,IF(Main!$E$12=A15426,A15426,\"\")),\"\")","v":""},"","","","","","","",""]
[{"$nulls":23},{"$f":"IF(A15452<>\"\",IF(Main!$E$12=\"ALL\",A15452,IF(Main!$E$12=A15452,A15452,\"\")),\"\")","v":""},"","","","","","","",""]
[{"$nulls":23},{"$f":"IF(A15483<>\"\",IF(Main!$E$12=\"ALL\",A15483,IF(Main!$E$12=A15483,A15483,\"\")),\"\")","v":""},"","","","","","","",""]
[{"$nulls":23},{"$f":"IF(A15492<>\"\",IF(Main!$E$12=\"ALL\",A15492,IF(Main!$E$12=A15492,A15492,\"\")),\"\")","v":""},"","","","","","","",""]
[{"$nulls":23},{"$f":"IF(A15517<>\"\",IF(Main!$E$12=\"ALL\",A15517,IF(Main!$E$12=A15517,A15517,\"\")),\"\")","v":""},"","","","","","","",""]
[{"$nulls":23},{"$f":"IF(A15555<>\"\",IF(Main!$E$12=\"ALL\",A15555,IF(Main!$E$12=A15555,A15555,\"\")),\"\")","v":""},{"$f":"IF($X15555=\"\",\"\",D15555)","v":""},{"$f":"IF($X15555=\"\",\"\",F15555)","v":""},{"$f":"IF($X15555=\"\",\"\",J15555)","v":""},{"$f":"IF($X15555=\"\",\"\",N15555)","v":""},{"$f":"IF($X15555=\"\",\"\",IF(P15555=\"\",\"\",P15555))","v":""},{"$f":"IF($X15555=\"\",\"\",R15555)","v":""},{"$f":"IF($X15555=\"\",\"\",T15555)","v":""},{"$f":"IF($X15555=\"\",\"\",V15555)","v":""}]
[{"$nulls":23},{"$f":"IF(A15574<>\"\",IF(Main!$E$12=\"ALL\",A15574,IF(Main!$E$12=A15574,A15574,\"\")),\"\")","v":""},"","","","","","","",""]
[{"$nulls":23},{"$f":"IF(A15607<>\"\",IF(Main!$E$12=\"ALL\",A15607,IF(Main!$E$12=A15607,A15607,\"\")),\"\")","v":""},"","","","","","","",""]
[{"$nulls":23},{"$f":"IF(A15616<>\"\",IF(Main!$E$12=\"ALL\",A15616,IF(Main!$E$12=A15616,A15616,\"\")),\"\")","v":""},"","","","","","","",""]
[{"$nulls":23},{"$f":"IF(A15647<>\"\",IF(Main!$E$12=\"ALL\",A15647,IF(Main!$E$12=A15647,A15647,\"\")),\"\")","v":""},"","","","","","","",""]
[{"$nulls":23},{"$f":"IF(A15673<>\"\",IF(Main!$E$12=\"ALL\",A15673,IF(Main!$E$12=A15673,A15673,\"\")),\"\")","v":""},"","","","","","","",""]
[{"$nulls":23},{"$f":"IF(A15698<>\"\",IF(Main!$E$12=\"ALL\",A15698,IF(Main!$E$12=A15698,A15698,\"\")),\"\")","v":""},"","","","","","","",""]
[{"$nulls":23},{"$f":"IF(A15707<>\"\",IF(Main!$E$12=\"ALL\",A15707,IF(Main!$E$12=A15707,A15707,\"\")),\"\")","v":""},"","","","","","","",""]
[{"$nulls":23},{"$f":"IF(A15750<>\"\",IF(Main!$E$12=\"ALL\",A15750,IF(Main!$E$12=A15750,A15750,\"\")),\"\")","v":""},"","","","","","","",""]
[{"$nulls":23},{"$f":"IF(A15764<>\"\",IF(Main!$E$12=\"ALL\",A15764,IF(Main!$E$12=A15764,A15764,\"\")),\"\")","v":""},"","","","","","","",""]
[{"$nulls":23},{"$f":"IF(A15797<>\"\",IF(Main!$E$12=\"ALL\",A15797,IF(Main!$E$12=A15797,A15797,\"\")),\"\")","v":""},"","","","","","","",""]
[{"$nulls":23},{"$f":"IF(A15806<>\"\",IF(Main!$E$12=\"ALL\",A15806,IF(Main!$E$12=A15806,A15806,\"\")),\"\")","v":""},"","","","","","","",""]
[{"$nulls":23},{"$f":"IF(A15842<>\"\",IF(Main!$E$12=\"ALL\",A15842,IF(Main!$E$12=A15842,A15842,\"\")),\"\")","v":""},"","","","","","","",""]
[{"$nulls":23},{"$f":"IF(A15863<>\"\",IF(Main!$E$12=\"ALL\",A15863,IF(Main!$E$12=A15863,A15863,\"\")),\"\")","v":""},"","","","","","","",""]
[{"$nulls":23},{"$f":"IF(A15888<>\"\",IF(Main!$E$12=\"ALL\",A15888,IF(Main!$E$12=A15888,A15888,\"\")),\"\")","v":""},"","","","","","","",""]
[{"$nulls":23},{"$f":"IF(A15897<>\"\",IF(Main!$E$12=\"ALL\",A15897,IF(Main!$E$12=A15897,A15897,\"\")),\"\")","v":""},"","","","","","","",""]
[{"$nulls":23},{"$f":"IF(A15922<>\"\",IF(Main!$E$12=\"ALL\",A15922,IF(Main!$E$12=A15922,A15922,\"\")),\"\")","v":""},"","","","","","","",""]
[{"$nulls":23},{"$f":"IF(A15954<>\"\",IF(Main!$E$12=\"ALL\",A15954,IF(Main!$E$12=A15954,A15954,\"\")),\"\")","v":""},"","","","","","","",""]
[{"$nulls":23},{"$f":"IF(A15987<>\"\",IF(Main!$E$12=\"ALL\",A15987,IF(Main!$E$12=A15987,A15987,\"\")),\"\")","v":""},"","","","","","","",""]
[{"$nulls":23},{"$f":"IF(A15996<>\"\",IF(Main!$E$12=\"ALL\",A15996,IF(Main!$E$12=A15996,A15996,\"\")),\"\")","v":""},"","","","","","","",""]
[{"$nulls":23},{"$f":"IF(A16014<>\"\",IF(Main!$E$12=\"ALL\",A16014,IF(Main!$E$12=A16014,A16014,\"\")),\"\")","v":""},"","","","","","","",""]
[{"$nulls":23},{"$f":"IF(A16053<>\"\",IF(Main!$E$12=\"ALL\",A16053,IF(Main!$E$12=A16053,A16053,\"\")),\"\")","v":""},"","","","","","","",""]
[{"$nulls":23},{"$f":"IF(A16078<>\"\",IF(Main!$E$12=\"ALL\",A16078,IF(Main!$E$12=A16078,A16078,\"\")),\"\")","v":""},"","","","","","","",""]
[{"$nulls":23},{"$f":"IF(A16087<>\"\",IF(Main!$E$12=\"ALL\",A16087,IF(Main!$E$12=A16087,A16087,\"\")),\"\")","v":""},"","","","","","","",""]
[{"$nulls":23},{"$f":"IF(A16117<>\"\",IF(Main!$E$12=\"ALL\",A16117,IF(Main!$E$12=A16117,A16117,\"\")),\"\")","v":""},"","","","","","","",""]
[{"$nulls":23},{"$f":"IF(A16144<>\"\",IF(Main!$E$12=\"ALL\",A16144,IF(Main!$E$12=A16144,A16144,\"\")),\"\")","v":""},"","","","","","","",""]
[{"$nulls":23},{"$f":"IF(A16177<>\"\",IF(Main!$E$12=\"ALL\",A16177,IF(Main!$E$12=A16177,A16177,\"\")),\"\")","v":""},"","","","","","","",""]
[{"$nulls":23},{"$f":"IF(A16202<>\"\",IF(Main!$E$12=\"ALL\",A16202,IF(Main!$E$12=A16202,A16202,\"\")),\"\")","v":""},"","","","","","","",""]
[{"$nulls":23},{"$f":"IF(A16209<>\"\",IF(Main!$E$12=\"ALL\",A16209,IF(Main!$E$12=A16209,A16209,\"\")),\"\")","v":""},"","","","","","","",""]
[{"$nulls":23},{"$f":"IF(A16243<>\"\",IF(Main!$E$12=\"ALL\",A16243,IF(Main!$E$12=A16243,A16243,\"\")),\"\")","v":""},"","","","","","","",""]
[{"$nulls":23},{"$f":"IF(A16268<>\"\",IF(Main!$E$12=\"ALL\",A16268,IF(Main!$E$12=A16268,A16268,\"\")),\"\")","v":""},"","","","","","","",""]
[{"$nulls":23},{"$f":"IF(A16277<>\"\",IF(Main!$E$12=\"ALL\",A16277,IF(Main!$E$12=A16277,A16277,\"\")),\"\")","v":""},"","","","","","","",""]
[{"$nulls":23},{"$f":"IF(A16312<>\"\",IF(Main!$E$12=\"ALL\",A16312,IF(Main!$E$12=A16312,A16312,\"\")),\"\")","v":""},"","","","","","","",""]
[{"$nulls":23},{"$f":"IF(A16334<>\"\",IF(Main!$E$12=\"ALL\",A16334,IF(Main!$E$12=A16334,A16334,\"\")),\"\")","v":""},"","","","","","","",""]
[{"$nulls":23},{"$f":"IF(A16367<>\"\",IF(Main!$E$12=\"ALL\",A16367,IF(Main!$E$12=A16367,A16367,\"\")),\"\")","v":""},"","","","","","","",""]
[{"$nulls":23},{"$f":"IF(A16392<>\"\",IF(Main!$E$12=\"ALL\",A16392,IF(Main!$E$12=A16392,A16392,\"\")),\"\")","v":""},"","","","","","","",""]
[{"$nulls":23},{"$f":"IF(A16404<>\"\",IF(Main!$E$12=\"ALL\",A16404,IF(Main!$E$12=A16404,A16404,\"\")),\"\")","v":""},"","","","","","","",""]
[{"$nulls":23},{"$f":"IF(A16433<>\"\",IF(Main!$E$12=\"ALL\",A16433,IF(Main!$E$12=A16433,A16433,\"\")),\"\")","v":""},"","","","","","","",""]
[{"$nulls":23},{"$f":"IF(A16458<>\"\",IF(Main!$E$12=\"ALL\",A16458,IF(Main!$E$12=A16458,A16458,\"\")),\"\")","v":""},"","","","","","","",""]
[{"$nulls":23},{"$f":"IF(A16467<>\"\",IF(Main!$E$12=\"ALL\",A16467,IF(Main!$E$12=A16467,A16467,\"\")),\"\")","v":""},"","","","","","","",""]
[{"$nulls":23},{"$f":"IF(A16507<>\"\",IF(Main!$E$12=\"ALL\",A16507,IF(Main!$E$12=A16507,A16507,\"\")),\"\")","v":""},"","","","","","","",""]
[{"$nulls":23},{"$f":"IF(A16524<>\"\",IF(Main!$E$12=\"ALL\",A16524,IF(Main!$E$12=A16524,A16524,\"\")),\"\")","v":""},"","","","","","","",""]
[{"$nulls":23},{"$f":"IF(A16557<>\"\",IF(Main!$E$12=\"ALL\",A16557,IF(Main!$E$12=A16557,A16557,\"\")),\"\")","v":""},"","","","","","","",""]
[{"$nulls":23},{"$f":"IF(A16582<>\"\",IF(Main!$E$12=\"ALL\",A16582,IF(Main!$E$12=A16582,A16582,\"\")),\"\")","v":""},"","","","","","","",""]
[{"$nulls":23},{"$f":"IF(A16599<>\"\",IF(Main!$E$12=\"ALL\",A16599,IF(Main!$E$12=A16599,A16599,\"\")),\"\")","v":""},"","","","","","","",""]
[{"$nulls":23},{"$f":"IF(A16623<>\"\",IF(Main!$E$12=\"ALL\",A16623,IF(Main!$E$12=A16623,A16623,\"\")),\"\")","v":""},"","","","","","","",""]
[{"$nulls":23},{"$f":"IF(A16648<>\"\",IF(Main!$E$12=\"ALL\",A16648,IF(Main!$E$12=A16648,A16648,\"\")),\"\")","v":""},"","","","","","","",""]
[{"$nulls":23},{"$f":"IF(A16657<>\"\",IF(Main!$E$12=\"ALL\",A16657,IF(Main!$E$12=A16657,A16657,\"\")),\"\")","v":""},"","","","","","","",""]
[{"$nulls":23},{"$f":"IF(A16691<>\"\",IF(Main!$E$12=\"ALL\",A16691,IF(Main!$E$12=A16691,A16691,\"\")),\"\")","v":""},"","","","","","","",""]
[{"$nulls":23},{"$f":"IF(A16714<>\"\",IF(Main!$E$12=\"ALL\",A16714,IF(Main!$E$12=A16714,A16714,\"\")),\"\")","v":""},"","","","","","","",""]
[{"$nulls":23},{"$f":"IF(A16747<>\"\",IF(Main!$E$12=\"ALL\",A16747,IF(Main!$E$12=A16747,A16747,\"\")),\"\")","v":""},"","","","","","","",""]
[{"$nulls":23},{"$f":"IF(A16772<>\"\",IF(Main!$E$12=\"ALL\",A16772,IF(Main!$E$12=A16772,A16772,\"\")),\"\")","v":""},"","","","","","","",""]
[{"$nulls":23},{"$f":"IF(A16794<>\"\",IF(Main!$E$12=\"ALL\",A16794,IF(Main!$E$12=A16794,A16794,\"\")),\"\")","v":""},"","","","","","","",""]
[{"$nulls":23},{"$f":"IF(A16813<>\"\",IF(Main!$E$12=\"ALL\",A16813,IF(Main!$E$12=A16813,A16813,\"\")),\"\")","v":""},"","","","","","","",""]
[{"$nulls":23},{"$f":"IF(A16838<>\"\",IF(Main!$E$12=\"ALL\",A16838,IF(Main!$E$12=A16838,A16838,\"\")),\"\")","v":""},"","","","","","","",""]
[{"$nulls":23},{"$f":"IF(A16847<>\"\",IF(Main!$E$12=\"ALL\",A16847,IF(Main!$E$12=A16847,A16847,\"\")),\"\")","v":""},"","","","","","","",""]
[{"$nulls":23},{"$f":"IF(A16886<>\"\",IF(Main!$E$12=\"ALL\",A16886,IF(Main!$E$12=A16886,A16886,\"\")),\"\")","v":""},"","","","","","","",""]
[{"$nulls":23},{"$f":"IF(A16904<>\"\",IF(Main!$E$12=\"ALL\",A16904,IF(Main!$E$12=A16904,A16904,\"\")),\"\")","v":""},"","","","","","","",""]
[{"$nulls":23},{"$f":"IF(A16937<>\"\",IF(Main!$E$12=\"ALL\",A16937,IF(Main!$E$12=A16937,A16937,\"\")),\"\")","v":""},"","","","","","","",""]
[{"$nulls":23},{"$f":"IF(A16962<>\"\",IF(Main!$E$12=\"ALL\",A16962,IF(Main!$E$12=A16962,A16962,\"\")),\"\")","v":""},"","","","","","","",""]
[{"$nulls":23},{"$f":"IF(A16966<>\"\",IF(Main!$E$12=\"ALL\",A16966,IF(Main!$E$12=A16966,A16966,\"\")),\"\")","v":""},"","","","","","","",""]
[{"$nulls":23},{"$f":"IF(A16995<>\"\",IF(Main!$E$12=\"ALL\",A16995,IF(Main!$E$12=A16995,A16995,\"\")),\"\")","v":""},"","","","","","","",""]
[{"$nulls":23},{"$f":"IF(A17028<>\"\",IF(Main!$E$12=\"ALL\",A17028,IF(Main!$E$12=A17028,A17028,\"\")),\"\")","v":""},"","","","","","","",""]
[{"$nulls":23},{"$f":"IF(A17037<>\"\",IF(Main!$E$12=\"ALL\",A17037,IF(Main!$E$12=A17037,A17037,\"\")),\"\")","v":""},"","","","","","","",""]
[{"$nulls":23},{"$f":"IF(A17081<>\"\",IF(Main!$E$12=\"ALL\",A17081,IF(Main!$E$12=A17081,A17081,\"\")),\"\")","v":""},"","","","","","","",""]
[{"$nulls":23},{"$f":"IF(A17094<>\"\",IF(Main!$E$12=\"ALL\",A17094,IF(Main!$E$12=A17094,A17094,\"\")),\"\")","v":""},"","","","","","","",""]
[{"$nulls":23},{"$f":"IF(A17127<>\"\",IF(Main!$E$12=\"ALL\",A17127,IF(Main!$E$12=A17127,A17127,\"\")),\"\")","v":""},"","","","","","","",""]
[{"$nulls":23},{"$f":"IF(A17152<>\"\",IF(Main!$E$12=\"ALL\",A17152,IF(Main!$E$12=A17152,A17152,\"\")),\"\")","v":""},"","","","","","","",""]
[{"$nulls":23},{"$f":"IF(A17161<>\"\",IF(Main!$E$12=\"ALL\",A17161,IF(Main!$E$12=A17161,A17161,\"\")),\"\")","v":""},"","","","","","","",""]
[{"$nulls":23},{"$f":"IF(A17185<>\"\",IF(Main!$E$12=\"ALL\",A17185,IF(Main!$E$12=A17185,A17185,\"\")),\"\")","v":""},"","","","","","","",""]
[{"$nulls":23},{"$f":"IF(A17218<>\"\",IF(Main!$E$12=\"ALL\",A17218,IF(Main!$E$12=A17218,A17218,\"\")),\"\")","v":""},"","","","","","","",""]
[{"$nulls":23},{"$f":"IF(A17227<>\"\",IF(Main!$E$12=\"ALL\",A17227,IF(Main!$E$12=A17227,A17227,\"\")),\"\")","v":""},"","","","","","","",""]
[{"$nulls":23},{"$f":"IF(A17253<>\"\",IF(Main!$E$12=\"ALL\",A17253,IF(Main!$E$12=A17253,A17253,\"\")),\"\")","v":""},"","","","","","","",""]
[{"$nulls":23},{"$f":"IF(A17284<>\"\",IF(Main!$E$12=\"ALL\",A17284,IF(Main!$E$12=A17284,A17284,\"\")),\"\")","v":""},"","","","","","","",""]
[{"$nulls":23},{"$f":"IF(A17317<>\"\",IF(Main!$E$12=\"ALL\",A17317,IF(Main!$E$12=A17317,A17317,\"\")),\"\")","v":""},"","","","","","","",""]
[{"$nulls":23},{"$f":"IF(A17342<>\"\",IF(Main!$E$12=\"ALL\",A17342,IF(Main!$E$12=A17342,A17342,\"\")),\"\")","v":""},"","","","","","","",""]
[{"$nulls":23},{"$f":"IF(A17356<>\"\",IF(Main!$E$12=\"ALL\",A17356,IF(Main!$E$12=A17356,A17356,\"\")),\"\")","v":""},"","","","","","","",""]
[{"$nulls":23},{"$f":"IF(A17375<>\"\",IF(Main!$E$12=\"ALL\",A17375,IF(Main!$E$12=A17375,A17375,\"\")),\"\")","v":""},"","","","","","","",""]
[{"$nulls":23},{"$f":"IF(A17408<>\"\",IF(Main!$E$12=\"ALL\",A17408,IF(Main!$E$12=A17408,A17408,\"\")),\"\")","v":""},"","","","","","","",""]
[{"$nulls":23},{"$f":"IF(A17417<>\"\",IF(Main!$E$12=\"ALL\",A17417,IF(Main!$E$12=A17417,A17417,\"\")),\"\")","v":""},"","","","","","","",""]
[{"$nulls":23},{"$f":"IF(A17448<>\"\",IF(Main!$E$12=\"ALL\",A17448,IF(Main!$E$12=A17448,A17448,\"\")),\"\")","v":""},"","","","","","","",""]
[{"$nulls":23},{"$f":"IF(A17474<>\"\",IF(Main!$E$12=\"ALL\",A17474,IF(Main!$E$12=A17474,A17474,\"\")),\"\")","v":""},"","","","","","","",""]
[{"$nulls":23},{"$f":"IF(A17499<>\"\",IF(Main!$E$12=\"ALL\",A17499,IF(Main!$E$12=A17499,A17499,\"\")),\"\")","v":""},"","","","","","","",""]
[{"$nulls":23},{"$f":"IF(A17532<>\"\",IF(Main!$E$12=\"ALL\",A17532,IF(Main!$E$12=A17532,A17532,\"\")),\"\")","v":""},"","","","","","","",""]
[{"$nulls":23},{"$f":"IF(A17551<>\"\",IF(Main!$E$12=\"ALL\",A17551,IF(Main!$E$12=A17551,A17551,\"\")),\"\")","v":""},"","","","","","","",""]
[{"$nulls":23},{"$f":"IF(A17565<>\"\",IF(Main!$E$12=\"ALL\",A17565,IF(Main!$E$12=A17565,A17565,\"\")),\"\")","v":""},"","","","","","","",""]
[{"$nulls":23},{"$f":"IF(A17598<>\"\",IF(Main!$E$12=\"ALL\",A17598,IF(Main!$E$12=A17598,A17598,\"\")),\"\")","v":""},"","","","","","","",""]
[{"$nulls":23},{"$f":"IF(A17607<>\"\",IF(Main!$E$12=\"ALL\",A17607,IF(Main!$E$12=A17607,A17607,\"\")),\"\")","v":""},"","","","","","","",""]
[{"$nulls":23},{"$f":"IF(A17643<>\"\",IF(Main!$E$12=\"ALL\",A17643,IF(Main!$E$12=A17643,A17643,\"\")),\"\")","v":""},"","","","","","","",""]
[{"$nulls":23},{"$f":"IF(A17664<>\"\",IF(Main!$E$12=\"ALL\",A17664,IF(Main!$E$12=A17664,A17664,\"\")),\"\")","v":""},"","","","","","","",""]
[{"$nulls":23},{"$f":"IF(A17689<>\"\",IF(Main!$E$12=\"ALL\",A17689,IF(Main!$E$12=A17689,A17689,\"\")),\"\")","v":""},"","","","","","","",""]
[{"$nulls":23},{"$f":"IF(A17722<>\"\",IF(Main!$E$12=\"ALL\",A17722,IF(Main!$E$12=A17722,A17722,\"\")),\"\")","v":""},"","","","","","","",""]
[{"$nulls":23},{"$f":"IF(A17746<>\"\",IF(Main!$E$12=\"ALL\",A17746,IF(Main!$E$12=A17746,A17746,\"\")),\"\")","v":""},"","","","","","","",""]
[{"$nulls":23},{"$f":"IF(A17755<>\"\",IF(Main!$E$12=\"ALL\",A17755,IF(Main!$E$12=A17755,A17755,\"\")),\"\")","v":""},"","","","","","","",""]
[{"$nulls":23},{"$f":"IF(A17788<>\"\",IF(Main!$E$12=\"ALL\",A17788,IF(Main!$E$12=A17788,A17788,\"\")),\"\")","v":""},"","","","","","","",""]
[{"$nulls":23},{"$f":"IF(A17813<>\"\",IF(Main!$E$12=\"ALL\",A17813,IF(Main!$E$12=A17813,A17813,\"\")),\"\")","v":""},"","","","","","","",""]
[{"$nulls":23},{"$f":"IF(A17838<>\"\",IF(Main!$E$12=\"ALL\",A17838,IF(Main!$E$12=A17838,A17838,\"\")),\"\")","v":""},"","","","","","","",""]
[{"$nulls":23},{"$f":"IF(A17854<>\"\",IF(Main!$E$12=\"ALL\",A17854,IF(Main!$E$12=A17854,A17854,\"\")),\"\")","v":""},"","","","","","","",""]
[{"$nulls":23},{"$f":"IF(A17879<>\"\",IF(Main!$E$12=\"ALL\",A17879,IF(Main!$E$12=A17879,A17879,\"\")),\"\")","v":""},"","","","","","","",""]
[{"$nulls":23},{"$f":"IF(A17912<>\"\",IF(Main!$E$12=\"ALL\",A17912,IF(Main!$E$12=A17912,A17912,\"\")),\"\")","v":""},"","","","","","","",""]
[{"$nulls":23},{"$f":"IF(A17918<>\"\",IF(Main!$E$12=\"ALL\",A17918,IF(Main!$E$12=A17918,A17918,\"\")),\"\")","v":""},"","","","","","","",""]
[{"$nulls":23},{"$f":"IF(A17945<>\"\",IF(Main!$E$12=\"ALL\",A17945,IF(Main!$E$12=A17945,A17945,\"\")),\"\")","v":""},"","","","","","","",""]
[{"$nulls":23},{"$f":"IF(A17978<>\"\",IF(Main!$E$12=\"ALL\",A17978,IF(Main!$E$12=A17978,A17978,\"\")),\"\")","v":""},"","","","","","","",""]
[{"$nulls":23},{"$f":"IF(A18003<>\"\",IF(Main!$E$12=\"ALL\",A18003,IF(Main!$E$12=A18003,A18003,\"\")),\"\")","v":""},"","","","","","","",""]
[{"$nulls":23},{"$f":"IF(A18010<>\"\",IF(Main!$E$12=\"ALL\",A18010,IF(Main!$E$12=A18010,A18010,\"\")),\"\")","v":""},"","","","","","","",""]
[{"$nulls":23},{"$f":"IF(A18044<>\"\",IF(Main!$E$12=\"ALL\",A18044,IF(Main!$E$12=A18044,A18044,\"\")),\"\")","v":""},"","","","","","","",""]
[{"$nulls":23},{"$f":"IF(A18069<>\"\",IF(Main!$E$12=\"ALL\",A18069,IF(Main!$E$12=A18069,A18069,\"\")),\"\")","v":""},"","","","","","","",""]
[{"$nulls":23},{"$f":"IF(A18102<>\"\",IF(Main!$E$12=\"ALL\",A18102,IF(Main!$E$12=A18102,A18102,\"\")),\"\")","v":""},"","","","","","","",""]
[{"$nulls":23},{"$f":"IF(A18113<>\"\",IF(Main!$E$12=\"ALL\",A18113,IF(Main!$E$12=A18113,A18113,\"\")),\"\")","v":""},"","","","","","","",""]
[{"$nulls":23},{"$f":"IF(A18135<>\"\",IF(Main!$E$12=\"ALL\",A18135,IF(Main!$E$12=A18135,A18135,\"\")),\"\")","v":""},"","","","","","","",""]
[{"$nulls":23},{"$f":"IF(A18168<>\"\",IF(Main!$E$12=\"ALL\",A18168,IF(Main!$E$12=A18168,A18168,\"\")),\"\")","v":""},"","","","","","","",""]
[{"$nulls":23},{"$f":"IF(A18193<>\"\",IF(Main!$E$12=\"ALL\",A18193,IF(Main!$E$12=A18193,A18193,\"\")),\"\")","v":""},"","","","","","","",""]
[{"$nulls":23},{"$f":"IF(A18205<>\"\",IF(Main!$E$12=\"ALL\",A18205,IF(Main!$E$12=A18205,A18205,\"\")),\"\")","v":""},"","","","","","","",""]
[{"$nulls":23},{"$f":"IF(A18234<>\"\",IF(Main!$E$12=\"ALL\",A18234,IF(Main!$E$12=A18234,A18234,\"\")),\"\")","v":""},"","","","","","","",""]
[{"$nulls":23},{"$f":"IF(A18259<>\"\",IF(Main!$E$12=\"ALL\",A18259,IF(Main!$E$12=A18259,A18259,\"\")),\"\")","v":""},"","","","","","","",""]
[{"$nulls":23},{"$f":"IF(A18292<>\"\",IF(Main!$E$12=\"ALL\",A18292,IF(Main!$E$12=A18292,A18292,\"\")),\"\")","v":""},"","","","","","","",""]
[{"$nulls":23},{"$f":"IF(A18297<>\"\",IF(Main!$E$12=\"ALL\",A18297,IF(Main!$E$12=A18297,A18297,\"\")),\"\")","v":""},"","","","","","","",""]
[{"$nulls":23},{"$f":"IF(A18325<>\"\",IF(Main!$E$12=\"ALL\",A18325,IF(Main!$E$12=A18325,A18325,\"\")),\"\")","v":""},"","","","","","","",""]
[{"$nulls":23},{"$f":"IF(A18358<>\"\",IF(Main!$E$12=\"ALL\",A18358,IF(Main!$E$12=A18358,A18358,\"\")),\"\")","v":""},"","","","","","","",""]
[{"$nulls":23},{"$f":"IF(A18383<>\"\",IF(Main!$E$12=\"ALL\",A18383,IF(Main!$E$12=A18383,A18383,\"\")),\"\")","v":""},"","","","","","","",""]
[{"$nulls":23},{"$f":"IF(A18400<>\"\",IF(Main!$E$12=\"ALL\",A18400,IF(Main!$E$12=A18400,A18400,\"\")),\"\")","v":""},"","","","","","","",""]
[{"$nulls":23},{"$f":"IF(A18424<>\"\",IF(Main!$E$12=\"ALL\",A18424,IF(Main!$E$12=A18424,A18424,\"\")),\"\")","v":""},"","","","","","","",""]
[{"$nulls":23},{"$f":"IF(A18449<>\"\",IF(Main!$E$12=\"ALL\",A18449,IF(Main!$E$12=A18449,A18449,\"\")),\"\")","v":""},"","","","","","","",""]
[{"$nulls":23},{"$f":"IF(A18482<>\"\",IF(Main!$E$12=\"ALL\",A18482,IF(Main!$E$12=A18482,A18482,\"\")),\"\")","v":""},"","","","","","","",""]
[{"$nulls":23},{"$f":"IF(A18492<>\"\",IF(Main!$E$12=\"ALL\",A18492,IF(Main!$E$12=A18492,A18492,\"\")),\"\")","v":""},"","","","","","","",""]
[{"$nulls":23},{"$f":"IF(A18515<>\"\",IF(Main!$E$12=\"ALL\",A18515,IF(Main!$E$12=A18515,A18515,\"\")),\"\")","v":""},"","","","","","","",""]
[{"$nulls":23},{"$f":"IF(A18548<>\"\",IF(Main!$E$12=\"ALL\",A18548,IF(Main!$E$12=A18548,A18548,\"\")),\"\")","v":""},"","","","","","","",""]
[{"$nulls":23},{"$f":"IF(A18573<>\"\",IF(Main!$E$12=\"ALL\",A18573,IF(Main!$E$12=A18573,A18573,\"\")),\"\")","v":""},"","","","","","","",""]
[{"$nulls":23},{"$f":"IF(A18595<>\"\",IF(Main!$E$12=\"ALL\",A18595,IF(Main!$E$12=A18595,A18595,\"\")),\"\")","v":""},"","","","","","","",""]
[{"$nulls":23},{"$f":"IF(A18614<>\"\",IF(Main!$E$12=\"ALL\",A18614,IF(Main!$E$12=A18614,A18614,\"\")),\"\")","v":""},"","","","","","","",""]
[{"$nulls":23},{"$f":"IF(A18639<>\"\",IF(Main!$E$12=\"ALL\",A18639,IF(Main!$E$12=A18639,A18639,\"\")),\"\")","v":""},"","","","","","","",""]
[{"$nulls":23},{"$f":"IF(A18672<>\"\",IF(Main!$E$12=\"ALL\",A18672,IF(Main!$E$12=A18672,A18672,\"\")),\"\")","v":""},"","","","","","","",""]
[{"$nulls":23},{"$f":"IF(A18687<>\"\",IF(Main!$E$12=\"ALL\",A18687,IF(Main!$E$12=A18687,A18687,\"\")),\"\")","v":""},"","","","","","","",""]
[{"$nulls":23},{"$f":"IF(A18705<>\"\",IF(Main!$E$12=\"ALL\",A18705,IF(Main!$E$12=A18705,A18705,\"\")),\"\")","v":""},"","","","","","","",""]
[{"$nulls":23},{"$f":"IF(A18738<>\"\",IF(Main!$E$12=\"ALL\",A18738,IF(Main!$E$12=A18738,A18738,\"\")),\"\")","v":""},"","","","","","","",""]
[{"$nulls":23},{"$f":"IF(A18763<>\"\",IF(Main!$E$12=\"ALL\",A18763,IF(Main!$E$12=A18763,A18763,\"\")),\"\")","v":""},"","","","","","","",""]
[{"$nulls":23},{"$f":"IF(A18790<>\"\",IF(Main!$E$12=\"ALL\",A18790,IF(Main!$E$12=A18790,A18790,\"\")),\"\")","v":""},"","","","","","","",""]
[{"$nulls":23},{"$f":"IF(A18796<>\"\",IF(Main!$E$12=\"ALL\",A18796,IF(Main!$E$12=A18796,A18796,\"\")),\"\")","v":""},"","","","","","","",""]
[{"$nulls":23},{"$f":"IF(A18829<>\"\",IF(Main!$E$12=\"ALL\",A18829,IF(Main!$E$12=A18829,A18829,\"\")),\"\")","v":""},"","","","","","","",""]
[{"$nulls":23},{"$f":"IF(A18862<>\"\",IF(Main!$E$12=\"ALL\",A18862,IF(Main!$E$12=A18862,A18862,\"\")),\"\")","v":""},"","","","","","","",""]
[{"$nulls":23},{"$f":"IF(A18882<>\"\",IF(Main!$E$12=\"ALL\",A18882,IF(Main!$E$12=A18882,A18882,\"\")),\"\")","v":""},"","","","","","","",""]
[{"$nulls":23},{"$f":"IF(A18895<>\"\",IF(Main!$E$12=\"ALL\",A18895,IF(Main!$E$12=A18895,A18895,\"\")),\"\")","v":""},"","","","","","","",""]
[{"$nulls":23},{"$f":"IF(A18928<>\"\",IF(Main!$E$12=\"ALL\",A18928,IF(Main!$E$12=A18928,A18928,\"\")),\"\")","v":""},"","","","","","","",""]
[{"$nulls":23},{"$f":"IF(A18953<>\"\",IF(Main!$E$12=\"ALL\",A18953,IF(Main!$E$12=A18953,A18953,\"\")),\"\")","v":""},"","","","","","","",""]
[{"$nulls":23},{"$f":"IF(A18962<>\"\",IF(Main!$E$12=\"ALL\",A18962,IF(Main!$E$12=A18962,A18962,\"\")),\"\")","v":""},"","","","","","","",""]
[{"$nulls":23},{"$f":"IF(A18986<>\"\",IF(Main!$E$12=\"ALL\",A18986,IF(Main!$E$12=A18986,A18986,\"\")),\"\")","v":""},"","","","","","","",""]
[{"$nulls":23},{"$f":"IF(A19019<>\"\",IF(Main!$E$12=\"ALL\",A19019,IF(Main!$E$12=A19019,A19019,\"\")),\"\")","v":""},"","","","","","","",""]
[{"$nulls":23},{"$f":"IF(A19052<>\"\",IF(Main!$E$12=\"ALL\",A19052,IF(Main!$E$12=A19052,A19052,\"\")),\"\")","v":""},"","","","","","","",""]
[{"$nulls":23},{"$f":"IF(A19054<>\"\",IF(Main!$E$12=\"ALL\",A19054,IF(Main!$E$12=A19054,A19054,\"\")),\"\")","v":""},"","","","","","","",""]
[{"$nulls":23},{"$f":"IF(A19085<>\"\",IF(Main!$E$12=\"ALL\",A19085,IF(Main!$E$12=A19085,A19085,\"\")),\"\")","v":""},"","","","","","","",""]
[{"$nulls":23},{"$f":"IF(A19110<>\"\",IF(Main!$E$12=\"ALL\",A19110,IF(Main!$E$12=A19110,A19110,\"\")),\"\")","v":""},"","","","","","","",""]
[{"$nulls":23},{"$f":"IF(A19143<>\"\",IF(Main!$E$12=\"ALL\",A19143,IF(Main!$E$12=A19143,A19143,\"\")),\"\")","v":""},"","","","","","","",""]
[{"$nulls":23},{"$f":"IF(A19157<>\"\",IF(Main!$E$12=\"ALL\",A19157,IF(Main!$E$12=A19157,A19157,\"\")),\"\")","v":""},"","","","","","","",""]
[{"$nulls":23},{"$f":"IF(A19176<>\"\",IF(Main!$E$12=\"ALL\",A19176,IF(Main!$E$12=A19176,A19176,\"\")),\"\")","v":""},"","","","","","","",""]
[{"$nulls":23},{"$f":"IF(A19209<>\"\",IF(Main!$E$12=\"ALL\",A19209,IF(Main!$E$12=A19209,A19209,\"\")),\"\")","v":""},"","","","","","","",""]
[{"$nulls":23},{"$f":"IF(A19242<>\"\",IF(Main!$E$12=\"ALL\",A19242,IF(Main!$E$12=A19242,A19242,\"\")),\"\")","v":""},"","","","","","","",""]
[{"$nulls":23},{"$f":"IF(A19249<>\"\",IF(Main!$E$12=\"ALL\",A19249,IF(Main!$E$12=A19249,A19249,\"\")),\"\")","v":""},"","","","","","","",""]
[{"$nulls":23},{"$f":"IF(A19275<>\"\",IF(Main!$E$12=\"ALL\",A19275,IF(Main!$E$12=A19275,A19275,\"\")),\"\")","v":""},"","","","","","","",""]
[{"$nulls":23},{"$f":"IF(A19300<>\"\",IF(Main!$E$12=\"ALL\",A19300,IF(Main!$E$12=A19300,A19300,\"\")),\"\")","v":""},"","","","","","","",""]
[{"$nulls":23},{"$f":"IF(A19333<>\"\",IF(Main!$E$12=\"ALL\",A19333,IF(Main!$E$12=A19333,A19333,\"\")),\"\")","v":""},"","","","","","","",""]
[{"$nulls":23},{"$f":"IF(A19352<>\"\",IF(Main!$E$12=\"ALL\",A19352,IF(Main!$E$12=A19352,A19352,\"\")),\"\")","v":""},"","","","","","","",""]
[{"$nulls":23},{"$f":"IF(A19366<>\"\",IF(Main!$E$12=\"ALL\",A19366,IF(Main!$E$12=A19366,A19366,\"\")),\"\")","v":""},"","","","","","","",""]
[{"$nulls":23},{"$f":"IF(A19399<>\"\",IF(Main!$E$12=\"ALL\",A19399,IF(Main!$E$12=A19399,A19399,\"\")),\"\")","v":""},"","","","","","","",""]
[{"$nulls":23},{"$f":"IF(A19432<>\"\",IF(Main!$E$12=\"ALL\",A19432,IF(Main!$E$12=A19432,A19432,\"\")),\"\")","v":""},"","","","","","","",""]
[{"$nulls":23},{"$f":"IF(A19444<>\"\",IF(Main!$E$12=\"ALL\",A19444,IF(Main!$E$12=A19444,A19444,\"\")),\"\")","v":""},"","","","","","","",""]
[{"$nulls":23},{"$f":"IF(A19465<>\"\",IF(Main!$E$12=\"ALL\",A19465,IF(Main!$E$12=A19465,A19465,\"\")),\"\")","v":""},"","","","","","","",""]
[{"$nulls":23},{"$f":"IF(A19490<>\"\",IF(Main!$E$12=\"ALL\",A19490,IF(Main!$E$12=A19490,A19490,\"\")),\"\")","v":""},"","","","","","","",""]
[{"$nulls":23},{"$f":"IF(A19523<>\"\",IF(Main!$E$12=\"ALL\",A19523,IF(Main!$E$12=A19523,A19523,\"\")),\"\")","v":""},{"$f":"IF($X19523=\"\",\"\",D19523)","v":""},{"$f":"IF($X19523=\"\",\"\",F19523)","v":""},{"$f":"IF($X19523=\"\",\"\",J19523)","v":""},{"$f":"IF($X19523=\"\",\"\",N19523)","v":""},{"$f":"IF($X19523=\"\",\"\",IF(P19523=\"\",\"\",P19523))","v":""},{"$f":"IF($X19523=\"\",\"\",R19523)","v":""},{"$f":"IF($X19523=\"\",\"\",T19523)","v":""},{"$f":"IF($X19523=\"\",\"\",V19523)","v":""}]
[{"$nulls":23},{"$f":"IF(A19547<>\"\",IF(Main!$E$12=\"ALL\",A19547,IF(Main!$E$12=A19547,A19547,\"\")),\"\")","v":""},"","","","","","","",""]
[{"$nulls":23},{"$f":"IF(A19556<>\"\",IF(Main!$E$12=\"ALL\",A19556,IF(Main!$E$12=A19556,A19556,\"\")),\"\")","v":""},"","","","","","","",""]
[{"$nulls":23},{"$f":"IF(A19589<>\"\",IF(Main!$E$12=\"ALL\",A19589,IF(Main!$E$12=A19589,A19589,\"\")),\"\")","v":""},"","","","","","","",""]
[{"$nulls":23},{"$f":"IF(A19614<>\"\",IF(Main!$E$12=\"ALL\",A19614,IF(Main!$E$12=A19614,A19614,\"\")),\"\")","v":""},"","","","","","","",""]
[{"$nulls":23},{"$f":"IF(A19639<>\"\",IF(Main!$E$12=\"ALL\",A19639,IF(Main!$E$12=A19639,A19639,\"\")),\"\")","v":""},"","","","","","","",""]
[{"$nulls":23},{"$f":"IF(A19655<>\"\",IF(Main!$E$12=\"ALL\",A19655,IF(Main!$E$12=A19655,A19655,\"\")),\"\")","v":""},"","","","","","","",""]
[{"$nulls":23},{"$f":"IF(A19680<>\"\",IF(Main!$E$12=\"ALL\",A19680,IF(Main!$E$12=A19680,A19680,\"\")),\"\")","v":""},"","","","","","","",""]
[{"$nulls":23},{"$f":"IF(A19713<>\"\",IF(Main!$E$12=\"ALL\",A19713,IF(Main!$E$12=A19713,A19713,\"\")),\"\")","v":""},"","","","","","","",""]
[{"$nulls":23},{"$f":"IF(A19719<>\"\",IF(Main!$E$12=\"ALL\",A19719,IF(Main!$E$12=A19719,A19719,\"\")),\"\")","v":""},"","","","","","","",""]
[{"$nulls":23},{"$f":"IF(A19746<>\"\",IF(Main!$E$12=\"ALL\",A19746,IF(Main!$E$12=A19746,A19746,\"\")),\"\")","v":""},"","","","","","","",""]
[{"$nulls":23},{"$f":"IF(A19779<>\"\",IF(Main!$E$12=\"ALL\",A19779,IF(Main!$E$12=A19779,A19779,\"\")),\"\")","v":""},{"$f":"IF($X19779=\"\",\"\",D19779)","v":""},{"$f":"IF($X19779=\"\",\"\",F19779)","v":""},{"$f":"IF($X19779=\"\",\"\",J19779)","v":""},{"$f":"IF($X19779=\"\",\"\",N19779)","v":""},{"$f":"IF($X19779=\"\",\"\",IF(P19779=\"\",\"\",P19779))","v":""},{"$f":"IF($X19779=\"\",\"\",R19779)","v":""},{"$f":"IF($X19779=\"\",\"\",T19779)","v":""},{"$f":"IF($X19779=\"\",\"\",V19779)","v":""}]
[{"$nulls":23},{"$f":"IF(A19804<>\"\",IF(Main!$E$12=\"ALL\",A19804,IF(Main!$E$12=A19804,A19804,\"\")),\"\")","v":""},"","","","","","","",""]
[{"$nulls":23},{"$f":"IF(A19837<>\"\",IF(Main!$E$12=\"ALL\",A19837,IF(Main!$E$12=A19837,A19837,\"\")),\"\")","v":""},"","","","","","","",""]
[{"$nulls":23},{"$f":"IF(A19857<>\"\",IF(Main!$E$12=\"ALL\",A19857,IF(Main!$E$12=A19857,A19857,\"\")),\"\")","v":""},"","","","","","","",""]
[{"$nulls":23},{"$f":"IF(A19870<>\"\",IF(Main!$E$12=\"ALL\",A19870,IF(Main!$E$12=A19870,A19870,\"\")),\"\")","v":""},"","","","","","","",""]
[{"$nulls":23},{"$f":"IF(A19903<>\"\",IF(Main!$E$12=\"ALL\",A19903,IF(Main!$E$12=A19903,A19903,\"\")),\"\")","v":""},"","","","","","","",""]
[{"$nulls":23},{"$f":"IF(A19928<>\"\",IF(Main!$E$12=\"ALL\",A19928,IF(Main!$E$12=A19928,A19928,\"\")),\"\")","v":""},"","","","","","","",""]
[{"$nulls":23},{"$f":"IF(A19949<>\"\",IF(Main!$E$12=\"ALL\",A19949,IF(Main!$E$12=A19949,A19949,\"\")),\"\")","v":""},"","","","","","","",""]
[{"$nulls":23},{"$f":"IF(A19969<>\"\",IF(Main!$E$12=\"ALL\",A19969,IF(Main!$E$12=A19969,A19969,\"\")),\"\")","v":""},"","","","","","","",""]
[{"$nulls":23},{"$f":"IF(A19994<>\"\",IF(Main!$E$12=\"ALL\",A19994,IF(Main!$E$12=A19994,A19994,\"\")),\"\")","v":""},"","","","","","","",""]
[{"$nulls":23},{"$f":"IF(A20027<>\"\",IF(Main!$E$12=\"ALL\",A20027,IF(Main!$E$12=A20027,A20027,\"\")),\"\")","v":""},"","","","","","","",""]
[{"$nulls":23},{"$f":"IF(A20029<>\"\",IF(Main!$E$12=\"ALL\",A20029,IF(Main!$E$12=A20029,A20029,\"\")),\"\")","v":""},"","","","","","","",""]
[{"$nulls":23},{"$f":"IF(A20060<>\"\",IF(Main!$E$12=\"ALL\",A20060,IF(Main!$E$12=A20060,A20060,\"\")),\"\")","v":""},"","","","","","","",""]
[{"$nulls":23},{"$f":"IF(A20093<>\"\",IF(Main!$E$12=\"ALL\",A20093,IF(Main!$E$12=A20093,A20093,\"\")),\"\")","v":""},"","","","","","","",""]
[{"$nulls":23},{"$f":"IF(A20118<>\"\",IF(Main!$E$12=\"ALL\",A20118,IF(Main!$E$12=A20118,A20118,\"\")),\"\")","v":""},"","","","","","","",""]
[{"$nulls":23},{"$f":"IF(A20144<>\"\",IF(Main!$E$12=\"ALL\",A20144,IF(Main!$E$12=A20144,A20144,\"\")),\"\")","v":""},"","","","","","","",""]
[{"$nulls":23},{"$f":"IF(A20159<>\"\",IF(Main!$E$12=\"ALL\",A20159,IF(Main!$E$12=A20159,A20159,\"\")),\"\")","v":""},"","","","","","","",""]
[{"$nulls":23},{"$f":"IF(A20184<>\"\",IF(Main!$E$12=\"ALL\",A20184,IF(Main!$E$12=A20184,A20184,\"\")),\"\")","v":""},"","","","","","","",""]
[{"$nulls":23},{"$f":"IF(A20217<>\"\",IF(Main!$E$12=\"ALL\",A20217,IF(Main!$E$12=A20217,A20217,\"\")),\"\")","v":""},"","","","","","","",""]
[{"$nulls":23},{"$f":"IF(A20224<>\"\",IF(Main!$E$12=\"ALL\",A20224,IF(Main!$E$12=A20224,A20224,\"\")),\"\")","v":""},"","","","","","","",""]
[{"$nulls":23},{"$f":"IF(A20250<>\"\",IF(Main!$E$12=\"ALL\",A20250,IF(Main!$E$12=A20250,A20250,\"\")),\"\")","v":""},"","","","","","","",""]
[{"$nulls":23},{"$f":"IF(A20283<>\"\",IF(Main!$E$12=\"ALL\",A20283,IF(Main!$E$12=A20283,A20283,\"\")),\"\")","v":""},"","","","","","","",""]
[{"$nulls":23},{"$f":"IF(A20308<>\"\",IF(Main!$E$12=\"ALL\",A20308,IF(Main!$E$12=A20308,A20308,\"\")),\"\")","v":""},"","","","","","","",""]
[{"$nulls":23},{"$f":"IF(A20316<>\"\",IF(Main!$E$12=\"ALL\",A20316,IF(Main!$E$12=A20316,A20316,\"\")),\"\")","v":""},"","","","","","","",""]
[{"$nulls":23},{"$f":"IF(A20349<>\"\",IF(Main!$E$12=\"ALL\",A20349,IF(Main!$E$12=A20349,A20349,\"\")),\"\")","v":""},"","","","","","","",""]
[{"$nulls":23},{"$f":"IF(A20374<>\"\",IF(Main!$E$12=\"ALL\",A20374,IF(Main!$E$12=A20374,A20374,\"\")),\"\")","v":""},"","","","","","","",""]
[{"$nulls":23},{"$f":"IF(A20407<>\"\",IF(Main!$E$12=\"ALL\",A20407,IF(Main!$E$12=A20407,A20407,\"\")),\"\")","v":""},"","","","","","","",""]
[{"$nulls":23},{"$f":"IF(A20408<>\"\",IF(Main!$E$12=\"ALL\",A20408,IF(Main!$E$12=A20408,A20408,\"\")),\"\")","v":""},"","","","","","","",""]
[{"$nulls":23},{"$f":"IF(A20440<>\"\",IF(Main!$E$12=\"ALL\",A20440,IF(Main!$E$12=A20440,A20440,\"\")),\"\")","v":""},"","","","","","","",""]
[{"$nulls":23},{"$f":"IF(A20473<>\"\",IF(Main!$E$12=\"ALL\",A20473,IF(Main!$E$12=A20473,A20473,\"\")),\"\")","v":""},"","","","","","","",""]
[{"$nulls":23},{"$f":"IF(A20498<>\"\",IF(Main!$E$12=\"ALL\",A20498,IF(Main!$E$12=A20498,A20498,\"\")),\"\")","v":""},"","","","","","","",""]
[{"$nulls":23},{"$f":"IF(A20511<>\"\",IF(Main!$E$12=\"ALL\",A20511,IF(Main!$E$12=A20511,A20511,\"\")),\"\")","v":""},"","","","","","","",""]
[{"$nulls":23},{"$f":"IF(A20539<>\"\",IF(Main!$E$12=\"ALL\",A20539,IF(Main!$E$12=A20539,A20539,\"\")),\"\")","v":""},"","","","","","","",""]
[{"$nulls":23},{"$f":"IF(A20564<>\"\",IF(Main!$E$12=\"ALL\",A20564,IF(Main!$E$12=A20564,A20564,\"\")),\"\")","v":""},"","","","","","","",""]
[{"$nulls":23},{"$f":"IF(A20597<>\"\",IF(Main!$E$12=\"ALL\",A20597,IF(Main!$E$12=A20597,A20597,\"\")),\"\")","v":""},"","","","","","","",""]
[{"$nulls":23},{"$f":"IF(A20603<>\"\",IF(Main!$E$12=\"ALL\",A20603,IF(Main!$E$12=A20603,A20603,\"\")),\"\")","v":""},"","","","","","","",""]
[{"$nulls":23},{"$f":"IF(A20630<>\"\",IF(Main!$E$12=\"ALL\",A20630,IF(Main!$E$12=A20630,A20630,\"\")),\"\")","v":""},"","","","","","","",""]
[{"$nulls":23},{"$f":"IF(A20663<>\"\",IF(Main!$E$12=\"ALL\",A20663,IF(Main!$E$12=A20663,A20663,\"\")),\"\")","v":""},"","","","","","","",""]
[{"$nulls":23},{"$f":"IF(A20688<>\"\",IF(Main!$E$12=\"ALL\",A20688,IF(Main!$E$12=A20688,A20688,\"\")),\"\")","v":""},"","","","","","","",""]
[{"$nulls":23},{"$f":"IF(A20706<>\"\",IF(Main!$E$12=\"ALL\",A20706,IF(Main!$E$12=A20706,A20706,\"\")),\"\")","v":""},"","","","","","","",""]
[{"$nulls":23},{"$f":"IF(A20729<>\"\",IF(Main!$E$12=\"ALL\",A20729,IF(Main!$E$12=A20729,A20729,\"\")),\"\")","v":""},"","","","","","","",""]
[{"$nulls":23},{"$f":"IF(A20754<>\"\",IF(Main!$E$12=\"ALL\",A20754,IF(Main!$E$12=A20754,A20754,\"\")),\"\")","v":""},"","","","","","","",""]
[{"$nulls":23},{"$f":"IF(A20787<>\"\",IF(Main!$E$12=\"ALL\",A20787,IF(Main!$E$12=A20787,A20787,\"\")),\"\")","v":""},"","","","","","","",""]
[{"$nulls":23},{"$f":"IF(A20798<>\"\",IF(Main!$E$12=\"ALL\",A20798,IF(Main!$E$12=A20798,A20798,\"\")),\"\")","v":""},"","","","","","","",""]
[{"$nulls":23},{"$f":"IF(A20820<>\"\",IF(Main!$E$12=\"ALL\",A20820,IF(Main!$E$12=A20820,A20820,\"\")),\"\")","v":""},"","","","","","","",""]
[{"$nulls":23},{"$f":"IF(A20853<>\"\",IF(Main!$E$12=\"ALL\",A20853,IF(Main!$E$12=A20853,A20853,\"\")),\"\")","v":""},"","","","","","","",""]
[{"$nulls":23},{"$f":"IF(A20878<>\"\",IF(Main!$E$12=\"ALL\",A20878,IF(Main!$E$12=A20878,A20878,\"\")),\"\")","v":""},"","","","","","","",""]
[{"$nulls":23},{"$f":"IF(A20901<>\"\",IF(Main!$E$12=\"ALL\",A20901,IF(Main!$E$12=A20901,A20901,\"\")),\"\")","v":""},"","","","","","","",""]
[{"$nulls":23},{"$f":"IF(A20911<>\"\",IF(Main!$E$12=\"ALL\",A20911,IF(Main!$E$12=A20911,A20911,\"\")),\"\")","v":""},"","","","","","","",""]
[{"$nulls":23},{"$f":"IF(A20944<>\"\",IF(Main!$E$12=\"ALL\",A20944,IF(Main!$E$12=A20944,A20944,\"\")),\"\")","v":""},"","","","","","","",""]
[{"$nulls":23},{"$f":"IF(A20977<>\"\",IF(Main!$E$12=\"ALL\",A20977,IF(Main!$E$12=A20977,A20977,\"\")),\"\")","v":""},"","","","","","","",""]
[{"$nulls":23},{"$f":"IF(A20993<>\"\",IF(Main!$E$12=\"ALL\",A20993,IF(Main!$E$12=A20993,A20993,\"\")),\"\")","v":""},"","","","","","","",""]
[{"$nulls":23},{"$f":"IF(A21010<>\"\",IF(Main!$E$12=\"ALL\",A21010,IF(Main!$E$12=A21010,A21010,\"\")),\"\")","v":""},"","","","","","","",""]
[{"$nulls":23},{"$f":"IF(A21043<>\"\",IF(Main!$E$12=\"ALL\",A21043,IF(Main!$E$12=A21043,A21043,\"\")),\"\")","v":""},"","","","","","","",""]
[{"$nulls":23},{"$f":"IF(A21068<>\"\",IF(Main!$E$12=\"ALL\",A21068,IF(Main!$E$12=A21068,A21068,\"\")),\"\")","v":""},"","","","","","","",""]
[{"$nulls":23},{"$f":"IF(A21073<>\"\",IF(Main!$E$12=\"ALL\",A21073,IF(Main!$E$12=A21073,A21073,\"\")),\"\")","v":""},"","","","","","","",""]
[{"$nulls":23},{"$f":"IF(A21101<>\"\",IF(Main!$E$12=\"ALL\",A21101,IF(Main!$E$12=A21101,A21101,\"\")),\"\")","v":""},"","","","","","","",""]
[{"$nulls":23},{"$f":"IF(A21134<>\"\",IF(Main!$E$12=\"ALL\",A21134,IF(Main!$E$12=A21134,A21134,\"\")),\"\")","v":""},"","","","","","","",""]
[{"$nulls":23},{"$f":"IF(A21167<>\"\",IF(Main!$E$12=\"ALL\",A21167,IF(Main!$E$12=A21167,A21167,\"\")),\"\")","v":""},"","","","","","","",""]
[{"$nulls":23},{"$f":"IF(A21188<>\"\",IF(Main!$E$12=\"ALL\",A21188,IF(Main!$E$12=A21188,A21188,\"\")),\"\")","v":""},"","","","","","","",""]
[{"$nulls":23},{"$f":"IF(A21200<>\"\",IF(Main!$E$12=\"ALL\",A21200,IF(Main!$E$12=A21200,A21200,\"\")),\"\")","v":""},"","","","","","","",""]
[{"$nulls":23},{"$f":"IF(A21225<>\"\",IF(Main!$E$12=\"ALL\",A21225,IF(Main!$E$12=A21225,A21225,\"\")),\"\")","v":""},"","","","","","","",""]
[{"$nulls":23},{"$f":"IF(A21258<>\"\",IF(Main!$E$12=\"ALL\",A21258,IF(Main!$E$12=A21258,A21258,\"\")),\"\")","v":""},"","","","","","","",""]
[{"$nulls":23},{"$f":"IF(A21268<>\"\",IF(Main!$E$12=\"ALL\",A21268,IF(Main!$E$12=A21268,A21268,\"\")),\"\")","v":""},"","","","","","","",""]
[{"$nulls":23},{"$f":"IF(A21291<>\"\",IF(Main!$E$12=\"ALL\",A21291,IF(Main!$E$12=A21291,A21291,\"\")),\"\")","v":""},"","","","","","","",""]
[{"$nulls":23},{"$f":"IF(A21324<>\"\",IF(Main!$E$12=\"ALL\",A21324,IF(Main!$E$12=A21324,A21324,\"\")),\"\")","v":""},"","","","","","","",""]
[{"$nulls":23},{"$f":"IF(A21357<>\"\",IF(Main!$E$12=\"ALL\",A21357,IF(Main!$E$12=A21357,A21357,\"\")),\"\")","v":""},"","","","","","","",""]
[{"$nulls":23},{"$f":"IF(A21360<>\"\",IF(Main!$E$12=\"ALL\",A21360,IF(Main!$E$12=A21360,A21360,\"\")),\"\")","v":""},"","","","","","","",""]
[{"$nulls":23},{"$f":"IF(A21390<>\"\",IF(Main!$E$12=\"ALL\",A21390,IF(Main!$E$12=A21390,A21390,\"\")),\"\")","v":""},"","","","","","","",""]
[{"$nulls":23},{"$f":"IF(A21415<>\"\",IF(Main!$E$12=\"ALL\",A21415,IF(Main!$E$12=A21415,A21415,\"\")),\"\")","v":""},"","","","","","","",""]
[{"$nulls":23},{"$f":"IF(A21448<>\"\",IF(Main!$E$12=\"ALL\",A21448,IF(Main!$E$12=A21448,A21448,\"\")),\"\")","v":""},"","","","","","","",""]
[{"$nulls":23},{"$f":"IF(A21463<>\"\",IF(Main!$E$12=\"ALL\",A21463,IF(Main!$E$12=A21463,A21463,\"\")),\"\")","v":""},"","","","","","","",""]
[{"$nulls":23},{"$f":"IF(A21481<>\"\",IF(Main!$E$12=\"ALL\",A21481,IF(Main!$E$12=A21481,A21481,\"\")),\"\")","v":""},"","","","","","","",""]
[{"$nulls":23},{"$f":"IF(A21514<>\"\",IF(Main!$E$12=\"ALL\",A21514,IF(Main!$E$12=A21514,A21514,\"\")),\"\")","v":""},"","","","","","","",""]
[{"$nulls":23},{"$f":"IF(A21547<>\"\",IF(Main!$E$12=\"ALL\",A21547,IF(Main!$E$12=A21547,A21547,\"\")),\"\")","v":""},"","","","","","","",""]
[{"$nulls":23},{"$f":"IF(A21555<>\"\",IF(Main!$E$12=\"ALL\",A21555,IF(Main!$E$12=A21555,A21555,\"\")),\"\")","v":""},"","","","","","","",""]
[{"$nulls":23},{"$f":"IF(A21580<>\"\",IF(Main!$E$12=\"ALL\",A21580,IF(Main!$E$12=A21580,A21580,\"\")),\"\")","v":""},"","","","","","","",""]
[{"$nulls":23},{"$f":"IF(A21605<>\"\",IF(Main!$E$12=\"ALL\",A21605,IF(Main!$E$12=A21605,A21605,\"\")),\"\")","v":""},"","","","","","","",""]
[{"$nulls":23},{"$f":"IF(A21638<>\"\",IF(Main!$E$12=\"ALL\",A21638,IF(Main!$E$12=A21638,A21638,\"\")),\"\")","v":""},"","","","","","","",""]
[{"$nulls":23},{"$f":"IF(A21658<>\"\",IF(Main!$E$12=\"ALL\",A21658,IF(Main!$E$12=A21658,A21658,\"\")),\"\")","v":""},"","","","","","","",""]
[{"$nulls":23},{"$f":"IF(A21671<>\"\",IF(Main!$E$12=\"ALL\",A21671,IF(Main!$E$12=A21671,A21671,\"\")),\"\")","v":""},"","","","","","","",""]
[{"$nulls":23},{"$f":"IF(A21704<>\"\",IF(Main!$E$12=\"ALL\",A21704,IF(Main!$E$12=A21704,A21704,\"\")),\"\")","v":""},"","","","","","","",""]
[{"$nulls":23},{"$f":"IF(A21729<>\"\",IF(Main!$E$12=\"ALL\",A21729,IF(Main!$E$12=A21729,A21729,\"\")),\"\")","v":""},"","","","","","","",""]
[{"$nulls":23},{"$f":"IF(A21750<>\"\",IF(Main!$E$12=\"ALL\",A21750,IF(Main!$E$12=A21750,A21750,\"\")),\"\")","v":""},"","","","","","","",""]
[{"$nulls":23},{"$f":"IF(A21770<>\"\",IF(Main!$E$12=\"ALL\",A21770,IF(Main!$E$12=A21770,A21770,\"\")),\"\")","v":""},"","","","","","","",""]
[{"$nulls":23},{"$f":"IF(A21795<>\"\",IF(Main!$E$12=\"ALL\",A21795,IF(Main!$E$12=A21795,A21795,\"\")),\"\")","v":""},"","","","","","","",""]
[{"$nulls":23},{"$f":"IF(A21828<>\"\",IF(Main!$E$12=\"ALL\",A21828,IF(Main!$E$12=A21828,A21828,\"\")),\"\")","v":""},"","","","","","","",""]
[{"$nulls":23},{"$f":"IF(A21853<>\"\",IF(Main!$E$12=\"ALL\",A21853,IF(Main!$E$12=A21853,A21853,\"\")),\"\")","v":""},"","","","","","","",""]
[{"$nulls":23},{"$f":"IF(A21861<>\"\",IF(Main!$E$12=\"ALL\",A21861,IF(Main!$E$12=A21861,A21861,\"\")),\"\")","v":""},"","","","","","","",""]
[{"$nulls":23},{"$f":"IF(A21894<>\"\",IF(Main!$E$12=\"ALL\",A21894,IF(Main!$E$12=A21894,A21894,\"\")),\"\")","v":""},"","","","","","","",""]
[{"$nulls":23},{"$f":"IF(A21919<>\"\",IF(Main!$E$12=\"ALL\",A21919,IF(Main!$E$12=A21919,A21919,\"\")),\"\")","v":""},"","","","","","","",""]
[{"$nulls":23},{"$f":"IF(A21945<>\"\",IF(Main!$E$12=\"ALL\",A21945,IF(Main!$E$12=A21945,A21945,\"\")),\"\")","v":""},"","","","","","","",""]
[{"$nulls":23},{"$f":"IF(A21960<>\"\",IF(Main!$E$12=\"ALL\",A21960,IF(Main!$E$12=A21960,A21960,\"\")),\"\")","v":""},"","","","","","","",""]
[{"$nulls":23},{"$f":"IF(A21985<>\"\",IF(Main!$E$12=\"ALL\",A21985,IF(Main!$E$12=A21985,A21985,\"\")),\"\")","v":""},"","","","","","","",""]
[{"$nulls":23},{"$f":"IF(A22018<>\"\",IF(Main!$E$12=\"ALL\",A22018,IF(Main!$E$12=A22018,A22018,\"\")),\"\")","v":""},"","","","","","","",""]
[{"$nulls":23},{"$f":"IF(A22025<>\"\",IF(Main!$E$12=\"ALL\",A22025,IF(Main!$E$12=A22025,A22025,\"\")),\"\")","v":""},"","","","","","","",""]
[{"$nulls":23},{"$f":"IF(A22051<>\"\",IF(Main!$E$12=\"ALL\",A22051,IF(Main!$E$12=A22051,A22051,\"\")),\"\")","v":""},"","","","","","","",""]
[{"$nulls":23},{"$f":"IF(A22084<>\"\",IF(Main!$E$12=\"ALL\",A22084,IF(Main!$E$12=A22084,A22084,\"\")),\"\")","v":""},"","","","","","","",""]
[{"$nulls":23},{"$f":"IF(A22109<>\"\",IF(Main!$E$12=\"ALL\",A22109,IF(Main!$E$12=A22109,A22109,\"\")),\"\")","v":""},"","","","","","","",""]
[{"$nulls":23},{"$f":"IF(A22140<>\"\",IF(Main!$E$12=\"ALL\",A22140,IF(Main!$E$12=A22140,A22140,\"\")),\"\")","v":""},"","","","","","","",""]
[{"$nulls":23},{"$f":"IF(A22150<>\"\",IF(Main!$E$12=\"ALL\",A22150,IF(Main!$E$12=A22150,A22150,\"\")),\"\")","v":""},"","","","","","","",""]
[{"$nulls":23},{"$f":"IF(A22175<>\"\",IF(Main!$E$12=\"ALL\",A22175,IF(Main!$E$12=A22175,A22175,\"\")),\"\")","v":""},"","","","","","","",""]
[{"$nulls":23},{"$f":"IF(A22208<>\"\",IF(Main!$E$12=\"ALL\",A22208,IF(Main!$E$12=A22208,A22208,\"\")),\"\")","v":""},"","","","","","","",""]
[{"$nulls":23},{"$f":"IF(A22232<>\"\",IF(Main!$E$12=\"ALL\",A22232,IF(Main!$E$12=A22232,A22232,\"\")),\"\")","v":""},"","","","","","","",""]
[{"$nulls":23},{"$f":"IF(A22241<>\"\",IF(Main!$E$12=\"ALL\",A22241,IF(Main!$E$12=A22241,A22241,\"\")),\"\")","v":""},"","","","","","","",""]
[{"$nulls":23},{"$f":"IF(A22274<>\"\",IF(Main!$E$12=\"ALL\",A22274,IF(Main!$E$12=A22274,A22274,\"\")),\"\")","v":""},"","","","","","","",""]
[{"$nulls":23},{"$f":"IF(A22299<>\"\",IF(Main!$E$12=\"ALL\",A22299,IF(Main!$E$12=A22299,A22299,\"\")),\"\")","v":""},"","","","","","","",""]
[{"$nulls":23},{"$f":"IF(A22312<>\"\",IF(Main!$E$12=\"ALL\",A22312,IF(Main!$E$12=A22312,A22312,\"\")),\"\")","v":""},"","","","","","","",""]
[{"$nulls":23},{"$f":"IF(A22340<>\"\",IF(Main!$E$12=\"ALL\",A22340,IF(Main!$E$12=A22340,A22340,\"\")),\"\")","v":""},"","","","","","","",""]
[{"$nulls":23},{"$f":"IF(A22365<>\"\",IF(Main!$E$12=\"ALL\",A22365,IF(Main!$E$12=A22365,A22365,\"\")),\"\")","v":""},"","","","","","","",""]
[{"$nulls":23},{"$f":"IF(A22398<>\"\",IF(Main!$E$12=\"ALL\",A22398,IF(Main!$E$12=A22398,A22398,\"\")),\"\")","v":""},"","","","","","","",""]
[{"$nulls":23},{"$f":"IF(A22404<>\"\",IF(Main!$E$12=\"ALL\",A22404,IF(Main!$E$12=A22404,A22404,\"\")),\"\")","v":""},"","","","","","","",""]
[{"$nulls":23},{"$f":"IF(A22431<>\"\",IF(Main!$E$12=\"ALL\",A22431,IF(Main!$E$12=A22431,A22431,\"\")),\"\")","v":""},"","","","","","","",""]
[{"$nulls":23},{"$f":"IF(A22464<>\"\",IF(Main!$E$12=\"ALL\",A22464,IF(Main!$E$12=A22464,A22464,\"\")),\"\")","v":""},"","","","","","","",""]
[{"$nulls":23},{"$f":"IF(A22489<>\"\",IF(Main!$E$12=\"ALL\",A22489,IF(Main!$E$12=A22489,A22489,\"\")),\"\")","v":""},"","","","","","","",""]
[{"$nulls":23},{"$f":"IF(A22507<>\"\",IF(Main!$E$12=\"ALL\",A22507,IF(Main!$E$12=A22507,A22507,\"\")),\"\")","v":""},"","","","","","","",""]
[{"$nulls":23},{"$f":"IF(A22522<>\"\",IF(Main!$E$12=\"ALL\",A22522,IF(Main!$E$12=A22522,A22522,\"\")),\"\")","v":""},"","","","","","","",""]
[{"$nulls":23},{"$f":"IF(A22555<>\"\",IF(Main!$E$12=\"ALL\",A22555,IF(Main!$E$12=A22555,A22555,\"\")),\"\")","v":""},"","","","","","","",""]
[{"$nulls":23},{"$f":"IF(A22588<>\"\",IF(Main!$E$12=\"ALL\",A22588,IF(Main!$E$12=A22588,A22588,\"\")),\"\")","v":""},"","","","","","","",""]
[{"$nulls":23},{"$f":"IF(A22599<>\"\",IF(Main!$E$12=\"ALL\",A22599,IF(Main!$E$12=A22599,A22599,\"\")),\"\")","v":""},"","","","","","","",""]
[{"$nulls":23},{"$f":"IF(A22621<>\"\",IF(Main!$E$12=\"ALL\",A22621,IF(Main!$E$12=A22621,A22621,\"\")),\"\")","v":""},"","","","","","","",""]
[{"$nulls":23},{"$f":"IF(A22654<>\"\",IF(Main!$E$12=\"ALL\",A22654,IF(Main!$E$12=A22654,A22654,\"\")),\"\")","v":""},"","","","","","","",""]
[{"$nulls":23},{"$f":"IF(A22679<>\"\",IF(Main!$E$12=\"ALL\",A22679,IF(Main!$E$12=A22679,A22679,\"\")),\"\")","v":""},"","","","","","","",""]
[{"$nulls":23},{"$f":"IF(A22702<>\"\",IF(Main!$E$12=\"ALL\",A22702,IF(Main!$E$12=A22702,A22702,\"\")),\"\")","v":""},"","","","","","","",""]
[{"$nulls":23},{"$f":"IF(A22712<>\"\",IF(Main!$E$12=\"ALL\",A22712,IF(Main!$E$12=A22712,A22712,\"\")),\"\")","v":""},"","","","","","","",""]
[{"$nulls":23},{"$f":"IF(A22745<>\"\",IF(Main!$E$12=\"ALL\",A22745,IF(Main!$E$12=A22745,A22745,\"\")),\"\")","v":""},"","","","","","","",""]
[{"$nulls":23},{"$f":"IF(A22778<>\"\",IF(Main!$E$12=\"ALL\",A22778,IF(Main!$E$12=A22778,A22778,\"\")),\"\")","v":""},"","","","","","","",""]
[{"$nulls":23},{"$f":"IF(A22794<>\"\",IF(Main!$E$12=\"ALL\",A22794,IF(Main!$E$12=A22794,A22794,\"\")),\"\")","v":""},"","","","","","","",""]
[{"$nulls":23},{"$f":"IF(A22811<>\"\",IF(Main!$E$12=\"ALL\",A22811,IF(Main!$E$12=A22811,A22811,\"\")),\"\")","v":""},"","","","","","","",""]
[{"$nulls":23},{"$f":"IF(A22844<>\"\",IF(Main!$E$12=\"ALL\",A22844,IF(Main!$E$12=A22844,A22844,\"\")),\"\")","v":""},"","","","","","","",""]
[{"$nulls":23},{"$f":"IF(A22869<>\"\",IF(Main!$E$12=\"ALL\",A22869,IF(Main!$E$12=A22869,A22869,\"\")),\"\")","v":""},"","","","","","","",""]
[{"$nulls":23},{"$f":"IF(A22897<>\"\",IF(Main!$E$12=\"ALL\",A22897,IF(Main!$E$12=A22897,A22897,\"\")),\"\")","v":""},"","","","","","","",""]
[{"$nulls":23},{"$f":"IF(A22902<>\"\",IF(Main!$E$12=\"ALL\",A22902,IF(Main!$E$12=A22902,A22902,\"\")),\"\")","v":""},"","","","","","","",""]
[{"$nulls":23},{"$f":"IF(A22935<>\"\",IF(Main!$E$12=\"ALL\",A22935,IF(Main!$E$12=A22935,A22935,\"\")),\"\")","v":""},"","","","","","","",""]
[{"$nulls":23},{"$f":"IF(A22968<>\"\",IF(Main!$E$12=\"ALL\",A22968,IF(Main!$E$12=A22968,A22968,\"\")),\"\")","v":""},"","","","","","","",""]
[{"$nulls":23},{"$f":"IF(A22989<>\"\",IF(Main!$E$12=\"ALL\",A22989,IF(Main!$E$12=A22989,A22989,\"\")),\"\")","v":""},"","","","","","","",""]
[{"$nulls":23},{"$f":"IF(A23001<>\"\",IF(Main!$E$12=\"ALL\",A23001,IF(Main!$E$12=A23001,A23001,\"\")),\"\")","v":""},"","","","","","","",""]
[{"$nulls":23},{"$f":"IF(A23026<>\"\",IF(Main!$E$12=\"ALL\",A23026,IF(Main!$E$12=A23026,A23026,\"\")),\"\")","v":""},"","","","","","","",""]
[{"$nulls":23},{"$f":"IF(A23059<>\"\",IF(Main!$E$12=\"ALL\",A23059,IF(Main!$E$12=A23059,A23059,\"\")),\"\")","v":""},"","","","","","","",""]
[{"$nulls":23},{"$f":"IF(A23069<>\"\",IF(Main!$E$12=\"ALL\",A23069,IF(Main!$E$12=A23069,A23069,\"\")),\"\")","v":""},"","","","","","","",""]
[{"$nulls":23},{"$f":"IF(A23092<>\"\",IF(Main!$E$12=\"ALL\",A23092,IF(Main!$E$12=A23092,A23092,\"\")),\"\")","v":""},"","","","","","","",""]
[{"$nulls":23},{"$f":"IF(A23125<>\"\",IF(Main!$E$12=\"ALL\",A23125,IF(Main!$E$12=A23125,A23125,\"\")),\"\")","v":""},"","","","","","","",""]
[{"$nulls":23},{"$f":"IF(A23158<>\"\",IF(Main!$E$12=\"ALL\",A23158,IF(Main!$E$12=A23158,A23158,\"\")),\"\")","v":""},"","","","","","","",""]
[{"$nulls":23},{"$f":"IF(A23184<>\"\",IF(Main!$E$12=\"ALL\",A23184,IF(Main!$E$12=A23184,A23184,\"\")),\"\")","v":""},"","","","","","","",""]
[{"$nulls":23},{"$f":"IF(A23191<>\"\",IF(Main!$E$12=\"ALL\",A23191,IF(Main!$E$12=A23191,A23191,\"\")),\"\")","v":""},"","","","","","","",""]
[{"$nulls":23},{"$f":"IF(A23216<>\"\",IF(Main!$E$12=\"ALL\",A23216,IF(Main!$E$12=A23216,A23216,\"\")),\"\")","v":""},"","","","","","","",""]
[{"$nulls":23},{"$f":"IF(A23249<>\"\",IF(Main!$E$12=\"ALL\",A23249,IF(Main!$E$12=A23249,A23249,\"\")),\"\")","v":""},"","","","","","","",""]
[{"$nulls":23},{"$f":"IF(A23264<>\"\",IF(Main!$E$12=\"ALL\",A23264,IF(Main!$E$12=A23264,A23264,\"\")),\"\")","v":""},"","","","","","","",""]
[{"$nulls":23},{"$f":"IF(A23282<>\"\",IF(Main!$E$12=\"ALL\",A23282,IF(Main!$E$12=A23282,A23282,\"\")),\"\")","v":""},"","","","","","","",""]
[{"$nulls":23},{"$f":"IF(A23315<>\"\",IF(Main!$E$12=\"ALL\",A23315,IF(Main!$E$12=A23315,A23315,\"\")),\"\")","v":""},"","","","","","","",""]
[{"$nulls":23},{"$f":"IF(A23340<>\"\",IF(Main!$E$12=\"ALL\",A23340,IF(Main!$E$12=A23340,A23340,\"\")),\"\")","v":""},"","","","","","","",""]
[{"$nulls":23},{"$f":"IF(A23356<>\"\",IF(Main!$E$12=\"ALL\",A23356,IF(Main!$E$12=A23356,A23356,\"\")),\"\")","v":""},"","","","","","","",""]
[{"$nulls":23},{"$f":"IF(A23381<>\"\",IF(Main!$E$12=\"ALL\",A23381,IF(Main!$E$12=A23381,A23381,\"\")),\"\")","v":""},"","","","","","","",""]
[{"$nulls":23},{"$f":"IF(A23406<>\"\",IF(Main!$E$12=\"ALL\",A23406,IF(Main!$E$12=A23406,A23406,\"\")),\"\")","v":""},"","","","","","","",""]
[{"$nulls":23},{"$f":"IF(A23439<>\"\",IF(Main!$E$12=\"ALL\",A23439,IF(Main!$E$12=A23439,A23439,\"\")),\"\")","v":""},"","","","","","","",""]
[{"$nulls":23},{"$f":"IF(A23459<>\"\",IF(Main!$E$12=\"ALL\",A23459,IF(Main!$E$12=A23459,A23459,\"\")),\"\")","v":""},"","","","","","","",""]
[{"$nulls":23},{"$f":"IF(A23472<>\"\",IF(Main!$E$12=\"ALL\",A23472,IF(Main!$E$12=A23472,A23472,\"\")),\"\")","v":""},"","","","","","","",""]
[{"$nulls":23},{"$f":"IF(A23505<>\"\",IF(Main!$E$12=\"ALL\",A23505,IF(Main!$E$12=A23505,A23505,\"\")),\"\")","v":""},"","","","","","","",""]
[{"$nulls":23},{"$f":"IF(A23530<>\"\",IF(Main!$E$12=\"ALL\",A23530,IF(Main!$E$12=A23530,A23530,\"\")),\"\")","v":""},"","","","","","","",""]
[{"$nulls":23},{"$f":"IF(A23551<>\"\",IF(Main!$E$12=\"ALL\",A23551,IF(Main!$E$12=A23551,A23551,\"\")),\"\")","v":""},"","","","","","","",""]
[{"$nulls":23},{"$f":"IF(A23571<>\"\",IF(Main!$E$12=\"ALL\",A23571,IF(Main!$E$12=A23571,A23571,\"\")),\"\")","v":""},"","","","","","","",""]
[{"$nulls":23},{"$f":"IF(A23596<>\"\",IF(Main!$E$12=\"ALL\",A23596,IF(Main!$E$12=A23596,A23596,\"\")),\"\")","v":""},"","","","","","","",""]
[{"$nulls":23},{"$f":"IF(A23629<>\"\",IF(Main!$E$12=\"ALL\",A23629,IF(Main!$E$12=A23629,A23629,\"\")),\"\")","v":""},"","","","","","","",""]
[{"$nulls":23},{"$f":"IF(A23654<>\"\",IF(Main!$E$12=\"ALL\",A23654,IF(Main!$E$12=A23654,A23654,\"\")),\"\")","v":""},"","","","","","","",""]
[{"$nulls":23},{"$f":"IF(A23662<>\"\",IF(Main!$E$12=\"ALL\",A23662,IF(Main!$E$12=A23662,A23662,\"\")),\"\")","v":""},"","","","","","","",""]
[{"$nulls":23},{"$f":"IF(A23695<>\"\",IF(Main!$E$12=\"ALL\",A23695,IF(Main!$E$12=A23695,A23695,\"\")),\"\")","v":""},"","","","","","","",""]
[{"$nulls":23},{"$f":"IF(A23720<>\"\",IF(Main!$E$12=\"ALL\",A23720,IF(Main!$E$12=A23720,A23720,\"\")),\"\")","v":""},"","","","","","","",""]
[{"$nulls":23},{"$f":"IF(A23746<>\"\",IF(Main!$E$12=\"ALL\",A23746,IF(Main!$E$12=A23746,A23746,\"\")),\"\")","v":""},"","","","","","","",""]
[{"$nulls":23},{"$f":"IF(A23761<>\"\",IF(Main!$E$12=\"ALL\",A23761,IF(Main!$E$12=A23761,A23761,\"\")),\"\")","v":""},"","","","","","","",""]
[{"$nulls":23},{"$f":"IF(A23786<>\"\",IF(Main!$E$12=\"ALL\",A23786,IF(Main!$E$12=A23786,A23786,\"\")),\"\")","v":""},"","","","","","","",""]
[{"$nulls":23},{"$f":"IF(A23819<>\"\",IF(Main!$E$12=\"ALL\",A23819,IF(Main!$E$12=A23819,A23819,\"\")),\"\")","v":""},"","","","","","","",""]
[{"$nulls":23},{"$f":"IF(A23838<>\"\",IF(Main!$E$12=\"ALL\",A23838,IF(Main!$E$12=A23838,A23838,\"\")),\"\")","v":""},"","","","","","","",""]
[{"$nulls":23},{"$f":"IF(A23852<>\"\",IF(Main!$E$12=\"ALL\",A23852,IF(Main!$E$12=A23852,A23852,\"\")),\"\")","v":""},"","","","","","","",""]
[{"$nulls":23},{"$f":"IF(A23885<>\"\",IF(Main!$E$12=\"ALL\",A23885,IF(Main!$E$12=A23885,A23885,\"\")),\"\")","v":""},"","","","","","","",""]
[{"$nulls":23},{"$f":"IF(A23910<>\"\",IF(Main!$E$12=\"ALL\",A23910,IF(Main!$E$12=A23910,A23910,\"\")),\"\")","v":""},"","","","","","","",""]
[{"$nulls":23},{"$f":"IF(A23941<>\"\",IF(Main!$E$12=\"ALL\",A23941,IF(Main!$E$12=A23941,A23941,\"\")),\"\")","v":""},"","","","","","","",""]
[{"$nulls":23},{"$f":"IF(A23951<>\"\",IF(Main!$E$12=\"ALL\",A23951,IF(Main!$E$12=A23951,A23951,\"\")),\"\")","v":""},"","","","","","","",""]
[{"$nulls":23},{"$f":"IF(A23976<>\"\",IF(Main!$E$12=\"ALL\",A23976,IF(Main!$E$12=A23976,A23976,\"\")),\"\")","v":""},"","","","","","","",""]
[{"$nulls":23},{"$f":"IF(A24009<>\"\",IF(Main!$E$12=\"ALL\",A24009,IF(Main!$E$12=A24009,A24009,\"\")),\"\")","v":""},"","","","","","","",""]
[{"$nulls":23},{"$f":"IF(A24033<>\"\",IF(Main!$E$12=\"ALL\",A24033,IF(Main!$E$12=A24033,A24033,\"\")),\"\")","v":""},"","","","","","","",""]
[{"$nulls":23},{"$f":"IF(A24042<>\"\",IF(Main!$E$12=\"ALL\",A24042,IF(Main!$E$12=A24042,A24042,\"\")),\"\")","v":""},"","","","","","","",""]
[{"$nulls":23},{"$f":"IF(A24075<>\"\",IF(Main!$E$12=\"ALL\",A24075,IF(Main!$E$12=A24075,A24075,\"\")),\"\")","v":""},"","","","","","","",""]
[{"$nulls":23},{"$f":"IF(A24100<>\"\",IF(Main!$E$12=\"ALL\",A24100,IF(Main!$E$12=A24100,A24100,\"\")),\"\")","v":""},"","","","","","","",""]
[{"$nulls":23},{"$f":"IF(A24113<>\"\",IF(Main!$E$12=\"ALL\",A24113,IF(Main!$E$12=A24113,A24113,\"\")),\"\")","v":""},"","","","","","","",""]
[{"$nulls":23},{"$f":"IF(A24141<>\"\",IF(Main!$E$12=\"ALL\",A24141,IF(Main!$E$12=A24141,A24141,\"\")),\"\")","v":""},"","","","","","","",""]
[{"$nulls":23},{"$f":"IF(A24166<>\"\",IF(Main!$E$12=\"ALL\",A24166,IF(Main!$E$12=A24166,A24166,\"\")),\"\")","v":""},"","","","","","","",""]
[{"$nulls":23},{"$f":"IF(A24199<>\"\",IF(Main!$E$12=\"ALL\",A24199,IF(Main!$E$12=A24199,A24199,\"\")),\"\")","v":""},"","","","","","","",""]
[{"$nulls":23},{"$f":"IF(A24228<>\"\",IF(Main!$E$12=\"ALL\",A24228,IF(Main!$E$12=A24228,A24228,\"\")),\"\")","v":""},"","","","","","","",""]
[{"$nulls":23},{"$f":"IF(A24232<>\"\",IF(Main!$E$12=\"ALL\",A24232,IF(Main!$E$12=A24232,A24232,\"\")),\"\")","v":""},"","","","","","","",""]
[{"$nulls":23},{"$f":"IF(A24265<>\"\",IF(Main!$E$12=\"ALL\",A24265,IF(Main!$E$12=A24265,A24265,\"\")),\"\")","v":""},"","","","","","","",""]
[{"$nulls":23},{"$f":"IF(A24290<>\"\",IF(Main!$E$12=\"ALL\",A24290,IF(Main!$E$12=A24290,A24290,\"\")),\"\")","v":""},"","","","","","","",""]
[{"$nulls":23},{"$f":"IF(A24308<>\"\",IF(Main!$E$12=\"ALL\",A24308,IF(Main!$E$12=A24308,A24308,\"\")),\"\")","v":""},"","","","","","","",""]
[{"$nulls":23},{"$f":"IF(A24347<>\"\",IF(Main!$E$12=\"ALL\",A24347,IF(Main!$E$12=A24347,A24347,\"\")),\"\")","v":""},"","","","","","","",""]
[{"$nulls":23},{"$f":"IF(A24356<>\"\",IF(Main!$E$12=\"ALL\",A24356,IF(Main!$E$12=A24356,A24356,\"\")),\"\")","v":""},"","","","","","","",""]
[{"$nulls":23},{"$f":"IF(A24389<>\"\",IF(Main!$E$12=\"ALL\",A24389,IF(Main!$E$12=A24389,A24389,\"\")),\"\")","v":""},"","","","","","","",""]
[{"$nulls":23},{"$f":"IF(A24400<>\"\",IF(Main!$E$12=\"ALL\",A24400,IF(Main!$E$12=A24400,A24400,\"\")),\"\")","v":""},"","","","","","","",""]
[{"$nulls":23},{"$f":"IF(A24422<>\"\",IF(Main!$E$12=\"ALL\",A24422,IF(Main!$E$12=A24422,A24422,\"\")),\"\")","v":""},"","","","","","","",""]
[{"$nulls":23},{"$f":"IF(A24455<>\"\",IF(Main!$E$12=\"ALL\",A24455,IF(Main!$E$12=A24455,A24455,\"\")),\"\")","v":""},"","","","","","","",""]
[{"$nulls":23},{"$f":"IF(A24480<>\"\",IF(Main!$E$12=\"ALL\",A24480,IF(Main!$E$12=A24480,A24480,\"\")),\"\")","v":""},"","","","","","","",""]
[{"$nulls":23},{"$f":"IF(A24503<>\"\",IF(Main!$E$12=\"ALL\",A24503,IF(Main!$E$12=A24503,A24503,\"\")),\"\")","v":""},"","","","","","","",""]
[{"$nulls":23},{"$f":"IF(A24537<>\"\",IF(Main!$E$12=\"ALL\",A24537,IF(Main!$E$12=A24537,A24537,\"\")),\"\")","v":""},"","","","","","","",""]
[{"$nulls":23},{"$f":"IF(A24546<>\"\",IF(Main!$E$12=\"ALL\",A24546,IF(Main!$E$12=A24546,A24546,\"\")),\"\")","v":""},"","","","","","","",""]
[{"$nulls":23},{"$f":"IF(A24579<>\"\",IF(Main!$E$12=\"ALL\",A24579,IF(Main!$E$12=A24579,A24579,\"\")),\"\")","v":""},{"$f":"IF($X24579=\"\",\"\",D24579)","v":""},{"$f":"IF($X24579=\"\",\"\",F24579)","v":""},{"$f":"IF($X24579=\"\",\"\",J24579)","v":""},{"$f":"IF($X24579=\"\",\"\",N24579)","v":""},{"$f":"IF($X24579=\"\",\"\",IF(P24579=\"\",\"\",P24579))","v":""},{"$f":"IF($X24579=\"\",\"\",R24579)","v":""},{"$f":"IF($X24579=\"\",\"\",T24579)","v":""},{"$f":"IF($X24579=\"\",\"\",V24579)","v":""}]
[{"$nulls":23},{"$f":"IF(A24595<>\"\",IF(Main!$E$12=\"ALL\",A24595,IF(Main!$E$12=A24595,A24595,\"\")),\"\")","v":""},"","","","","","","",""]
[{"$nulls":23},{"$f":"IF(A24612<>\"\",IF(Main!$E$12=\"ALL\",A24612,IF(Main!$E$12=A24612,A24612,\"\")),\"\")","v":""},"","","","","","","",""]
[{"$nulls":23},{"$f":"IF(A24637<>\"\",IF(Main!$E$12=\"ALL\",A24637,IF(Main!$E$12=A24637,A24637,\"\")),\"\")","v":""},"","","","","","","",""]
[{"$nulls":23},{"$f":"IF(A24670<>\"\",IF(Main!$E$12=\"ALL\",A24670,IF(Main!$E$12=A24670,A24670,\"\")),\"\")","v":""},"","","","","","","",""]
[{"$nulls":23},{"$f":"IF(A24698<>\"\",IF(Main!$E$12=\"ALL\",A24698,IF(Main!$E$12=A24698,A24698,\"\")),\"\")","v":""},"","","","","","","",""]
[{"$nulls":23},{"$f":"IF(A24727<>\"\",IF(Main!$E$12=\"ALL\",A24727,IF(Main!$E$12=A24727,A24727,\"\")),\"\")","v":""},"","","","","","","",""]
[{"$nulls":23},{"$f":"IF(A24736<>\"\",IF(Main!$E$12=\"ALL\",A24736,IF(Main!$E$12=A24736,A24736,\"\")),\"\")","v":""},"","","","","","","",""]
[{"$nulls":23},{"$f":"IF(A24769<>\"\",IF(Main!$E$12=\"ALL\",A24769,IF(Main!$E$12=A24769,A24769,\"\")),\"\")","v":""},"","","","","","","",""]
[{"$nulls":23},{"$f":"IF(A24790<>\"\",IF(Main!$E$12=\"ALL\",A24790,IF(Main!$E$12=A24790,A24790,\"\")),\"\")","v":""},"","","","","","","",""]
[{"$nulls":23},{"$f":"IF(A24802<>\"\",IF(Main!$E$12=\"ALL\",A24802,IF(Main!$E$12=A24802,A24802,\"\")),\"\")","v":""},"","","","","","","",""]
[{"$nulls":23},{"$f":"IF(A24827<>\"\",IF(Main!$E$12=\"ALL\",A24827,IF(Main!$E$12=A24827,A24827,\"\")),\"\")","v":""},"","","","","","","",""]
[{"$nulls":23},{"$f":"IF(A24860<>\"\",IF(Main!$E$12=\"ALL\",A24860,IF(Main!$E$12=A24860,A24860,\"\")),\"\")","v":""},"","","","","","","",""]
[{"$nulls":23},{"$f":"IF(A24893<>\"\",IF(Main!$E$12=\"ALL\",A24893,IF(Main!$E$12=A24893,A24893,\"\")),\"\")","v":""},"","","","","","","",""]
[{"$nulls":23},{"$f":"IF(A24917<>\"\",IF(Main!$E$12=\"ALL\",A24917,IF(Main!$E$12=A24917,A24917,\"\")),\"\")","v":""},"","","","","","","",""]
[{"$nulls":23},{"$f":"IF(A24926<>\"\",IF(Main!$E$12=\"ALL\",A24926,IF(Main!$E$12=A24926,A24926,\"\")),\"\")","v":""},"","","","","","","",""]
[{"$nulls":23},{"$f":"IF(A24959<>\"\",IF(Main!$E$12=\"ALL\",A24959,IF(Main!$E$12=A24959,A24959,\"\")),\"\")","v":""},"","","","","","","",""]
[{"$nulls":23},{"$f":"IF(A24985<>\"\",IF(Main!$E$12=\"ALL\",A24985,IF(Main!$E$12=A24985,A24985,\"\")),\"\")","v":""},"","","","","","","",""]
[{"$nulls":23},{"$f":"IF(A24992<>\"\",IF(Main!$E$12=\"ALL\",A24992,IF(Main!$E$12=A24992,A24992,\"\")),\"\")","v":""},"","","","","","","",""]
[{"$nulls":23},{"$f":"IF(A25017<>\"\",IF(Main!$E$12=\"ALL\",A25017,IF(Main!$E$12=A25017,A25017,\"\")),\"\")","v":""},"","","","","","","",""]
[{"$nulls":23},{"$f":"IF(A25050<>\"\",IF(Main!$E$12=\"ALL\",A25050,IF(Main!$E$12=A25050,A25050,\"\")),\"\")","v":""},"","","","","","","",""]
[{"$nulls":23},{"$f":"IF(A25065<>\"\",IF(Main!$E$12=\"ALL\",A25065,IF(Main!$E$12=A25065,A25065,\"\")),\"\")","v":""},"","","","","","","",""]
[{"$nulls":23},{"$f":"IF(A25107<>\"\",IF(Main!$E$12=\"ALL\",A25107,IF(Main!$E$12=A25107,A25107,\"\")),\"\")","v":""},"","","","","","","",""]
[{"$nulls":23},{"$f":"IF(A25116<>\"\",IF(Main!$E$12=\"ALL\",A25116,IF(Main!$E$12=A25116,A25116,\"\")),\"\")","v":""},"","","","","","","",""]
[{"$nulls":23},{"$f":"IF(A25141<>\"\",IF(Main!$E$12=\"ALL\",A25141,IF(Main!$E$12=A25141,A25141,\"\")),\"\")","v":""},"","","","","","","",""]
[{"$nulls":23},{"$f":"IF(A25180<>\"\",IF(Main!$E$12=\"ALL\",A25180,IF(Main!$E$12=A25180,A25180,\"\")),\"\")","v":""},"","","","","","","",""]
[{"$nulls":23},{"$f":"IF(A25182<>\"\",IF(Main!$E$12=\"ALL\",A25182,IF(Main!$E$12=A25182,A25182,\"\")),\"\")","v":""},"","","","","","","",""]
[{"$nulls":23},{"$f":"IF(A25207<>\"\",IF(Main!$E$12=\"ALL\",A25207,IF(Main!$E$12=A25207,A25207,\"\")),\"\")","v":""},"","","","","","","",""]
[{"$nulls":23},{"$f":"IF(A25240<>\"\",IF(Main!$E$12=\"ALL\",A25240,IF(Main!$E$12=A25240,A25240,\"\")),\"\")","v":""},"","","","","","","",""]
[{"$nulls":23},{"$f":"IF(A25260<>\"\",IF(Main!$E$12=\"ALL\",A25260,IF(Main!$E$12=A25260,A25260,\"\")),\"\")","v":""},"","","","","","","",""]
[{"$nulls":23},{"$f":"IF(A25297<>\"\",IF(Main!$E$12=\"ALL\",A25297,IF(Main!$E$12=A25297,A25297,\"\")),\"\")","v":""},"","","","","","","",""]
[{"$nulls":23},{"$f":"IF(A25306<>\"\",IF(Main!$E$12=\"ALL\",A25306,IF(Main!$E$12=A25306,A25306,\"\")),\"\")","v":""},"","","","","","","",""]
[{"$nulls":23},{"$f":"IF(A25331<>\"\",IF(Main!$E$12=\"ALL\",A25331,IF(Main!$E$12=A25331,A25331,\"\")),\"\")","v":""},"","","","","","","",""]
[{"$nulls":23},{"$f":"IF(A25352<>\"\",IF(Main!$E$12=\"ALL\",A25352,IF(Main!$E$12=A25352,A25352,\"\")),\"\")","v":""},"","","","","","","",""]
[{"$nulls":23},{"$f":"IF(A25372<>\"\",IF(Main!$E$12=\"ALL\",A25372,IF(Main!$E$12=A25372,A25372,\"\")),\"\")","v":""},"","","","","","","",""]
[{"$nulls":23},{"$f":"IF(A25397<>\"\",IF(Main!$E$12=\"ALL\",A25397,IF(Main!$E$12=A25397,A25397,\"\")),\"\")","v":""},"","","","","","","",""]
[{"$nulls":23},{"$f":"IF(A25430<>\"\",IF(Main!$E$12=\"ALL\",A25430,IF(Main!$E$12=A25430,A25430,\"\")),\"\")","v":""},"","","","","","","",""]
[{"$nulls":23},{"$f":"IF(A25444<>\"\",IF(Main!$E$12=\"ALL\",A25444,IF(Main!$E$12=A25444,A25444,\"\")),\"\")","v":""},"","","","","","","",""]
[{"$nulls":23},{"$f":"IF(A25487<>\"\",IF(Main!$E$12=\"ALL\",A25487,IF(Main!$E$12=A25487,A25487,\"\")),\"\")","v":""},"","","","","","","",""]
[{"$nulls":23},{"$f":"IF(A25496<>\"\",IF(Main!$E$12=\"ALL\",A25496,IF(Main!$E$12=A25496,A25496,\"\")),\"\")","v":""},"","","","","","","",""]
[{"$nulls":23},{"$f":"IF(A25521<>\"\",IF(Main!$E$12=\"ALL\",A25521,IF(Main!$E$12=A25521,A25521,\"\")),\"\")","v":""},"","","","","","","",""]
[{"$nulls":23},{"$f":"IF(A25547<>\"\",IF(Main!$E$12=\"ALL\",A25547,IF(Main!$E$12=A25547,A25547,\"\")),\"\")","v":""},"","","","","","","",""]
[{"$nulls":23},{"$f":"IF(A25562<>\"\",IF(Main!$E$12=\"ALL\",A25562,IF(Main!$E$12=A25562,A25562,\"\")),\"\")","v":""},"","","","","","","",""]
[{"$nulls":23},{"$f":"IF(A25587<>\"\",IF(Main!$E$12=\"ALL\",A25587,IF(Main!$E$12=A25587,A25587,\"\")),\"\")","v":""},"","","","","","","",""]
[{"$nulls":23},{"$f":"IF(A25620<>\"\",IF(Main!$E$12=\"ALL\",A25620,IF(Main!$E$12=A25620,A25620,\"\")),\"\")","v":""},"","","","","","","",""]
[{"$nulls":23},{"$f":"IF(A25639<>\"\",IF(Main!$E$12=\"ALL\",A25639,IF(Main!$E$12=A25639,A25639,\"\")),\"\")","v":""},"","","","","","","",""]
[{"$nulls":23},{"$f":"IF(A25677<>\"\",IF(Main!$E$12=\"ALL\",A25677,IF(Main!$E$12=A25677,A25677,\"\")),\"\")","v":""},"","","","","","","",""]
[{"$nulls":23},{"$f":"IF(A25686<>\"\",IF(Main!$E$12=\"ALL\",A25686,IF(Main!$E$12=A25686,A25686,\"\")),\"\")","v":""},"","","","","","","",""]
[{"$nulls":23},{"$f":"IF(A25711<>\"\",IF(Main!$E$12=\"ALL\",A25711,IF(Main!$E$12=A25711,A25711,\"\")),\"\")","v":""},"","","","","","","",""]
[{"$nulls":23},{"$f":"IF(A25744<>\"\",IF(Main!$E$12=\"ALL\",A25744,IF(Main!$E$12=A25744,A25744,\"\")),\"\")","v":""},"","","","","","","",""]
[{"$nulls":23},{"$f":"IF(A25765<>\"\",IF(Main!$E$12=\"ALL\",A25765,IF(Main!$E$12=A25765,A25765,\"\")),\"\")","v":""},"","","","","","","",""]
[{"$nulls":23},{"$f":"IF(A25777<>\"\",IF(Main!$E$12=\"ALL\",A25777,IF(Main!$E$12=A25777,A25777,\"\")),\"\")","v":""},"","","","","","","",""]
[{"$nulls":23},{"$f":"IF(A25810<>\"\",IF(Main!$E$12=\"ALL\",A25810,IF(Main!$E$12=A25810,A25810,\"\")),\"\")","v":""},"","","","","","","",""]
[{"$nulls":23},{"$f":"IF(A25835<>\"\",IF(Main!$E$12=\"ALL\",A25835,IF(Main!$E$12=A25835,A25835,\"\")),\"\")","v":""},"","","","","","","",""]
[{"$nulls":23},{"$f":"IF(A25857<>\"\",IF(Main!$E$12=\"ALL\",A25857,IF(Main!$E$12=A25857,A25857,\"\")),\"\")","v":""},"","","","","","","",""]
[{"$nulls":23},{"$f":"IF(A25876<>\"\",IF(Main!$E$12=\"ALL\",A25876,IF(Main!$E$12=A25876,A25876,\"\")),\"\")","v":""},"","","","","","","",""]
[{"$nulls":23},{"$f":"IF(A25901<>\"\",IF(Main!$E$12=\"ALL\",A25901,IF(Main!$E$12=A25901,A25901,\"\")),\"\")","v":""},"","","","","","","",""]
[{"$nulls":23},{"$f":"IF(A25934<>\"\",IF(Main!$E$12=\"ALL\",A25934,IF(Main!$E$12=A25934,A25934,\"\")),\"\")","v":""},"","","","","","","",""]
[{"$nulls":23},{"$f":"IF(A25949<>\"\",IF(Main!$E$12=\"ALL\",A25949,IF(Main!$E$12=A25949,A25949,\"\")),\"\")","v":""},"","","","","","","",""]
[{"$nulls":23},{"$f":"IF(A25967<>\"\",IF(Main!$E$12=\"ALL\",A25967,IF(Main!$E$12=A25967,A25967,\"\")),\"\")","v":""},"","","","","","","",""]
[{"$nulls":23},{"$f":"IF(A26000<>\"\",IF(Main!$E$12=\"ALL\",A26000,IF(Main!$E$12=A26000,A26000,\"\")),\"\")","v":""},"","","","","","","",""]
[{"$nulls":23},{"$f":"IF(A26025<>\"\",IF(Main!$E$12=\"ALL\",A26025,IF(Main!$E$12=A26025,A26025,\"\")),\"\")","v":""},"","","","","","","",""]
[{"$nulls":23},{"$f":"IF(A26052<>\"\",IF(Main!$E$12=\"ALL\",A26052,IF(Main!$E$12=A26052,A26052,\"\")),\"\")","v":""},"","","","","","","",""]
[{"$nulls":23},{"$f":"IF(A26066<>\"\",IF(Main!$E$12=\"ALL\",A26066,IF(Main!$E$12=A26066,A26066,\"\")),\"\")","v":""},"","","","","","","",""]
[{"$nulls":23},{"$f":"IF(A26091<>\"\",IF(Main!$E$12=\"ALL\",A26091,IF(Main!$E$12=A26091,A26091,\"\")),\"\")","v":""},"","","","","","","",""]
[{"$nulls":23},{"$f":"IF(A26124<>\"\",IF(Main!$E$12=\"ALL\",A26124,IF(Main!$E$12=A26124,A26124,\"\")),\"\")","v":""},"","","","","","","",""]
[{"$nulls":23},{"$f":"IF(A26144<>\"\",IF(Main!$E$12=\"ALL\",A26144,IF(Main!$E$12=A26144,A26144,\"\")),\"\")","v":""},"","","","","","","",""]
[{"$nulls":23},{"$f":"IF(A26157<>\"\",IF(Main!$E$12=\"ALL\",A26157,IF(Main!$E$12=A26157,A26157,\"\")),\"\")","v":""},"","","","","","","",""]
[{"$nulls":23},{"$f":"IF(A26190<>\"\",IF(Main!$E$12=\"ALL\",A26190,IF(Main!$E$12=A26190,A26190,\"\")),\"\")","v":""},"","","","","","","",""]
[{"$nulls":23},{"$f":"IF(A26215<>\"\",IF(Main!$E$12=\"ALL\",A26215,IF(Main!$E$12=A26215,A26215,\"\")),\"\")","v":""},"","","","","","","",""]
[{"$nulls":23},{"$f":"IF(A26247<>\"\",IF(Main!$E$12=\"ALL\",A26247,IF(Main!$E$12=A26247,A26247,\"\")),\"\")","v":""},"","","","","","","",""]
[{"$nulls":23},{"$f":"IF(A26256<>\"\",IF(Main!$E$12=\"ALL\",A26256,IF(Main!$E$12=A26256,A26256,\"\")),\"\")","v":""},"","","","","","","",""]
[{"$nulls":23},{"$f":"IF(A26281<>\"\",IF(Main!$E$12=\"ALL\",A26281,IF(Main!$E$12=A26281,A26281,\"\")),\"\")","v":""},"","","","","","","",""]
[{"$nulls":23},{"$f":"IF(A26314<>\"\",IF(Main!$E$12=\"ALL\",A26314,IF(Main!$E$12=A26314,A26314,\"\")),\"\")","v":""},"","","","","","","",""]
[{"$nulls":23},{"$f":"IF(A26339<>\"\",IF(Main!$E$12=\"ALL\",A26339,IF(Main!$E$12=A26339,A26339,\"\")),\"\")","v":""},"","","","","","","",""]
[{"$nulls":23},{"$f":"IF(A26347<>\"\",IF(Main!$E$12=\"ALL\",A26347,IF(Main!$E$12=A26347,A26347,\"\")),\"\")","v":""},"","","","","","","",""]
[{"$nulls":23},{"$f":"IF(A26380<>\"\",IF(Main!$E$12=\"ALL\",A26380,IF(Main!$E$12=A26380,A26380,\"\")),\"\")","v":""},"","","","","","","",""]
[{"$nulls":23},{"$f":"IF(A26405<>\"\",IF(Main!$E$12=\"ALL\",A26405,IF(Main!$E$12=A26405,A26405,\"\")),\"\")","v":""},"","","","","","","",""]
[{"$nulls":23},{"$f":"IF(A26419<>\"\",IF(Main!$E$12=\"ALL\",A26419,IF(Main!$E$12=A26419,A26419,\"\")),\"\")","v":""},"","","","","","","",""]
[{"$nulls":23},{"$f":"IF(A26462<>\"\",IF(Main!$E$12=\"ALL\",A26462,IF(Main!$E$12=A26462,A26462,\"\")),\"\")","v":""},"","","","","","","",""]
[{"$nulls":23},{"$f":"IF(A26471<>\"\",IF(Main!$E$12=\"ALL\",A26471,IF(Main!$E$12=A26471,A26471,\"\")),\"\")","v":""},"","","","","","","",""]
[{"$nulls":23},{"$f":"IF(A26504<>\"\",IF(Main!$E$12=\"ALL\",A26504,IF(Main!$E$12=A26504,A26504,\"\")),\"\")","v":""},"","","","","","","",""]
[{"$nulls":23},{"$f":"IF(A26534<>\"\",IF(Main!$E$12=\"ALL\",A26534,IF(Main!$E$12=A26534,A26534,\"\")),\"\")","v":""},"","","","","","","",""]
[{"$nulls":23},{"$f":"IF(A26537<>\"\",IF(Main!$E$12=\"ALL\",A26537,IF(Main!$E$12=A26537,A26537,\"\")),\"\")","v":""},"","","","","","","",""]
[{"$nulls":23},{"$f":"IF(A26570<>\"\",IF(Main!$E$12=\"ALL\",A26570,IF(Main!$E$12=A26570,A26570,\"\")),\"\")","v":""},"","","","","","","",""]
[{"$nulls":23},{"$f":"IF(A26595<>\"\",IF(Main!$E$12=\"ALL\",A26595,IF(Main!$E$12=A26595,A26595,\"\")),\"\")","v":""},"","","","","","","",""]
[{"$nulls":23},{"$f":"IF(A26614<>\"\",IF(Main!$E$12=\"ALL\",A26614,IF(Main!$E$12=A26614,A26614,\"\")),\"\")","v":""},"","","","","","","",""]
[{"$nulls":23},{"$f":"IF(A26652<>\"\",IF(Main!$E$12=\"ALL\",A26652,IF(Main!$E$12=A26652,A26652,\"\")),\"\")","v":""},"","","","","","","",""]
[{"$nulls":23},{"$f":"IF(A26661<>\"\",IF(Main!$E$12=\"ALL\",A26661,IF(Main!$E$12=A26661,A26661,\"\")),\"\")","v":""},"","","","","","","",""]
[{"$nulls":23},{"$f":"IF(A26694<>\"\",IF(Main!$E$12=\"ALL\",A26694,IF(Main!$E$12=A26694,A26694,\"\")),\"\")","v":""},"","","","","","","",""]
[{"$nulls":23},{"$f":"IF(A26706<>\"\",IF(Main!$E$12=\"ALL\",A26706,IF(Main!$E$12=A26706,A26706,\"\")),\"\")","v":""},"","","","","","","",""]
[{"$nulls":23},{"$f":"IF(A26727<>\"\",IF(Main!$E$12=\"ALL\",A26727,IF(Main!$E$12=A26727,A26727,\"\")),\"\")","v":""},"","","","","","","",""]
[{"$nulls":23},{"$f":"IF(A26752<>\"\",IF(Main!$E$12=\"ALL\",A26752,IF(Main!$E$12=A26752,A26752,\"\")),\"\")","v":""},"","","","","","","",""]
[{"$nulls":23},{"$f":"IF(A26785<>\"\",IF(Main!$E$12=\"ALL\",A26785,IF(Main!$E$12=A26785,A26785,\"\")),\"\")","v":""},"","","","","","","",""]
[{"$nulls":23},{"$f":"IF(A26809<>\"\",IF(Main!$E$12=\"ALL\",A26809,IF(Main!$E$12=A26809,A26809,\"\")),\"\")","v":""},"","","","","","","",""]
[{"$nulls":23},{"$f":"IF(A26842<>\"\",IF(Main!$E$12=\"ALL\",A26842,IF(Main!$E$12=A26842,A26842,\"\")),\"\")","v":""},"","","","","","","",""]
[{"$nulls":23},{"$f":"IF(A26851<>\"\",IF(Main!$E$12=\"ALL\",A26851,IF(Main!$E$12=A26851,A26851,\"\")),\"\")","v":""},"","","","","","","",""]
[{"$nulls":23},{"$f":"IF(A26884<>\"\",IF(Main!$E$12=\"ALL\",A26884,IF(Main!$E$12=A26884,A26884,\"\")),\"\")","v":""},"","","","","","","",""]
[{"$nulls":23},{"$f":"IF(A26901<>\"\",IF(Main!$E$12=\"ALL\",A26901,IF(Main!$E$12=A26901,A26901,\"\")),\"\")","v":""},"","","","","","","",""]
[{"$nulls":23},{"$f":"IF(A26917<>\"\",IF(Main!$E$12=\"ALL\",A26917,IF(Main!$E$12=A26917,A26917,\"\")),\"\")","v":""},"","","","","","","",""]
[{"$nulls":23},{"$f":"IF(A26942<>\"\",IF(Main!$E$12=\"ALL\",A26942,IF(Main!$E$12=A26942,A26942,\"\")),\"\")","v":""},"","","","","","","",""]
[{"$nulls":23},{"$f":"IF(A26975<>\"\",IF(Main!$E$12=\"ALL\",A26975,IF(Main!$E$12=A26975,A26975,\"\")),\"\")","v":""},"","","","","","","",""]
[{"$nulls":23},{"$f":"IF(A27004<>\"\",IF(Main!$E$12=\"ALL\",A27004,IF(Main!$E$12=A27004,A27004,\"\")),\"\")","v":""},"","","","","","","",""]
[{"$nulls":23},{"$f":"IF(A27032<>\"\",IF(Main!$E$12=\"ALL\",A27032,IF(Main!$E$12=A27032,A27032,\"\")),\"\")","v":""},"","","","","","","",""]
[{"$nulls":23},{"$f":"IF(A27041<>\"\",IF(Main!$E$12=\"ALL\",A27041,IF(Main!$E$12=A27041,A27041,\"\")),\"\")","v":""},"","","","","","","",""]
[{"$nulls":23},{"$f":"IF(A27074<>\"\",IF(Main!$E$12=\"ALL\",A27074,IF(Main!$E$12=A27074,A27074,\"\")),\"\")","v":""},"","","","","","","",""]
[{"$nulls":23},{"$f":"IF(A27096<>\"\",IF(Main!$E$12=\"ALL\",A27096,IF(Main!$E$12=A27096,A27096,\"\")),\"\")","v":""},"","","","","","","",""]
[{"$nulls":23},{"$f":"IF(A27107<>\"\",IF(Main!$E$12=\"ALL\",A27107,IF(Main!$E$12=A27107,A27107,\"\")),\"\")","v":""},"","","","","","","",""]
[{"$nulls":23},{"$f":"IF(A27132<>\"\",IF(Main!$E$12=\"ALL\",A27132,IF(Main!$E$12=A27132,A27132,\"\")),\"\")","v":""},"","","","","","","",""]
[{"$nulls":23},{"$f":"IF(A27165<>\"\",IF(Main!$E$12=\"ALL\",A27165,IF(Main!$E$12=A27165,A27165,\"\")),\"\")","v":""},"","","","","","","",""]
[{"$nulls":23},{"$f":"IF(A27199<>\"\",IF(Main!$E$12=\"ALL\",A27199,IF(Main!$E$12=A27199,A27199,\"\")),\"\")","v":""},"","","","","","","",""]
[{"$nulls":23},{"$f":"IF(A27222<>\"\",IF(Main!$E$12=\"ALL\",A27222,IF(Main!$E$12=A27222,A27222,\"\")),\"\")","v":""},"","","","","","","",""]
[{"$nulls":23},{"$f":"IF(A27231<>\"\",IF(Main!$E$12=\"ALL\",A27231,IF(Main!$E$12=A27231,A27231,\"\")),\"\")","v":""},"","","","","","","",""]
[{"$nulls":23},{"$f":"IF(A27256<>\"\",IF(Main!$E$12=\"ALL\",A27256,IF(Main!$E$12=A27256,A27256,\"\")),\"\")","v":""},"","","","","","","",""]
[{"$nulls":23},{"$f":"IF(A27291<>\"\",IF(Main!$E$12=\"ALL\",A27291,IF(Main!$E$12=A27291,A27291,\"\")),\"\")","v":""},"","","","","","","",""]
[{"$nulls":23},{"$f":"IF(A27297<>\"\",IF(Main!$E$12=\"ALL\",A27297,IF(Main!$E$12=A27297,A27297,\"\")),\"\")","v":""},"","","","","","","",""]
[{"$nulls":23},{"$f":"IF(A27322<>\"\",IF(Main!$E$12=\"ALL\",A27322,IF(Main!$E$12=A27322,A27322,\"\")),\"\")","v":""},"","","","","","","",""]
[{"$nulls":23},{"$f":"IF(A27355<>\"\",IF(Main!$E$12=\"ALL\",A27355,IF(Main!$E$12=A27355,A27355,\"\")),\"\")","v":""},"","","","","","","",""]
[{"$nulls":23},{"$f":"IF(A27371<>\"\",IF(Main!$E$12=\"ALL\",A27371,IF(Main!$E$12=A27371,A27371,\"\")),\"\")","v":""},"","","","","","","",""]
[{"$nulls":23},{"$f":"IF(A27412<>\"\",IF(Main!$E$12=\"ALL\",A27412,IF(Main!$E$12=A27412,A27412,\"\")),\"\")","v":""},"","","","","","","",""]
[{"$nulls":23},{"$f":"IF(A27421<>\"\",IF(Main!$E$12=\"ALL\",A27421,IF(Main!$E$12=A27421,A27421,\"\")),\"\")","v":""},"","","","","","","",""]
[{"$nulls":23},{"$f":"IF(A27446<>\"\",IF(Main!$E$12=\"ALL\",A27446,IF(Main!$E$12=A27446,A27446,\"\")),\"\")","v":""},"","","","","","","",""]
[{"$nulls":23},{"$f":"IF(A27463<>\"\",IF(Main!$E$12=\"ALL\",A27463,IF(Main!$E$12=A27463,A27463,\"\")),\"\")","v":""},"","","","","","","",""]
[{"$nulls":23},{"$f":"IF(A27487<>\"\",IF(Main!$E$12=\"ALL\",A27487,IF(Main!$E$12=A27487,A27487,\"\")),\"\")","v":""},"","","","","","","",""]
[{"$nulls":23},{"$f":"IF(A27512<>\"\",IF(Main!$E$12=\"ALL\",A27512,IF(Main!$E$12=A27512,A27512,\"\")),\"\")","v":""},"","","","","","","",""]
[{"$nulls":23},{"$f":"IF(A27545<>\"\",IF(Main!$E$12=\"ALL\",A27545,IF(Main!$E$12=A27545,A27545,\"\")),\"\")","v":""},"","","","","","","",""]
[{"$nulls":23},{"$f":"IF(A27566<>\"\",IF(Main!$E$12=\"ALL\",A27566,IF(Main!$E$12=A27566,A27566,\"\")),\"\")","v":""},"","","","","","","",""]
[{"$nulls":23},{"$f":"IF(A27602<>\"\",IF(Main!$E$12=\"ALL\",A27602,IF(Main!$E$12=A27602,A27602,\"\")),\"\")","v":""},"","","","","","","",""]
[{"$nulls":23},{"$f":"IF(A27611<>\"\",IF(Main!$E$12=\"ALL\",A27611,IF(Main!$E$12=A27611,A27611,\"\")),\"\")","v":""},"","","","","","","",""]
[{"$nulls":23},{"$f":"IF(A27636<>\"\",IF(Main!$E$12=\"ALL\",A27636,IF(Main!$E$12=A27636,A27636,\"\")),\"\")","v":""},"","","","","","","",""]
[{"$nulls":23},{"$f":"IF(A27658<>\"\",IF(Main!$E$12=\"ALL\",A27658,IF(Main!$E$12=A27658,A27658,\"\")),\"\")","v":""},"","","","","","","",""]
[{"$nulls":23},{"$f":"IF(A27677<>\"\",IF(Main!$E$12=\"ALL\",A27677,IF(Main!$E$12=A27677,A27677,\"\")),\"\")","v":""},"","","","","","","",""]
[{"$nulls":23},{"$f":"IF(A27702<>\"\",IF(Main!$E$12=\"ALL\",A27702,IF(Main!$E$12=A27702,A27702,\"\")),\"\")","v":""},"","","","","","","",""]
[{"$nulls":23},{"$f":"IF(A27735<>\"\",IF(Main!$E$12=\"ALL\",A27735,IF(Main!$E$12=A27735,A27735,\"\")),\"\")","v":""},"","","","","","","",""]
[{"$nulls":23},{"$f":"IF(A27750<>\"\",IF(Main!$E$12=\"ALL\",A27750,IF(Main!$E$12=A27750,A27750,\"\")),\"\")","v":""},"","","","","","","",""]
[{"$nulls":23},{"$f":"IF(A27792<>\"\",IF(Main!$E$12=\"ALL\",A27792,IF(Main!$E$12=A27792,A27792,\"\")),\"\")","v":""},"","","","","","","",""]
[{"$nulls":23},{"$f":"IF(A27801<>\"\",IF(Main!$E$12=\"ALL\",A27801,IF(Main!$E$12=A27801,A27801,\"\")),\"\")","v":""},"","","","","","","",""]
[{"$nulls":23},{"$f":"IF(A27826<>\"\",IF(Main!$E$12=\"ALL\",A27826,IF(Main!$E$12=A27826,A27826,\"\")),\"\")","v":""},"","","","","","","",""]
[{"$nulls":23},{"$f":"IF(A27853<>\"\",IF(Main!$E$12=\"ALL\",A27853,IF(Main!$E$12=A27853,A27853,\"\")),\"\")","v":""},"","","","","","","",""]
[{"$nulls":23},{"$f":"IF(A27867<>\"\",IF(Main!$E$12=\"ALL\",A27867,IF(Main!$E$12=A27867,A27867,\"\")),\"\")","v":""},"","","","","","","",""]
[{"$nulls":23},{"$f":"IF(A27892<>\"\",IF(Main!$E$12=\"ALL\",A27892,IF(Main!$E$12=A27892,A27892,\"\")),\"\")","v":""},"","","","","","","",""]
[{"$nulls":23},{"$f":"IF(A27925<>\"\",IF(Main!$E$12=\"ALL\",A27925,IF(Main!$E$12=A27925,A27925,\"\")),\"\")","v":""},"","","","","","","",""]
[{"$nulls":23},{"$f":"IF(A27945<>\"\",IF(Main!$E$12=\"ALL\",A27945,IF(Main!$E$12=A27945,A27945,\"\")),\"\")","v":""},"","","","","","","",""]
[{"$nulls":23},{"$f":"IF(A27982<>\"\",IF(Main!$E$12=\"ALL\",A27982,IF(Main!$E$12=A27982,A27982,\"\")),\"\")","v":""},"","","","","","","",""]
[{"$nulls":23},{"$f":"IF(A27991<>\"\",IF(Main!$E$12=\"ALL\",A27991,IF(Main!$E$12=A27991,A27991,\"\")),\"\")","v":""},"","","","","","","",""]
[{"$nulls":23},{"$f":"IF(A28016<>\"\",IF(Main!$E$12=\"ALL\",A28016,IF(Main!$E$12=A28016,A28016,\"\")),\"\")","v":""},"","","","","","","",""]
[{"$nulls":23},{"$f":"IF(A28048<>\"\",IF(Main!$E$12=\"ALL\",A28048,IF(Main!$E$12=A28048,A28048,\"\")),\"\")","v":""},"","","","","","","",""]
[{"$nulls":23},{"$f":"IF(A28073<>\"\",IF(Main!$E$12=\"ALL\",A28073,IF(Main!$E$12=A28073,A28073,\"\")),\"\")","v":""},"","","","","","","",""]
[{"$nulls":23},{"$f":"IF(A28082<>\"\",IF(Main!$E$12=\"ALL\",A28082,IF(Main!$E$12=A28082,A28082,\"\")),\"\")","v":""},"","","","","","","",""]
[{"$nulls":23},{"$f":"IF(A28115<>\"\",IF(Main!$E$12=\"ALL\",A28115,IF(Main!$E$12=A28115,A28115,\"\")),\"\")","v":""},"","","","","","","",""]
[{"$nulls":23},{"$f":"IF(A28140<>\"\",IF(Main!$E$12=\"ALL\",A28140,IF(Main!$E$12=A28140,A28140,\"\")),\"\")","v":""},"","","","","","","",""]
[{"$nulls":23},{"$f":"IF(A28172<>\"\",IF(Main!$E$12=\"ALL\",A28172,IF(Main!$E$12=A28172,A28172,\"\")),\"\")","v":""},"","","","","","","",""]
[{"$nulls":23},{"$f":"IF(A28181<>\"\",IF(Main!$E$12=\"ALL\",A28181,IF(Main!$E$12=A28181,A28181,\"\")),\"\")","v":""},"","","","","","","",""]
[{"$nulls":23},{"$f":"IF(A28206<>\"\",IF(Main!$E$12=\"ALL\",A28206,IF(Main!$E$12=A28206,A28206,\"\")),\"\")","v":""},"","","","","","","",""]
[{"$nulls":23},{"$f":"IF(A28243<>\"\",IF(Main!$E$12=\"ALL\",A28243,IF(Main!$E$12=A28243,A28243,\"\")),\"\")","v":""},"","","","","","","",""]
[{"$nulls":23},{"$f":"IF(A28263<>\"\",IF(Main!$E$12=\"ALL\",A28263,IF(Main!$E$12=A28263,A28263,\"\")),\"\")","v":""},"","","","","","","",""]
[{"$nulls":23},{"$f":"IF(A28272<>\"\",IF(Main!$E$12=\"ALL\",A28272,IF(Main!$E$12=A28272,A28272,\"\")),\"\")","v":""},"","","","","","","",""]
[{"$nulls":23},{"$f":"IF(A28305<>\"\",IF(Main!$E$12=\"ALL\",A28305,IF(Main!$E$12=A28305,A28305,\"\")),\"\")","v":""},"","","","","","","",""]
[{"$nulls":23},{"$f":"IF(A28335<>\"\",IF(Main!$E$12=\"ALL\",A28335,IF(Main!$E$12=A28335,A28335,\"\")),\"\")","v":""},"","","","","","","",""]
[{"$nulls":23},{"$f":"IF(A28362<>\"\",IF(Main!$E$12=\"ALL\",A28362,IF(Main!$E$12=A28362,A28362,\"\")),\"\")","v":""},"","","","","","","",""]
[{"$nulls":23},{"$f":"IF(A28371<>\"\",IF(Main!$E$12=\"ALL\",A28371,IF(Main!$E$12=A28371,A28371,\"\")),\"\")","v":""},"","","","","","","",""]
[{"$nulls":23},{"$f":"IF(A28396<>\"\",IF(Main!$E$12=\"ALL\",A28396,IF(Main!$E$12=A28396,A28396,\"\")),\"\")","v":""},"","","","","","","",""]
[{"$nulls":23},{"$f":"IF(A28415<>\"\",IF(Main!$E$12=\"ALL\",A28415,IF(Main!$E$12=A28415,A28415,\"\")),\"\")","v":""},"","","","","","","",""]
[{"$nulls":23},{"$f":"IF(A28453<>\"\",IF(Main!$E$12=\"ALL\",A28453,IF(Main!$E$12=A28453,A28453,\"\")),\"\")","v":""},"","","","","","","",""]
[{"$nulls":23},{"$f":"IF(A28462<>\"\",IF(Main!$E$12=\"ALL\",A28462,IF(Main!$E$12=A28462,A28462,\"\")),\"\")","v":""},"","","","","","","",""]
[{"$nulls":23},{"$f":"IF(A28495<>\"\",IF(Main!$E$12=\"ALL\",A28495,IF(Main!$E$12=A28495,A28495,\"\")),\"\")","v":""},"","","","","","","",""]
[{"$nulls":23},{"$f":"IF(A28507<>\"\",IF(Main!$E$12=\"ALL\",A28507,IF(Main!$E$12=A28507,A28507,\"\")),\"\")","v":""},"","","","","","","",""]
[{"$nulls":23},{"$f":"IF(A28552<>\"\",IF(Main!$E$12=\"ALL\",A28552,IF(Main!$E$12=A28552,A28552,\"\")),\"\")","v":""},"","","","","","","",""]
[{"$nulls":23},{"$f":"IF(A28577<>\"\",IF(Main!$E$12=\"ALL\",A28577,IF(Main!$E$12=A28577,A28577,\"\")),\"\")","v":""},"","","","","","","",""]
[{"$nulls":23},{"$f":"IF(A28586<>\"\",IF(Main!$E$12=\"ALL\",A28586,IF(Main!$E$12=A28586,A28586,\"\")),\"\")","v":""},"","","","","","","",""]
[{"$nulls":23},{"$f":"IF(A28610<>\"\",IF(Main!$E$12=\"ALL\",A28610,IF(Main!$E$12=A28610,A28610,\"\")),\"\")","v":""},"","","","","","","",""]
[{"$nulls":23},{"$f":"IF(A28643<>\"\",IF(Main!$E$12=\"ALL\",A28643,IF(Main!$E$12=A28643,A28643,\"\")),\"\")","v":""},"","","","","","","",""]
[{"$nulls":23},{"$f":"IF(A28652<>\"\",IF(Main!$E$12=\"ALL\",A28652,IF(Main!$E$12=A28652,A28652,\"\")),\"\")","v":""},"","","","","","","",""]
[{"$nulls":23},{"$f":"IF(A28685<>\"\",IF(Main!$E$12=\"ALL\",A28685,IF(Main!$E$12=A28685,A28685,\"\")),\"\")","v":""},"","","","","","","",""]
[{"$nulls":23},{"$f":"IF(A28702<>\"\",IF(Main!$E$12=\"ALL\",A28702,IF(Main!$E$12=A28702,A28702,\"\")),\"\")","v":""},"","","","","","","",""]
[{"$nulls":23},{"$f":"IF(A28742<>\"\",IF(Main!$E$12=\"ALL\",A28742,IF(Main!$E$12=A28742,A28742,\"\")),\"\")","v":""},"","","","","","","",""]
[{"$nulls":23},{"$f":"IF(A28767<>\"\",IF(Main!$E$12=\"ALL\",A28767,IF(Main!$E$12=A28767,A28767,\"\")),\"\")","v":""},"","","","","","","",""]
[{"$nulls":23},{"$f":"IF(A28776<>\"\",IF(Main!$E$12=\"ALL\",A28776,IF(Main!$E$12=A28776,A28776,\"\")),\"\")","v":""},"","","","","","","",""]
[{"$nulls":23},{"$f":"IF(A28805<>\"\",IF(Main!$E$12=\"ALL\",A28805,IF(Main!$E$12=A28805,A28805,\"\")),\"\")","v":""},"","","","","","","",""]
[{"$nulls":23},{"$f":"IF(A28833<>\"\",IF(Main!$E$12=\"ALL\",A28833,IF(Main!$E$12=A28833,A28833,\"\")),\"\")","v":""},"","","","","","","",""]
[{"$nulls":23},{"$f":"IF(A28842<>\"\",IF(Main!$E$12=\"ALL\",A28842,IF(Main!$E$12=A28842,A28842,\"\")),\"\")","v":""},"","","","","","","",""]
[{"$nulls":23},{"$f":"IF(A28867<>\"\",IF(Main!$E$12=\"ALL\",A28867,IF(Main!$E$12=A28867,A28867,\"\")),\"\")","v":""},{"$f":"IF($X28867=\"\",\"\",D28867)","v":""},{"$f":"IF($X28867=\"\",\"\",F28867)","v":""},{"$f":"IF($X28867=\"\",\"\",J28867)","v":""},{"$f":"IF($X28867=\"\",\"\",N28867)","v":""},{"$f":"IF($X28867=\"\",\"\",IF(P28867=\"\",\"\",P28867))","v":""},{"$f":"IF($X28867=\"\",\"\",R28867)","v":""},{"$f":"IF($X28867=\"\",\"\",T28867)","v":""},{"$f":"IF($X28867=\"\",\"\",V28867)","v":""}]
[{"$nulls":23},{"$f":"IF(A28897<>\"\",IF(Main!$E$12=\"ALL\",A28897,IF(Main!$E$12=A28897,A28897,\"\")),\"\")","v":""},"","","","","","","",""]
[{"$nulls":23},{"$f":"IF(A28932<>\"\",IF(Main!$E$12=\"ALL\",A28932,IF(Main!$E$12=A28932,A28932,\"\")),\"\")","v":""},"","","","","","","",""]
[{"$nulls":23},{"$f":"IF(A28957<>\"\",IF(Main!$E$12=\"ALL\",A28957,IF(Main!$E$12=A28957,A28957,\"\")),\"\")","v":""},"","","","","","","",""]
[{"$nulls":23},{"$f":"IF(A28966<>\"\",IF(Main!$E$12=\"ALL\",A28966,IF(Main!$E$12=A28966,A28966,\"\")),\"\")","v":""},"","","","","","","",""]
[{"$nulls":23},{"$f":"IF(A29000<>\"\",IF(Main!$E$12=\"ALL\",A29000,IF(Main!$E$12=A29000,A29000,\"\")),\"\")","v":""},"","","","","","","",""]
[{"$nulls":23},{"$f":"IF(A29023<>\"\",IF(Main!$E$12=\"ALL\",A29023,IF(Main!$E$12=A29023,A29023,\"\")),\"\")","v":""},"","","","","","","",""]
[{"$nulls":23},{"$f":"IF(A29032<>\"\",IF(Main!$E$12=\"ALL\",A29032,IF(Main!$E$12=A29032,A29032,\"\")),\"\")","v":""},"","","","","","","",""]
[{"$nulls":23},{"$f":"IF(A29057<>\"\",IF(Main!$E$12=\"ALL\",A29057,IF(Main!$E$12=A29057,A29057,\"\")),\"\")","v":""},"","","","","","","",""]
[{"$nulls":23},{"$f":"IF(A29092<>\"\",IF(Main!$E$12=\"ALL\",A29092,IF(Main!$E$12=A29092,A29092,\"\")),\"\")","v":""},"","","","","","","",""]
[{"$nulls":23},{"$f":"IF(A29122<>\"\",IF(Main!$E$12=\"ALL\",A29122,IF(Main!$E$12=A29122,A29122,\"\")),\"\")","v":""},"","","","","","","",""]
[{"$nulls":23},{"$f":"IF(A29147<>\"\",IF(Main!$E$12=\"ALL\",A29147,IF(Main!$E$12=A29147,A29147,\"\")),\"\")","v":""},"","","","","","","",""]
[{"$nulls":23},{"$f":"IF(A29156<>\"\",IF(Main!$E$12=\"ALL\",A29156,IF(Main!$E$12=A29156,A29156,\"\")),\"\")","v":""},"","","","","","","",""]
[{"$nulls":23},{"$f":"IF(A29172<>\"\",IF(Main!$E$12=\"ALL\",A29172,IF(Main!$E$12=A29172,A29172,\"\")),\"\")","v":""},"","","","","","","",""]
[{"$nulls":23},{"$f":"IF(A29213<>\"\",IF(Main!$E$12=\"ALL\",A29213,IF(Main!$E$12=A29213,A29213,\"\")),\"\")","v":""},"","","","","","","",""]
[{"$nulls":23},{"$f":"IF(A29222<>\"\",IF(Main!$E$12=\"ALL\",A29222,IF(Main!$E$12=A29222,A29222,\"\")),\"\")","v":""},"","","","","","","",""]
[{"$nulls":23},{"$f":"IF(A29247<>\"\",IF(Main!$E$12=\"ALL\",A29247,IF(Main!$E$12=A29247,A29247,\"\")),\"\")","v":""},"","","","","","","",""]
[{"$nulls":23},{"$f":"IF(A29287<>\"\",IF(Main!$E$12=\"ALL\",A29287,IF(Main!$E$12=A29287,A29287,\"\")),\"\")","v":""},"","","","","","","",""]
[{"$nulls":23},{"$f":"IF(A29312<>\"\",IF(Main!$E$12=\"ALL\",A29312,IF(Main!$E$12=A29312,A29312,\"\")),\"\")","v":""},"","","","","","","",""]
[{"$nulls":23},{"$f":"IF(A29337<>\"\",IF(Main!$E$12=\"ALL\",A29337,IF(Main!$E$12=A29337,A29337,\"\")),\"\")","v":""},"","","","","","","",""]
[{"$nulls":23},{"$f":"IF(A29346<>\"\",IF(Main!$E$12=\"ALL\",A29346,IF(Main!$E$12=A29346,A29346,\"\")),\"\")","v":""},"","","","","","","",""]
[{"$nulls":23},{"$f":"IF(A29379<>\"\",IF(Main!$E$12=\"ALL\",A29379,IF(Main!$E$12=A29379,A29379,\"\")),\"\")","v":""},{"$f":"IF($X29379=\"\",\"\",D29379)","v":""},{"$f":"IF($X29379=\"\",\"\",F29379)","v":""},{"$f":"IF($X29379=\"\",\"\",J29379)","v":""},{"$f":"IF($X29379=\"\",\"\",N29379)","v":""},{"$f":"IF($X29379=\"\",\"\",IF(P29379=\"\",\"\",P29379))","v":""},{"$f":"IF($X29379=\"\",\"\",R29379)","v":""},{"$f":"IF($X29379=\"\",\"\",T29379)","v":""},{"$f":"IF($X29379=\"\",\"\",V29379)","v":""}]
[{"$nulls":23},{"$f":"IF(A29403<>\"\",IF(Main!$E$12=\"ALL\",A29403,IF(Main!$E$12=A29403,A29403,\"\")),\"\")","v":""},"","","","","","","",""]
[{"$nulls":23},{"$f":"IF(A29412<>\"\",IF(Main!$E$12=\"ALL\",A29412,IF(Main!$E$12=A29412,A29412,\"\")),\"\")","v":""},"","","","","","","",""]
[{"$nulls":23},{"$f":"IF(A29437<>\"\",IF(Main!$E$12=\"ALL\",A29437,IF(Main!$E$12=A29437,A29437,\"\")),\"\")","v":""},"","","","","","","",""]
[{"$nulls":23},{"$f":"IF(A29459<>\"\",IF(Main!$E$12=\"ALL\",A29459,IF(Main!$E$12=A29459,A29459,\"\")),\"\")","v":""},"","","","","","","",""]
[{"$nulls":23},{"$f":"IF(A29502<>\"\",IF(Main!$E$12=\"ALL\",A29502,IF(Main!$E$12=A29502,A29502,\"\")),\"\")","v":""},"","","","","","","",""]
[{"$nulls":23},{"$f":"IF(A29527<>\"\",IF(Main!$E$12=\"ALL\",A29527,IF(Main!$E$12=A29527,A29527,\"\")),\"\")","v":""},"","","","","","","",""]
[{"$nulls":23},{"$f":"IF(A29536<>\"\",IF(Main!$E$12=\"ALL\",A29536,IF(Main!$E$12=A29536,A29536,\"\")),\"\")","v":""},"","","","","","","",""]
[{"$nulls":23},{"$f":"IF(A29574<>\"\",IF(Main!$E$12=\"ALL\",A29574,IF(Main!$E$12=A29574,A29574,\"\")),\"\")","v":""},"","","","","","","",""]
[{"$nulls":23},{"$f":"IF(A29593<>\"\",IF(Main!$E$12=\"ALL\",A29593,IF(Main!$E$12=A29593,A29593,\"\")),\"\")","v":""},"","","","","","","",""]
[{"$nulls":23},{"$f":"IF(A29602<>\"\",IF(Main!$E$12=\"ALL\",A29602,IF(Main!$E$12=A29602,A29602,\"\")),\"\")","v":""},"","","","","","","",""]
[{"$nulls":23},{"$f":"IF(A29627<>\"\",IF(Main!$E$12=\"ALL\",A29627,IF(Main!$E$12=A29627,A29627,\"\")),\"\")","v":""},"","","","","","","",""]
[{"$nulls":23},{"$f":"IF(A29654<>\"\",IF(Main!$E$12=\"ALL\",A29654,IF(Main!$E$12=A29654,A29654,\"\")),\"\")","v":""},"","","","","","","",""]
[{"$nulls":23},{"$f":"IF(A29692<>\"\",IF(Main!$E$12=\"ALL\",A29692,IF(Main!$E$12=A29692,A29692,\"\")),\"\")","v":""},"","","","","","","",""]
[{"$nulls":23},{"$f":"IF(A29717<>\"\",IF(Main!$E$12=\"ALL\",A29717,IF(Main!$E$12=A29717,A29717,\"\")),\"\")","v":""},"","","","","","","",""]
[{"$nulls":23},{"$f":"IF(A29726<>\"\",IF(Main!$E$12=\"ALL\",A29726,IF(Main!$E$12=A29726,A29726,\"\")),\"\")","v":""},"","","","","","","",""]
[{"$nulls":23},{"$f":"IF(A29746<>\"\",IF(Main!$E$12=\"ALL\",A29746,IF(Main!$E$12=A29746,A29746,\"\")),\"\")","v":""},"","","","","","","",""]
[{"$nulls":23},{"$f":"IF(A29783<>\"\",IF(Main!$E$12=\"ALL\",A29783,IF(Main!$E$12=A29783,A29783,\"\")),\"\")","v":""},"","","","","","","",""]
[{"$nulls":23},{"$f":"IF(A29792<>\"\",IF(Main!$E$12=\"ALL\",A29792,IF(Main!$E$12=A29792,A29792,\"\")),\"\")","v":""},"","","","","","","",""]
[{"$nulls":23},{"$f":"IF(A29817<>\"\",IF(Main!$E$12=\"ALL\",A29817,IF(Main!$E$12=A29817,A29817,\"\")),\"\")","v":""},"","","","","","","",""]
[{"$nulls":23},{"$f":"IF(A29849<>\"\",IF(Main!$E$12=\"ALL\",A29849,IF(Main!$E$12=A29849,A29849,\"\")),\"\")","v":""},"","","","","","","",""]
[{"$nulls":23},{"$f":"IF(A29874<>\"\",IF(Main!$E$12=\"ALL\",A29874,IF(Main!$E$12=A29874,A29874,\"\")),\"\")","v":""},"","","","","","","",""]
[{"$nulls":23},{"$f":"IF(A29907<>\"\",IF(Main!$E$12=\"ALL\",A29907,IF(Main!$E$12=A29907,A29907,\"\")),\"\")","v":""},"","","","","","","",""]
[{"$nulls":23},{"$f":"IF(A29916<>\"\",IF(Main!$E$12=\"ALL\",A29916,IF(Main!$E$12=A29916,A29916,\"\")),\"\")","v":""},"","","","","","","",""]
[{"$nulls":23},{"$f":"IF(A29941<>\"\",IF(Main!$E$12=\"ALL\",A29941,IF(Main!$E$12=A29941,A29941,\"\")),\"\")","v":""},"","","","","","","",""]
[{"$nulls":23},{"$f":"IF(A29973<>\"\",IF(Main!$E$12=\"ALL\",A29973,IF(Main!$E$12=A29973,A29973,\"\")),\"\")","v":""},"","","","","","","",""]
[{"$nulls":23},{"$f":"IF(A29982<>\"\",IF(Main!$E$12=\"ALL\",A29982,IF(Main!$E$12=A29982,A29982,\"\")),\"\")","v":""},"","","","","","","",""]
[{"$nulls":23},{"$f":"IF(A30007<>\"\",IF(Main!$E$12=\"ALL\",A30007,IF(Main!$E$12=A30007,A30007,\"\")),\"\")","v":""},"","","","","","","",""]
[{"$nulls":23},{"$f":"IF(A30044<>\"\",IF(Main!$E$12=\"ALL\",A30044,IF(Main!$E$12=A30044,A30044,\"\")),\"\")","v":""},"","","","","","","",""]
[{"$nulls":23},{"$f":"IF(A30064<>\"\",IF(Main!$E$12=\"ALL\",A30064,IF(Main!$E$12=A30064,A30064,\"\")),\"\")","v":""},"","","","","","","",""]
[{"$nulls":23},{"$f":"IF(A30097<>\"\",IF(Main!$E$12=\"ALL\",A30097,IF(Main!$E$12=A30097,A30097,\"\")),\"\")","v":""},"","","","","","","",""]
[{"$nulls":23},{"$f":"IF(A30106<>\"\",IF(Main!$E$12=\"ALL\",A30106,IF(Main!$E$12=A30106,A30106,\"\")),\"\")","v":""},"","","","","","","",""]
[{"$nulls":23},{"$f":"IF(A30136<>\"\",IF(Main!$E$12=\"ALL\",A30136,IF(Main!$E$12=A30136,A30136,\"\")),\"\")","v":""},"","","","","","","",""]
[{"$nulls":23},{"$f":"IF(A30163<>\"\",IF(Main!$E$12=\"ALL\",A30163,IF(Main!$E$12=A30163,A30163,\"\")),\"\")","v":""},"","","","","","","",""]
[{"$nulls":23},{"$f":"IF(A30188<>\"\",IF(Main!$E$12=\"ALL\",A30188,IF(Main!$E$12=A30188,A30188,\"\")),\"\")","v":""},"","","","","","","",""]
[{"$nulls":23},{"$f":"IF(A30197<>\"\",IF(Main!$E$12=\"ALL\",A30197,IF(Main!$E$12=A30197,A30197,\"\")),\"\")","v":""},"","","","","","","",""]
[{"$nulls":23},{"$f":"IF(A30239<>\"\",IF(Main!$E$12=\"ALL\",A30239,IF(Main!$E$12=A30239,A30239,\"\")),\"\")","v":""},"","","","","","","",""]
[{"$nulls":23},{"$f":"IF(A30254<>\"\",IF(Main!$E$12=\"ALL\",A30254,IF(Main!$E$12=A30254,A30254,\"\")),\"\")","v":""},"","","","","","","",""]
[{"$nulls":23},{"$f":"IF(A30287<>\"\",IF(Main!$E$12=\"ALL\",A30287,IF(Main!$E$12=A30287,A30287,\"\")),\"\")","v":""},"","","","","","","",""]
[{"$nulls":23},{"$f":"IF(A30296<>\"\",IF(Main!$E$12=\"ALL\",A30296,IF(Main!$E$12=A30296,A30296,\"\")),\"\")","v":""},"","","","","","","",""]
[{"$nulls":23},{"$f":"IF(A30331<>\"\",IF(Main!$E$12=\"ALL\",A30331,IF(Main!$E$12=A30331,A30331,\"\")),\"\")","v":""},"","","","","","","",""]
[{"$nulls":23},{"$f":"IF(A30353<>\"\",IF(Main!$E$12=\"ALL\",A30353,IF(Main!$E$12=A30353,A30353,\"\")),\"\")","v":""},"","","","","","","",""]
[{"$nulls":23},{"$f":"IF(A30378<>\"\",IF(Main!$E$12=\"ALL\",A30378,IF(Main!$E$12=A30378,A30378,\"\")),\"\")","v":""},"","","","","","","",""]
[{"$nulls":23},{"$f":"IF(A30387<>\"\",IF(Main!$E$12=\"ALL\",A30387,IF(Main!$E$12=A30387,A30387,\"\")),\"\")","v":""},"","","","","","","",""]
[{"$nulls":23},{"$f":"IF(A30411<>\"\",IF(Main!$E$12=\"ALL\",A30411,IF(Main!$E$12=A30411,A30411,\"\")),\"\")","v":""},"","","","","","","",""]
[{"$nulls":23},{"$f":"IF(A30444<>\"\",IF(Main!$E$12=\"ALL\",A30444,IF(Main!$E$12=A30444,A30444,\"\")),\"\")","v":""},"","","","","","","",""]
[{"$nulls":23},{"$f":"IF(A30477<>\"\",IF(Main!$E$12=\"ALL\",A30477,IF(Main!$E$12=A30477,A30477,\"\")),\"\")","v":""},"","","","","","","",""]
[{"$nulls":23},{"$f":"IF(A30486<>\"\",IF(Main!$E$12=\"ALL\",A30486,IF(Main!$E$12=A30486,A30486,\"\")),\"\")","v":""},"","","","","","","",""]
[{"$nulls":23},{"$f":"IF(A30503<>\"\",IF(Main!$E$12=\"ALL\",A30503,IF(Main!$E$12=A30503,A30503,\"\")),\"\")","v":""},"","","","","","","",""]
[{"$nulls":23},{"$f":"IF(A30543<>\"\",IF(Main!$E$12=\"ALL\",A30543,IF(Main!$E$12=A30543,A30543,\"\")),\"\")","v":""},"","","","","","","",""]
[{"$nulls":23},{"$f":"IF(A30568<>\"\",IF(Main!$E$12=\"ALL\",A30568,IF(Main!$E$12=A30568,A30568,\"\")),\"\")","v":""},"","","","","","","",""]
[{"$nulls":23},{"$f":"IF(A30577<>\"\",IF(Main!$E$12=\"ALL\",A30577,IF(Main!$E$12=A30577,A30577,\"\")),\"\")","v":""},"","","","","","","",""]
[{"$nulls":23},{"$f":"IF(A30606<>\"\",IF(Main!$E$12=\"ALL\",A30606,IF(Main!$E$12=A30606,A30606,\"\")),\"\")","v":""},"","","","","","","",""]
[{"$nulls":23},{"$f":"IF(A30634<>\"\",IF(Main!$E$12=\"ALL\",A30634,IF(Main!$E$12=A30634,A30634,\"\")),\"\")","v":""},"","","","","","","",""]
[{"$nulls":23},{"$f":"IF(A30667<>\"\",IF(Main!$E$12=\"ALL\",A30667,IF(Main!$E$12=A30667,A30667,\"\")),\"\")","v":""},"","","","","","","",""]
[{"$nulls":23},{"$f":"IF(A30668<>\"\",IF(Main!$E$12=\"ALL\",A30668,IF(Main!$E$12=A30668,A30668,\"\")),\"\")","v":""},"","","","","","","",""]
[{"$nulls":23},{"$f":"IF(A30698<>\"\",IF(Main!$E$12=\"ALL\",A30698,IF(Main!$E$12=A30698,A30698,\"\")),\"\")","v":""},"","","","","","","",""]
[{"$nulls":23},{"$f":"IF(A30733<>\"\",IF(Main!$E$12=\"ALL\",A30733,IF(Main!$E$12=A30733,A30733,\"\")),\"\")","v":""},"","","","","","","",""]
[{"$nulls":23},{"$f":"IF(A30758<>\"\",IF(Main!$E$12=\"ALL\",A30758,IF(Main!$E$12=A30758,A30758,\"\")),\"\")","v":""},"","","","","","","",""]
[{"$nulls":23},{"$f":"IF(A30767<>\"\",IF(Main!$E$12=\"ALL\",A30767,IF(Main!$E$12=A30767,A30767,\"\")),\"\")","v":""},"","","","","","","",""]
[{"$nulls":23},{"$f":"IF(A30801<>\"\",IF(Main!$E$12=\"ALL\",A30801,IF(Main!$E$12=A30801,A30801,\"\")),\"\")","v":""},"","","","","","","",""]
[{"$nulls":23},{"$f":"IF(A30824<>\"\",IF(Main!$E$12=\"ALL\",A30824,IF(Main!$E$12=A30824,A30824,\"\")),\"\")","v":""},"","","","","","","",""]
[{"$nulls":23},{"$f":"IF(A30857<>\"\",IF(Main!$E$12=\"ALL\",A30857,IF(Main!$E$12=A30857,A30857,\"\")),\"\")","v":""},"","","","","","","",""]
[{"$nulls":23},{"$f":"IF(A30858<>\"\",IF(Main!$E$12=\"ALL\",A30858,IF(Main!$E$12=A30858,A30858,\"\")),\"\")","v":""},"","","","","","","",""]
[{"$nulls":23},{"$f":"IF(A30893<>\"\",IF(Main!$E$12=\"ALL\",A30893,IF(Main!$E$12=A30893,A30893,\"\")),\"\")","v":""},"","","","","","","",""]
[{"$nulls":23},{"$f":"IF(A30923<>\"\",IF(Main!$E$12=\"ALL\",A30923,IF(Main!$E$12=A30923,A30923,\"\")),\"\")","v":""},"","","","","","","",""]
[{"$nulls":23},{"$f":"IF(A30948<>\"\",IF(Main!$E$12=\"ALL\",A30948,IF(Main!$E$12=A30948,A30948,\"\")),\"\")","v":""},"","","","","","","",""]
[{"$nulls":23},{"$f":"IF(A30957<>\"\",IF(Main!$E$12=\"ALL\",A30957,IF(Main!$E$12=A30957,A30957,\"\")),\"\")","v":""},"","","","","","","",""]
[{"$nulls":23},{"$f":"IF(A30996<>\"\",IF(Main!$E$12=\"ALL\",A30996,IF(Main!$E$12=A30996,A30996,\"\")),\"\")","v":""},"","","","","","","",""]
[{"$nulls":23},{"$f":"IF(A31014<>\"\",IF(Main!$E$12=\"ALL\",A31014,IF(Main!$E$12=A31014,A31014,\"\")),\"\")","v":""},"","","","","","","",""]
[{"$nulls":23},{"$f":"IF(A31047<>\"\",IF(Main!$E$12=\"ALL\",A31047,IF(Main!$E$12=A31047,A31047,\"\")),\"\")","v":""},"","","","","","","",""]
[{"$nulls":23},{"$f":"IF(A31048<>\"\",IF(Main!$E$12=\"ALL\",A31048,IF(Main!$E$12=A31048,A31048,\"\")),\"\")","v":""},"","","","","","","",""]
[{"$nulls":23},{"$f":"IF(A31088<>\"\",IF(Main!$E$12=\"ALL\",A31088,IF(Main!$E$12=A31088,A31088,\"\")),\"\")","v":""},"","","","","","","",""]
[{"$nulls":23},{"$f":"IF(A31113<>\"\",IF(Main!$E$12=\"ALL\",A31113,IF(Main!$E$12=A31113,A31113,\"\")),\"\")","v":""},"","","","","","","",""]
[{"$nulls":23},{"$f":"IF(A31138<>\"\",IF(Main!$E$12=\"ALL\",A31138,IF(Main!$E$12=A31138,A31138,\"\")),\"\")","v":""},"","","","","","","",""]
[{"$nulls":23},{"$f":"IF(A31147<>\"\",IF(Main!$E$12=\"ALL\",A31147,IF(Main!$E$12=A31147,A31147,\"\")),\"\")","v":""},"","","","","","","",""]
[{"$nulls":23},{"$f":"IF(A31180<>\"\",IF(Main!$E$12=\"ALL\",A31180,IF(Main!$E$12=A31180,A31180,\"\")),\"\")","v":""},"","","","","","","",""]
[{"$nulls":23},{"$f":"IF(A31204<>\"\",IF(Main!$E$12=\"ALL\",A31204,IF(Main!$E$12=A31204,A31204,\"\")),\"\")","v":""},"","","","","","","",""]
[{"$nulls":23},{"$f":"IF(A31237<>\"\",IF(Main!$E$12=\"ALL\",A31237,IF(Main!$E$12=A31237,A31237,\"\")),\"\")","v":""},"","","","","","","",""]
[{"$nulls":23},{"$f":"IF(A31238<>\"\",IF(Main!$E$12=\"ALL\",A31238,IF(Main!$E$12=A31238,A31238,\"\")),\"\")","v":""},"","","","","","","",""]
[{"$nulls":23},{"$f":"IF(A31283<>\"\",IF(Main!$E$12=\"ALL\",A31283,IF(Main!$E$12=A31283,A31283,\"\")),\"\")","v":""},"","","","","","","",""]
[{"$nulls":23},{"$f":"IF(A31303<>\"\",IF(Main!$E$12=\"ALL\",A31303,IF(Main!$E$12=A31303,A31303,\"\")),\"\")","v":""},"","","","","","","",""]
[{"$nulls":23},{"$f":"IF(A31328<>\"\",IF(Main!$E$12=\"ALL\",A31328,IF(Main!$E$12=A31328,A31328,\"\")),\"\")","v":""},"","","","","","","",""]
[{"$nulls":23},{"$f":"IF(A31337<>\"\",IF(Main!$E$12=\"ALL\",A31337,IF(Main!$E$12=A31337,A31337,\"\")),\"\")","v":""},"","","","","","","",""]
[{"$nulls":23},{"$f":"IF(A31375<>\"\",IF(Main!$E$12=\"ALL\",A31375,IF(Main!$E$12=A31375,A31375,\"\")),\"\")","v":""},"","","","","","","",""]
[{"$nulls":23},{"$f":"IF(A31394<>\"\",IF(Main!$E$12=\"ALL\",A31394,IF(Main!$E$12=A31394,A31394,\"\")),\"\")","v":""},"","","","","","","",""]
[{"$nulls":23},{"$f":"IF(A31427<>\"\",IF(Main!$E$12=\"ALL\",A31427,IF(Main!$E$12=A31427,A31427,\"\")),\"\")","v":""},{"$f":"IF($X31427=\"\",\"\",D31427)","v":""},{"$f":"IF($X31427=\"\",\"\",F31427)","v":""},{"$f":"IF($X31427=\"\",\"\",J31427)","v":""},{"$f":"IF($X31427=\"\",\"\",N31427)","v":""},{"$f":"IF($X31427=\"\",\"\",IF(P31427=\"\",\"\",P31427))","v":""},{"$f":"IF($X31427=\"\",\"\",R31427)","v":""},{"$f":"IF($X31427=\"\",\"\",T31427)","v":""},{"$f":"IF($X31427=\"\",\"\",V31427)","v":""}]
[{"$nulls":23},{"$f":"IF(A31428<>\"\",IF(Main!$E$12=\"ALL\",A31428,IF(Main!$E$12=A31428,A31428,\"\")),\"\")","v":""},"","","","","","","",""]
[{"$nulls":23},{"$f":"IF(A31455<>\"\",IF(Main!$E$12=\"ALL\",A31455,IF(Main!$E$12=A31455,A31455,\"\")),\"\")","v":""},"","","","","","","",""]
[{"$nulls":23},{"$f":"IF(A31485<>\"\",IF(Main!$E$12=\"ALL\",A31485,IF(Main!$E$12=A31485,A31485,\"\")),\"\")","v":""},"","","","","","","",""]
[{"$nulls":23},{"$f":"IF(A31518<>\"\",IF(Main!$E$12=\"ALL\",A31518,IF(Main!$E$12=A31518,A31518,\"\")),\"\")","v":""},"","","","","","","",""]
[{"$nulls":23},{"$f":"IF(A31527<>\"\",IF(Main!$E$12=\"ALL\",A31527,IF(Main!$E$12=A31527,A31527,\"\")),\"\")","v":""},"","","","","","","",""]
[{"$nulls":23},{"$f":"IF(A31547<>\"\",IF(Main!$E$12=\"ALL\",A31547,IF(Main!$E$12=A31547,A31547,\"\")),\"\")","v":""},"","","","","","","",""]
[{"$nulls":23},{"$f":"IF(A31584<>\"\",IF(Main!$E$12=\"ALL\",A31584,IF(Main!$E$12=A31584,A31584,\"\")),\"\")","v":""},"","","","","","","",""]
[{"$nulls":23},{"$f":"IF(A31617<>\"\",IF(Main!$E$12=\"ALL\",A31617,IF(Main!$E$12=A31617,A31617,\"\")),\"\")","v":""},"","","","","","","",""]
[{"$nulls":23},{"$f":"IF(A31618<>\"\",IF(Main!$E$12=\"ALL\",A31618,IF(Main!$E$12=A31618,A31618,\"\")),\"\")","v":""},"","","","","","","",""]
[{"$nulls":23},{"$f":"IF(A31650<>\"\",IF(Main!$E$12=\"ALL\",A31650,IF(Main!$E$12=A31650,A31650,\"\")),\"\")","v":""},"","","","","","","",""]
[{"$nulls":23},{"$f":"IF(A31675<>\"\",IF(Main!$E$12=\"ALL\",A31675,IF(Main!$E$12=A31675,A31675,\"\")),\"\")","v":""},"","","","","","","",""]
[{"$nulls":23},{"$f":"IF(A31708<>\"\",IF(Main!$E$12=\"ALL\",A31708,IF(Main!$E$12=A31708,A31708,\"\")),\"\")","v":""},"","","","","","","",""]
[{"$nulls":23},{"$f":"IF(A31717<>\"\",IF(Main!$E$12=\"ALL\",A31717,IF(Main!$E$12=A31717,A31717,\"\")),\"\")","v":""},"","","","","","","",""]
[{"$nulls":23},{"$f":"IF(A31742<>\"\",IF(Main!$E$12=\"ALL\",A31742,IF(Main!$E$12=A31742,A31742,\"\")),\"\")","v":""},"","","","","","","",""]
[{"$nulls":23},{"$f":"IF(A31765<>\"\",IF(Main!$E$12=\"ALL\",A31765,IF(Main!$E$12=A31765,A31765,\"\")),\"\")","v":""},"","","","","","","",""]
[{"$nulls":23},{"$f":"IF(A31807<>\"\",IF(Main!$E$12=\"ALL\",A31807,IF(Main!$E$12=A31807,A31807,\"\")),\"\")","v":""},"","","","","","","",""]
[{"$nulls":23},{"$f":"IF(A31808<>\"\",IF(Main!$E$12=\"ALL\",A31808,IF(Main!$E$12=A31808,A31808,\"\")),\"\")","v":""},"","","","","","","",""]
[{"$nulls":23},{"$f":"IF(A31841<>\"\",IF(Main!$E$12=\"ALL\",A31841,IF(Main!$E$12=A31841,A31841,\"\")),\"\")","v":""},"","","","","","","",""]
[{"$nulls":23},{"$f":"IF(A31857<>\"\",IF(Main!$E$12=\"ALL\",A31857,IF(Main!$E$12=A31857,A31857,\"\")),\"\")","v":""},"","","","","","","",""]
[{"$nulls":23},{"$f":"IF(A31898<>\"\",IF(Main!$E$12=\"ALL\",A31898,IF(Main!$E$12=A31898,A31898,\"\")),\"\")","v":""},"","","","","","","",""]
[{"$nulls":23},{"$f":"IF(A31907<>\"\",IF(Main!$E$12=\"ALL\",A31907,IF(Main!$E$12=A31907,A31907,\"\")),\"\")","v":""},"","","","","","","",""]
[{"$nulls":23},{"$f":"IF(A31932<>\"\",IF(Main!$E$12=\"ALL\",A31932,IF(Main!$E$12=A31932,A31932,\"\")),\"\")","v":""},"","","","","","","",""]
[{"$nulls":23},{"$f":"IF(A31960<>\"\",IF(Main!$E$12=\"ALL\",A31960,IF(Main!$E$12=A31960,A31960,\"\")),\"\")","v":""},"","","","","","","",""]
[{"$nulls":23},{"$f":"IF(A31989<>\"\",IF(Main!$E$12=\"ALL\",A31989,IF(Main!$E$12=A31989,A31989,\"\")),\"\")","v":""},"","","","","","","",""]
[{"$nulls":23},{"$f":"IF(A31998<>\"\",IF(Main!$E$12=\"ALL\",A31998,IF(Main!$E$12=A31998,A31998,\"\")),\"\")","v":""},"","","","","","","",""]
[{"$nulls":23},{"$f":"IF(A32031<>\"\",IF(Main!$E$12=\"ALL\",A32031,IF(Main!$E$12=A32031,A32031,\"\")),\"\")","v":""},"","","","","","","",""]
[{"$nulls":23},{"$f":"IF(A32052<>\"\",IF(Main!$E$12=\"ALL\",A32052,IF(Main!$E$12=A32052,A32052,\"\")),\"\")","v":""},"","","","","","","",""]
[{"$nulls":23},{"$f":"IF(A32088<>\"\",IF(Main!$E$12=\"ALL\",A32088,IF(Main!$E$12=A32088,A32088,\"\")),\"\")","v":""},"","","","","","","",""]
[{"$nulls":23},{"$f":"IF(A32097<>\"\",IF(Main!$E$12=\"ALL\",A32097,IF(Main!$E$12=A32097,A32097,\"\")),\"\")","v":""},"","","","","","","",""]
[{"$nulls":23},{"$f":"IF(A32122<>\"\",IF(Main!$E$12=\"ALL\",A32122,IF(Main!$E$12=A32122,A32122,\"\")),\"\")","v":""},"","","","","","","",""]
[{"$nulls":23},{"$f":"IF(A32155<>\"\",IF(Main!$E$12=\"ALL\",A32155,IF(Main!$E$12=A32155,A32155,\"\")),\"\")","v":""},"","","","","","","",""]
[{"$nulls":23},{"$f":"IF(A32179<>\"\",IF(Main!$E$12=\"ALL\",A32179,IF(Main!$E$12=A32179,A32179,\"\")),\"\")","v":""},"","","","","","","",""]
[{"$nulls":23},{"$f":"IF(A32188<>\"\",IF(Main!$E$12=\"ALL\",A32188,IF(Main!$E$12=A32188,A32188,\"\")),\"\")","v":""},"","","","","","","",""]
[{"$nulls":23},{"$f":"IF(A32221<>\"\",IF(Main!$E$12=\"ALL\",A32221,IF(Main!$E$12=A32221,A32221,\"\")),\"\")","v":""},"","","","","","","",""]
[{"$nulls":23},{"$f":"IF(A32247<>\"\",IF(Main!$E$12=\"ALL\",A32247,IF(Main!$E$12=A32247,A32247,\"\")),\"\")","v":""},"","","","","","","",""]
[{"$nulls":23},{"$f":"IF(A32278<>\"\",IF(Main!$E$12=\"ALL\",A32278,IF(Main!$E$12=A32278,A32278,\"\")),\"\")","v":""},"","","","","","","",""]
[{"$nulls":23},{"$f":"IF(A32303<>\"\",IF(Main!$E$12=\"ALL\",A32303,IF(Main!$E$12=A32303,A32303,\"\")),\"\")","v":""},"","","","","","","",""]
[{"$nulls":23},{"$f":"IF(A32312<>\"\",IF(Main!$E$12=\"ALL\",A32312,IF(Main!$E$12=A32312,A32312,\"\")),\"\")","v":""},"","","","","","","",""]
[{"$nulls":23},{"$f":"IF(A32350<>\"\",IF(Main!$E$12=\"ALL\",A32350,IF(Main!$E$12=A32350,A32350,\"\")),\"\")","v":""},"","","","","","","",""]
[{"$nulls":23},{"$f":"IF(A32369<>\"\",IF(Main!$E$12=\"ALL\",A32369,IF(Main!$E$12=A32369,A32369,\"\")),\"\")","v":""},"","","","","","","",""]
[{"$nulls":23},{"$f":"IF(A32378<>\"\",IF(Main!$E$12=\"ALL\",A32378,IF(Main!$E$12=A32378,A32378,\"\")),\"\")","v":""},"","","","","","","",""]
[{"$nulls":23},{"$f":"IF(A32411<>\"\",IF(Main!$E$12=\"ALL\",A32411,IF(Main!$E$12=A32411,A32411,\"\")),\"\")","v":""},"","","","","","","",""]
[{"$nulls":23},{"$f":"IF(A32442<>\"\",IF(Main!$E$12=\"ALL\",A32442,IF(Main!$E$12=A32442,A32442,\"\")),\"\")","v":""},"","","","","","","",""]
[{"$nulls":23},{"$f":"IF(A32468<>\"\",IF(Main!$E$12=\"ALL\",A32468,IF(Main!$E$12=A32468,A32468,\"\")),\"\")","v":""},"","","","","","","",""]
[{"$nulls":23},{"$f":"IF(A32493<>\"\",IF(Main!$E$12=\"ALL\",A32493,IF(Main!$E$12=A32493,A32493,\"\")),\"\")","v":""},"","","","","","","",""]
[{"$nulls":23},{"$f":"IF(A32502<>\"\",IF(Main!$E$12=\"ALL\",A32502,IF(Main!$E$12=A32502,A32502,\"\")),\"\")","v":""},"","","","","","","",""]
[{"$nulls":23},{"$f":"IF(A32522<>\"\",IF(Main!$E$12=\"ALL\",A32522,IF(Main!$E$12=A32522,A32522,\"\")),\"\")","v":""},"","","","","","","",""]
[{"$nulls":23},{"$f":"IF(A32559<>\"\",IF(Main!$E$12=\"ALL\",A32559,IF(Main!$E$12=A32559,A32559,\"\")),\"\")","v":""},"","","","","","","",""]
[{"$nulls":23},{"$f":"IF(A32568<>\"\",IF(Main!$E$12=\"ALL\",A32568,IF(Main!$E$12=A32568,A32568,\"\")),\"\")","v":""},"","","","","","","",""]
[{"$nulls":23},{"$f":"IF(A32601<>\"\",IF(Main!$E$12=\"ALL\",A32601,IF(Main!$E$12=A32601,A32601,\"\")),\"\")","v":""},"","","","","","","",""]
[{"$nulls":23},{"$f":"IF(A32637<>\"\",IF(Main!$E$12=\"ALL\",A32637,IF(Main!$E$12=A32637,A32637,\"\")),\"\")","v":""},"","","","","","","",""]
[{"$nulls":23},{"$f":"IF(A32658<>\"\",IF(Main!$E$12=\"ALL\",A32658,IF(Main!$E$12=A32658,A32658,\"\")),\"\")","v":""},"","","","","","","",""]
[{"$nulls":23},{"$f":"IF(A32683<>\"\",IF(Main!$E$12=\"ALL\",A32683,IF(Main!$E$12=A32683,A32683,\"\")),\"\")","v":""},"","","","","","","",""]
[{"$nulls":23},{"$f":"IF(A32692<>\"\",IF(Main!$E$12=\"ALL\",A32692,IF(Main!$E$12=A32692,A32692,\"\")),\"\")","v":""},"","","","","","","",""]
[{"$nulls":23},{"$f":"IF(A32717<>\"\",IF(Main!$E$12=\"ALL\",A32717,IF(Main!$E$12=A32717,A32717,\"\")),\"\")","v":""},"","","","","","","",""]
[{"$nulls":23},{"$f":"IF(A32749<>\"\",IF(Main!$E$12=\"ALL\",A32749,IF(Main!$E$12=A32749,A32749,\"\")),\"\")","v":""},"","","","","","","",""]
[{"$nulls":23},{"$f":"IF(A32758<>\"\",IF(Main!$E$12=\"ALL\",A32758,IF(Main!$E$12=A32758,A32758,\"\")),\"\")","v":""},"","","","","","","",""]
[{"$nulls":23},{"$f":"IF(A32783<>\"\",IF(Main!$E$12=\"ALL\",A32783,IF(Main!$E$12=A32783,A32783,\"\")),\"\")","v":""},"","","","","","","",""]
[{"$nulls":23},{"$f":"IF(A32809<>\"\",IF(Main!$E$12=\"ALL\",A32809,IF(Main!$E$12=A32809,A32809,\"\")),\"\")","v":""},"","","","","","","",""]
[{"$nulls":23},{"$f":"IF(A32848<>\"\",IF(Main!$E$12=\"ALL\",A32848,IF(Main!$E$12=A32848,A32848,\"\")),\"\")","v":""},"","","","","","","",""]
[{"$nulls":23},{"$f":"IF(A32873<>\"\",IF(Main!$E$12=\"ALL\",A32873,IF(Main!$E$12=A32873,A32873,\"\")),\"\")","v":""},"","","","","","","",""]
[{"$nulls":23},{"$f":"IF(A32882<>\"\",IF(Main!$E$12=\"ALL\",A32882,IF(Main!$E$12=A32882,A32882,\"\")),\"\")","v":""},"","","","","","","",""]
[{"$nulls":23},{"$f":"IF(A32912<>\"\",IF(Main!$E$12=\"ALL\",A32912,IF(Main!$E$12=A32912,A32912,\"\")),\"\")","v":""},"","","","","","","",""]
[{"$nulls":23},{"$f":"IF(A32939<>\"\",IF(Main!$E$12=\"ALL\",A32939,IF(Main!$E$12=A32939,A32939,\"\")),\"\")","v":""},"","","","","","","",""]
[{"$nulls":23},{"$f":"IF(A32948<>\"\",IF(Main!$E$12=\"ALL\",A32948,IF(Main!$E$12=A32948,A32948,\"\")),\"\")","v":""},"","","","","","","",""]
[{"$nulls":23},{"$f":"IF(A32973<>\"\",IF(Main!$E$12=\"ALL\",A32973,IF(Main!$E$12=A32973,A32973,\"\")),\"\")","v":""},"","","","","","","",""]
[{"$nulls":23},{"$f":"IF(A33004<>\"\",IF(Main!$E$12=\"ALL\",A33004,IF(Main!$E$12=A33004,A33004,\"\")),\"\")","v":""},"","","","","","","",""]
[{"$nulls":23},{"$f":"IF(A33038<>\"\",IF(Main!$E$12=\"ALL\",A33038,IF(Main!$E$12=A33038,A33038,\"\")),\"\")","v":""},"","","","","","","",""]
[{"$nulls":23},{"$f":"IF(A33063<>\"\",IF(Main!$E$12=\"ALL\",A33063,IF(Main!$E$12=A33063,A33063,\"\")),\"\")","v":""},"","","","","","","",""]
[{"$nulls":23},{"$f":"IF(A33072<>\"\",IF(Main!$E$12=\"ALL\",A33072,IF(Main!$E$12=A33072,A33072,\"\")),\"\")","v":""},"","","","","","","",""]
[{"$nulls":23},{"$f":"IF(A33107<>\"\",IF(Main!$E$12=\"ALL\",A33107,IF(Main!$E$12=A33107,A33107,\"\")),\"\")","v":""},"","","","","","","",""]
[{"$nulls":23},{"$f":"IF(A33129<>\"\",IF(Main!$E$12=\"ALL\",A33129,IF(Main!$E$12=A33129,A33129,\"\")),\"\")","v":""},"","","","","","","",""]
[{"$nulls":23},{"$f":"IF(A33138<>\"\",IF(Main!$E$12=\"ALL\",A33138,IF(Main!$E$12=A33138,A33138,\"\")),\"\")","v":""},"","","","","","","",""]
[{"$nulls":23},{"$f":"IF(A33163<>\"\",IF(Main!$E$12=\"ALL\",A33163,IF(Main!$E$12=A33163,A33163,\"\")),\"\")","v":""},"","","","","","","",""]
[{"$nulls":23},{"$f":"IF(A33199<>\"\",IF(Main!$E$12=\"ALL\",A33199,IF(Main!$E$12=A33199,A33199,\"\")),\"\")","v":""},"","","","","","","",""]
[{"$nulls":23},{"$f":"IF(A33228<>\"\",IF(Main!$E$12=\"ALL\",A33228,IF(Main!$E$12=A33228,A33228,\"\")),\"\")","v":""},"","","","","","","",""]
[{"$nulls":23},{"$f":"IF(A33253<>\"\",IF(Main!$E$12=\"ALL\",A33253,IF(Main!$E$12=A33253,A33253,\"\")),\"\")","v":""},"","","","","","","",""]
[{"$nulls":23},{"$f":"IF(A33262<>\"\",IF(Main!$E$12=\"ALL\",A33262,IF(Main!$E$12=A33262,A33262,\"\")),\"\")","v":""},"","","","","","","",""]
[{"$nulls":23},{"$f":"IF(A33291<>\"\",IF(Main!$E$12=\"ALL\",A33291,IF(Main!$E$12=A33291,A33291,\"\")),\"\")","v":""},"","","","","","","",""]
[{"$nulls":23},{"$f":"IF(A33319<>\"\",IF(Main!$E$12=\"ALL\",A33319,IF(Main!$E$12=A33319,A33319,\"\")),\"\")","v":""},"","","","","","","",""]
[{"$nulls":23},{"$f":"IF(A33328<>\"\",IF(Main!$E$12=\"ALL\",A33328,IF(Main!$E$12=A33328,A33328,\"\")),\"\")","v":""},"","","","","","","",""]
[{"$nulls":23},{"$f":"IF(A33353<>\"\",IF(Main!$E$12=\"ALL\",A33353,IF(Main!$E$12=A33353,A33353,\"\")),\"\")","v":""},"","","","","","","",""]
[{"$nulls":23},{"$f":"IF(A33394<>\"\",IF(Main!$E$12=\"ALL\",A33394,IF(Main!$E$12=A33394,A33394,\"\")),\"\")","v":""},"","","","","","","",""]
[{"$nulls":23},{"$f":"IF(A33418<>\"\",IF(Main!$E$12=\"ALL\",A33418,IF(Main!$E$12=A33418,A33418,\"\")),\"\")","v":""},"","","","","","","",""]
[{"$nulls":23},{"$f":"IF(A33443<>\"\",IF(Main!$E$12=\"ALL\",A33443,IF(Main!$E$12=A33443,A33443,\"\")),\"\")","v":""},"","","","","","","",""]
[{"$nulls":23},{"$f":"IF(A33452<>\"\",IF(Main!$E$12=\"ALL\",A33452,IF(Main!$E$12=A33452,A33452,\"\")),\"\")","v":""},"","","","","","","",""]
[{"$nulls":23},{"$f":"IF(A33486<>\"\",IF(Main!$E$12=\"ALL\",A33486,IF(Main!$E$12=A33486,A33486,\"\")),\"\")","v":""},"","","","","","","",""]
[{"$nulls":23},{"$f":"IF(A33509<>\"\",IF(Main!$E$12=\"ALL\",A33509,IF(Main!$E$12=A33509,A33509,\"\")),\"\")","v":""},"","","","","","","",""]
[{"$nulls":23},{"$f":"IF(A33518<>\"\",IF(Main!$E$12=\"ALL\",A33518,IF(Main!$E$12=A33518,A33518,\"\")),\"\")","v":""},"","","","","","","",""]
[{"$nulls":23},{"$f":"IF(A33543<>\"\",IF(Main!$E$12=\"ALL\",A33543,IF(Main!$E$12=A33543,A33543,\"\")),\"\")","v":""},"","","","","","","",""]
[{"$nulls":23},{"$f":"IF(A33566<>\"\",IF(Main!$E$12=\"ALL\",A33566,IF(Main!$E$12=A33566,A33566,\"\")),\"\")","v":""},"","","","","","","",""]
[{"$nulls":23},{"$f":"IF(A33600<>\"\",IF(Main!$E$12=\"ALL\",A33600,IF(Main!$E$12=A33600,A33600,\"\")),\"\")","v":""},"","","","","","","",""]
[{"$nulls":23},{"$f":"IF(A33633<>\"\",IF(Main!$E$12=\"ALL\",A33633,IF(Main!$E$12=A33633,A33633,\"\")),\"\")","v":""},"","","","","","","",""]
[{"$nulls":23},{"$f":"IF(A33642<>\"\",IF(Main!$E$12=\"ALL\",A33642,IF(Main!$E$12=A33642,A33642,\"\")),\"\")","v":""},"","","","","","","",""]
[{"$nulls":23},{"$f":"IF(A33681<>\"\",IF(Main!$E$12=\"ALL\",A33681,IF(Main!$E$12=A33681,A33681,\"\")),\"\")","v":""},"","","","","","","",""]
[{"$nulls":23},{"$f":"IF(A33699<>\"\",IF(Main!$E$12=\"ALL\",A33699,IF(Main!$E$12=A33699,A33699,\"\")),\"\")","v":""},"","","","","","","",""]
[{"$nulls":23},{"$f":"IF(A33708<>\"\",IF(Main!$E$12=\"ALL\",A33708,IF(Main!$E$12=A33708,A33708,\"\")),\"\")","v":""},"","","","","","","",""]
[{"$nulls":23},{"$f":"IF(A33733<>\"\",IF(Main!$E$12=\"ALL\",A33733,IF(Main!$E$12=A33733,A33733,\"\")),\"\")","v":""},"","","","","","","",""]
[{"$nulls":23},{"$f":"IF(A33761<>\"\",IF(Main!$E$12=\"ALL\",A33761,IF(Main!$E$12=A33761,A33761,\"\")),\"\")","v":""},"","","","","","","",""]
[{"$nulls":23},{"$f":"IF(A33790<>\"\",IF(Main!$E$12=\"ALL\",A33790,IF(Main!$E$12=A33790,A33790,\"\")),\"\")","v":""},"","","","","","","",""]
[{"$nulls":23},{"$f":"IF(A33823<>\"\",IF(Main!$E$12=\"ALL\",A33823,IF(Main!$E$12=A33823,A33823,\"\")),\"\")","v":""},"","","","","","","",""]
[{"$nulls":23},{"$f":"IF(A33832<>\"\",IF(Main!$E$12=\"ALL\",A33832,IF(Main!$E$12=A33832,A33832,\"\")),\"\")","v":""},"","","","","","","",""]
[{"$nulls":23},{"$f":"IF(A33853<>\"\",IF(Main!$E$12=\"ALL\",A33853,IF(Main!$E$12=A33853,A33853,\"\")),\"\")","v":""},"","","","","","","",""]
[{"$nulls":23},{"$f":"IF(A33889<>\"\",IF(Main!$E$12=\"ALL\",A33889,IF(Main!$E$12=A33889,A33889,\"\")),\"\")","v":""},"","","","","","","",""]
[{"$nulls":23},{"$f":"IF(A33898<>\"\",IF(Main!$E$12=\"ALL\",A33898,IF(Main!$E$12=A33898,A33898,\"\")),\"\")","v":""},"","","","","","","",""]
[{"$nulls":23},{"$f":"IF(A33923<>\"\",IF(Main!$E$12=\"ALL\",A33923,IF(Main!$E$12=A33923,A33923,\"\")),\"\")","v":""},{"$f":"IF($X33923=\"\",\"\",D33923)","v":""},{"$f":"IF($X33923=\"\",\"\",F33923)","v":""},{"$f":"IF($X33923=\"\",\"\",J33923)","v":""},{"$f":"IF($X33923=\"\",\"\",N33923)","v":""},{"$f":"IF($X33923=\"\",\"\",IF(P33923=\"\",\"\",P33923))","v":""},{"$f":"IF($X33923=\"\",\"\",R33923)","v":""},{"$f":"IF($X33923=\"\",\"\",T33923)","v":""},{"$f":"IF($X33923=\"\",\"\",V33923)","v":""}]
[{"$nulls":23},{"$f":"IF(A33956<>\"\",IF(Main!$E$12=\"ALL\",A33956,IF(Main!$E$12=A33956,A33956,\"\")),\"\")","v":""},"","","","","","","",""]
[{"$nulls":23},{"$f":"IF(A33980<>\"\",IF(Main!$E$12=\"ALL\",A33980,IF(Main!$E$12=A33980,A33980,\"\")),\"\")","v":""},"","","","","","","",""]
[{"$nulls":23},{"$f":"IF(A34013<>\"\",IF(Main!$E$12=\"ALL\",A34013,IF(Main!$E$12=A34013,A34013,\"\")),\"\")","v":""},"","","","","","","",""]
[{"$nulls":23},{"$f":"IF(A34022<>\"\",IF(Main!$E$12=\"ALL\",A34022,IF(Main!$E$12=A34022,A34022,\"\")),\"\")","v":""},"","","","","","","",""]
[{"$nulls":23},{"$f":"IF(A34048<>\"\",IF(Main!$E$12=\"ALL\",A34048,IF(Main!$E$12=A34048,A34048,\"\")),\"\")","v":""},"","","","","","","",""]
[{"$nulls":23},{"$f":"IF(A34079<>\"\",IF(Main!$E$12=\"ALL\",A34079,IF(Main!$E$12=A34079,A34079,\"\")),\"\")","v":""},"","","","","","","",""]
[{"$nulls":23},{"$f":"IF(A34104<>\"\",IF(Main!$E$12=\"ALL\",A34104,IF(Main!$E$12=A34104,A34104,\"\")),\"\")","v":""},"","","","","","","",""]
[{"$nulls":23},{"$f":"IF(A34113<>\"\",IF(Main!$E$12=\"ALL\",A34113,IF(Main!$E$12=A34113,A34113,\"\")),\"\")","v":""},"","","","","","","",""]
[{"$nulls":23},{"$f":"IF(A34151<>\"\",IF(Main!$E$12=\"ALL\",A34151,IF(Main!$E$12=A34151,A34151,\"\")),\"\")","v":""},"","","","","","","",""]
[{"$nulls":23},{"$f":"IF(A34170<>\"\",IF(Main!$E$12=\"ALL\",A34170,IF(Main!$E$12=A34170,A34170,\"\")),\"\")","v":""},"","","","","","","",""]
[{"$nulls":23},{"$f":"IF(A34203<>\"\",IF(Main!$E$12=\"ALL\",A34203,IF(Main!$E$12=A34203,A34203,\"\")),\"\")","v":""},"","","","","","","",""]
[{"$nulls":23},{"$f":"IF(A34212<>\"\",IF(Main!$E$12=\"ALL\",A34212,IF(Main!$E$12=A34212,A34212,\"\")),\"\")","v":""},"","","","","","","",""]
[{"$nulls":23},{"$f":"IF(A34243<>\"\",IF(Main!$E$12=\"ALL\",A34243,IF(Main!$E$12=A34243,A34243,\"\")),\"\")","v":""},{"$f":"IF($X34243=\"\",\"\",D34243)","v":""},{"$f":"IF($X34243=\"\",\"\",F34243)","v":""},{"$f":"IF($X34243=\"\",\"\",J34243)","v":""},{"$f":"IF($X34243=\"\",\"\",N34243)","v":""},{"$f":"IF($X34243=\"\",\"\",IF(P34243=\"\",\"\",P34243))","v":""},{"$f":"IF($X34243=\"\",\"\",R34243)","v":""},{"$f":"IF($X34243=\"\",\"\",T34243)","v":""},{"$f":"IF($X34243=\"\",\"\",V34243)","v":""}]
[{"$nulls":23},{"$f":"IF(A34269<>\"\",IF(Main!$E$12=\"ALL\",A34269,IF(Main!$E$12=A34269,A34269,\"\")),\"\")","v":""},"","","","","","","",""]
[{"$nulls":23},{"$f":"IF(A34294<>\"\",IF(Main!$E$12=\"ALL\",A34294,IF(Main!$E$12=A34294,A34294,\"\")),\"\")","v":""},"","","","","","","",""]
[{"$nulls":23},{"$f":"IF(A34303<>\"\",IF(Main!$E$12=\"ALL\",A34303,IF(Main!$E$12=A34303,A34303,\"\")),\"\")","v":""},"","","","","","","",""]
[{"$nulls":23},{"$f":"IF(A34346<>\"\",IF(Main!$E$12=\"ALL\",A34346,IF(Main!$E$12=A34346,A34346,\"\")),\"\")","v":""},"","","","","","","",""]
[{"$nulls":23},{"$f":"IF(A34360<>\"\",IF(Main!$E$12=\"ALL\",A34360,IF(Main!$E$12=A34360,A34360,\"\")),\"\")","v":""},"","","","","","","",""]
[{"$nulls":23},{"$f":"IF(A34393<>\"\",IF(Main!$E$12=\"ALL\",A34393,IF(Main!$E$12=A34393,A34393,\"\")),\"\")","v":""},"","","","","","","",""]
[{"$nulls":23},{"$f":"IF(A34418<>\"\",IF(Main!$E$12=\"ALL\",A34418,IF(Main!$E$12=A34418,A34418,\"\")),\"\")","v":""},"","","","","","","",""]
[{"$nulls":23},{"$f":"IF(A34438<>\"\",IF(Main!$E$12=\"ALL\",A34438,IF(Main!$E$12=A34438,A34438,\"\")),\"\")","v":""},"","","","","","","",""]
[{"$nulls":23},{"$f":"IF(A34459<>\"\",IF(Main!$E$12=\"ALL\",A34459,IF(Main!$E$12=A34459,A34459,\"\")),\"\")","v":""},"","","","","","","",""]
[{"$nulls":23},{"$f":"IF(A34484<>\"\",IF(Main!$E$12=\"ALL\",A34484,IF(Main!$E$12=A34484,A34484,\"\")),\"\")","v":""},"","","","","","","",""]
[{"$nulls":23},{"$f":"IF(A34493<>\"\",IF(Main!$E$12=\"ALL\",A34493,IF(Main!$E$12=A34493,A34493,\"\")),\"\")","v":""},"","","","","","","",""]
[{"$nulls":23},{"$f":"IF(A34518<>\"\",IF(Main!$E$12=\"ALL\",A34518,IF(Main!$E$12=A34518,A34518,\"\")),\"\")","v":""},"","","","","","","",""]
[{"$nulls":23},{"$f":"IF(A34550<>\"\",IF(Main!$E$12=\"ALL\",A34550,IF(Main!$E$12=A34550,A34550,\"\")),\"\")","v":""},"","","","","","","",""]
[{"$nulls":23},{"$f":"IF(A34583<>\"\",IF(Main!$E$12=\"ALL\",A34583,IF(Main!$E$12=A34583,A34583,\"\")),\"\")","v":""},"","","","","","","",""]
[{"$nulls":23},{"$f":"IF(A34608<>\"\",IF(Main!$E$12=\"ALL\",A34608,IF(Main!$E$12=A34608,A34608,\"\")),\"\")","v":""},"","","","","","","",""]
[{"$nulls":23},{"$f":"IF(A34633<>\"\",IF(Main!$E$12=\"ALL\",A34633,IF(Main!$E$12=A34633,A34633,\"\")),\"\")","v":""},"","","","","","","",""]
[{"$nulls":23},{"$f":"IF(A34649<>\"\",IF(Main!$E$12=\"ALL\",A34649,IF(Main!$E$12=A34649,A34649,\"\")),\"\")","v":""},"","","","","","","",""]
[{"$nulls":23},{"$f":"IF(A34674<>\"\",IF(Main!$E$12=\"ALL\",A34674,IF(Main!$E$12=A34674,A34674,\"\")),\"\")","v":""},"","","","","","","",""]
[{"$nulls":23},{"$f":"IF(A34683<>\"\",IF(Main!$E$12=\"ALL\",A34683,IF(Main!$E$12=A34683,A34683,\"\")),\"\")","v":""},"","","","","","","",""]
[{"$nulls":23},{"$f":"IF(A34713<>\"\",IF(Main!$E$12=\"ALL\",A34713,IF(Main!$E$12=A34713,A34713,\"\")),\"\")","v":""},"","","","","","","",""]
[{"$nulls":23},{"$f":"IF(A34740<>\"\",IF(Main!$E$12=\"ALL\",A34740,IF(Main!$E$12=A34740,A34740,\"\")),\"\")","v":""},"","","","","","","",""]
[{"$nulls":23},{"$f":"IF(A34773<>\"\",IF(Main!$E$12=\"ALL\",A34773,IF(Main!$E$12=A34773,A34773,\"\")),\"\")","v":""},"","","","","","","",""]
[{"$nulls":23},{"$f":"IF(A34798<>\"\",IF(Main!$E$12=\"ALL\",A34798,IF(Main!$E$12=A34798,A34798,\"\")),\"\")","v":""},"","","","","","","",""]
[{"$nulls":23},{"$f":"IF(A34805<>\"\",IF(Main!$E$12=\"ALL\",A34805,IF(Main!$E$12=A34805,A34805,\"\")),\"\")","v":""},"","","","","","","",""]
[{"$nulls":23},{"$f":"IF(A34839<>\"\",IF(Main!$E$12=\"ALL\",A34839,IF(Main!$E$12=A34839,A34839,\"\")),\"\")","v":""},"","","","","","","",""]
[{"$nulls":23},{"$f":"IF(A34864<>\"\",IF(Main!$E$12=\"ALL\",A34864,IF(Main!$E$12=A34864,A34864,\"\")),\"\")","v":""},"","","","","","","",""]
[{"$nulls":23},{"$f":"IF(A34873<>\"\",IF(Main!$E$12=\"ALL\",A34873,IF(Main!$E$12=A34873,A34873,\"\")),\"\")","v":""},"","","","","","","",""]
[{"$nulls":23},{"$f":"IF(A34897<>\"\",IF(Main!$E$12=\"ALL\",A34897,IF(Main!$E$12=A34897,A34897,\"\")),\"\")","v":""},"","","","","","","",""]
[{"$nulls":23},{"$f":"IF(A34930<>\"\",IF(Main!$E$12=\"ALL\",A34930,IF(Main!$E$12=A34930,A34930,\"\")),\"\")","v":""},"","","","","","","",""]
[{"$nulls":23},{"$f":"IF(A34963<>\"\",IF(Main!$E$12=\"ALL\",A34963,IF(Main!$E$12=A34963,A34963,\"\")),\"\")","v":""},"","","","","","","",""]
[{"$nulls":23},{"$f":"IF(A34988<>\"\",IF(Main!$E$12=\"ALL\",A34988,IF(Main!$E$12=A34988,A34988,\"\")),\"\")","v":""},"","","","","","","",""]
[{"$nulls":23},{"$f":"IF(A35000<>\"\",IF(Main!$E$12=\"ALL\",A35000,IF(Main!$E$12=A35000,A35000,\"\")),\"\")","v":""},"","","","","","","",""]
[{"$nulls":23},{"$f":"IF(A35029<>\"\",IF(Main!$E$12=\"ALL\",A35029,IF(Main!$E$12=A35029,A35029,\"\")),\"\")","v":""},"","","","","","","",""]
[{"$nulls":23},{"$f":"IF(A35054<>\"\",IF(Main!$E$12=\"ALL\",A35054,IF(Main!$E$12=A35054,A35054,\"\")),\"\")","v":""},"","","","","","","",""]
[{"$nulls":23},{"$f":"IF(A35063<>\"\",IF(Main!$E$12=\"ALL\",A35063,IF(Main!$E$12=A35063,A35063,\"\")),\"\")","v":""},"","","","","","","",""]
[{"$nulls":23},{"$f":"IF(A35092<>\"\",IF(Main!$E$12=\"ALL\",A35092,IF(Main!$E$12=A35092,A35092,\"\")),\"\")","v":""},"","","","","","","",""]
[{"$nulls":23},{"$f":"IF(A35120<>\"\",IF(Main!$E$12=\"ALL\",A35120,IF(Main!$E$12=A35120,A35120,\"\")),\"\")","v":""},"","","","","","","",""]
[{"$nulls":23},{"$f":"IF(A35153<>\"\",IF(Main!$E$12=\"ALL\",A35153,IF(Main!$E$12=A35153,A35153,\"\")),\"\")","v":""},"","","","","","","",""]
[{"$nulls":23},{"$f":"IF(A35178<>\"\",IF(Main!$E$12=\"ALL\",A35178,IF(Main!$E$12=A35178,A35178,\"\")),\"\")","v":""},"","","","","","","",""]
[{"$nulls":23},{"$f":"IF(A35195<>\"\",IF(Main!$E$12=\"ALL\",A35195,IF(Main!$E$12=A35195,A35195,\"\")),\"\")","v":""},"","","","","","","",""]
[{"$nulls":23},{"$f":"IF(A35219<>\"\",IF(Main!$E$12=\"ALL\",A35219,IF(Main!$E$12=A35219,A35219,\"\")),\"\")","v":""},"","","","","","","",""]
[{"$nulls":23},{"$f":"IF(A35244<>\"\",IF(Main!$E$12=\"ALL\",A35244,IF(Main!$E$12=A35244,A35244,\"\")),\"\")","v":""},"","","","","","","",""]
[{"$nulls":23},{"$f":"IF(A35253<>\"\",IF(Main!$E$12=\"ALL\",A35253,IF(Main!$E$12=A35253,A35253,\"\")),\"\")","v":""},"","","","","","","",""]
[{"$nulls":23},{"$f":"IF(A35287<>\"\",IF(Main!$E$12=\"ALL\",A35287,IF(Main!$E$12=A35287,A35287,\"\")),\"\")","v":""},"","","","","","","",""]
[{"$nulls":23},{"$f":"IF(A35310<>\"\",IF(Main!$E$12=\"ALL\",A35310,IF(Main!$E$12=A35310,A35310,\"\")),\"\")","v":""},"","","","","","","",""]
[{"$nulls":23},{"$f":"IF(A35343<>\"\",IF(Main!$E$12=\"ALL\",A35343,IF(Main!$E$12=A35343,A35343,\"\")),\"\")","v":""},"","","","","","","",""]
[{"$nulls":23},{"$f":"IF(A35368<>\"\",IF(Main!$E$12=\"ALL\",A35368,IF(Main!$E$12=A35368,A35368,\"\")),\"\")","v":""},"","","","","","","",""]
[{"$nulls":23},{"$f":"IF(A35390<>\"\",IF(Main!$E$12=\"ALL\",A35390,IF(Main!$E$12=A35390,A35390,\"\")),\"\")","v":""},"","","","","","","",""]
[{"$nulls":23},{"$f":"IF(A35401<>\"\",IF(Main!$E$12=\"ALL\",A35401,IF(Main!$E$12=A35401,A35401,\"\")),\"\")","v":""},"","","","","","","",""]
[{"$nulls":23},{"$f":"IF(A35434<>\"\",IF(Main!$E$12=\"ALL\",A35434,IF(Main!$E$12=A35434,A35434,\"\")),\"\")","v":""},"","","","","","","",""]
[{"$nulls":23},{"$f":"IF(A35443<>\"\",IF(Main!$E$12=\"ALL\",A35443,IF(Main!$E$12=A35443,A35443,\"\")),\"\")","v":""},"","","","","","","",""]
[{"$nulls":23},{"$f":"IF(A35482<>\"\",IF(Main!$E$12=\"ALL\",A35482,IF(Main!$E$12=A35482,A35482,\"\")),\"\")","v":""},"","","","","","","",""]
[{"$nulls":23},{"$f":"IF(A35500<>\"\",IF(Main!$E$12=\"ALL\",A35500,IF(Main!$E$12=A35500,A35500,\"\")),\"\")","v":""},"","","","","","","",""]
[{"$nulls":23},{"$f":"IF(A35533<>\"\",IF(Main!$E$12=\"ALL\",A35533,IF(Main!$E$12=A35533,A35533,\"\")),\"\")","v":""},"","","","","","","",""]
[{"$nulls":23},{"$f":"IF(A35558<>\"\",IF(Main!$E$12=\"ALL\",A35558,IF(Main!$E$12=A35558,A35558,\"\")),\"\")","v":""},"","","","","","","",""]
[{"$nulls":23},{"$f":"IF(A35562<>\"\",IF(Main!$E$12=\"ALL\",A35562,IF(Main!$E$12=A35562,A35562,\"\")),\"\")","v":""},"","","","","","","",""]
[{"$nulls":23},{"$f":"IF(A35591<>\"\",IF(Main!$E$12=\"ALL\",A35591,IF(Main!$E$12=A35591,A35591,\"\")),\"\")","v":""},"","","","","","","",""]
[{"$nulls":23},{"$f":"IF(A35624<>\"\",IF(Main!$E$12=\"ALL\",A35624,IF(Main!$E$12=A35624,A35624,\"\")),\"\")","v":""},"","","","","","","",""]
[{"$nulls":23},{"$f":"IF(A35633<>\"\",IF(Main!$E$12=\"ALL\",A35633,IF(Main!$E$12=A35633,A35633,\"\")),\"\")","v":""},"","","","","","","",""]
[{"$nulls":23},{"$f":"IF(A35677<>\"\",IF(Main!$E$12=\"ALL\",A35677,IF(Main!$E$12=A35677,A35677,\"\")),\"\")","v":""},"","","","","","","",""]
[{"$nulls":23},{"$f":"IF(A35690<>\"\",IF(Main!$E$12=\"ALL\",A35690,IF(Main!$E$12=A35690,A35690,\"\")),\"\")","v":""},"","","","","","","",""]
[{"$nulls":23},{"$f":"IF(A35715<>\"\",IF(Main!$E$12=\"ALL\",A35715,IF(Main!$E$12=A35715,A35715,\"\")),\"\")","v":""},{"$f":"IF($X35715=\"\",\"\",D35715)","v":""},{"$f":"IF($X35715=\"\",\"\",F35715)","v":""},{"$f":"IF($X35715=\"\",\"\",J35715)","v":""},{"$f":"IF($X35715=\"\",\"\",N35715)","v":""},{"$f":"IF($X35715=\"\",\"\",IF(P35715=\"\",\"\",P35715))","v":""},{"$f":"IF($X35715=\"\",\"\",R35715)","v":""},{"$f":"IF($X35715=\"\",\"\",T35715)","v":""},{"$f":"IF($X35715=\"\",\"\",V35715)","v":""}]
[{"$nulls":23},{"$f":"IF(A35748<>\"\",IF(Main!$E$12=\"ALL\",A35748,IF(Main!$E$12=A35748,A35748,\"\")),\"\")","v":""},"","","","","","","",""]
[{"$nulls":23},{"$f":"IF(A35757<>\"\",IF(Main!$E$12=\"ALL\",A35757,IF(Main!$E$12=A35757,A35757,\"\")),\"\")","v":""},"","","","","","","",""]
[{"$nulls":23},{"$f":"IF(A35781<>\"\",IF(Main!$E$12=\"ALL\",A35781,IF(Main!$E$12=A35781,A35781,\"\")),\"\")","v":""},"","","","","","","",""]
[{"$nulls":23},{"$f":"IF(A35814<>\"\",IF(Main!$E$12=\"ALL\",A35814,IF(Main!$E$12=A35814,A35814,\"\")),\"\")","v":""},"","","","","","","",""]
[{"$nulls":23},{"$f":"IF(A35823<>\"\",IF(Main!$E$12=\"ALL\",A35823,IF(Main!$E$12=A35823,A35823,\"\")),\"\")","v":""},"","","","","","","",""]
[{"$nulls":23},{"$f":"IF(A35849<>\"\",IF(Main!$E$12=\"ALL\",A35849,IF(Main!$E$12=A35849,A35849,\"\")),\"\")","v":""},"","","","","","","",""]
[{"$nulls":23},{"$f":"IF(A35880<>\"\",IF(Main!$E$12=\"ALL\",A35880,IF(Main!$E$12=A35880,A35880,\"\")),\"\")","v":""},"","","","","","","",""]
[{"$nulls":23},{"$f":"IF(A35905<>\"\",IF(Main!$E$12=\"ALL\",A35905,IF(Main!$E$12=A35905,A35905,\"\")),\"\")","v":""},"","","","","","","",""]
[{"$nulls":23},{"$f":"IF(A35938<>\"\",IF(Main!$E$12=\"ALL\",A35938,IF(Main!$E$12=A35938,A35938,\"\")),\"\")","v":""},"","","","","","","",""]
[{"$nulls":23},{"$f":"IF(A35952<>\"\",IF(Main!$E$12=\"ALL\",A35952,IF(Main!$E$12=A35952,A35952,\"\")),\"\")","v":""},"","","","","","","",""]
[{"$nulls":23},{"$f":"IF(A35971<>\"\",IF(Main!$E$12=\"ALL\",A35971,IF(Main!$E$12=A35971,A35971,\"\")),\"\")","v":""},{"$f":"IF($X35971=\"\",\"\",D35971)","v":""},{"$f":"IF($X35971=\"\",\"\",F35971)","v":""},{"$f":"IF($X35971=\"\",\"\",J35971)","v":""},{"$f":"IF($X35971=\"\",\"\",N35971)","v":""},{"$f":"IF($X35971=\"\",\"\",IF(P35971=\"\",\"\",P35971))","v":""},{"$f":"IF($X35971=\"\",\"\",R35971)","v":""},{"$f":"IF($X35971=\"\",\"\",T35971)","v":""},{"$f":"IF($X35971=\"\",\"\",V35971)","v":""}]
[{"$nulls":23},{"$f":"IF(A36004<>\"\",IF(Main!$E$12=\"ALL\",A36004,IF(Main!$E$12=A36004,A36004,\"\")),\"\")","v":""},"","","","","","","",""]
[{"$nulls":23},{"$f":"IF(A36013<>\"\",IF(Main!$E$12=\"ALL\",A36013,IF(Main!$E$12=A36013,A36013,\"\")),\"\")","v":""},"","","","","","","",""]
[{"$nulls":23},{"$f":"IF(A36044<>\"\",IF(Main!$E$12=\"ALL\",A36044,IF(Main!$E$12=A36044,A36044,\"\")),\"\")","v":""},"","","","","","","",""]
[{"$nulls":23},{"$f":"IF(A36070<>\"\",IF(Main!$E$12=\"ALL\",A36070,IF(Main!$E$12=A36070,A36070,\"\")),\"\")","v":""},"","","","","","","",""]
[{"$nulls":23},{"$f":"IF(A36095<>\"\",IF(Main!$E$12=\"ALL\",A36095,IF(Main!$E$12=A36095,A36095,\"\")),\"\")","v":""},"","","","","","","",""]
[{"$nulls":23},{"$f":"IF(A36128<>\"\",IF(Main!$E$12=\"ALL\",A36128,IF(Main!$E$12=A36128,A36128,\"\")),\"\")","v":""},"","","","","","","",""]
[{"$nulls":23},{"$f":"IF(A36147<>\"\",IF(Main!$E$12=\"ALL\",A36147,IF(Main!$E$12=A36147,A36147,\"\")),\"\")","v":""},"","","","","","","",""]
[{"$nulls":23},{"$f":"IF(A36161<>\"\",IF(Main!$E$12=\"ALL\",A36161,IF(Main!$E$12=A36161,A36161,\"\")),\"\")","v":""},"","","","","","","",""]
[{"$nulls":23},{"$f":"IF(A36194<>\"\",IF(Main!$E$12=\"ALL\",A36194,IF(Main!$E$12=A36194,A36194,\"\")),\"\")","v":""},"","","","","","","",""]
[{"$nulls":23},{"$f":"IF(A36219<>\"\",IF(Main!$E$12=\"ALL\",A36219,IF(Main!$E$12=A36219,A36219,\"\")),\"\")","v":""},"","","","","","","",""]
[{"$nulls":23},{"$f":"IF(A36239<>\"\",IF(Main!$E$12=\"ALL\",A36239,IF(Main!$E$12=A36239,A36239,\"\")),\"\")","v":""},"","","","","","","",""]
[{"$nulls":23},{"$f":"IF(A36260<>\"\",IF(Main!$E$12=\"ALL\",A36260,IF(Main!$E$12=A36260,A36260,\"\")),\"\")","v":""},"","","","","","","",""]
[{"$nulls":23},{"$f":"IF(A36285<>\"\",IF(Main!$E$12=\"ALL\",A36285,IF(Main!$E$12=A36285,A36285,\"\")),\"\")","v":""},"","","","","","","",""]
[{"$nulls":23},{"$f":"IF(A36318<>\"\",IF(Main!$E$12=\"ALL\",A36318,IF(Main!$E$12=A36318,A36318,\"\")),\"\")","v":""},"","","","","","","",""]
[{"$nulls":23},{"$f":"IF(A36342<>\"\",IF(Main!$E$12=\"ALL\",A36342,IF(Main!$E$12=A36342,A36342,\"\")),\"\")","v":""},"","","","","","","",""]
[{"$nulls":23},{"$f":"IF(A36351<>\"\",IF(Main!$E$12=\"ALL\",A36351,IF(Main!$E$12=A36351,A36351,\"\")),\"\")","v":""},"","","","","","","",""]
[{"$nulls":23},{"$f":"IF(A36384<>\"\",IF(Main!$E$12=\"ALL\",A36384,IF(Main!$E$12=A36384,A36384,\"\")),\"\")","v":""},"","","","","","","",""]
[{"$nulls":23},{"$f":"IF(A36409<>\"\",IF(Main!$E$12=\"ALL\",A36409,IF(Main!$E$12=A36409,A36409,\"\")),\"\")","v":""},"","","","","","","",""]
[{"$nulls":23},{"$f":"IF(A36434<>\"\",IF(Main!$E$12=\"ALL\",A36434,IF(Main!$E$12=A36434,A36434,\"\")),\"\")","v":""},"","","","","","","",""]
[{"$nulls":23},{"$f":"IF(A36450<>\"\",IF(Main!$E$12=\"ALL\",A36450,IF(Main!$E$12=A36450,A36450,\"\")),\"\")","v":""},"","","","","","","",""]
[{"$nulls":23},{"$f":"IF(A36475<>\"\",IF(Main!$E$12=\"ALL\",A36475,IF(Main!$E$12=A36475,A36475,\"\")),\"\")","v":""},"","","","","","","",""]
[{"$nulls":23},{"$f":"IF(A36508<>\"\",IF(Main!$E$12=\"ALL\",A36508,IF(Main!$E$12=A36508,A36508,\"\")),\"\")","v":""},"","","","","","","",""]
[{"$nulls":23},{"$f":"IF(A36514<>\"\",IF(Main!$E$12=\"ALL\",A36514,IF(Main!$E$12=A36514,A36514,\"\")),\"\")","v":""},"","","","","","","",""]
[{"$nulls":23},{"$f":"IF(A36541<>\"\",IF(Main!$E$12=\"ALL\",A36541,IF(Main!$E$12=A36541,A36541,\"\")),\"\")","v":""},"","","","","","","",""]
[{"$nulls":23},{"$f":"IF(A36574<>\"\",IF(Main!$E$12=\"ALL\",A36574,IF(Main!$E$12=A36574,A36574,\"\")),\"\")","v":""},"","","","","","","",""]
[{"$nulls":23},{"$f":"IF(A36599<>\"\",IF(Main!$E$12=\"ALL\",A36599,IF(Main!$E$12=A36599,A36599,\"\")),\"\")","v":""},"","","","","","","",""]
[{"$nulls":23},{"$f":"IF(A36606<>\"\",IF(Main!$E$12=\"ALL\",A36606,IF(Main!$E$12=A36606,A36606,\"\")),\"\")","v":""},"","","","","","","",""]
[{"$nulls":23},{"$f":"IF(A36640<>\"\",IF(Main!$E$12=\"ALL\",A36640,IF(Main!$E$12=A36640,A36640,\"\")),\"\")","v":""},"","","","","","","",""]
[{"$nulls":23},{"$f":"IF(A36665<>\"\",IF(Main!$E$12=\"ALL\",A36665,IF(Main!$E$12=A36665,A36665,\"\")),\"\")","v":""},"","","","","","","",""]
[{"$nulls":23},{"$f":"IF(A36698<>\"\",IF(Main!$E$12=\"ALL\",A36698,IF(Main!$E$12=A36698,A36698,\"\")),\"\")","v":""},"","","","","","","",""]
[{"$nulls":23},{"$f":"IF(A36721<>\"\",IF(Main!$E$12=\"ALL\",A36721,IF(Main!$E$12=A36721,A36721,\"\")),\"\")","v":""},"","","","","","","",""]
[{"$nulls":23},{"$f":"IF(A36731<>\"\",IF(Main!$E$12=\"ALL\",A36731,IF(Main!$E$12=A36731,A36731,\"\")),\"\")","v":""},"","","","","","","",""]
[{"$nulls":23},{"$f":"IF(A36764<>\"\",IF(Main!$E$12=\"ALL\",A36764,IF(Main!$E$12=A36764,A36764,\"\")),\"\")","v":""},"","","","","","","",""]
[{"$nulls":23},{"$f":"IF(A36789<>\"\",IF(Main!$E$12=\"ALL\",A36789,IF(Main!$E$12=A36789,A36789,\"\")),\"\")","v":""},"","","","","","","",""]
[{"$nulls":23},{"$f":"IF(A36801<>\"\",IF(Main!$E$12=\"ALL\",A36801,IF(Main!$E$12=A36801,A36801,\"\")),\"\")","v":""},"","","","","","","",""]
[{"$nulls":23},{"$f":"IF(A36830<>\"\",IF(Main!$E$12=\"ALL\",A36830,IF(Main!$E$12=A36830,A36830,\"\")),\"\")","v":""},"","","","","","","",""]
[{"$nulls":23},{"$f":"IF(A36855<>\"\",IF(Main!$E$12=\"ALL\",A36855,IF(Main!$E$12=A36855,A36855,\"\")),\"\")","v":""},"","","","","","","",""]
[{"$nulls":23},{"$f":"IF(A36888<>\"\",IF(Main!$E$12=\"ALL\",A36888,IF(Main!$E$12=A36888,A36888,\"\")),\"\")","v":""},"","","","","","","",""]
[{"$nulls":23},{"$f":"IF(A36893<>\"\",IF(Main!$E$12=\"ALL\",A36893,IF(Main!$E$12=A36893,A36893,\"\")),\"\")","v":""},"","","","","","","",""]
[{"$nulls":23},{"$f":"IF(A36921<>\"\",IF(Main!$E$12=\"ALL\",A36921,IF(Main!$E$12=A36921,A36921,\"\")),\"\")","v":""},"","","","","","","",""]
[{"$nulls":23},{"$f":"IF(A36954<>\"\",IF(Main!$E$12=\"ALL\",A36954,IF(Main!$E$12=A36954,A36954,\"\")),\"\")","v":""},"","","","","","","",""]
[{"$nulls":23},{"$f":"IF(A36979<>\"\",IF(Main!$E$12=\"ALL\",A36979,IF(Main!$E$12=A36979,A36979,\"\")),\"\")","v":""},"","","","","","","",""]
[{"$nulls":23},{"$f":"IF(A36996<>\"\",IF(Main!$E$12=\"ALL\",A36996,IF(Main!$E$12=A36996,A36996,\"\")),\"\")","v":""},"","","","","","","",""]
[{"$nulls":23},{"$f":"IF(A37012<>\"\",IF(Main!$E$12=\"ALL\",A37012,IF(Main!$E$12=A37012,A37012,\"\")),\"\")","v":""},"","","","","","","",""]
[{"$nulls":23},{"$f":"IF(A37045<>\"\",IF(Main!$E$12=\"ALL\",A37045,IF(Main!$E$12=A37045,A37045,\"\")),\"\")","v":""},"","","","","","","",""]
[{"$nulls":23},{"$f":"IF(A37078<>\"\",IF(Main!$E$12=\"ALL\",A37078,IF(Main!$E$12=A37078,A37078,\"\")),\"\")","v":""},"","","","","","","",""]
[{"$nulls":23},{"$f":"IF(A37088<>\"\",IF(Main!$E$12=\"ALL\",A37088,IF(Main!$E$12=A37088,A37088,\"\")),\"\")","v":""},"","","","","","","",""]
[{"$nulls":23},{"$f":"IF(A37111<>\"\",IF(Main!$E$12=\"ALL\",A37111,IF(Main!$E$12=A37111,A37111,\"\")),\"\")","v":""},"","","","","","","",""]
[{"$nulls":23},{"$f":"IF(A37144<>\"\",IF(Main!$E$12=\"ALL\",A37144,IF(Main!$E$12=A37144,A37144,\"\")),\"\")","v":""},"","","","","","","",""]
[{"$nulls":23},{"$f":"IF(A37169<>\"\",IF(Main!$E$12=\"ALL\",A37169,IF(Main!$E$12=A37169,A37169,\"\")),\"\")","v":""},"","","","","","","",""]
[{"$nulls":23},{"$f":"IF(A37191<>\"\",IF(Main!$E$12=\"ALL\",A37191,IF(Main!$E$12=A37191,A37191,\"\")),\"\")","v":""},"","","","","","","",""]
[{"$nulls":23},{"$f":"IF(A37202<>\"\",IF(Main!$E$12=\"ALL\",A37202,IF(Main!$E$12=A37202,A37202,\"\")),\"\")","v":""},"","","","","","","",""]
[{"$nulls":23},{"$f":"IF(A37235<>\"\",IF(Main!$E$12=\"ALL\",A37235,IF(Main!$E$12=A37235,A37235,\"\")),\"\")","v":""},"","","","","","","",""]
[{"$nulls":23},{"$f":"IF(A37268<>\"\",IF(Main!$E$12=\"ALL\",A37268,IF(Main!$E$12=A37268,A37268,\"\")),\"\")","v":""},"","","","","","","",""]
[{"$nulls":23},{"$f":"IF(A37283<>\"\",IF(Main!$E$12=\"ALL\",A37283,IF(Main!$E$12=A37283,A37283,\"\")),\"\")","v":""},"","","","","","","",""]
[{"$nulls":23},{"$f":"IF(A37301<>\"\",IF(Main!$E$12=\"ALL\",A37301,IF(Main!$E$12=A37301,A37301,\"\")),\"\")","v":""},"","","","","","","",""]
[{"$nulls":23},{"$f":"IF(A37334<>\"\",IF(Main!$E$12=\"ALL\",A37334,IF(Main!$E$12=A37334,A37334,\"\")),\"\")","v":""},"","","","","","","",""]
[{"$nulls":23},{"$f":"IF(A37359<>\"\",IF(Main!$E$12=\"ALL\",A37359,IF(Main!$E$12=A37359,A37359,\"\")),\"\")","v":""},"","","","","","","",""]
[{"$nulls":23},{"$f":"IF(A37386<>\"\",IF(Main!$E$12=\"ALL\",A37386,IF(Main!$E$12=A37386,A37386,\"\")),\"\")","v":""},"","","","","","","",""]
[{"$nulls":23},{"$f":"IF(A37392<>\"\",IF(Main!$E$12=\"ALL\",A37392,IF(Main!$E$12=A37392,A37392,\"\")),\"\")","v":""},"","","","","","","",""]
[{"$nulls":23},{"$f":"IF(A37425<>\"\",IF(Main!$E$12=\"ALL\",A37425,IF(Main!$E$12=A37425,A37425,\"\")),\"\")","v":""},"","","","","","","",""]
[{"$nulls":23},{"$f":"IF(A37458<>\"\",IF(Main!$E$12=\"ALL\",A37458,IF(Main!$E$12=A37458,A37458,\"\")),\"\")","v":""},"","","","","","","",""]
[{"$nulls":23},{"$f":"IF(A37478<>\"\",IF(Main!$E$12=\"ALL\",A37478,IF(Main!$E$12=A37478,A37478,\"\")),\"\")","v":""},"","","","","","","",""]
[{"$nulls":23},{"$f":"IF(A37491<>\"\",IF(Main!$E$12=\"ALL\",A37491,IF(Main!$E$12=A37491,A37491,\"\")),\"\")","v":""},"","","","","","","",""]
[{"$nulls":23},{"$f":"IF(A37516<>\"\",IF(Main!$E$12=\"ALL\",A37516,IF(Main!$E$12=A37516,A37516,\"\")),\"\")","v":""},"","","","","","","",""]
[{"$nulls":23},{"$f":"IF(A37549<>\"\",IF(Main!$E$12=\"ALL\",A37549,IF(Main!$E$12=A37549,A37549,\"\")),\"\")","v":""},"","","","","","","",""]
[{"$nulls":23},{"$f":"IF(A37558<>\"\",IF(Main!$E$12=\"ALL\",A37558,IF(Main!$E$12=A37558,A37558,\"\")),\"\")","v":""},"","","","","","","",""]
[{"$nulls":23},{"$f":"IF(A37582<>\"\",IF(Main!$E$12=\"ALL\",A37582,IF(Main!$E$12=A37582,A37582,\"\")),\"\")","v":""},"","","","","","","",""]
[{"$nulls":23},{"$f":"IF(A37615<>\"\",IF(Main!$E$12=\"ALL\",A37615,IF(Main!$E$12=A37615,A37615,\"\")),\"\")","v":""},"","","","","","","",""]
[{"$nulls":23},{"$f":"IF(A37648<>\"\",IF(Main!$E$12=\"ALL\",A37648,IF(Main!$E$12=A37648,A37648,\"\")),\"\")","v":""},"","","","","","","",""]
[{"$nulls":23},{"$f":"IF(A37673<>\"\",IF(Main!$E$12=\"ALL\",A37673,IF(Main!$E$12=A37673,A37673,\"\")),\"\")","v":""},"","","","","","","",""]
[{"$nulls":23},{"$f":"IF(A37696<>\"\",IF(Main!$E$12=\"ALL\",A37696,IF(Main!$E$12=A37696,A37696,\"\")),\"\")","v":""},"","","","","","","",""]
[{"$nulls":23},{"$f":"IF(A37706<>\"\",IF(Main!$E$12=\"ALL\",A37706,IF(Main!$E$12=A37706,A37706,\"\")),\"\")","v":""},"","","","","","","",""]
[{"$nulls":23},{"$f":"IF(A37739<>\"\",IF(Main!$E$12=\"ALL\",A37739,IF(Main!$E$12=A37739,A37739,\"\")),\"\")","v":""},"","","","","","","",""]
[{"$nulls":23},{"$f":"IF(A37748<>\"\",IF(Main!$E$12=\"ALL\",A37748,IF(Main!$E$12=A37748,A37748,\"\")),\"\")","v":""},"","","","","","","",""]
[{"$nulls":23},{"$f":"IF(A37788<>\"\",IF(Main!$E$12=\"ALL\",A37788,IF(Main!$E$12=A37788,A37788,\"\")),\"\")","v":""},"","","","","","","",""]
[{"$nulls":23},{"$f":"IF(A37805<>\"\",IF(Main!$E$12=\"ALL\",A37805,IF(Main!$E$12=A37805,A37805,\"\")),\"\")","v":""},"","","","","","","",""]
[{"$nulls":23},{"$f":"IF(A37830<>\"\",IF(Main!$E$12=\"ALL\",A37830,IF(Main!$E$12=A37830,A37830,\"\")),\"\")","v":""},"","","","","","","",""]
[{"$nulls":23},{"$f":"IF(A37863<>\"\",IF(Main!$E$12=\"ALL\",A37863,IF(Main!$E$12=A37863,A37863,\"\")),\"\")","v":""},"","","","","","","",""]
[{"$nulls":23},{"$f":"IF(A37868<>\"\",IF(Main!$E$12=\"ALL\",A37868,IF(Main!$E$12=A37868,A37868,\"\")),\"\")","v":""},"","","","","","","",""]
[{"$nulls":23},{"$f":"IF(A37896<>\"\",IF(Main!$E$12=\"ALL\",A37896,IF(Main!$E$12=A37896,A37896,\"\")),\"\")","v":""},"","","","","","","",""]
[{"$nulls":23},{"$f":"IF(A37929<>\"\",IF(Main!$E$12=\"ALL\",A37929,IF(Main!$E$12=A37929,A37929,\"\")),\"\")","v":""},"","","","","","","",""]
[{"$nulls":23},{"$f":"IF(A37938<>\"\",IF(Main!$E$12=\"ALL\",A37938,IF(Main!$E$12=A37938,A37938,\"\")),\"\")","v":""},"","","","","","","",""]
[{"$nulls":23},{"$f":"IF(A37960<>\"\",IF(Main!$E$12=\"ALL\",A37960,IF(Main!$E$12=A37960,A37960,\"\")),\"\")","v":""},"","","","","","","",""]
[{"$nulls":23},{"$f":"IF(A37995<>\"\",IF(Main!$E$12=\"ALL\",A37995,IF(Main!$E$12=A37995,A37995,\"\")),\"\")","v":""},"","","","","","","",""]
[{"$nulls":23},{"$f":"IF(A38020<>\"\",IF(Main!$E$12=\"ALL\",A38020,IF(Main!$E$12=A38020,A38020,\"\")),\"\")","v":""},"","","","","","","",""]
[{"$nulls":23},{"$f":"IF(A38053<>\"\",IF(Main!$E$12=\"ALL\",A38053,IF(Main!$E$12=A38053,A38053,\"\")),\"\")","v":""},"","","","","","","",""]
[{"$nulls":23},{"$f":"IF(A38063<>\"\",IF(Main!$E$12=\"ALL\",A38063,IF(Main!$E$12=A38063,A38063,\"\")),\"\")","v":""},"","","","","","","",""]
[{"$nulls":23},{"$f":"IF(A38086<>\"\",IF(Main!$E$12=\"ALL\",A38086,IF(Main!$E$12=A38086,A38086,\"\")),\"\")","v":""},"","","","","","","",""]
[{"$nulls":23},{"$f":"IF(A38119<>\"\",IF(Main!$E$12=\"ALL\",A38119,IF(Main!$E$12=A38119,A38119,\"\")),\"\")","v":""},"","","","","","","",""]
[{"$nulls":23},{"$f":"IF(A38128<>\"\",IF(Main!$E$12=\"ALL\",A38128,IF(Main!$E$12=A38128,A38128,\"\")),\"\")","v":""},"","","","","","","",""]
[{"$nulls":23},{"$f":"IF(A38155<>\"\",IF(Main!$E$12=\"ALL\",A38155,IF(Main!$E$12=A38155,A38155,\"\")),\"\")","v":""},"","","","","","","",""]
[{"$nulls":23},{"$f":"IF(A38185<>\"\",IF(Main!$E$12=\"ALL\",A38185,IF(Main!$E$12=A38185,A38185,\"\")),\"\")","v":""},"","","","","","","",""]
[{"$nulls":23},{"$f":"IF(A38210<>\"\",IF(Main!$E$12=\"ALL\",A38210,IF(Main!$E$12=A38210,A38210,\"\")),\"\")","v":""},"","","","","","","",""]
[{"$nulls":23},{"$f":"IF(A38243<>\"\",IF(Main!$E$12=\"ALL\",A38243,IF(Main!$E$12=A38243,A38243,\"\")),\"\")","v":""},"","","","","","","",""]
[{"$nulls":23},{"$f":"IF(A38258<>\"\",IF(Main!$E$12=\"ALL\",A38258,IF(Main!$E$12=A38258,A38258,\"\")),\"\")","v":""},"","","","","","","",""]
[{"$nulls":23},{"$f":"IF(A38276<>\"\",IF(Main!$E$12=\"ALL\",A38276,IF(Main!$E$12=A38276,A38276,\"\")),\"\")","v":""},"","","","","","","",""]
[{"$nulls":23},{"$f":"IF(A38309<>\"\",IF(Main!$E$12=\"ALL\",A38309,IF(Main!$E$12=A38309,A38309,\"\")),\"\")","v":""},"","","","","","","",""]
[{"$nulls":23},{"$f":"IF(A38334<>\"\",IF(Main!$E$12=\"ALL\",A38334,IF(Main!$E$12=A38334,A38334,\"\")),\"\")","v":""},"","","","","","","",""]
[{"$nulls":23},{"$f":"IF(A38350<>\"\",IF(Main!$E$12=\"ALL\",A38350,IF(Main!$E$12=A38350,A38350,\"\")),\"\")","v":""},"","","","","","","",""]
[{"$nulls":23},{"$f":"IF(A38375<>\"\",IF(Main!$E$12=\"ALL\",A38375,IF(Main!$E$12=A38375,A38375,\"\")),\"\")","v":""},"","","","","","","",""]
[{"$nulls":23},{"$f":"IF(A38400<>\"\",IF(Main!$E$12=\"ALL\",A38400,IF(Main!$E$12=A38400,A38400,\"\")),\"\")","v":""},"","","","","","","",""]
[{"$nulls":23},{"$f":"IF(A38433<>\"\",IF(Main!$E$12=\"ALL\",A38433,IF(Main!$E$12=A38433,A38433,\"\")),\"\")","v":""},"","","","","","","",""]
[{"$nulls":23},{"$f":"IF(A38453<>\"\",IF(Main!$E$12=\"ALL\",A38453,IF(Main!$E$12=A38453,A38453,\"\")),\"\")","v":""},"","","","","","","",""]
[{"$nulls":23},{"$f":"IF(A38466<>\"\",IF(Main!$E$12=\"ALL\",A38466,IF(Main!$E$12=A38466,A38466,\"\")),\"\")","v":""},"","","","","","","",""]
[{"$nulls":23},{"$f":"IF(A38499<>\"\",IF(Main!$E$12=\"ALL\",A38499,IF(Main!$E$12=A38499,A38499,\"\")),\"\")","v":""},"","","","","","","",""]
[{"$nulls":23},{"$f":"IF(A38524<>\"\",IF(Main!$E$12=\"ALL\",A38524,IF(Main!$E$12=A38524,A38524,\"\")),\"\")","v":""},"","","","","","","",""]
[{"$nulls":23},{"$f":"IF(A38545<>\"\",IF(Main!$E$12=\"ALL\",A38545,IF(Main!$E$12=A38545,A38545,\"\")),\"\")","v":""},"","","","","","","",""]
[{"$nulls":23},{"$f":"IF(A38565<>\"\",IF(Main!$E$12=\"ALL\",A38565,IF(Main!$E$12=A38565,A38565,\"\")),\"\")","v":""},"","","","","","","",""]
[{"$nulls":23},{"$f":"IF(A38590<>\"\",IF(Main!$E$12=\"ALL\",A38590,IF(Main!$E$12=A38590,A38590,\"\")),\"\")","v":""},"","","","","","","",""]
[{"$nulls":23},{"$f":"IF(A38623<>\"\",IF(Main!$E$12=\"ALL\",A38623,IF(Main!$E$12=A38623,A38623,\"\")),\"\")","v":""},"","","","","","","",""]
[{"$nulls":23},{"$f":"IF(A38625<>\"\",IF(Main!$E$12=\"ALL\",A38625,IF(Main!$E$12=A38625,A38625,\"\")),\"\")","v":""},"","","","","","","",""]
[{"$nulls":23},{"$f":"IF(A38656<>\"\",IF(Main!$E$12=\"ALL\",A38656,IF(Main!$E$12=A38656,A38656,\"\")),\"\")","v":""},"","","","","","","",""]
[{"$nulls":23},{"$f":"IF(A38689<>\"\",IF(Main!$E$12=\"ALL\",A38689,IF(Main!$E$12=A38689,A38689,\"\")),\"\")","v":""},"","","","","","","",""]
[{"$nulls":23},{"$f":"IF(A38714<>\"\",IF(Main!$E$12=\"ALL\",A38714,IF(Main!$E$12=A38714,A38714,\"\")),\"\")","v":""},"","","","","","","",""]
[{"$nulls":23},{"$f":"IF(A38740<>\"\",IF(Main!$E$12=\"ALL\",A38740,IF(Main!$E$12=A38740,A38740,\"\")),\"\")","v":""},"","","","","","","",""]
[{"$nulls":23},{"$f":"IF(A38755<>\"\",IF(Main!$E$12=\"ALL\",A38755,IF(Main!$E$12=A38755,A38755,\"\")),\"\")","v":""},"","","","","","","",""]
[{"$nulls":23},{"$f":"IF(A38780<>\"\",IF(Main!$E$12=\"ALL\",A38780,IF(Main!$E$12=A38780,A38780,\"\")),\"\")","v":""},"","","","","","","",""]
[{"$nulls":23},{"$f":"IF(A38813<>\"\",IF(Main!$E$12=\"ALL\",A38813,IF(Main!$E$12=A38813,A38813,\"\")),\"\")","v":""},"","","","","","","",""]
[{"$nulls":23},{"$f":"IF(A38832<>\"\",IF(Main!$E$12=\"ALL\",A38832,IF(Main!$E$12=A38832,A38832,\"\")),\"\")","v":""},"","","","","","","",""]
[{"$nulls":23},{"$f":"IF(A38846<>\"\",IF(Main!$E$12=\"ALL\",A38846,IF(Main!$E$12=A38846,A38846,\"\")),\"\")","v":""},"","","","","","","",""]
[{"$nulls":23},{"$f":"IF(A38879<>\"\",IF(Main!$E$12=\"ALL\",A38879,IF(Main!$E$12=A38879,A38879,\"\")),\"\")","v":""},"","","","","","","",""]
[{"$nulls":23},{"$f":"IF(A38904<>\"\",IF(Main!$E$12=\"ALL\",A38904,IF(Main!$E$12=A38904,A38904,\"\")),\"\")","v":""},"","","","","","","",""]
[{"$nulls":23},{"$f":"IF(A38912<>\"\",IF(Main!$E$12=\"ALL\",A38912,IF(Main!$E$12=A38912,A38912,\"\")),\"\")","v":""},"","","","","","","",""]
[{"$nulls":23},{"$f":"IF(A38945<>\"\",IF(Main!$E$12=\"ALL\",A38945,IF(Main!$E$12=A38945,A38945,\"\")),\"\")","v":""},"","","","","","","",""]
[{"$nulls":23},{"$f":"IF(A38970<>\"\",IF(Main!$E$12=\"ALL\",A38970,IF(Main!$E$12=A38970,A38970,\"\")),\"\")","v":""},"","","","","","","",""]
[{"$nulls":23},{"$f":"IF(A39003<>\"\",IF(Main!$E$12=\"ALL\",A39003,IF(Main!$E$12=A39003,A39003,\"\")),\"\")","v":""},"","","","","","","",""]
[{"$nulls":23},{"$f":"IF(A39027<>\"\",IF(Main!$E$12=\"ALL\",A39027,IF(Main!$E$12=A39027,A39027,\"\")),\"\")","v":""},"","","","","","","",""]
[{"$nulls":23},{"$f":"IF(A39036<>\"\",IF(Main!$E$12=\"ALL\",A39036,IF(Main!$E$12=A39036,A39036,\"\")),\"\")","v":""},"","","","","","","",""]
[{"$nulls":23},{"$f":"IF(A39069<>\"\",IF(Main!$E$12=\"ALL\",A39069,IF(Main!$E$12=A39069,A39069,\"\")),\"\")","v":""},"","","","","","","",""]
[{"$nulls":23},{"$f":"IF(A39094<>\"\",IF(Main!$E$12=\"ALL\",A39094,IF(Main!$E$12=A39094,A39094,\"\")),\"\")","v":""},"","","","","","","",""]
[{"$nulls":23},{"$f":"IF(A39107<>\"\",IF(Main!$E$12=\"ALL\",A39107,IF(Main!$E$12=A39107,A39107,\"\")),\"\")","v":""},{"$f":"IF($X39107=\"\",\"\",D39107)","v":""},{"$f":"IF($X39107=\"\",\"\",F39107)","v":""},{"$f":"IF($X39107=\"\",\"\",J39107)","v":""},{"$f":"IF($X39107=\"\",\"\",N39107)","v":""},{"$f":"IF($X39107=\"\",\"\",IF(P39107=\"\",\"\",P39107))","v":""},{"$f":"IF($X39107=\"\",\"\",R39107)","v":""},{"$f":"IF($X39107=\"\",\"\",T39107)","v":""},{"$f":"IF($X39107=\"\",\"\",V39107)","v":""}]
[{"$nulls":23},{"$f":"IF(A39127<>\"\",IF(Main!$E$12=\"ALL\",A39127,IF(Main!$E$12=A39127,A39127,\"\")),\"\")","v":""},"","","","","","","",""]
[{"$nulls":23},{"$f":"IF(A39160<>\"\",IF(Main!$E$12=\"ALL\",A39160,IF(Main!$E$12=A39160,A39160,\"\")),\"\")","v":""},"","","","","","","",""]
[{"$nulls":23},{"$f":"IF(A39193<>\"\",IF(Main!$E$12=\"ALL\",A39193,IF(Main!$E$12=A39193,A39193,\"\")),\"\")","v":""},"","","","","","","",""]
[{"$nulls":23},{"$f":"IF(A39199<>\"\",IF(Main!$E$12=\"ALL\",A39199,IF(Main!$E$12=A39199,A39199,\"\")),\"\")","v":""},"","","","","","","",""]
[{"$nulls":23},{"$f":"IF(A39226<>\"\",IF(Main!$E$12=\"ALL\",A39226,IF(Main!$E$12=A39226,A39226,\"\")),\"\")","v":""},"","","","","","","",""]
[{"$nulls":23},{"$f":"IF(A39259<>\"\",IF(Main!$E$12=\"ALL\",A39259,IF(Main!$E$12=A39259,A39259,\"\")),\"\")","v":""},"","","","","","","",""]
[{"$nulls":23},{"$f":"IF(A39284<>\"\",IF(Main!$E$12=\"ALL\",A39284,IF(Main!$E$12=A39284,A39284,\"\")),\"\")","v":""},"","","","","","","",""]
[{"$nulls":23},{"$f":"IF(A39302<>\"\",IF(Main!$E$12=\"ALL\",A39302,IF(Main!$E$12=A39302,A39302,\"\")),\"\")","v":""},"","","","","","","",""]
[{"$nulls":23},{"$f":"IF(A39317<>\"\",IF(Main!$E$12=\"ALL\",A39317,IF(Main!$E$12=A39317,A39317,\"\")),\"\")","v":""},"","","","","","","",""]
[{"$nulls":23},{"$f":"IF(A39350<>\"\",IF(Main!$E$12=\"ALL\",A39350,IF(Main!$E$12=A39350,A39350,\"\")),\"\")","v":""},"","","","","","","",""]
[{"$nulls":23},{"$f":"IF(A39383<>\"\",IF(Main!$E$12=\"ALL\",A39383,IF(Main!$E$12=A39383,A39383,\"\")),\"\")","v":""},"","","","","","","",""]
[{"$nulls":23},{"$f":"IF(A39394<>\"\",IF(Main!$E$12=\"ALL\",A39394,IF(Main!$E$12=A39394,A39394,\"\")),\"\")","v":""},"","","","","","","",""]
[{"$nulls":23},{"$f":"IF(A39416<>\"\",IF(Main!$E$12=\"ALL\",A39416,IF(Main!$E$12=A39416,A39416,\"\")),\"\")","v":""},"","","","","","","",""]
[{"$nulls":23},{"$f":"IF(A39449<>\"\",IF(Main!$E$12=\"ALL\",A39449,IF(Main!$E$12=A39449,A39449,\"\")),\"\")","v":""},"","","","","","","",""]
[{"$nulls":23},{"$f":"IF(A39474<>\"\",IF(Main!$E$12=\"ALL\",A39474,IF(Main!$E$12=A39474,A39474,\"\")),\"\")","v":""},"","","","","","","",""]
[{"$nulls":23},{"$f":"IF(A39497<>\"\",IF(Main!$E$12=\"ALL\",A39497,IF(Main!$E$12=A39497,A39497,\"\")),\"\")","v":""},"","","","","","","",""]
[{"$nulls":23},{"$f":"IF(A39507<>\"\",IF(Main!$E$12=\"ALL\",A39507,IF(Main!$E$12=A39507,A39507,\"\")),\"\")","v":""},"","","","","","","",""]
[{"$nulls":23},{"$f":"IF(A39540<>\"\",IF(Main!$E$12=\"ALL\",A39540,IF(Main!$E$12=A39540,A39540,\"\")),\"\")","v":""},"","","","","","","",""]
[{"$nulls":23},{"$f":"IF(A39573<>\"\",IF(Main!$E$12=\"ALL\",A39573,IF(Main!$E$12=A39573,A39573,\"\")),\"\")","v":""},"","","","","","","",""]
[{"$nulls":23},{"$f":"IF(A39589<>\"\",IF(Main!$E$12=\"ALL\",A39589,IF(Main!$E$12=A39589,A39589,\"\")),\"\")","v":""},"","","","","","","",""]
[{"$nulls":23},{"$f":"IF(A39606<>\"\",IF(Main!$E$12=\"ALL\",A39606,IF(Main!$E$12=A39606,A39606,\"\")),\"\")","v":""},"","","","","","","",""]
[{"$nulls":23},{"$f":"IF(A39631<>\"\",IF(Main!$E$12=\"ALL\",A39631,IF(Main!$E$12=A39631,A39631,\"\")),\"\")","v":""},"","","","","","","",""]
[{"$nulls":23},{"$f":"IF(A39664<>\"\",IF(Main!$E$12=\"ALL\",A39664,IF(Main!$E$12=A39664,A39664,\"\")),\"\")","v":""},"","","","","","","",""]
[{"$nulls":23},{"$f":"IF(A39692<>\"\",IF(Main!$E$12=\"ALL\",A39692,IF(Main!$E$12=A39692,A39692,\"\")),\"\")","v":""},"","","","","","","",""]
[{"$nulls":23},{"$f":"IF(A39697<>\"\",IF(Main!$E$12=\"ALL\",A39697,IF(Main!$E$12=A39697,A39697,\"\")),\"\")","v":""},"","","","","","","",""]
[{"$nulls":23},{"$f":"IF(A39730<>\"\",IF(Main!$E$12=\"ALL\",A39730,IF(Main!$E$12=A39730,A39730,\"\")),\"\")","v":""},"","","","","","","",""]
[{"$nulls":23},{"$f":"IF(A39763<>\"\",IF(Main!$E$12=\"ALL\",A39763,IF(Main!$E$12=A39763,A39763,\"\")),\"\")","v":""},"","","","","","","",""]
[{"$nulls":23},{"$f":"IF(A39784<>\"\",IF(Main!$E$12=\"ALL\",A39784,IF(Main!$E$12=A39784,A39784,\"\")),\"\")","v":""},"","","","","","","",""]
[{"$nulls":23},{"$f":"IF(A39796<>\"\",IF(Main!$E$12=\"ALL\",A39796,IF(Main!$E$12=A39796,A39796,\"\")),\"\")","v":""},"","","","","","","",""]
[{"$nulls":23},{"$f":"IF(A39821<>\"\",IF(Main!$E$12=\"ALL\",A39821,IF(Main!$E$12=A39821,A39821,\"\")),\"\")","v":""},"","","","","","","",""]
[{"$nulls":23},{"$f":"IF(A39854<>\"\",IF(Main!$E$12=\"ALL\",A39854,IF(Main!$E$12=A39854,A39854,\"\")),\"\")","v":""},"","","","","","","",""]
[{"$nulls":23},{"$f":"IF(A39864<>\"\",IF(Main!$E$12=\"ALL\",A39864,IF(Main!$E$12=A39864,A39864,\"\")),\"\")","v":""},"","","","","","","",""]
[{"$nulls":23},{"$f":"IF(A39887<>\"\",IF(Main!$E$12=\"ALL\",A39887,IF(Main!$E$12=A39887,A39887,\"\")),\"\")","v":""},"","","","","","","",""]
[{"$nulls":23},{"$f":"IF(A39920<>\"\",IF(Main!$E$12=\"ALL\",A39920,IF(Main!$E$12=A39920,A39920,\"\")),\"\")","v":""},"","","","","","","",""]
[{"$nulls":23},{"$f":"IF(A39953<>\"\",IF(Main!$E$12=\"ALL\",A39953,IF(Main!$E$12=A39953,A39953,\"\")),\"\")","v":""},"","","","","","","",""]
[{"$nulls":23},{"$f":"IF(A39956<>\"\",IF(Main!$E$12=\"ALL\",A39956,IF(Main!$E$12=A39956,A39956,\"\")),\"\")","v":""},"","","","","","","",""]
[{"$nulls":23},{"$f":"IF(A39986<>\"\",IF(Main!$E$12=\"ALL\",A39986,IF(Main!$E$12=A39986,A39986,\"\")),\"\")","v":""},"","","","","","","",""]
[{"$nulls":23},{"$f":"IF(A40011<>\"\",IF(Main!$E$12=\"ALL\",A40011,IF(Main!$E$12=A40011,A40011,\"\")),\"\")","v":""},"","","","","","","",""]
[{"$nulls":23},{"$f":"IF(A40044<>\"\",IF(Main!$E$12=\"ALL\",A40044,IF(Main!$E$12=A40044,A40044,\"\")),\"\")","v":""},"","","","","","","",""]
[{"$nulls":23},{"$f":"IF(A40059<>\"\",IF(Main!$E$12=\"ALL\",A40059,IF(Main!$E$12=A40059,A40059,\"\")),\"\")","v":""},"","","","","","","",""]
[{"$nulls":23},{"$f":"IF(A40077<>\"\",IF(Main!$E$12=\"ALL\",A40077,IF(Main!$E$12=A40077,A40077,\"\")),\"\")","v":""},"","","","","","","",""]
[{"$nulls":23},{"$f":"IF(A40110<>\"\",IF(Main!$E$12=\"ALL\",A40110,IF(Main!$E$12=A40110,A40110,\"\")),\"\")","v":""},"","","","","","","",""]
[{"$nulls":23},{"$f":"IF(A40135<>\"\",IF(Main!$E$12=\"ALL\",A40135,IF(Main!$E$12=A40135,A40135,\"\")),\"\")","v":""},"","","","","","","",""]
[{"$nulls":23},{"$f":"IF(A40151<>\"\",IF(Main!$E$12=\"ALL\",A40151,IF(Main!$E$12=A40151,A40151,\"\")),\"\")","v":""},"","","","","","","",""]
[{"$nulls":23},{"$f":"IF(A40176<>\"\",IF(Main!$E$12=\"ALL\",A40176,IF(Main!$E$12=A40176,A40176,\"\")),\"\")","v":""},"","","","","","","",""]
[{"$nulls":23},{"$f":"IF(A40201<>\"\",IF(Main!$E$12=\"ALL\",A40201,IF(Main!$E$12=A40201,A40201,\"\")),\"\")","v":""},"","","","","","","",""]
[{"$nulls":23},{"$f":"IF(A40234<>\"\",IF(Main!$E$12=\"ALL\",A40234,IF(Main!$E$12=A40234,A40234,\"\")),\"\")","v":""},"","","","","","","",""]
[{"$nulls":23},{"$f":"IF(A40254<>\"\",IF(Main!$E$12=\"ALL\",A40254,IF(Main!$E$12=A40254,A40254,\"\")),\"\")","v":""},"","","","","","","",""]
[{"$nulls":23},{"$f":"IF(A40267<>\"\",IF(Main!$E$12=\"ALL\",A40267,IF(Main!$E$12=A40267,A40267,\"\")),\"\")","v":""},"","","","","","","",""]
[{"$nulls":23},{"$f":"IF(A40300<>\"\",IF(Main!$E$12=\"ALL\",A40300,IF(Main!$E$12=A40300,A40300,\"\")),\"\")","v":""},"","","","","","","",""]
[{"$nulls":23},{"$f":"IF(A40325<>\"\",IF(Main!$E$12=\"ALL\",A40325,IF(Main!$E$12=A40325,A40325,\"\")),\"\")","v":""},"","","","","","","",""]
[{"$nulls":23},{"$f":"IF(A40346<>\"\",IF(Main!$E$12=\"ALL\",A40346,IF(Main!$E$12=A40346,A40346,\"\")),\"\")","v":""},"","","","","","","",""]
[{"$nulls":23},{"$f":"IF(A40366<>\"\",IF(Main!$E$12=\"ALL\",A40366,IF(Main!$E$12=A40366,A40366,\"\")),\"\")","v":""},"","","","","","","",""]
[{"$nulls":23},{"$f":"IF(A40391<>\"\",IF(Main!$E$12=\"ALL\",A40391,IF(Main!$E$12=A40391,A40391,\"\")),\"\")","v":""},"","","","","","","",""]
[{"$nulls":23},{"$f":"IF(A40424<>\"\",IF(Main!$E$12=\"ALL\",A40424,IF(Main!$E$12=A40424,A40424,\"\")),\"\")","v":""},"","","","","","","",""]
[{"$nulls":23},{"$f":"IF(A40438<>\"\",IF(Main!$E$12=\"ALL\",A40438,IF(Main!$E$12=A40438,A40438,\"\")),\"\")","v":""},"","","","","","","",""]
[{"$nulls":23},{"$f":"IF(A40457<>\"\",IF(Main!$E$12=\"ALL\",A40457,IF(Main!$E$12=A40457,A40457,\"\")),\"\")","v":""},"","","","","","","",""]
[{"$nulls":23},{"$f":"IF(A40490<>\"\",IF(Main!$E$12=\"ALL\",A40490,IF(Main!$E$12=A40490,A40490,\"\")),\"\")","v":""},"","","","","","","",""]
[{"$nulls":23},{"$f":"IF(A40515<>\"\",IF(Main!$E$12=\"ALL\",A40515,IF(Main!$E$12=A40515,A40515,\"\")),\"\")","v":""},{"$f":"IF($X40515=\"\",\"\",D40515)","v":""},{"$f":"IF($X40515=\"\",\"\",F40515)","v":""},{"$f":"IF($X40515=\"\",\"\",J40515)","v":""},{"$f":"IF($X40515=\"\",\"\",N40515)","v":""},{"$f":"IF($X40515=\"\",\"\",IF(P40515=\"\",\"\",P40515))","v":""},{"$f":"IF($X40515=\"\",\"\",R40515)","v":""},{"$f":"IF($X40515=\"\",\"\",T40515)","v":""},{"$f":"IF($X40515=\"\",\"\",V40515)","v":""}]
[{"$nulls":23},{"$f":"IF(A40541<>\"\",IF(Main!$E$12=\"ALL\",A40541,IF(Main!$E$12=A40541,A40541,\"\")),\"\")","v":""},"","","","","","","",""]
[{"$nulls":23},{"$f":"IF(A40556<>\"\",IF(Main!$E$12=\"ALL\",A40556,IF(Main!$E$12=A40556,A40556,\"\")),\"\")","v":""},"","","","","","","",""]
[{"$nulls":23},{"$f":"IF(A40581<>\"\",IF(Main!$E$12=\"ALL\",A40581,IF(Main!$E$12=A40581,A40581,\"\")),\"\")","v":""},"","","","","","","",""]
[{"$nulls":23},{"$f":"IF(A40614<>\"\",IF(Main!$E$12=\"ALL\",A40614,IF(Main!$E$12=A40614,A40614,\"\")),\"\")","v":""},"","","","","","","",""]
[{"$nulls":23},{"$f":"IF(A40633<>\"\",IF(Main!$E$12=\"ALL\",A40633,IF(Main!$E$12=A40633,A40633,\"\")),\"\")","v":""},"","","","","","","",""]
[{"$nulls":23},{"$f":"IF(A40647<>\"\",IF(Main!$E$12=\"ALL\",A40647,IF(Main!$E$12=A40647,A40647,\"\")),\"\")","v":""},"","","","","","","",""]
[{"$nulls":23},{"$f":"IF(A40680<>\"\",IF(Main!$E$12=\"ALL\",A40680,IF(Main!$E$12=A40680,A40680,\"\")),\"\")","v":""},"","","","","","","",""]
[{"$nulls":23},{"$f":"IF(A40705<>\"\",IF(Main!$E$12=\"ALL\",A40705,IF(Main!$E$12=A40705,A40705,\"\")),\"\")","v":""},"","","","","","","",""]
[{"$nulls":23},{"$f":"IF(A40736<>\"\",IF(Main!$E$12=\"ALL\",A40736,IF(Main!$E$12=A40736,A40736,\"\")),\"\")","v":""},"","","","","","","",""]
[{"$nulls":23},{"$f":"IF(A40746<>\"\",IF(Main!$E$12=\"ALL\",A40746,IF(Main!$E$12=A40746,A40746,\"\")),\"\")","v":""},"","","","","","","",""]
[{"$nulls":23},{"$f":"IF(A40771<>\"\",IF(Main!$E$12=\"ALL\",A40771,IF(Main!$E$12=A40771,A40771,\"\")),\"\")","v":""},{"$f":"IF($X40771=\"\",\"\",D40771)","v":""},{"$f":"IF($X40771=\"\",\"\",F40771)","v":""},{"$f":"IF($X40771=\"\",\"\",J40771)","v":""},{"$f":"IF($X40771=\"\",\"\",N40771)","v":""},{"$f":"IF($X40771=\"\",\"\",IF(P40771=\"\",\"\",P40771))","v":""},{"$f":"IF($X40771=\"\",\"\",R40771)","v":""},{"$f":"IF($X40771=\"\",\"\",T40771)","v":""},{"$f":"IF($X40771=\"\",\"\",V40771)","v":""}]
[{"$nulls":23},{"$f":"IF(A40804<>\"\",IF(Main!$E$12=\"ALL\",A40804,IF(Main!$E$12=A40804,A40804,\"\")),\"\")","v":""},"","","","","","","",""]
[{"$nulls":23},{"$f":"IF(A40828<>\"\",IF(Main!$E$12=\"ALL\",A40828,IF(Main!$E$12=A40828,A40828,\"\")),\"\")","v":""},"","","","","","","",""]
[{"$nulls":23},{"$f":"IF(A40837<>\"\",IF(Main!$E$12=\"ALL\",A40837,IF(Main!$E$12=A40837,A40837,\"\")),\"\")","v":""},"","","","","","","",""]
[{"$nulls":23},{"$f":"IF(A40870<>\"\",IF(Main!$E$12=\"ALL\",A40870,IF(Main!$E$12=A40870,A40870,\"\")),\"\")","v":""},"","","","","","","",""]
[{"$nulls":23},{"$f":"IF(A40895<>\"\",IF(Main!$E$12=\"ALL\",A40895,IF(Main!$E$12=A40895,A40895,\"\")),\"\")","v":""},"","","","","","","",""]
[{"$nulls":23},{"$f":"IF(A40908<>\"\",IF(Main!$E$12=\"ALL\",A40908,IF(Main!$E$12=A40908,A40908,\"\")),\"\")","v":""},"","","","","","","",""]
[{"$nulls":23},{"$f":"IF(A40928<>\"\",IF(Main!$E$12=\"ALL\",A40928,IF(Main!$E$12=A40928,A40928,\"\")),\"\")","v":""},"","","","","","","",""]
[{"$nulls":23},{"$f":"IF(A40961<>\"\",IF(Main!$E$12=\"ALL\",A40961,IF(Main!$E$12=A40961,A40961,\"\")),\"\")","v":""},"","","","","","","",""]
[{"$nulls":23},{"$f":"IF(A40994<>\"\",IF(Main!$E$12=\"ALL\",A40994,IF(Main!$E$12=A40994,A40994,\"\")),\"\")","v":""},"","","","","","","",""]
[{"$nulls":23},{"$f":"IF(A41000<>\"\",IF(Main!$E$12=\"ALL\",A41000,IF(Main!$E$12=A41000,A41000,\"\")),\"\")","v":""},"","","","","","","",""]
[{"$nulls":23},{"$f":"IF(A41027<>\"\",IF(Main!$E$12=\"ALL\",A41027,IF(Main!$E$12=A41027,A41027,\"\")),\"\")","v":""},{"$f":"IF($X41027=\"\",\"\",D41027)","v":""},{"$f":"IF($X41027=\"\",\"\",F41027)","v":""},{"$f":"IF($X41027=\"\",\"\",J41027)","v":""},{"$f":"IF($X41027=\"\",\"\",N41027)","v":""},{"$f":"IF($X41027=\"\",\"\",IF(P41027=\"\",\"\",P41027))","v":""},{"$f":"IF($X41027=\"\",\"\",R41027)","v":""},{"$f":"IF($X41027=\"\",\"\",T41027)","v":""},{"$f":"IF($X41027=\"\",\"\",V41027)","v":""}]
[{"$nulls":23},{"$f":"IF(A41060<>\"\",IF(Main!$E$12=\"ALL\",A41060,IF(Main!$E$12=A41060,A41060,\"\")),\"\")","v":""},"","","","","","","",""]
[{"$nulls":23},{"$f":"IF(A41085<>\"\",IF(Main!$E$12=\"ALL\",A41085,IF(Main!$E$12=A41085,A41085,\"\")),\"\")","v":""},"","","","","","","",""]
[{"$nulls":23},{"$f":"IF(A41103<>\"\",IF(Main!$E$12=\"ALL\",A41103,IF(Main!$E$12=A41103,A41103,\"\")),\"\")","v":""},"","","","","","","",""]
[{"$nulls":23},{"$f":"IF(A41118<>\"\",IF(Main!$E$12=\"ALL\",A41118,IF(Main!$E$12=A41118,A41118,\"\")),\"\")","v":""},"","","","","","","",""]
[{"$nulls":23},{"$f":"IF(A41151<>\"\",IF(Main!$E$12=\"ALL\",A41151,IF(Main!$E$12=A41151,A41151,\"\")),\"\")","v":""},"","","","","","","",""]
[{"$nulls":23},{"$f":"IF(A41184<>\"\",IF(Main!$E$12=\"ALL\",A41184,IF(Main!$E$12=A41184,A41184,\"\")),\"\")","v":""},"","","","","","","",""]
[{"$nulls":23},{"$f":"IF(A41195<>\"\",IF(Main!$E$12=\"ALL\",A41195,IF(Main!$E$12=A41195,A41195,\"\")),\"\")","v":""},"","","","","","","",""]
[{"$nulls":23},{"$f":"IF(A41217<>\"\",IF(Main!$E$12=\"ALL\",A41217,IF(Main!$E$12=A41217,A41217,\"\")),\"\")","v":""},"","","","","","","",""]
[{"$nulls":23},{"$f":"IF(A41242<>\"\",IF(Main!$E$12=\"ALL\",A41242,IF(Main!$E$12=A41242,A41242,\"\")),\"\")","v":""},"","","","","","","",""]
[{"$nulls":23},{"$f":"IF(A41275<>\"\",IF(Main!$E$12=\"ALL\",A41275,IF(Main!$E$12=A41275,A41275,\"\")),\"\")","v":""},"","","","","","","",""]
[{"$nulls":23},{"$f":"IF(A41298<>\"\",IF(Main!$E$12=\"ALL\",A41298,IF(Main!$E$12=A41298,A41298,\"\")),\"\")","v":""},"","","","","","","",""]
[{"$nulls":23},{"$f":"IF(A41308<>\"\",IF(Main!$E$12=\"ALL\",A41308,IF(Main!$E$12=A41308,A41308,\"\")),\"\")","v":""},"","","","","","","",""]
[{"$nulls":23},{"$f":"IF(A41341<>\"\",IF(Main!$E$12=\"ALL\",A41341,IF(Main!$E$12=A41341,A41341,\"\")),\"\")","v":""},"","","","","","","",""]
[{"$nulls":23},{"$f":"IF(A41374<>\"\",IF(Main!$E$12=\"ALL\",A41374,IF(Main!$E$12=A41374,A41374,\"\")),\"\")","v":""},"","","","","","","",""]
[{"$nulls":23},{"$f":"IF(A41390<>\"\",IF(Main!$E$12=\"ALL\",A41390,IF(Main!$E$12=A41390,A41390,\"\")),\"\")","v":""},"","","","","","","",""]
[{"$nulls":23},{"$f":"IF(A41407<>\"\",IF(Main!$E$12=\"ALL\",A41407,IF(Main!$E$12=A41407,A41407,\"\")),\"\")","v":""},"","","","","","","",""]
[{"$nulls":23},{"$f":"IF(A41432<>\"\",IF(Main!$E$12=\"ALL\",A41432,IF(Main!$E$12=A41432,A41432,\"\")),\"\")","v":""},"","","","","","","",""]
[{"$nulls":23},{"$f":"IF(A41465<>\"\",IF(Main!$E$12=\"ALL\",A41465,IF(Main!$E$12=A41465,A41465,\"\")),\"\")","v":""},"","","","","","","",""]
[{"$nulls":23},{"$f":"IF(A41493<>\"\",IF(Main!$E$12=\"ALL\",A41493,IF(Main!$E$12=A41493,A41493,\"\")),\"\")","v":""},"","","","","","","",""]
[{"$nulls":23},{"$f":"IF(A41498<>\"\",IF(Main!$E$12=\"ALL\",A41498,IF(Main!$E$12=A41498,A41498,\"\")),\"\")","v":""},"","","","","","","",""]
[{"$nulls":23},{"$f":"IF(A41531<>\"\",IF(Main!$E$12=\"ALL\",A41531,IF(Main!$E$12=A41531,A41531,\"\")),\"\")","v":""},"","","","","","","",""]
[{"$nulls":23},{"$f":"IF(A41564<>\"\",IF(Main!$E$12=\"ALL\",A41564,IF(Main!$E$12=A41564,A41564,\"\")),\"\")","v":""},"","","","","","","",""]
[{"$nulls":23},{"$f":"IF(A41585<>\"\",IF(Main!$E$12=\"ALL\",A41585,IF(Main!$E$12=A41585,A41585,\"\")),\"\")","v":""},"","","","","","","",""]
[{"$nulls":23},{"$f":"IF(A41597<>\"\",IF(Main!$E$12=\"ALL\",A41597,IF(Main!$E$12=A41597,A41597,\"\")),\"\")","v":""},"","","","","","","",""]
[{"$nulls":23},{"$f":"IF(A41622<>\"\",IF(Main!$E$12=\"ALL\",A41622,IF(Main!$E$12=A41622,A41622,\"\")),\"\")","v":""},"","","","","","","",""]
[{"$nulls":23},{"$f":"IF(A41655<>\"\",IF(Main!$E$12=\"ALL\",A41655,IF(Main!$E$12=A41655,A41655,\"\")),\"\")","v":""},"","","","","","","",""]
[{"$nulls":23},{"$f":"IF(A41665<>\"\",IF(Main!$E$12=\"ALL\",A41665,IF(Main!$E$12=A41665,A41665,\"\")),\"\")","v":""},"","","","","","","",""]
[{"$nulls":23},{"$f":"IF(A41688<>\"\",IF(Main!$E$12=\"ALL\",A41688,IF(Main!$E$12=A41688,A41688,\"\")),\"\")","v":""},"","","","","","","",""]
[{"$nulls":23},{"$f":"IF(A41721<>\"\",IF(Main!$E$12=\"ALL\",A41721,IF(Main!$E$12=A41721,A41721,\"\")),\"\")","v":""},"","","","","","","",""]
[{"$nulls":23},{"$f":"IF(A41746<>\"\",IF(Main!$E$12=\"ALL\",A41746,IF(Main!$E$12=A41746,A41746,\"\")),\"\")","v":""},"","","","","","","",""]
[{"$nulls":23},{"$f":"IF(A41780<>\"\",IF(Main!$E$12=\"ALL\",A41780,IF(Main!$E$12=A41780,A41780,\"\")),\"\")","v":""},"","","","","","","",""]
[{"$nulls":23},{"$f":"IF(A41787<>\"\",IF(Main!$E$12=\"ALL\",A41787,IF(Main!$E$12=A41787,A41787,\"\")),\"\")","v":""},"","","","","","","",""]
[{"$nulls":23},{"$f":"IF(A41812<>\"\",IF(Main!$E$12=\"ALL\",A41812,IF(Main!$E$12=A41812,A41812,\"\")),\"\")","v":""},"","","","","","","",""]
[{"$nulls":23},{"$f":"IF(A41845<>\"\",IF(Main!$E$12=\"ALL\",A41845,IF(Main!$E$12=A41845,A41845,\"\")),\"\")","v":""},"","","","","","","",""]
[{"$nulls":23},{"$f":"IF(A41860<>\"\",IF(Main!$E$12=\"ALL\",A41860,IF(Main!$E$12=A41860,A41860,\"\")),\"\")","v":""},"","","","","","","",""]
[{"$nulls":23},{"$f":"IF(A41878<>\"\",IF(Main!$E$12=\"ALL\",A41878,IF(Main!$E$12=A41878,A41878,\"\")),\"\")","v":""},"","","","","","","",""]
[{"$nulls":23},{"$f":"IF(A41911<>\"\",IF(Main!$E$12=\"ALL\",A41911,IF(Main!$E$12=A41911,A41911,\"\")),\"\")","v":""},"","","","","","","",""]
[{"$nulls":23},{"$f":"IF(A41936<>\"\",IF(Main!$E$12=\"ALL\",A41936,IF(Main!$E$12=A41936,A41936,\"\")),\"\")","v":""},"","","","","","","",""]
[{"$nulls":23},{"$f":"IF(A41952<>\"\",IF(Main!$E$12=\"ALL\",A41952,IF(Main!$E$12=A41952,A41952,\"\")),\"\")","v":""},"","","","","","","",""]
[{"$nulls":23},{"$f":"IF(A41977<>\"\",IF(Main!$E$12=\"ALL\",A41977,IF(Main!$E$12=A41977,A41977,\"\")),\"\")","v":""},"","","","","","","",""]
[{"$nulls":23},{"$f":"IF(A42002<>\"\",IF(Main!$E$12=\"ALL\",A42002,IF(Main!$E$12=A42002,A42002,\"\")),\"\")","v":""},"","","","","","","",""]
[{"$nulls":23},{"$f":"IF(A42035<>\"\",IF(Main!$E$12=\"ALL\",A42035,IF(Main!$E$12=A42035,A42035,\"\")),\"\")","v":""},"","","","","","","",""]
[{"$nulls":23},{"$f":"IF(A42055<>\"\",IF(Main!$E$12=\"ALL\",A42055,IF(Main!$E$12=A42055,A42055,\"\")),\"\")","v":""},"","","","","","","",""]
[{"$nulls":23},{"$f":"IF(A42068<>\"\",IF(Main!$E$12=\"ALL\",A42068,IF(Main!$E$12=A42068,A42068,\"\")),\"\")","v":""},"","","","","","","",""]
[{"$nulls":23},{"$f":"IF(A42101<>\"\",IF(Main!$E$12=\"ALL\",A42101,IF(Main!$E$12=A42101,A42101,\"\")),\"\")","v":""},"","","","","","","",""]
[{"$nulls":23},{"$f":"IF(A42126<>\"\",IF(Main!$E$12=\"ALL\",A42126,IF(Main!$E$12=A42126,A42126,\"\")),\"\")","v":""},"","","","","","","",""]
[{"$nulls":23},{"$f":"IF(A42147<>\"\",IF(Main!$E$12=\"ALL\",A42147,IF(Main!$E$12=A42147,A42147,\"\")),\"\")","v":""},"","","","","","","",""]
[{"$nulls":23},{"$f":"IF(A42167<>\"\",IF(Main!$E$12=\"ALL\",A42167,IF(Main!$E$12=A42167,A42167,\"\")),\"\")","v":""},"","","","","","","",""]
[{"$nulls":23},{"$f":"IF(A42192<>\"\",IF(Main!$E$12=\"ALL\",A42192,IF(Main!$E$12=A42192,A42192,\"\")),\"\")","v":""},"","","","","","","",""]
[{"$nulls":23},{"$f":"IF(A42225<>\"\",IF(Main!$E$12=\"ALL\",A42225,IF(Main!$E$12=A42225,A42225,\"\")),\"\")","v":""},"","","","","","","",""]
[{"$nulls":23},{"$f":"IF(A42239<>\"\",IF(Main!$E$12=\"ALL\",A42239,IF(Main!$E$12=A42239,A42239,\"\")),\"\")","v":""},"","","","","","","",""]
[{"$nulls":23},{"$f":"IF(A42258<>\"\",IF(Main!$E$12=\"ALL\",A42258,IF(Main!$E$12=A42258,A42258,\"\")),\"\")","v":""},"","","","","","","",""]
[{"$nulls":23},{"$f":"IF(A42291<>\"\",IF(Main!$E$12=\"ALL\",A42291,IF(Main!$E$12=A42291,A42291,\"\")),\"\")","v":""},"","","","","","","",""]
[{"$nulls":23},{"$f":"IF(A42316<>\"\",IF(Main!$E$12=\"ALL\",A42316,IF(Main!$E$12=A42316,A42316,\"\")),\"\")","v":""},"","","","","","","",""]
[{"$nulls":23},{"$f":"IF(A42342<>\"\",IF(Main!$E$12=\"ALL\",A42342,IF(Main!$E$12=A42342,A42342,\"\")),\"\")","v":""},"","","","","","","",""]
[{"$nulls":23},{"$f":"IF(A42357<>\"\",IF(Main!$E$12=\"ALL\",A42357,IF(Main!$E$12=A42357,A42357,\"\")),\"\")","v":""},"","","","","","","",""]
[{"$nulls":23},{"$f":"IF(A42382<>\"\",IF(Main!$E$12=\"ALL\",A42382,IF(Main!$E$12=A42382,A42382,\"\")),\"\")","v":""},"","","","","","","",""]
[{"$nulls":23},{"$f":"IF(A42415<>\"\",IF(Main!$E$12=\"ALL\",A42415,IF(Main!$E$12=A42415,A42415,\"\")),\"\")","v":""},"","","","","","","",""]
[{"$nulls":23},{"$f":"IF(A42434<>\"\",IF(Main!$E$12=\"ALL\",A42434,IF(Main!$E$12=A42434,A42434,\"\")),\"\")","v":""},"","","","","","","",""]
[{"$nulls":23},{"$f":"IF(A42448<>\"\",IF(Main!$E$12=\"ALL\",A42448,IF(Main!$E$12=A42448,A42448,\"\")),\"\")","v":""},"","","","","","","",""]
[{"$nulls":23},{"$f":"IF(A42481<>\"\",IF(Main!$E$12=\"ALL\",A42481,IF(Main!$E$12=A42481,A42481,\"\")),\"\")","v":""},"","","","","","","",""]
[{"$nulls":23},{"$f":"IF(A42506<>\"\",IF(Main!$E$12=\"ALL\",A42506,IF(Main!$E$12=A42506,A42506,\"\")),\"\")","v":""},"","","","","","","",""]
[{"$nulls":23},{"$f":"IF(A42537<>\"\",IF(Main!$E$12=\"ALL\",A42537,IF(Main!$E$12=A42537,A42537,\"\")),\"\")","v":""},"","","","","","","",""]
[{"$nulls":23},{"$f":"IF(A42563<>\"\",IF(Main!$E$12=\"ALL\",A42563,IF(Main!$E$12=A42563,A42563,\"\")),\"\")","v":""},{"$f":"IF($X42563=\"\",\"\",D42563)","v":""},{"$f":"IF($X42563=\"\",\"\",F42563)","v":""},{"$f":"IF($X42563=\"\",\"\",J42563)","v":""},{"$f":"IF($X42563=\"\",\"\",N42563)","v":""},{"$f":"IF($X42563=\"\",\"\",IF(P42563=\"\",\"\",P42563))","v":""},{"$f":"IF($X42563=\"\",\"\",R42563)","v":""},{"$f":"IF($X42563=\"\",\"\",T42563)","v":""},{"$f":"IF($X42563=\"\",\"\",V42563)","v":""}]
[{"$nulls":23},{"$f":"IF(A42572<>\"\",IF(Main!$E$12=\"ALL\",A42572,IF(Main!$E$12=A42572,A42572,\"\")),\"\")","v":""},"","","","","","","",""]
[{"$nulls":23},{"$f":"IF(A42605<>\"\",IF(Main!$E$12=\"ALL\",A42605,IF(Main!$E$12=A42605,A42605,\"\")),\"\")","v":""},"","","","","","","",""]
[{"$nulls":23},{"$f":"IF(A42629<>\"\",IF(Main!$E$12=\"ALL\",A42629,IF(Main!$E$12=A42629,A42629,\"\")),\"\")","v":""},"","","","","","","",""]
[{"$nulls":23},{"$f":"IF(A42638<>\"\",IF(Main!$E$12=\"ALL\",A42638,IF(Main!$E$12=A42638,A42638,\"\")),\"\")","v":""},"","","","","","","",""]
[{"$nulls":23},{"$f":"IF(A42671<>\"\",IF(Main!$E$12=\"ALL\",A42671,IF(Main!$E$12=A42671,A42671,\"\")),\"\")","v":""},"","","","","","","",""]
[{"$nulls":23},{"$f":"IF(A42696<>\"\",IF(Main!$E$12=\"ALL\",A42696,IF(Main!$E$12=A42696,A42696,\"\")),\"\")","v":""},"","","","","","","",""]
[{"$nulls":23},{"$f":"IF(A42732<>\"\",IF(Main!$E$12=\"ALL\",A42732,IF(Main!$E$12=A42732,A42732,\"\")),\"\")","v":""},"","","","","","","",""]
[{"$nulls":23},{"$f":"IF(A42753<>\"\",IF(Main!$E$12=\"ALL\",A42753,IF(Main!$E$12=A42753,A42753,\"\")),\"\")","v":""},"","","","","","","",""]
[{"$nulls":23},{"$f":"IF(A42762<>\"\",IF(Main!$E$12=\"ALL\",A42762,IF(Main!$E$12=A42762,A42762,\"\")),\"\")","v":""},"","","","","","","",""]
[{"$nulls":23},{"$f":"IF(A42795<>\"\",IF(Main!$E$12=\"ALL\",A42795,IF(Main!$E$12=A42795,A42795,\"\")),\"\")","v":""},"","","","","","","",""]
[{"$nulls":23},{"$f":"IF(A42824<>\"\",IF(Main!$E$12=\"ALL\",A42824,IF(Main!$E$12=A42824,A42824,\"\")),\"\")","v":""},"","","","","","","",""]
[{"$nulls":23},{"$f":"IF(A42828<>\"\",IF(Main!$E$12=\"ALL\",A42828,IF(Main!$E$12=A42828,A42828,\"\")),\"\")","v":""},"","","","","","","",""]
[{"$nulls":23},{"$f":"IF(A42861<>\"\",IF(Main!$E$12=\"ALL\",A42861,IF(Main!$E$12=A42861,A42861,\"\")),\"\")","v":""},"","","","","","","",""]
[{"$nulls":23},{"$f":"IF(A42886<>\"\",IF(Main!$E$12=\"ALL\",A42886,IF(Main!$E$12=A42886,A42886,\"\")),\"\")","v":""},"","","","","","","",""]
[{"$nulls":23},{"$f":"IF(A42904<>\"\",IF(Main!$E$12=\"ALL\",A42904,IF(Main!$E$12=A42904,A42904,\"\")),\"\")","v":""},"","","","","","","",""]
[{"$nulls":23},{"$f":"IF(A42943<>\"\",IF(Main!$E$12=\"ALL\",A42943,IF(Main!$E$12=A42943,A42943,\"\")),\"\")","v":""},"","","","","","","",""]
[{"$nulls":23},{"$f":"IF(A42952<>\"\",IF(Main!$E$12=\"ALL\",A42952,IF(Main!$E$12=A42952,A42952,\"\")),\"\")","v":""},"","","","","","","",""]
[{"$nulls":23},{"$f":"IF(A42985<>\"\",IF(Main!$E$12=\"ALL\",A42985,IF(Main!$E$12=A42985,A42985,\"\")),\"\")","v":""},"","","","","","","",""]
[{"$nulls":23},{"$f":"IF(A42996<>\"\",IF(Main!$E$12=\"ALL\",A42996,IF(Main!$E$12=A42996,A42996,\"\")),\"\")","v":""},"","","","","","","",""]
[{"$nulls":23},{"$f":"IF(A43018<>\"\",IF(Main!$E$12=\"ALL\",A43018,IF(Main!$E$12=A43018,A43018,\"\")),\"\")","v":""},"","","","","","","",""]
[{"$nulls":23},{"$f":"IF(A43043<>\"\",IF(Main!$E$12=\"ALL\",A43043,IF(Main!$E$12=A43043,A43043,\"\")),\"\")","v":""},"","","","","","","",""]
[{"$nulls":23},{"$f":"IF(A43076<>\"\",IF(Main!$E$12=\"ALL\",A43076,IF(Main!$E$12=A43076,A43076,\"\")),\"\")","v":""},"","","","","","","",""]
[{"$nulls":23},{"$f":"IF(A43099<>\"\",IF(Main!$E$12=\"ALL\",A43099,IF(Main!$E$12=A43099,A43099,\"\")),\"\")","v":""},"","","","","","","",""]
[{"$nulls":23},{"$f":"IF(A43133<>\"\",IF(Main!$E$12=\"ALL\",A43133,IF(Main!$E$12=A43133,A43133,\"\")),\"\")","v":""},"","","","","","","",""]
[{"$nulls":23},{"$f":"IF(A43142<>\"\",IF(Main!$E$12=\"ALL\",A43142,IF(Main!$E$12=A43142,A43142,\"\")),\"\")","v":""},"","","","","","","",""]
[{"$nulls":23},{"$f":"IF(A43175<>\"\",IF(Main!$E$12=\"ALL\",A43175,IF(Main!$E$12=A43175,A43175,\"\")),\"\")","v":""},"","","","","","","",""]
[{"$nulls":23},{"$f":"IF(A43191<>\"\",IF(Main!$E$12=\"ALL\",A43191,IF(Main!$E$12=A43191,A43191,\"\")),\"\")","v":""},"","","","","","","",""]
[{"$nulls":23},{"$f":"IF(A43208<>\"\",IF(Main!$E$12=\"ALL\",A43208,IF(Main!$E$12=A43208,A43208,\"\")),\"\")","v":""},"","","","","","","",""]
[{"$nulls":23},{"$f":"IF(A43233<>\"\",IF(Main!$E$12=\"ALL\",A43233,IF(Main!$E$12=A43233,A43233,\"\")),\"\")","v":""},"","","","","","","",""]
[{"$nulls":23},{"$f":"IF(A43266<>\"\",IF(Main!$E$12=\"ALL\",A43266,IF(Main!$E$12=A43266,A43266,\"\")),\"\")","v":""},"","","","","","","",""]
[{"$nulls":23},{"$f":"IF(A43294<>\"\",IF(Main!$E$12=\"ALL\",A43294,IF(Main!$E$12=A43294,A43294,\"\")),\"\")","v":""},"","","","","","","",""]
[{"$nulls":23},{"$f":"IF(A43323<>\"\",IF(Main!$E$12=\"ALL\",A43323,IF(Main!$E$12=A43323,A43323,\"\")),\"\")","v":""},"","","","","","","",""]
[{"$nulls":23},{"$f":"IF(A43332<>\"\",IF(Main!$E$12=\"ALL\",A43332,IF(Main!$E$12=A43332,A43332,\"\")),\"\")","v":""},"","","","","","","",""]
[{"$nulls":23},{"$f":"IF(A43357<>\"\",IF(Main!$E$12=\"ALL\",A43357,IF(Main!$E$12=A43357,A43357,\"\")),\"\")","v":""},"","","","","","","",""]
[{"$nulls":23},{"$f":"IF(A43386<>\"\",IF(Main!$E$12=\"ALL\",A43386,IF(Main!$E$12=A43386,A43386,\"\")),\"\")","v":""},"","","","","","","",""]
[{"$nulls":23},{"$f":"IF(A43398<>\"\",IF(Main!$E$12=\"ALL\",A43398,IF(Main!$E$12=A43398,A43398,\"\")),\"\")","v":""},"","","","","","","",""]
[{"$nulls":23},{"$f":"IF(A43423<>\"\",IF(Main!$E$12=\"ALL\",A43423,IF(Main!$E$12=A43423,A43423,\"\")),\"\")","v":""},"","","","","","","",""]
[{"$nulls":23},{"$f":"IF(A43456<>\"\",IF(Main!$E$12=\"ALL\",A43456,IF(Main!$E$12=A43456,A43456,\"\")),\"\")","v":""},"","","","","","","",""]
[{"$nulls":23},{"$f":"IF(A43489<>\"\",IF(Main!$E$12=\"ALL\",A43489,IF(Main!$E$12=A43489,A43489,\"\")),\"\")","v":""},"","","","","","","",""]
[{"$nulls":23},{"$f":"IF(A43513<>\"\",IF(Main!$E$12=\"ALL\",A43513,IF(Main!$E$12=A43513,A43513,\"\")),\"\")","v":""},"","","","","","","",""]
[{"$nulls":23},{"$f":"IF(A43522<>\"\",IF(Main!$E$12=\"ALL\",A43522,IF(Main!$E$12=A43522,A43522,\"\")),\"\")","v":""},"","","","","","","",""]
[{"$nulls":23},{"$f":"IF(A43547<>\"\",IF(Main!$E$12=\"ALL\",A43547,IF(Main!$E$12=A43547,A43547,\"\")),\"\")","v":""},"","","","","","","",""]
[{"$nulls":23},{"$f":"IF(A43580<>\"\",IF(Main!$E$12=\"ALL\",A43580,IF(Main!$E$12=A43580,A43580,\"\")),\"\")","v":""},"","","","","","","",""]
[{"$nulls":23},{"$f":"IF(A43604<>\"\",IF(Main!$E$12=\"ALL\",A43604,IF(Main!$E$12=A43604,A43604,\"\")),\"\")","v":""},"","","","","","","",""]
[{"$nulls":23},{"$f":"IF(A43613<>\"\",IF(Main!$E$12=\"ALL\",A43613,IF(Main!$E$12=A43613,A43613,\"\")),\"\")","v":""},"","","","","","","",""]
[{"$nulls":23},{"$f":"IF(A43646<>\"\",IF(Main!$E$12=\"ALL\",A43646,IF(Main!$E$12=A43646,A43646,\"\")),\"\")","v":""},"","","","","","","",""]
[{"$nulls":23},{"$f":"IF(A43679<>\"\",IF(Main!$E$12=\"ALL\",A43679,IF(Main!$E$12=A43679,A43679,\"\")),\"\")","v":""},"","","","","","","",""]
[{"$nulls":23},{"$f":"IF(A43696<>\"\",IF(Main!$E$12=\"ALL\",A43696,IF(Main!$E$12=A43696,A43696,\"\")),\"\")","v":""},"","","","","","","",""]
[{"$nulls":23},{"$f":"IF(A43712<>\"\",IF(Main!$E$12=\"ALL\",A43712,IF(Main!$E$12=A43712,A43712,\"\")),\"\")","v":""},"","","","","","","",""]
[{"$nulls":23},{"$f":"IF(A43737<>\"\",IF(Main!$E$12=\"ALL\",A43737,IF(Main!$E$12=A43737,A43737,\"\")),\"\")","v":""},"","","","","","","",""]
[{"$nulls":23},{"$f":"IF(A43770<>\"\",IF(Main!$E$12=\"ALL\",A43770,IF(Main!$E$12=A43770,A43770,\"\")),\"\")","v":""},"","","","","","","",""]
[{"$nulls":23},{"$f":"IF(A43799<>\"\",IF(Main!$E$12=\"ALL\",A43799,IF(Main!$E$12=A43799,A43799,\"\")),\"\")","v":""},"","","","","","","",""]
[{"$nulls":23},{"$f":"IF(A43803<>\"\",IF(Main!$E$12=\"ALL\",A43803,IF(Main!$E$12=A43803,A43803,\"\")),\"\")","v":""},"","","","","","","",""]
[{"$nulls":23},{"$f":"IF(A43836<>\"\",IF(Main!$E$12=\"ALL\",A43836,IF(Main!$E$12=A43836,A43836,\"\")),\"\")","v":""},"","","","","","","",""]
[{"$nulls":23},{"$f":"IF(A43861<>\"\",IF(Main!$E$12=\"ALL\",A43861,IF(Main!$E$12=A43861,A43861,\"\")),\"\")","v":""},"","","","","","","",""]
[{"$nulls":23},{"$f":"IF(A43891<>\"\",IF(Main!$E$12=\"ALL\",A43891,IF(Main!$E$12=A43891,A43891,\"\")),\"\")","v":""},"","","","","","","",""]
[{"$nulls":23},{"$f":"IF(A43902<>\"\",IF(Main!$E$12=\"ALL\",A43902,IF(Main!$E$12=A43902,A43902,\"\")),\"\")","v":""},"","","","","","","",""]
[{"$nulls":23},{"$f":"IF(A43927<>\"\",IF(Main!$E$12=\"ALL\",A43927,IF(Main!$E$12=A43927,A43927,\"\")),\"\")","v":""},"","","","","","","",""]
[{"$nulls":23},{"$f":"IF(A43960<>\"\",IF(Main!$E$12=\"ALL\",A43960,IF(Main!$E$12=A43960,A43960,\"\")),\"\")","v":""},"","","","","","","",""]
[{"$nulls":23},{"$f":"IF(A43971<>\"\",IF(Main!$E$12=\"ALL\",A43971,IF(Main!$E$12=A43971,A43971,\"\")),\"\")","v":""},{"$f":"IF($X43971=\"\",\"\",D43971)","v":""},{"$f":"IF($X43971=\"\",\"\",F43971)","v":""},{"$f":"IF($X43971=\"\",\"\",J43971)","v":""},{"$f":"IF($X43971=\"\",\"\",N43971)","v":""},{"$f":"IF($X43971=\"\",\"\",IF(P43971=\"\",\"\",P43971))","v":""},{"$f":"IF($X43971=\"\",\"\",R43971)","v":""},{"$f":"IF($X43971=\"\",\"\",T43971)","v":""},{"$f":"IF($X43971=\"\",\"\",V43971)","v":""}]
[{"$nulls":23},{"$f":"IF(A43993<>\"\",IF(Main!$E$12=\"ALL\",A43993,IF(Main!$E$12=A43993,A43993,\"\")),\"\")","v":""},"","","","","","","",""]
[{"$nulls":23},{"$f":"IF(A44026<>\"\",IF(Main!$E$12=\"ALL\",A44026,IF(Main!$E$12=A44026,A44026,\"\")),\"\")","v":""},"","","","","","","",""]
[{"$nulls":23},{"$f":"IF(A44051<>\"\",IF(Main!$E$12=\"ALL\",A44051,IF(Main!$E$12=A44051,A44051,\"\")),\"\")","v":""},"","","","","","","",""]
[{"$nulls":23},{"$f":"IF(A44086<>\"\",IF(Main!$E$12=\"ALL\",A44086,IF(Main!$E$12=A44086,A44086,\"\")),\"\")","v":""},"","","","","","","",""]
[{"$nulls":23},{"$f":"IF(A44092<>\"\",IF(Main!$E$12=\"ALL\",A44092,IF(Main!$E$12=A44092,A44092,\"\")),\"\")","v":""},"","","","","","","",""]
[{"$nulls":23},{"$f":"IF(A44117<>\"\",IF(Main!$E$12=\"ALL\",A44117,IF(Main!$E$12=A44117,A44117,\"\")),\"\")","v":""},"","","","","","","",""]
[{"$nulls":23},{"$f":"IF(A44150<>\"\",IF(Main!$E$12=\"ALL\",A44150,IF(Main!$E$12=A44150,A44150,\"\")),\"\")","v":""},"","","","","","","",""]
[{"$nulls":23},{"$f":"IF(A44166<>\"\",IF(Main!$E$12=\"ALL\",A44166,IF(Main!$E$12=A44166,A44166,\"\")),\"\")","v":""},"","","","","","","",""]
[{"$nulls":23},{"$f":"IF(A44183<>\"\",IF(Main!$E$12=\"ALL\",A44183,IF(Main!$E$12=A44183,A44183,\"\")),\"\")","v":""},"","","","","","","",""]
[{"$nulls":23},{"$f":"IF(A44216<>\"\",IF(Main!$E$12=\"ALL\",A44216,IF(Main!$E$12=A44216,A44216,\"\")),\"\")","v":""},"","","","","","","",""]
[{"$nulls":23},{"$f":"IF(A44241<>\"\",IF(Main!$E$12=\"ALL\",A44241,IF(Main!$E$12=A44241,A44241,\"\")),\"\")","v":""},"","","","","","","",""]
[{"$nulls":23},{"$f":"IF(A44258<>\"\",IF(Main!$E$12=\"ALL\",A44258,IF(Main!$E$12=A44258,A44258,\"\")),\"\")","v":""},"","","","","","","",""]
[{"$nulls":23},{"$f":"IF(A44282<>\"\",IF(Main!$E$12=\"ALL\",A44282,IF(Main!$E$12=A44282,A44282,\"\")),\"\")","v":""},"","","","","","","",""]
[{"$nulls":23},{"$f":"IF(A44307<>\"\",IF(Main!$E$12=\"ALL\",A44307,IF(Main!$E$12=A44307,A44307,\"\")),\"\")","v":""},"","","","","","","",""]
[{"$nulls":23},{"$f":"IF(A44340<>\"\",IF(Main!$E$12=\"ALL\",A44340,IF(Main!$E$12=A44340,A44340,\"\")),\"\")","v":""},"","","","","","","",""]
[{"$nulls":23},{"$f":"IF(A44350<>\"\",IF(Main!$E$12=\"ALL\",A44350,IF(Main!$E$12=A44350,A44350,\"\")),\"\")","v":""},"","","","","","","",""]
[{"$nulls":23},{"$f":"IF(A44373<>\"\",IF(Main!$E$12=\"ALL\",A44373,IF(Main!$E$12=A44373,A44373,\"\")),\"\")","v":""},"","","","","","","",""]
[{"$nulls":23},{"$f":"IF(A44406<>\"\",IF(Main!$E$12=\"ALL\",A44406,IF(Main!$E$12=A44406,A44406,\"\")),\"\")","v":""},"","","","","","","",""]
[{"$nulls":23},{"$f":"IF(A44431<>\"\",IF(Main!$E$12=\"ALL\",A44431,IF(Main!$E$12=A44431,A44431,\"\")),\"\")","v":""},"","","","","","","",""]
[{"$nulls":23},{"$f":"IF(A44453<>\"\",IF(Main!$E$12=\"ALL\",A44453,IF(Main!$E$12=A44453,A44453,\"\")),\"\")","v":""},"","","","","","","",""]
[{"$nulls":23},{"$f":"IF(A44472<>\"\",IF(Main!$E$12=\"ALL\",A44472,IF(Main!$E$12=A44472,A44472,\"\")),\"\")","v":""},"","","","","","","",""]
[{"$nulls":23},{"$f":"IF(A44497<>\"\",IF(Main!$E$12=\"ALL\",A44497,IF(Main!$E$12=A44497,A44497,\"\")),\"\")","v":""},"","","","","","","",""]
[{"$nulls":23},{"$f":"IF(A44530<>\"\",IF(Main!$E$12=\"ALL\",A44530,IF(Main!$E$12=A44530,A44530,\"\")),\"\")","v":""},"","","","","","","",""]
[{"$nulls":23},{"$f":"IF(A44545<>\"\",IF(Main!$E$12=\"ALL\",A44545,IF(Main!$E$12=A44545,A44545,\"\")),\"\")","v":""},"","","","","","","",""]
[{"$nulls":23},{"$f":"IF(A44563<>\"\",IF(Main!$E$12=\"ALL\",A44563,IF(Main!$E$12=A44563,A44563,\"\")),\"\")","v":""},"","","","","","","",""]
[{"$nulls":23},{"$f":"IF(A44596<>\"\",IF(Main!$E$12=\"ALL\",A44596,IF(Main!$E$12=A44596,A44596,\"\")),\"\")","v":""},"","","","","","","",""]
[{"$nulls":23},{"$f":"IF(A44621<>\"\",IF(Main!$E$12=\"ALL\",A44621,IF(Main!$E$12=A44621,A44621,\"\")),\"\")","v":""},"","","","","","","",""]
[{"$nulls":23},{"$f":"IF(A44648<>\"\",IF(Main!$E$12=\"ALL\",A44648,IF(Main!$E$12=A44648,A44648,\"\")),\"\")","v":""},"","","","","","","",""]
[{"$nulls":23},{"$f":"IF(A44678<>\"\",IF(Main!$E$12=\"ALL\",A44678,IF(Main!$E$12=A44678,A44678,\"\")),\"\")","v":""},"","","","","","","",""]
[{"$nulls":23},{"$f":"IF(A44687<>\"\",IF(Main!$E$12=\"ALL\",A44687,IF(Main!$E$12=A44687,A44687,\"\")),\"\")","v":""},"","","","","","","",""]
[{"$nulls":23},{"$f":"IF(A44720<>\"\",IF(Main!$E$12=\"ALL\",A44720,IF(Main!$E$12=A44720,A44720,\"\")),\"\")","v":""},"","","","","","","",""]
[{"$nulls":23},{"$f":"IF(A44740<>\"\",IF(Main!$E$12=\"ALL\",A44740,IF(Main!$E$12=A44740,A44740,\"\")),\"\")","v":""},"","","","","","","",""]
[{"$nulls":23},{"$f":"IF(A44753<>\"\",IF(Main!$E$12=\"ALL\",A44753,IF(Main!$E$12=A44753,A44753,\"\")),\"\")","v":""},"","","","","","","",""]
[{"$nulls":23},{"$f":"IF(A44786<>\"\",IF(Main!$E$12=\"ALL\",A44786,IF(Main!$E$12=A44786,A44786,\"\")),\"\")","v":""},"","","","","","","",""]
[{"$nulls":23},{"$f":"IF(A44811<>\"\",IF(Main!$E$12=\"ALL\",A44811,IF(Main!$E$12=A44811,A44811,\"\")),\"\")","v":""},"","","","","","","",""]
[{"$nulls":23},{"$f":"IF(A44843<>\"\",IF(Main!$E$12=\"ALL\",A44843,IF(Main!$E$12=A44843,A44843,\"\")),\"\")","v":""},"","","","","","","",""]
[{"$nulls":23},{"$f":"IF(A44868<>\"\",IF(Main!$E$12=\"ALL\",A44868,IF(Main!$E$12=A44868,A44868,\"\")),\"\")","v":""},"","","","","","","",""]
[{"$nulls":23},{"$f":"IF(A44877<>\"\",IF(Main!$E$12=\"ALL\",A44877,IF(Main!$E$12=A44877,A44877,\"\")),\"\")","v":""},"","","","","","","",""]
[{"$nulls":23},{"$f":"IF(A44910<>\"\",IF(Main!$E$12=\"ALL\",A44910,IF(Main!$E$12=A44910,A44910,\"\")),\"\")","v":""},"","","","","","","",""]
[{"$nulls":23},{"$f":"IF(A44935<>\"\",IF(Main!$E$12=\"ALL\",A44935,IF(Main!$E$12=A44935,A44935,\"\")),\"\")","v":""},"","","","","","","",""]
[{"$nulls":23},{"$f":"IF(A44943<>\"\",IF(Main!$E$12=\"ALL\",A44943,IF(Main!$E$12=A44943,A44943,\"\")),\"\")","v":""},"","","","","","","",""]
[{"$nulls":23},{"$f":"IF(A44976<>\"\",IF(Main!$E$12=\"ALL\",A44976,IF(Main!$E$12=A44976,A44976,\"\")),\"\")","v":""},"","","","","","","",""]
[{"$nulls":23},{"$f":"IF(A45001<>\"\",IF(Main!$E$12=\"ALL\",A45001,IF(Main!$E$12=A45001,A45001,\"\")),\"\")","v":""},"","","","","","","",""]
[{"$nulls":23},{"$f":"IF(A45015<>\"\",IF(Main!$E$12=\"ALL\",A45015,IF(Main!$E$12=A45015,A45015,\"\")),\"\")","v":""},"","","","","","","",""]
[{"$nulls":23},{"$f":"IF(A45058<>\"\",IF(Main!$E$12=\"ALL\",A45058,IF(Main!$E$12=A45058,A45058,\"\")),\"\")","v":""},"","","","","","","",""]
[{"$nulls":23},{"$f":"IF(A45067<>\"\",IF(Main!$E$12=\"ALL\",A45067,IF(Main!$E$12=A45067,A45067,\"\")),\"\")","v":""},"","","","","","","",""]
[{"$nulls":23},{"$f":"IF(A45100<>\"\",IF(Main!$E$12=\"ALL\",A45100,IF(Main!$E$12=A45100,A45100,\"\")),\"\")","v":""},"","","","","","","",""]
[{"$nulls":23},{"$f":"IF(A45130<>\"\",IF(Main!$E$12=\"ALL\",A45130,IF(Main!$E$12=A45130,A45130,\"\")),\"\")","v":""},"","","","","","","",""]
[{"$nulls":23},{"$f":"IF(A45133<>\"\",IF(Main!$E$12=\"ALL\",A45133,IF(Main!$E$12=A45133,A45133,\"\")),\"\")","v":""},"","","","","","","",""]
[{"$nulls":23},{"$f":"IF(A45158<>\"\",IF(Main!$E$12=\"ALL\",A45158,IF(Main!$E$12=A45158,A45158,\"\")),\"\")","v":""},"","","","","","","",""]
[{"$nulls":23},{"$f":"IF(A45191<>\"\",IF(Main!$E$12=\"ALL\",A45191,IF(Main!$E$12=A45191,A45191,\"\")),\"\")","v":""},"","","","","","","",""]
[{"$nulls":23},{"$f":"IF(A45210<>\"\",IF(Main!$E$12=\"ALL\",A45210,IF(Main!$E$12=A45210,A45210,\"\")),\"\")","v":""},"","","","","","","",""]
[{"$nulls":23},{"$f":"IF(A45248<>\"\",IF(Main!$E$12=\"ALL\",A45248,IF(Main!$E$12=A45248,A45248,\"\")),\"\")","v":""},"","","","","","","",""]
[{"$nulls":23},{"$f":"IF(A45257<>\"\",IF(Main!$E$12=\"ALL\",A45257,IF(Main!$E$12=A45257,A45257,\"\")),\"\")","v":""},"","","","","","","",""]
[{"$nulls":23},{"$f":"IF(A45290<>\"\",IF(Main!$E$12=\"ALL\",A45290,IF(Main!$E$12=A45290,A45290,\"\")),\"\")","v":""},"","","","","","","",""]
[{"$nulls":23},{"$f":"IF(A45302<>\"\",IF(Main!$E$12=\"ALL\",A45302,IF(Main!$E$12=A45302,A45302,\"\")),\"\")","v":""},"","","","","","","",""]
[{"$nulls":23},{"$f":"IF(A45323<>\"\",IF(Main!$E$12=\"ALL\",A45323,IF(Main!$E$12=A45323,A45323,\"\")),\"\")","v":""},"","","","","","","",""]
[{"$nulls":23},{"$f":"IF(A45348<>\"\",IF(Main!$E$12=\"ALL\",A45348,IF(Main!$E$12=A45348,A45348,\"\")),\"\")","v":""},"","","","","","","",""]
[{"$nulls":23},{"$f":"IF(A45381<>\"\",IF(Main!$E$12=\"ALL\",A45381,IF(Main!$E$12=A45381,A45381,\"\")),\"\")","v":""},"","","","","","","",""]
[{"$nulls":23},{"$f":"IF(A45405<>\"\",IF(Main!$E$12=\"ALL\",A45405,IF(Main!$E$12=A45405,A45405,\"\")),\"\")","v":""},"","","","","","","",""]
[{"$nulls":23},{"$f":"IF(A45438<>\"\",IF(Main!$E$12=\"ALL\",A45438,IF(Main!$E$12=A45438,A45438,\"\")),\"\")","v":""},"","","","","","","",""]
[{"$nulls":23},{"$f":"IF(A45447<>\"\",IF(Main!$E$12=\"ALL\",A45447,IF(Main!$E$12=A45447,A45447,\"\")),\"\")","v":""},"","","","","","","",""]
[{"$nulls":23},{"$f":"IF(A45480<>\"\",IF(Main!$E$12=\"ALL\",A45480,IF(Main!$E$12=A45480,A45480,\"\")),\"\")","v":""},"","","","","","","",""]
[{"$nulls":23},{"$f":"IF(A45497<>\"\",IF(Main!$E$12=\"ALL\",A45497,IF(Main!$E$12=A45497,A45497,\"\")),\"\")","v":""},"","","","","","","",""]
[{"$nulls":23},{"$f":"IF(A45513<>\"\",IF(Main!$E$12=\"ALL\",A45513,IF(Main!$E$12=A45513,A45513,\"\")),\"\")","v":""},"","","","","","","",""]
[{"$nulls":23},{"$f":"IF(A45538<>\"\",IF(Main!$E$12=\"ALL\",A45538,IF(Main!$E$12=A45538,A45538,\"\")),\"\")","v":""},"","","","","","","",""]
[{"$nulls":23},{"$f":"IF(A45571<>\"\",IF(Main!$E$12=\"ALL\",A45571,IF(Main!$E$12=A45571,A45571,\"\")),\"\")","v":""},{"$f":"IF($X45571=\"\",\"\",D45571)","v":""},{"$f":"IF($X45571=\"\",\"\",F45571)","v":""},{"$f":"IF($X45571=\"\",\"\",J45571)","v":""},{"$f":"IF($X45571=\"\",\"\",N45571)","v":""},{"$f":"IF($X45571=\"\",\"\",IF(P45571=\"\",\"\",P45571))","v":""},{"$f":"IF($X45571=\"\",\"\",R45571)","v":""},{"$f":"IF($X45571=\"\",\"\",T45571)","v":""},{"$f":"IF($X45571=\"\",\"\",V45571)","v":""}]
[{"$nulls":23},{"$f":"IF(A45600<>\"\",IF(Main!$E$12=\"ALL\",A45600,IF(Main!$E$12=A45600,A45600,\"\")),\"\")","v":""},"","","","","","","",""]
[{"$nulls":23},{"$f":"IF(A45628<>\"\",IF(Main!$E$12=\"ALL\",A45628,IF(Main!$E$12=A45628,A45628,\"\")),\"\")","v":""},"","","","","","","",""]
[{"$nulls":23},{"$f":"IF(A45637<>\"\",IF(Main!$E$12=\"ALL\",A45637,IF(Main!$E$12=A45637,A45637,\"\")),\"\")","v":""},"","","","","","","",""]
[{"$nulls":23},{"$f":"IF(A45662<>\"\",IF(Main!$E$12=\"ALL\",A45662,IF(Main!$E$12=A45662,A45662,\"\")),\"\")","v":""},"","","","","","","",""]
[{"$nulls":23},{"$f":"IF(A45692<>\"\",IF(Main!$E$12=\"ALL\",A45692,IF(Main!$E$12=A45692,A45692,\"\")),\"\")","v":""},"","","","","","","",""]
[{"$nulls":23},{"$f":"IF(A45703<>\"\",IF(Main!$E$12=\"ALL\",A45703,IF(Main!$E$12=A45703,A45703,\"\")),\"\")","v":""},"","","","","","","",""]
[{"$nulls":23},{"$f":"IF(A45728<>\"\",IF(Main!$E$12=\"ALL\",A45728,IF(Main!$E$12=A45728,A45728,\"\")),\"\")","v":""},"","","","","","","",""]
[{"$nulls":23},{"$f":"IF(A45761<>\"\",IF(Main!$E$12=\"ALL\",A45761,IF(Main!$E$12=A45761,A45761,\"\")),\"\")","v":""},"","","","","","","",""]
[{"$nulls":23},{"$f":"IF(A45795<>\"\",IF(Main!$E$12=\"ALL\",A45795,IF(Main!$E$12=A45795,A45795,\"\")),\"\")","v":""},"","","","","","","",""]
[{"$nulls":23},{"$f":"IF(A45818<>\"\",IF(Main!$E$12=\"ALL\",A45818,IF(Main!$E$12=A45818,A45818,\"\")),\"\")","v":""},"","","","","","","",""]
[{"$nulls":23},{"$f":"IF(A45827<>\"\",IF(Main!$E$12=\"ALL\",A45827,IF(Main!$E$12=A45827,A45827,\"\")),\"\")","v":""},{"$f":"IF($X45827=\"\",\"\",D45827)","v":""},{"$f":"IF($X45827=\"\",\"\",F45827)","v":""},{"$f":"IF($X45827=\"\",\"\",J45827)","v":""},{"$f":"IF($X45827=\"\",\"\",N45827)","v":""},{"$f":"IF($X45827=\"\",\"\",IF(P45827=\"\",\"\",P45827))","v":""},{"$f":"IF($X45827=\"\",\"\",R45827)","v":""},{"$f":"IF($X45827=\"\",\"\",T45827)","v":""},{"$f":"IF($X45827=\"\",\"\",V45827)","v":""}]
[{"$nulls":23},{"$f":"IF(A45852<>\"\",IF(Main!$E$12=\"ALL\",A45852,IF(Main!$E$12=A45852,A45852,\"\")),\"\")","v":""},"","","","","","","",""]
[{"$nulls":23},{"$f":"IF(A45887<>\"\",IF(Main!$E$12=\"ALL\",A45887,IF(Main!$E$12=A45887,A45887,\"\")),\"\")","v":""},"","","","","","","",""]
[{"$nulls":23},{"$f":"IF(A45893<>\"\",IF(Main!$E$12=\"ALL\",A45893,IF(Main!$E$12=A45893,A45893,\"\")),\"\")","v":""},"","","","","","","",""]
[{"$nulls":23},{"$f":"IF(A45918<>\"\",IF(Main!$E$12=\"ALL\",A45918,IF(Main!$E$12=A45918,A45918,\"\")),\"\")","v":""},"","","","","","","",""]
[{"$nulls":23},{"$f":"IF(A45951<>\"\",IF(Main!$E$12=\"ALL\",A45951,IF(Main!$E$12=A45951,A45951,\"\")),\"\")","v":""},"","","","","","","",""]
[{"$nulls":23},{"$f":"IF(A45979<>\"\",IF(Main!$E$12=\"ALL\",A45979,IF(Main!$E$12=A45979,A45979,\"\")),\"\")","v":""},"","","","","","","",""]
[{"$nulls":23},{"$f":"IF(A46008<>\"\",IF(Main!$E$12=\"ALL\",A46008,IF(Main!$E$12=A46008,A46008,\"\")),\"\")","v":""},"","","","","","","",""]
[{"$nulls":23},{"$f":"IF(A46017<>\"\",IF(Main!$E$12=\"ALL\",A46017,IF(Main!$E$12=A46017,A46017,\"\")),\"\")","v":""},"","","","","","","",""]
[{"$nulls":23},{"$f":"IF(A46042<>\"\",IF(Main!$E$12=\"ALL\",A46042,IF(Main!$E$12=A46042,A46042,\"\")),\"\")","v":""},"","","","","","","",""]
[{"$nulls":23},{"$f":"IF(A46059<>\"\",IF(Main!$E$12=\"ALL\",A46059,IF(Main!$E$12=A46059,A46059,\"\")),\"\")","v":""},"","","","","","","",""]
[{"$nulls":23},{"$f":"IF(A46083<>\"\",IF(Main!$E$12=\"ALL\",A46083,IF(Main!$E$12=A46083,A46083,\"\")),\"\")","v":""},{"$f":"IF($X46083=\"\",\"\",D46083)","v":""},{"$f":"IF($X46083=\"\",\"\",F46083)","v":""},{"$f":"IF($X46083=\"\",\"\",J46083)","v":""},{"$f":"IF($X46083=\"\",\"\",N46083)","v":""},{"$f":"IF($X46083=\"\",\"\",IF(P46083=\"\",\"\",P46083))","v":""},{"$f":"IF($X46083=\"\",\"\",R46083)","v":""},{"$f":"IF($X46083=\"\",\"\",T46083)","v":""},{"$f":"IF($X46083=\"\",\"\",V46083)","v":""}]
[{"$nulls":23},{"$f":"IF(A46108<>\"\",IF(Main!$E$12=\"ALL\",A46108,IF(Main!$E$12=A46108,A46108,\"\")),\"\")","v":""},"","","","","","","",""]
[{"$nulls":23},{"$f":"IF(A46141<>\"\",IF(Main!$E$12=\"ALL\",A46141,IF(Main!$E$12=A46141,A46141,\"\")),\"\")","v":""},"","","","","","","",""]
[{"$nulls":23},{"$f":"IF(A46174<>\"\",IF(Main!$E$12=\"ALL\",A46174,IF(Main!$E$12=A46174,A46174,\"\")),\"\")","v":""},"","","","","","","",""]
[{"$nulls":23},{"$f":"IF(A46198<>\"\",IF(Main!$E$12=\"ALL\",A46198,IF(Main!$E$12=A46198,A46198,\"\")),\"\")","v":""},"","","","","","","",""]
[{"$nulls":23},{"$f":"IF(A46207<>\"\",IF(Main!$E$12=\"ALL\",A46207,IF(Main!$E$12=A46207,A46207,\"\")),\"\")","v":""},"","","","","","","",""]
[{"$nulls":23},{"$f":"IF(A46232<>\"\",IF(Main!$E$12=\"ALL\",A46232,IF(Main!$E$12=A46232,A46232,\"\")),\"\")","v":""},"","","","","","","",""]
[{"$nulls":23},{"$f":"IF(A46254<>\"\",IF(Main!$E$12=\"ALL\",A46254,IF(Main!$E$12=A46254,A46254,\"\")),\"\")","v":""},"","","","","","","",""]
[{"$nulls":23},{"$f":"IF(A46273<>\"\",IF(Main!$E$12=\"ALL\",A46273,IF(Main!$E$12=A46273,A46273,\"\")),\"\")","v":""},"","","","","","","",""]
[{"$nulls":23},{"$f":"IF(A46298<>\"\",IF(Main!$E$12=\"ALL\",A46298,IF(Main!$E$12=A46298,A46298,\"\")),\"\")","v":""},"","","","","","","",""]
[{"$nulls":23},{"$f":"IF(A46331<>\"\",IF(Main!$E$12=\"ALL\",A46331,IF(Main!$E$12=A46331,A46331,\"\")),\"\")","v":""},"","","","","","","",""]
[{"$nulls":23},{"$f":"IF(A46346<>\"\",IF(Main!$E$12=\"ALL\",A46346,IF(Main!$E$12=A46346,A46346,\"\")),\"\")","v":""},"","","","","","","",""]
[{"$nulls":23},{"$f":"IF(A46388<>\"\",IF(Main!$E$12=\"ALL\",A46388,IF(Main!$E$12=A46388,A46388,\"\")),\"\")","v":""},"","","","","","","",""]
[{"$nulls":23},{"$f":"IF(A46397<>\"\",IF(Main!$E$12=\"ALL\",A46397,IF(Main!$E$12=A46397,A46397,\"\")),\"\")","v":""},"","","","","","","",""]
[{"$nulls":23},{"$f":"IF(A46422<>\"\",IF(Main!$E$12=\"ALL\",A46422,IF(Main!$E$12=A46422,A46422,\"\")),\"\")","v":""},"","","","","","","",""]
[{"$nulls":23},{"$f":"IF(A46449<>\"\",IF(Main!$E$12=\"ALL\",A46449,IF(Main!$E$12=A46449,A46449,\"\")),\"\")","v":""},"","","","","","","",""]
[{"$nulls":23},{"$f":"IF(A46479<>\"\",IF(Main!$E$12=\"ALL\",A46479,IF(Main!$E$12=A46479,A46479,\"\")),\"\")","v":""},"","","","","","","",""]
[{"$nulls":23},{"$f":"IF(A46488<>\"\",IF(Main!$E$12=\"ALL\",A46488,IF(Main!$E$12=A46488,A46488,\"\")),\"\")","v":""},"","","","","","","",""]
[{"$nulls":23},{"$f":"IF(A46521<>\"\",IF(Main!$E$12=\"ALL\",A46521,IF(Main!$E$12=A46521,A46521,\"\")),\"\")","v":""},"","","","","","","",""]
[{"$nulls":23},{"$f":"IF(A46541<>\"\",IF(Main!$E$12=\"ALL\",A46541,IF(Main!$E$12=A46541,A46541,\"\")),\"\")","v":""},"","","","","","","",""]
[{"$nulls":23},{"$f":"IF(A46578<>\"\",IF(Main!$E$12=\"ALL\",A46578,IF(Main!$E$12=A46578,A46578,\"\")),\"\")","v":""},"","","","","","","",""]
[{"$nulls":23},{"$f":"IF(A46587<>\"\",IF(Main!$E$12=\"ALL\",A46587,IF(Main!$E$12=A46587,A46587,\"\")),\"\")","v":""},"","","","","","","",""]
[{"$nulls":23},{"$f":"IF(A46612<>\"\",IF(Main!$E$12=\"ALL\",A46612,IF(Main!$E$12=A46612,A46612,\"\")),\"\")","v":""},"","","","","","","",""]
[{"$nulls":23},{"$f":"IF(A46644<>\"\",IF(Main!$E$12=\"ALL\",A46644,IF(Main!$E$12=A46644,A46644,\"\")),\"\")","v":""},"","","","","","","",""]
[{"$nulls":23},{"$f":"IF(A46669<>\"\",IF(Main!$E$12=\"ALL\",A46669,IF(Main!$E$12=A46669,A46669,\"\")),\"\")","v":""},"","","","","","","",""]
[{"$nulls":23},{"$f":"IF(A46678<>\"\",IF(Main!$E$12=\"ALL\",A46678,IF(Main!$E$12=A46678,A46678,\"\")),\"\")","v":""},"","","","","","","",""]
[{"$nulls":23},{"$f":"IF(A46711<>\"\",IF(Main!$E$12=\"ALL\",A46711,IF(Main!$E$12=A46711,A46711,\"\")),\"\")","v":""},"","","","","","","",""]
[{"$nulls":23},{"$f":"IF(A46736<>\"\",IF(Main!$E$12=\"ALL\",A46736,IF(Main!$E$12=A46736,A46736,\"\")),\"\")","v":""},"","","","","","","",""]
[{"$nulls":23},{"$f":"IF(A46768<>\"\",IF(Main!$E$12=\"ALL\",A46768,IF(Main!$E$12=A46768,A46768,\"\")),\"\")","v":""},"","","","","","","",""]
[{"$nulls":23},{"$f":"IF(A46793<>\"\",IF(Main!$E$12=\"ALL\",A46793,IF(Main!$E$12=A46793,A46793,\"\")),\"\")","v":""},"","","","","","","",""]
[{"$nulls":23},{"$f":"IF(A46802<>\"\",IF(Main!$E$12=\"ALL\",A46802,IF(Main!$E$12=A46802,A46802,\"\")),\"\")","v":""},"","","","","","","",""]
[{"$nulls":23},{"$f":"IF(A46839<>\"\",IF(Main!$E$12=\"ALL\",A46839,IF(Main!$E$12=A46839,A46839,\"\")),\"\")","v":""},"","","","","","","",""]
[{"$nulls":23},{"$f":"IF(A46859<>\"\",IF(Main!$E$12=\"ALL\",A46859,IF(Main!$E$12=A46859,A46859,\"\")),\"\")","v":""},"","","","","","","",""]
[{"$nulls":23},{"$f":"IF(A46868<>\"\",IF(Main!$E$12=\"ALL\",A46868,IF(Main!$E$12=A46868,A46868,\"\")),\"\")","v":""},"","","","","","","",""]
[{"$nulls":23},{"$f":"IF(A46901<>\"\",IF(Main!$E$12=\"ALL\",A46901,IF(Main!$E$12=A46901,A46901,\"\")),\"\")","v":""},"","","","","","","",""]
[{"$nulls":23},{"$f":"IF(A46931<>\"\",IF(Main!$E$12=\"ALL\",A46931,IF(Main!$E$12=A46931,A46931,\"\")),\"\")","v":""},"","","","","","","",""]
[{"$nulls":23},{"$f":"IF(A46958<>\"\",IF(Main!$E$12=\"ALL\",A46958,IF(Main!$E$12=A46958,A46958,\"\")),\"\")","v":""},"","","","","","","",""]
[{"$nulls":23},{"$f":"IF(A46983<>\"\",IF(Main!$E$12=\"ALL\",A46983,IF(Main!$E$12=A46983,A46983,\"\")),\"\")","v":""},"","","","","","","",""]
[{"$nulls":23},{"$f":"IF(A46992<>\"\",IF(Main!$E$12=\"ALL\",A46992,IF(Main!$E$12=A46992,A46992,\"\")),\"\")","v":""},"","","","","","","",""]
[{"$nulls":23},{"$f":"IF(A47011<>\"\",IF(Main!$E$12=\"ALL\",A47011,IF(Main!$E$12=A47011,A47011,\"\")),\"\")","v":""},"","","","","","","",""]
[{"$nulls":23},{"$f":"IF(A47049<>\"\",IF(Main!$E$12=\"ALL\",A47049,IF(Main!$E$12=A47049,A47049,\"\")),\"\")","v":""},"","","","","","","",""]
[{"$nulls":23},{"$f":"IF(A47058<>\"\",IF(Main!$E$12=\"ALL\",A47058,IF(Main!$E$12=A47058,A47058,\"\")),\"\")","v":""},"","","","","","","",""]
[{"$nulls":23},{"$f":"IF(A47091<>\"\",IF(Main!$E$12=\"ALL\",A47091,IF(Main!$E$12=A47091,A47091,\"\")),\"\")","v":""},"","","","","","","",""]
[{"$nulls":23},{"$f":"IF(A47126<>\"\",IF(Main!$E$12=\"ALL\",A47126,IF(Main!$E$12=A47126,A47126,\"\")),\"\")","v":""},"","","","","","","",""]
[{"$nulls":23},{"$f":"IF(A47148<>\"\",IF(Main!$E$12=\"ALL\",A47148,IF(Main!$E$12=A47148,A47148,\"\")),\"\")","v":""},"","","","","","","",""]
[{"$nulls":23},{"$f":"IF(A47173<>\"\",IF(Main!$E$12=\"ALL\",A47173,IF(Main!$E$12=A47173,A47173,\"\")),\"\")","v":""},"","","","","","","",""]
[{"$nulls":23},{"$f":"IF(A47182<>\"\",IF(Main!$E$12=\"ALL\",A47182,IF(Main!$E$12=A47182,A47182,\"\")),\"\")","v":""},"","","","","","","",""]
[{"$nulls":23},{"$f":"IF(A47206<>\"\",IF(Main!$E$12=\"ALL\",A47206,IF(Main!$E$12=A47206,A47206,\"\")),\"\")","v":""},"","","","","","","",""]
[{"$nulls":23},{"$f":"IF(A47239<>\"\",IF(Main!$E$12=\"ALL\",A47239,IF(Main!$E$12=A47239,A47239,\"\")),\"\")","v":""},"","","","","","","",""]
[{"$nulls":23},{"$f":"IF(A47248<>\"\",IF(Main!$E$12=\"ALL\",A47248,IF(Main!$E$12=A47248,A47248,\"\")),\"\")","v":""},"","","","","","","",""]
[{"$nulls":23},{"$f":"IF(A47273<>\"\",IF(Main!$E$12=\"ALL\",A47273,IF(Main!$E$12=A47273,A47273,\"\")),\"\")","v":""},"","","","","","","",""]
[{"$nulls":23},{"$f":"IF(A47298<>\"\",IF(Main!$E$12=\"ALL\",A47298,IF(Main!$E$12=A47298,A47298,\"\")),\"\")","v":""},"","","","","","","",""]
[{"$nulls":23},{"$f":"IF(A47338<>\"\",IF(Main!$E$12=\"ALL\",A47338,IF(Main!$E$12=A47338,A47338,\"\")),\"\")","v":""},"","","","","","","",""]
[{"$nulls":23},{"$f":"IF(A47363<>\"\",IF(Main!$E$12=\"ALL\",A47363,IF(Main!$E$12=A47363,A47363,\"\")),\"\")","v":""},{"$f":"IF($X47363=\"\",\"\",D47363)","v":""},{"$f":"IF($X47363=\"\",\"\",F47363)","v":""},{"$f":"IF($X47363=\"\",\"\",J47363)","v":""},{"$f":"IF($X47363=\"\",\"\",N47363)","v":""},{"$f":"IF($X47363=\"\",\"\",IF(P47363=\"\",\"\",P47363))","v":""},{"$f":"IF($X47363=\"\",\"\",R47363)","v":""},{"$f":"IF($X47363=\"\",\"\",T47363)","v":""},{"$f":"IF($X47363=\"\",\"\",V47363)","v":""}]
[{"$nulls":23},{"$f":"IF(A47372<>\"\",IF(Main!$E$12=\"ALL\",A47372,IF(Main!$E$12=A47372,A47372,\"\")),\"\")","v":""},"","","","","","","",""]
[{"$nulls":23},{"$f":"IF(A47401<>\"\",IF(Main!$E$12=\"ALL\",A47401,IF(Main!$E$12=A47401,A47401,\"\")),\"\")","v":""},"","","","","","","",""]
[{"$nulls":23},{"$f":"IF(A47429<>\"\",IF(Main!$E$12=\"ALL\",A47429,IF(Main!$E$12=A47429,A47429,\"\")),\"\")","v":""},"","","","","","","",""]
[{"$nulls":23},{"$f":"IF(A47438<>\"\",IF(Main!$E$12=\"ALL\",A47438,IF(Main!$E$12=A47438,A47438,\"\")),\"\")","v":""},"","","","","","","",""]
[{"$nulls":23},{"$f":"IF(A47463<>\"\",IF(Main!$E$12=\"ALL\",A47463,IF(Main!$E$12=A47463,A47463,\"\")),\"\")","v":""},"","","","","","","",""]
[{"$nulls":23},{"$f":"IF(A47493<>\"\",IF(Main!$E$12=\"ALL\",A47493,IF(Main!$E$12=A47493,A47493,\"\")),\"\")","v":""},"","","","","","","",""]
[{"$nulls":23},{"$f":"IF(A47528<>\"\",IF(Main!$E$12=\"ALL\",A47528,IF(Main!$E$12=A47528,A47528,\"\")),\"\")","v":""},"","","","","","","",""]
[{"$nulls":23},{"$f":"IF(A47553<>\"\",IF(Main!$E$12=\"ALL\",A47553,IF(Main!$E$12=A47553,A47553,\"\")),\"\")","v":""},"","","","","","","",""]
[{"$nulls":23},{"$f":"IF(A47562<>\"\",IF(Main!$E$12=\"ALL\",A47562,IF(Main!$E$12=A47562,A47562,\"\")),\"\")","v":""},"","","","","","","",""]
[{"$nulls":23},{"$f":"IF(A47596<>\"\",IF(Main!$E$12=\"ALL\",A47596,IF(Main!$E$12=A47596,A47596,\"\")),\"\")","v":""},"","","","","","","",""]
[{"$nulls":23},{"$f":"IF(A47619<>\"\",IF(Main!$E$12=\"ALL\",A47619,IF(Main!$E$12=A47619,A47619,\"\")),\"\")","v":""},{"$f":"IF($X47619=\"\",\"\",D47619)","v":""},{"$f":"IF($X47619=\"\",\"\",F47619)","v":""},{"$f":"IF($X47619=\"\",\"\",J47619)","v":""},{"$f":"IF($X47619=\"\",\"\",N47619)","v":""},{"$f":"IF($X47619=\"\",\"\",IF(P47619=\"\",\"\",P47619))","v":""},{"$f":"IF($X47619=\"\",\"\",R47619)","v":""},{"$f":"IF($X47619=\"\",\"\",T47619)","v":""},{"$f":"IF($X47619=\"\",\"\",V47619)","v":""}]
[{"$nulls":23},{"$f":"IF(A47628<>\"\",IF(Main!$E$12=\"ALL\",A47628,IF(Main!$E$12=A47628,A47628,\"\")),\"\")","v":""},"","","","","","","",""]
[{"$nulls":23},{"$f":"IF(A47653<>\"\",IF(Main!$E$12=\"ALL\",A47653,IF(Main!$E$12=A47653,A47653,\"\")),\"\")","v":""},"","","","","","","",""]
[{"$nulls":23},{"$f":"IF(A47688<>\"\",IF(Main!$E$12=\"ALL\",A47688,IF(Main!$E$12=A47688,A47688,\"\")),\"\")","v":""},"","","","","","","",""]
[{"$nulls":23},{"$f":"IF(A47718<>\"\",IF(Main!$E$12=\"ALL\",A47718,IF(Main!$E$12=A47718,A47718,\"\")),\"\")","v":""},"","","","","","","",""]
[{"$nulls":23},{"$f":"IF(A47743<>\"\",IF(Main!$E$12=\"ALL\",A47743,IF(Main!$E$12=A47743,A47743,\"\")),\"\")","v":""},"","","","","","","",""]
[{"$nulls":23},{"$f":"IF(A47752<>\"\",IF(Main!$E$12=\"ALL\",A47752,IF(Main!$E$12=A47752,A47752,\"\")),\"\")","v":""},"","","","","","","",""]
[{"$nulls":23},{"$f":"IF(A47780<>\"\",IF(Main!$E$12=\"ALL\",A47780,IF(Main!$E$12=A47780,A47780,\"\")),\"\")","v":""},"","","","","","","",""]
[{"$nulls":23},{"$f":"IF(A47809<>\"\",IF(Main!$E$12=\"ALL\",A47809,IF(Main!$E$12=A47809,A47809,\"\")),\"\")","v":""},"","","","","","","",""]
[{"$nulls":23},{"$f":"IF(A47818<>\"\",IF(Main!$E$12=\"ALL\",A47818,IF(Main!$E$12=A47818,A47818,\"\")),\"\")","v":""},"","","","","","","",""]
[{"$nulls":23},{"$f":"IF(A47843<>\"\",IF(Main!$E$12=\"ALL\",A47843,IF(Main!$E$12=A47843,A47843,\"\")),\"\")","v":""},"","","","","","","",""]
[{"$nulls":23},{"$f":"IF(A47883<>\"\",IF(Main!$E$12=\"ALL\",A47883,IF(Main!$E$12=A47883,A47883,\"\")),\"\")","v":""},"","","","","","","",""]
[{"$nulls":23},{"$f":"IF(A47908<>\"\",IF(Main!$E$12=\"ALL\",A47908,IF(Main!$E$12=A47908,A47908,\"\")),\"\")","v":""},"","","","","","","",""]
[{"$nulls":23},{"$f":"IF(A47933<>\"\",IF(Main!$E$12=\"ALL\",A47933,IF(Main!$E$12=A47933,A47933,\"\")),\"\")","v":""},"","","","","","","",""]
[{"$nulls":23},{"$f":"IF(A47942<>\"\",IF(Main!$E$12=\"ALL\",A47942,IF(Main!$E$12=A47942,A47942,\"\")),\"\")","v":""},"","","","","","","",""]
[{"$nulls":23},{"$f":"IF(A47975<>\"\",IF(Main!$E$12=\"ALL\",A47975,IF(Main!$E$12=A47975,A47975,\"\")),\"\")","v":""},"","","","","","","",""]
[{"$nulls":23},{"$f":"IF(A47999<>\"\",IF(Main!$E$12=\"ALL\",A47999,IF(Main!$E$12=A47999,A47999,\"\")),\"\")","v":""},"","","","","","","",""]
[{"$nulls":23},{"$f":"IF(A48008<>\"\",IF(Main!$E$12=\"ALL\",A48008,IF(Main!$E$12=A48008,A48008,\"\")),\"\")","v":""},"","","","","","","",""]
[{"$nulls":23},{"$f":"IF(A48033<>\"\",IF(Main!$E$12=\"ALL\",A48033,IF(Main!$E$12=A48033,A48033,\"\")),\"\")","v":""},"","","","","","","",""]
[{"$nulls":23},{"$f":"IF(A48055<>\"\",IF(Main!$E$12=\"ALL\",A48055,IF(Main!$E$12=A48055,A48055,\"\")),\"\")","v":""},"","","","","","","",""]
[{"$nulls":23},{"$f":"IF(A48090<>\"\",IF(Main!$E$12=\"ALL\",A48090,IF(Main!$E$12=A48090,A48090,\"\")),\"\")","v":""},"","","","","","","",""]
[{"$nulls":23},{"$f":"IF(A48123<>\"\",IF(Main!$E$12=\"ALL\",A48123,IF(Main!$E$12=A48123,A48123,\"\")),\"\")","v":""},"","","","","","","",""]
[{"$nulls":23},{"$f":"IF(A48132<>\"\",IF(Main!$E$12=\"ALL\",A48132,IF(Main!$E$12=A48132,A48132,\"\")),\"\")","v":""},"","","","","","","",""]
[{"$nulls":23},{"$f":"IF(A48170<>\"\",IF(Main!$E$12=\"ALL\",A48170,IF(Main!$E$12=A48170,A48170,\"\")),\"\")","v":""},"","","","","","","",""]
[{"$nulls":23},{"$f":"IF(A48189<>\"\",IF(Main!$E$12=\"ALL\",A48189,IF(Main!$E$12=A48189,A48189,\"\")),\"\")","v":""},"","","","","","","",""]
[{"$nulls":23},{"$f":"IF(A48198<>\"\",IF(Main!$E$12=\"ALL\",A48198,IF(Main!$E$12=A48198,A48198,\"\")),\"\")","v":""},"","","","","","","",""]
[{"$nulls":23},{"$f":"IF(A48223<>\"\",IF(Main!$E$12=\"ALL\",A48223,IF(Main!$E$12=A48223,A48223,\"\")),\"\")","v":""},"","","","","","","",""]
[{"$nulls":23},{"$f":"IF(A48250<>\"\",IF(Main!$E$12=\"ALL\",A48250,IF(Main!$E$12=A48250,A48250,\"\")),\"\")","v":""},"","","","","","","",""]
[{"$nulls":23},{"$f":"IF(A48280<>\"\",IF(Main!$E$12=\"ALL\",A48280,IF(Main!$E$12=A48280,A48280,\"\")),\"\")","v":""},"","","","","","","",""]
[{"$nulls":23},{"$f":"IF(A48313<>\"\",IF(Main!$E$12=\"ALL\",A48313,IF(Main!$E$12=A48313,A48313,\"\")),\"\")","v":""},"","","","","","","",""]
[{"$nulls":23},{"$f":"IF(A48322<>\"\",IF(Main!$E$12=\"ALL\",A48322,IF(Main!$E$12=A48322,A48322,\"\")),\"\")","v":""},"","","","","","","",""]
[{"$nulls":23},{"$f":"IF(A48342<>\"\",IF(Main!$E$12=\"ALL\",A48342,IF(Main!$E$12=A48342,A48342,\"\")),\"\")","v":""},"","","","","","","",""]
[{"$nulls":23},{"$f":"IF(A48379<>\"\",IF(Main!$E$12=\"ALL\",A48379,IF(Main!$E$12=A48379,A48379,\"\")),\"\")","v":""},"","","","","","","",""]
[{"$nulls":23},{"$f":"IF(A48388<>\"\",IF(Main!$E$12=\"ALL\",A48388,IF(Main!$E$12=A48388,A48388,\"\")),\"\")","v":""},"","","","","","","",""]
[{"$nulls":23},{"$f":"IF(A48413<>\"\",IF(Main!$E$12=\"ALL\",A48413,IF(Main!$E$12=A48413,A48413,\"\")),\"\")","v":""},"","","","","","","",""]
[{"$nulls":23},{"$f":"IF(A48445<>\"\",IF(Main!$E$12=\"ALL\",A48445,IF(Main!$E$12=A48445,A48445,\"\")),\"\")","v":""},"","","","","","","",""]
[{"$nulls":23},{"$f":"IF(A48470<>\"\",IF(Main!$E$12=\"ALL\",A48470,IF(Main!$E$12=A48470,A48470,\"\")),\"\")","v":""},"","","","","","","",""]
[{"$nulls":23},{"$f":"IF(A48503<>\"\",IF(Main!$E$12=\"ALL\",A48503,IF(Main!$E$12=A48503,A48503,\"\")),\"\")","v":""},"","","","","","","",""]
[{"$nulls":23},{"$f":"IF(A48512<>\"\",IF(Main!$E$12=\"ALL\",A48512,IF(Main!$E$12=A48512,A48512,\"\")),\"\")","v":""},"","","","","","","",""]
[{"$nulls":23},{"$f":"IF(A48537<>\"\",IF(Main!$E$12=\"ALL\",A48537,IF(Main!$E$12=A48537,A48537,\"\")),\"\")","v":""},"","","","","","","",""]
[{"$nulls":23},{"$f":"IF(A48569<>\"\",IF(Main!$E$12=\"ALL\",A48569,IF(Main!$E$12=A48569,A48569,\"\")),\"\")","v":""},"","","","","","","",""]
[{"$nulls":23},{"$f":"IF(A48594<>\"\",IF(Main!$E$12=\"ALL\",A48594,IF(Main!$E$12=A48594,A48594,\"\")),\"\")","v":""},"","","","","","","",""]
[{"$nulls":23},{"$f":"IF(A48603<>\"\",IF(Main!$E$12=\"ALL\",A48603,IF(Main!$E$12=A48603,A48603,\"\")),\"\")","v":""},"","","","","","","",""]
[{"$nulls":23},{"$f":"IF(A48640<>\"\",IF(Main!$E$12=\"ALL\",A48640,IF(Main!$E$12=A48640,A48640,\"\")),\"\")","v":""},"","","","","","","",""]
[{"$nulls":23},{"$f":"IF(A48660<>\"\",IF(Main!$E$12=\"ALL\",A48660,IF(Main!$E$12=A48660,A48660,\"\")),\"\")","v":""},"","","","","","","",""]
[{"$nulls":23},{"$f":"IF(A48693<>\"\",IF(Main!$E$12=\"ALL\",A48693,IF(Main!$E$12=A48693,A48693,\"\")),\"\")","v":""},"","","","","","","",""]
[{"$nulls":23},{"$f":"IF(A48702<>\"\",IF(Main!$E$12=\"ALL\",A48702,IF(Main!$E$12=A48702,A48702,\"\")),\"\")","v":""},"","","","","","","",""]
[{"$nulls":23},{"$f":"IF(A48732<>\"\",IF(Main!$E$12=\"ALL\",A48732,IF(Main!$E$12=A48732,A48732,\"\")),\"\")","v":""},"","","","","","","",""]
[{"$nulls":23},{"$f":"IF(A48759<>\"\",IF(Main!$E$12=\"ALL\",A48759,IF(Main!$E$12=A48759,A48759,\"\")),\"\")","v":""},"","","","","","","",""]
[{"$nulls":23},{"$f":"IF(A48784<>\"\",IF(Main!$E$12=\"ALL\",A48784,IF(Main!$E$12=A48784,A48784,\"\")),\"\")","v":""},"","","","","","","",""]
[{"$nulls":23},{"$f":"IF(A48793<>\"\",IF(Main!$E$12=\"ALL\",A48793,IF(Main!$E$12=A48793,A48793,\"\")),\"\")","v":""},"","","","","","","",""]
[{"$nulls":23},{"$f":"IF(A48835<>\"\",IF(Main!$E$12=\"ALL\",A48835,IF(Main!$E$12=A48835,A48835,\"\")),\"\")","v":""},{"$f":"IF($X48835=\"\",\"\",D48835)","v":""},{"$f":"IF($X48835=\"\",\"\",F48835)","v":""},{"$f":"IF($X48835=\"\",\"\",J48835)","v":""},{"$f":"IF($X48835=\"\",\"\",N48835)","v":""},{"$f":"IF($X48835=\"\",\"\",IF(P48835=\"\",\"\",P48835))","v":""},{"$f":"IF($X48835=\"\",\"\",R48835)","v":""},{"$f":"IF($X48835=\"\",\"\",T48835)","v":""},{"$f":"IF($X48835=\"\",\"\",V48835)","v":""}]
[{"$nulls":23},{"$f":"IF(A48850<>\"\",IF(Main!$E$12=\"ALL\",A48850,IF(Main!$E$12=A48850,A48850,\"\")),\"\")","v":""},"","","","","","","",""]
[{"$nulls":23},{"$f":"IF(A48883<>\"\",IF(Main!$E$12=\"ALL\",A48883,IF(Main!$E$12=A48883,A48883,\"\")),\"\")","v":""},"","","","","","","",""]
[{"$nulls":23},{"$f":"IF(A48908<>\"\",IF(Main!$E$12=\"ALL\",A48908,IF(Main!$E$12=A48908,A48908,\"\")),\"\")","v":""},"","","","","","","",""]
[{"$nulls":23},{"$f":"IF(A48927<>\"\",IF(Main!$E$12=\"ALL\",A48927,IF(Main!$E$12=A48927,A48927,\"\")),\"\")","v":""},"","","","","","","",""]
[{"$nulls":23},{"$f":"IF(A48949<>\"\",IF(Main!$E$12=\"ALL\",A48949,IF(Main!$E$12=A48949,A48949,\"\")),\"\")","v":""},"","","","","","","",""]
[{"$nulls":23},{"$f":"IF(A48974<>\"\",IF(Main!$E$12=\"ALL\",A48974,IF(Main!$E$12=A48974,A48974,\"\")),\"\")","v":""},"","","","","","","",""]
[{"$nulls":23},{"$f":"IF(A48983<>\"\",IF(Main!$E$12=\"ALL\",A48983,IF(Main!$E$12=A48983,A48983,\"\")),\"\")","v":""},"","","","","","","",""]
[{"$nulls":23},{"$f":"IF(A49007<>\"\",IF(Main!$E$12=\"ALL\",A49007,IF(Main!$E$12=A49007,A49007,\"\")),\"\")","v":""},"","","","","","","",""]
[{"$nulls":23},{"$f":"IF(A49040<>\"\",IF(Main!$E$12=\"ALL\",A49040,IF(Main!$E$12=A49040,A49040,\"\")),\"\")","v":""},"","","","","","","",""]
[{"$nulls":23},{"$f":"IF(A49073<>\"\",IF(Main!$E$12=\"ALL\",A49073,IF(Main!$E$12=A49073,A49073,\"\")),\"\")","v":""},"","","","","","","",""]
[{"$nulls":23},{"$f":"IF(A49098<>\"\",IF(Main!$E$12=\"ALL\",A49098,IF(Main!$E$12=A49098,A49098,\"\")),\"\")","v":""},"","","","","","","",""]
[{"$nulls":23},{"$f":"IF(A49099<>\"\",IF(Main!$E$12=\"ALL\",A49099,IF(Main!$E$12=A49099,A49099,\"\")),\"\")","v":""},"","","","","","","",""]
[{"$nulls":23},{"$f":"IF(A49139<>\"\",IF(Main!$E$12=\"ALL\",A49139,IF(Main!$E$12=A49139,A49139,\"\")),\"\")","v":""},"","","","","","","",""]
[{"$nulls":23},{"$f":"IF(A49164<>\"\",IF(Main!$E$12=\"ALL\",A49164,IF(Main!$E$12=A49164,A49164,\"\")),\"\")","v":""},"","","","","","","",""]
[{"$nulls":23},{"$f":"IF(A49173<>\"\",IF(Main!$E$12=\"ALL\",A49173,IF(Main!$E$12=A49173,A49173,\"\")),\"\")","v":""},"","","","","","","",""]
[{"$nulls":23},{"$f":"IF(A49202<>\"\",IF(Main!$E$12=\"ALL\",A49202,IF(Main!$E$12=A49202,A49202,\"\")),\"\")","v":""},"","","","","","","",""]
[{"$nulls":23},{"$f":"IF(A49230<>\"\",IF(Main!$E$12=\"ALL\",A49230,IF(Main!$E$12=A49230,A49230,\"\")),\"\")","v":""},"","","","","","","",""]
[{"$nulls":23},{"$f":"IF(A49263<>\"\",IF(Main!$E$12=\"ALL\",A49263,IF(Main!$E$12=A49263,A49263,\"\")),\"\")","v":""},"","","","","","","",""]
[{"$nulls":23},{"$f":"IF(A49288<>\"\",IF(Main!$E$12=\"ALL\",A49288,IF(Main!$E$12=A49288,A49288,\"\")),\"\")","v":""},"","","","","","","",""]
[{"$nulls":23},{"$f":"IF(A49294<>\"\",IF(Main!$E$12=\"ALL\",A49294,IF(Main!$E$12=A49294,A49294,\"\")),\"\")","v":""},"","","","","","","",""]
[{"$nulls":23},{"$f":"IF(A49329<>\"\",IF(Main!$E$12=\"ALL\",A49329,IF(Main!$E$12=A49329,A49329,\"\")),\"\")","v":""},"","","","","","","",""]
[{"$nulls":23},{"$f":"IF(A49354<>\"\",IF(Main!$E$12=\"ALL\",A49354,IF(Main!$E$12=A49354,A49354,\"\")),\"\")","v":""},"","","","","","","",""]
[{"$nulls":23},{"$f":"IF(A49363<>\"\",IF(Main!$E$12=\"ALL\",A49363,IF(Main!$E$12=A49363,A49363,\"\")),\"\")","v":""},"","","","","","","",""]
[{"$nulls":23},{"$f":"IF(A49386<>\"\",IF(Main!$E$12=\"ALL\",A49386,IF(Main!$E$12=A49386,A49386,\"\")),\"\")","v":""},"","","","","","","",""]
[{"$nulls":23},{"$f":"IF(A49420<>\"\",IF(Main!$E$12=\"ALL\",A49420,IF(Main!$E$12=A49420,A49420,\"\")),\"\")","v":""},"","","","","","","",""]
[{"$nulls":23},{"$f":"IF(A49453<>\"\",IF(Main!$E$12=\"ALL\",A49453,IF(Main!$E$12=A49453,A49453,\"\")),\"\")","v":""},"","","","","","","",""]
[{"$nulls":23},{"$f":"IF(A49478<>\"\",IF(Main!$E$12=\"ALL\",A49478,IF(Main!$E$12=A49478,A49478,\"\")),\"\")","v":""},"","","","","","","",""]
[{"$nulls":23},{"$f":"IF(A49487<>\"\",IF(Main!$E$12=\"ALL\",A49487,IF(Main!$E$12=A49487,A49487,\"\")),\"\")","v":""},"","","","","","","",""]
[{"$nulls":23},{"$f":"IF(A49503<>\"\",IF(Main!$E$12=\"ALL\",A49503,IF(Main!$E$12=A49503,A49503,\"\")),\"\")","v":""},"","","","","","","",""]
[{"$nulls":23},{"$f":"IF(A49504<>\"\",IF(Main!$E$12=\"ALL\",A49504,IF(Main!$E$12=A49504,A49504,\"\")),\"\")","v":""},"","","","","","","",""]
[{"$nulls":23},{"$f":"IF(A49505<>\"\",IF(Main!$E$12=\"ALL\",A49505,IF(Main!$E$12=A49505,A49505,\"\")),\"\")","v":""},"","","","","","","",""]
[{"$nulls":23},{"$f":"IF(A49506<>\"\",IF(Main!$E$12=\"ALL\",A49506,IF(Main!$E$12=A49506,A49506,\"\")),\"\")","v":""},"","","","","","","",""]
[{"$nulls":23},{"$f":"IF(A49507<>\"\",IF(Main!$E$12=\"ALL\",A49507,IF(Main!$E$12=A49507,A49507,\"\")),\"\")","v":""},"","","","","","","",""]
[{"$nulls":23},{"$f":"IF(A49508<>\"\",IF(Main!$E$12=\"ALL\",A49508,IF(Main!$E$12=A49508,A49508,\"\")),\"\")","v":""},"","","","","","","",""]
[{"$nulls":23},{"$f":"IF(A49509<>\"\",IF(Main!$E$12=\"ALL\",A49509,IF(Main!$E$12=A49509,A49509,\"\")),\"\")","v":""},"","","","","","","",""]
[{"$nulls":23},{"$f":"IF(A49510<>\"\",IF(Main!$E$12=\"ALL\",A49510,IF(Main!$E$12=A49510,A49510,\"\")),\"\")","v":""},"","","","","","","",""]
[{"$nulls":23},{"$f":"IF(A49511<>\"\",IF(Main!$E$12=\"ALL\",A49511,IF(Main!$E$12=A49511,A49511,\"\")),\"\")","v":""},"","","","","","","",""]
[{"$nulls":23},{"$f":"IF(A49512<>\"\",IF(Main!$E$12=\"ALL\",A49512,IF(Main!$E$12=A49512,A49512,\"\")),\"\")","v":""},"","","","","","","",""]
[{"$nulls":23},{"$f":"IF(A49513<>\"\",IF(Main!$E$12=\"ALL\",A49513,IF(Main!$E$12=A49513,A49513,\"\")),\"\")","v":""},"","","","","","","",""]
[{"$nulls":23},{"$f":"IF(A49514<>\"\",IF(Main!$E$12=\"ALL\",A49514,IF(Main!$E$12=A49514,A49514,\"\")),\"\")","v":""},"","","","","","","",""]
[{"$nulls":23},{"$f":"IF(A49515<>\"\",IF(Main!$E$12=\"ALL\",A49515,IF(Main!$E$12=A49515,A49515,\"\")),\"\")","v":""},"","","","","","","",""]
[{"$nulls":23},{"$f":"IF(A49516<>\"\",IF(Main!$E$12=\"ALL\",A49516,IF(Main!$E$12=A49516,A49516,\"\")),\"\")","v":""},"","","","","","","",""]
[{"$nulls":23},{"$f":"IF(A49517<>\"\",IF(Main!$E$12=\"ALL\",A49517,IF(Main!$E$12=A49517,A49517,\"\")),\"\")","v":""},"","","","","","","",""]
[{"$nulls":23},{"$f":"IF(A49518<>\"\",IF(Main!$E$12=\"ALL\",A49518,IF(Main!$E$12=A49518,A49518,\"\")),\"\")","v":""},"","","","","","","",""]
[{"$nulls":23},{"$f":"IF(A49519<>\"\",IF(Main!$E$12=\"ALL\",A49519,IF(Main!$E$12=A49519,A49519,\"\")),\"\")","v":""},"","","","","","","",""]
[{"$nulls":23},{"$f":"IF(A49520<>\"\",IF(Main!$E$12=\"ALL\",A49520,IF(Main!$E$12=A49520,A49520,\"\")),\"\")","v":""},"","","","","","","",""]
[{"$nulls":23},{"$f":"IF(A49521<>\"\",IF(Main!$E$12=\"ALL\",A49521,IF(Main!$E$12=A49521,A49521,\"\")),\"\")","v":""},"","","","","","","",""]
[{"$nulls":23},{"$f":"IF(A49522<>\"\",IF(Main!$E$12=\"ALL\",A49522,IF(Main!$E$12=A49522,A49522,\"\")),\"\")","v":""},"","","","","","","",""]
[{"$nulls":23},{"$f":"IF(A49523<>\"\",IF(Main!$E$12=\"ALL\",A49523,IF(Main!$E$12=A49523,A49523,\"\")),\"\")","v":""},"","","","","","","",""]
[{"$nulls":23},{"$f":"IF(A49524<>\"\",IF(Main!$E$12=\"ALL\",A49524,IF(Main!$E$12=A49524,A49524,\"\")),\"\")","v":""},"","","","","","","",""]
[{"$nulls":23},{"$f":"IF(A49525<>\"\",IF(Main!$E$12=\"ALL\",A49525,IF(Main!$E$12=A49525,A49525,\"\")),\"\")","v":""},"","","","","","","",""]
[{"$nulls":23},{"$f":"IF(A49526<>\"\",IF(Main!$E$12=\"ALL\",A49526,IF(Main!$E$12=A49526,A49526,\"\")),\"\")","v":""},"","","","","","","",""]
[{"$nulls":23},{"$f":"IF(A49527<>\"\",IF(Main!$E$12=\"ALL\",A49527,IF(Main!$E$12=A49527,A49527,\"\")),\"\")","v":""},"","","","","","","",""]
[{"$nulls":23},{"$f":"IF(A49528<>\"\",IF(Main!$E$12=\"ALL\",A49528,IF(Main!$E$12=A49528,A49528,\"\")),\"\")","v":""},"","","","","","","",""]
[{"$nulls":23},{"$f":"IF(A49529<>\"\",IF(Main!$E$12=\"ALL\",A49529,IF(Main!$E$12=A49529,A49529,\"\")),\"\")","v":""},"","","","","","","",""]
[{"$nulls":23},{"$f":"IF(A49530<>\"\",IF(Main!$E$12=\"ALL\",A49530,IF(Main!$E$12=A49530,A49530,\"\")),\"\")","v":""},"","","","","","","",""]
[{"$nulls":23},{"$f":"IF(A49531<>\"\",IF(Main!$E$12=\"ALL\",A49531,IF(Main!$E$12=A49531,A49531,\"\")),\"\")","v":""},"","","","","","","",""]
[{"$nulls":23},{"$f":"IF(A49532<>\"\",IF(Main!$E$12=\"ALL\",A49532,IF(Main!$E$12=A49532,A49532,\"\")),\"\")","v":""},"","","","","","","",""]
[{"$nulls":23},{"$f":"IF(A49533<>\"\",IF(Main!$E$12=\"ALL\",A49533,IF(Main!$E$12=A49533,A49533,\"\")),\"\")","v":""},"","","","","","","",""]
[{"$nulls":23},{"$f":"IF(A49534<>\"\",IF(Main!$E$12=\"ALL\",A49534,IF(Main!$E$12=A49534,A49534,\"\")),\"\")","v":""},"","","","","","","",""]
[{"$nulls":23},{"$f":"IF(A49535<>\"\",IF(Main!$E$12=\"ALL\",A49535,IF(Main!$E$12=A49535,A49535,\"\")),\"\")","v":""},"","","","","","","",""]
[{"$nulls":23},{"$f":"IF(A49536<>\"\",IF(Main!$E$12=\"ALL\",A49536,IF(Main!$E$12=A49536,A49536,\"\")),\"\")","v":""},"","","","","","","",""]
[{"$nulls":23},{"$f":"IF(A49537<>\"\",IF(Main!$E$12=\"ALL\",A49537,IF(Main!$E$12=A49537,A49537,\"\")),\"\")","v":""},"","","","","","","",""]
[{"$nulls":23},{"$f":"IF(A49538<>\"\",IF(Main!$E$12=\"ALL\",A49538,IF(Main!$E$12=A49538,A49538,\"\")),\"\")","v":""},"","","","","","","",""]
[{"$nulls":23},{"$f":"IF(A49539<>\"\",IF(Main!$E$12=\"ALL\",A49539,IF(Main!$E$12=A49539,A49539,\"\")),\"\")","v":""},{"$f":"IF($X49539=\"\",\"\",D49539)","v":""},{"$f":"IF($X49539=\"\",\"\",F49539)","v":""},{"$f":"IF($X49539=\"\",\"\",J49539)","v":""},{"$f":"IF($X49539=\"\",\"\",N49539)","v":""},{"$f":"IF($X49539=\"\",\"\",IF(P49539=\"\",\"\",P49539))","v":""},{"$f":"IF($X49539=\"\",\"\",R49539)","v":""},{"$f":"IF($X49539=\"\",\"\",T49539)","v":""},{"$f":"IF($X49539=\"\",\"\",V49539)","v":""}]
[{"$nulls":23},{"$f":"IF(A49540<>\"\",IF(Main!$E$12=\"ALL\",A49540,IF(Main!$E$12=A49540,A49540,\"\")),\"\")","v":""},"","","","","","","",""]
[{"$nulls":23},{"$f":"IF(A49541<>\"\",IF(Main!$E$12=\"ALL\",A49541,IF(Main!$E$12=A49541,A49541,\"\")),\"\")","v":""},"","","","","","","",""]
[{"$nulls":23},{"$f":"IF(A49542<>\"\",IF(Main!$E$12=\"ALL\",A49542,IF(Main!$E$12=A49542,A49542,\"\")),\"\")","v":""},"","","","","","","",""]
[{"$nulls":23},{"$f":"IF(A49543<>\"\",IF(Main!$E$12=\"ALL\",A49543,IF(Main!$E$12=A49543,A49543,\"\")),\"\")","v":""},"","","","","","","",""]
[{"$nulls":23},{"$f":"IF(A49544<>\"\",IF(Main!$E$12=\"ALL\",A49544,IF(Main!$E$12=A49544,A49544,\"\")),\"\")","v":""},"","","","","","","",""]
[{"$nulls":23},{"$f":"IF(A49545<>\"\",IF(Main!$E$12=\"ALL\",A49545,IF(Main!$E$12=A49545,A49545,\"\")),\"\")","v":""},"","","","","","","",""]
[{"$nulls":23},{"$f":"IF(A49546<>\"\",IF(Main!$E$12=\"ALL\",A49546,IF(Main!$E$12=A49546,A49546,\"\")),\"\")","v":""},"","","","","","","",""]
[{"$nulls":23},{"$f":"IF(A49547<>\"\",IF(Main!$E$12=\"ALL\",A49547,IF(Main!$E$12=A49547,A49547,\"\")),\"\")","v":""},"","","","","","","",""]
[{"$nulls":23},{"$f":"IF(A49548<>\"\",IF(Main!$E$12=\"ALL\",A49548,IF(Main!$E$12=A49548,A49548,\"\")),\"\")","v":""},"","","","","","","",""]
[{"$nulls":23},{"$f":"IF(A49549<>\"\",IF(Main!$E$12=\"ALL\",A49549,IF(Main!$E$12=A49549,A49549,\"\")),\"\")","v":""},"","","","","","","",""]
[{"$nulls":23},{"$f":"IF(A49550<>\"\",IF(Main!$E$12=\"ALL\",A49550,IF(Main!$E$12=A49550,A49550,\"\")),\"\")","v":""},"","","","","","","",""]
[{"$nulls":23},{"$f":"IF(A49551<>\"\",IF(Main!$E$12=\"ALL\",A49551,IF(Main!$E$12=A49551,A49551,\"\")),\"\")","v":""},"","","","","","","",""]
[{"$nulls":23},{"$f":"IF(A49552<>\"\",IF(Main!$E$12=\"ALL\",A49552,IF(Main!$E$12=A49552,A49552,\"\")),\"\")","v":""},"","","","","","","",""]
[{"$nulls":23},{"$f":"IF(A49553<>\"\",IF(Main!$E$12=\"ALL\",A49553,IF(Main!$E$12=A49553,A49553,\"\")),\"\")","v":""},"","","","","","","",""]
[{"$nulls":23},{"$f":"IF(A49554<>\"\",IF(Main!$E$12=\"ALL\",A49554,IF(Main!$E$12=A49554,A49554,\"\")),\"\")","v":""},"","","","","","","",""]
[{"$nulls":23},{"$f":"IF(A49555<>\"\",IF(Main!$E$12=\"ALL\",A49555,IF(Main!$E$12=A49555,A49555,\"\")),\"\")","v":""},"","","","","","","",""]
[{"$nulls":23},{"$f":"IF(A49556<>\"\",IF(Main!$E$12=\"ALL\",A49556,IF(Main!$E$12=A49556,A49556,\"\")),\"\")","v":""},"","","","","","","",""]
[{"$nulls":23},{"$f":"IF(A49557<>\"\",IF(Main!$E$12=\"ALL\",A49557,IF(Main!$E$12=A49557,A49557,\"\")),\"\")","v":""},"","","","","","","",""]
[{"$nulls":23},{"$f":"IF(A49558<>\"\",IF(Main!$E$12=\"ALL\",A49558,IF(Main!$E$12=A49558,A49558,\"\")),\"\")","v":""},"","","","","","","",""]
[{"$nulls":23},{"$f":"IF(A49559<>\"\",IF(Main!$E$12=\"ALL\",A49559,IF(Main!$E$12=A49559,A49559,\"\")),\"\")","v":""},"","","","","","","",""]
[{"$nulls":23},{"$f":"IF(A49560<>\"\",IF(Main!$E$12=\"ALL\",A49560,IF(Main!$E$12=A49560,A49560,\"\")),\"\")","v":""},"","","","","","","",""]
[{"$nulls":23},{"$f":"IF(A49561<>\"\",IF(Main!$E$12=\"ALL\",A49561,IF(Main!$E$12=A49561,A49561,\"\")),\"\")","v":""},"","","","","","","",""]
[{"$nulls":23},{"$f":"IF(A49562<>\"\",IF(Main!$E$12=\"ALL\",A49562,IF(Main!$E$12=A49562,A49562,\"\")),\"\")","v":""},"","","","","","","",""]
[{"$nulls":23},{"$f":"IF(A49563<>\"\",IF(Main!$E$12=\"ALL\",A49563,IF(Main!$E$12=A49563,A49563,\"\")),\"\")","v":""},"","","","","","","",""]
[{"$nulls":23},{"$f":"IF(A49564<>\"\",IF(Main!$E$12=\"ALL\",A49564,IF(Main!$E$12=A49564,A49564,\"\")),\"\")","v":""},"","","","","","","",""]
[{"$nulls":23},{"$f":"IF(A49565<>\"\",IF(Main!$E$12=\"ALL\",A49565,IF(Main!$E$12=A49565,A49565,\"\")),\"\")","v":""},"","","","","","","",""]
[{"$nulls":23},{"$f":"IF(A49566<>\"\",IF(Main!$E$12=\"ALL\",A49566,IF(Main!$E$12=A49566,A49566,\"\")),\"\")","v":""},"","","","","","","",""]
[{"$nulls":23},{"$f":"IF(A49567<>\"\",IF(Main!$E$12=\"ALL\",A49567,IF(Main!$E$12=A49567,A49567,\"\")),\"\")","v":""},"","","","","","","",""]
[{"$nulls":23},{"$f":"IF(A49568<>\"\",IF(Main!$E$12=\"ALL\",A49568,IF(Main!$E$12=A49568,A49568,\"\")),\"\")","v":""},"","","","","","","",""]
[{"$nulls":23},{"$f":"IF(A49569<>\"\",IF(Main!$E$12=\"ALL\",A49569,IF(Main!$E$12=A49569,A49569,\"\")),\"\")","v":""},"","","","","","","",""]
[{"$nulls":23},{"$f":"IF(A49570<>\"\",IF(Main!$E$12=\"ALL\",A49570,IF(Main!$E$12=A49570,A49570,\"\")),\"\")","v":""},"","","","","","","",""]
[{"$nulls":23},{"$f":"IF(A49571<>\"\",IF(Main!$E$12=\"ALL\",A49571,IF(Main!$E$12=A49571,A49571,\"\")),\"\")","v":""},"","","","","","","",""]
[{"$nulls":23},{"$f":"IF(A49572<>\"\",IF(Main!$E$12=\"ALL\",A49572,IF(Main!$E$12=A49572,A49572,\"\")),\"\")","v":""},"","","","","","","",""]
[{"$nulls":23},{"$f":"IF(A49573<>\"\",IF(Main!$E$12=\"ALL\",A49573,IF(Main!$E$12=A49573,A49573,\"\")),\"\")","v":""},"","","","","","","",""]
[{"$nulls":23},{"$f":"IF(A49574<>\"\",IF(Main!$E$12=\"ALL\",A49574,IF(Main!$E$12=A49574,A49574,\"\")),\"\")","v":""},"","","","","","","",""]
[{"$nulls":23},{"$f":"IF(A49575<>\"\",IF(Main!$E$12=\"ALL\",A49575,IF(Main!$E$12=A49575,A49575,\"\")),\"\")","v":""},"","","","","","","",""]
[{"$nulls":23},{"$f":"IF(A49576<>\"\",IF(Main!$E$12=\"ALL\",A49576,IF(Main!$E$12=A49576,A49576,\"\")),\"\")","v":""},"","","","","","","",""]
[{"$nulls":23},{"$f":"IF(A49577<>\"\",IF(Main!$E$12=\"ALL\",A49577,IF(Main!$E$12=A49577,A49577,\"\")),\"\")","v":""},"","","","","","","",""]
[{"$nulls":23},{"$f":"IF(A49578<>\"\",IF(Main!$E$12=\"ALL\",A49578,IF(Main!$E$12=A49578,A49578,\"\")),\"\")","v":""},"","","","","","","",""]
[{"$nulls":23},{"$f":"IF(A49579<>\"\",IF(Main!$E$12=\"ALL\",A49579,IF(Main!$E$12=A49579,A49579,\"\")),\"\")","v":""},"","","","","","","",""]
[{"$nulls":23},{"$f":"IF(A49580<>\"\",IF(Main!$E$12=\"ALL\",A49580,IF(Main!$E$12=A49580,A49580,\"\")),\"\")","v":""},"","","","","","","",""]
[{"$nulls":23},{"$f":"IF(A49581<>\"\",IF(Main!$E$12=\"ALL\",A49581,IF(Main!$E$12=A49581,A49581,\"\")),\"\")","v":""},"","","","","","","",""]
[{"$nulls":23},{"$f":"IF(A49582<>\"\",IF(Main!$E$12=\"ALL\",A49582,IF(Main!$E$12=A49582,A49582,\"\")),\"\")","v":""},"","","","","","","",""]
[{"$nulls":23},{"$f":"IF(A49583<>\"\",IF(Main!$E$12=\"ALL\",A49583,IF(Main!$E$12=A49583,A49583,\"\")),\"\")","v":""},"","","","","","","",""]
[{"$nulls":23},{"$f":"IF(A49584<>\"\",IF(Main!$E$12=\"ALL\",A49584,IF(Main!$E$12=A49584,A49584,\"\")),\"\")","v":""},"","","","","","","",""]
[{"$nulls":23},{"$f":"IF(A49585<>\"\",IF(Main!$E$12=\"ALL\",A49585,IF(Main!$E$12=A49585,A49585,\"\")),\"\")","v":""},"","","","","","","",""]
[{"$nulls":23},{"$f":"IF(A49586<>\"\",IF(Main!$E$12=\"ALL\",A49586,IF(Main!$E$12=A49586,A49586,\"\")),\"\")","v":""},"","","","","","","",""]
[{"$nulls":23},{"$f":"IF(A49587<>\"\",IF(Main!$E$12=\"ALL\",A49587,IF(Main!$E$12=A49587,A49587,\"\")),\"\")","v":""},"","","","","","","",""]
[{"$nulls":23},{"$f":"IF(A49588<>\"\",IF(Main!$E$12=\"ALL\",A49588,IF(Main!$E$12=A49588,A49588,\"\")),\"\")","v":""},"","","","","","","",""]
[{"$nulls":23},{"$f":"IF(A49589<>\"\",IF(Main!$E$12=\"ALL\",A49589,IF(Main!$E$12=A49589,A49589,\"\")),\"\")","v":""},"","","","","","","",""]
[{"$nulls":23},{"$f":"IF(A49590<>\"\",IF(Main!$E$12=\"ALL\",A49590,IF(Main!$E$12=A49590,A49590,\"\")),\"\")","v":""},"","","","","","","",""]
[{"$nulls":23},{"$f":"IF(A49591<>\"\",IF(Main!$E$12=\"ALL\",A49591,IF(Main!$E$12=A49591,A49591,\"\")),\"\")","v":""},"","","","","","","",""]
[{"$nulls":23},{"$f":"IF(A49592<>\"\",IF(Main!$E$12=\"ALL\",A49592,IF(Main!$E$12=A49592,A49592,\"\")),\"\")","v":""},"","","","","","","",""]
[{"$nulls":23},{"$f":"IF(A49593<>\"\",IF(Main!$E$12=\"ALL\",A49593,IF(Main!$E$12=A49593,A49593,\"\")),\"\")","v":""},"","","","","","","",""]
[{"$nulls":23},{"$f":"IF(A49594<>\"\",IF(Main!$E$12=\"ALL\",A49594,IF(Main!$E$12=A49594,A49594,\"\")),\"\")","v":""},"","","","","","","",""]
[{"$nulls":23},{"$f":"IF(A49595<>\"\",IF(Main!$E$12=\"ALL\",A49595,IF(Main!$E$12=A49595,A49595,\"\")),\"\")","v":""},"","","","","","","",""]
[{"$nulls":23},{"$f":"IF(A49596<>\"\",IF(Main!$E$12=\"ALL\",A49596,IF(Main!$E$12=A49596,A49596,\"\")),\"\")","v":""},"","","","","","","",""]
[{"$nulls":23},{"$f":"IF(A49597<>\"\",IF(Main!$E$12=\"ALL\",A49597,IF(Main!$E$12=A49597,A49597,\"\")),\"\")","v":""},"","","","","","","",""]
[{"$nulls":23},{"$f":"IF(A49598<>\"\",IF(Main!$E$12=\"ALL\",A49598,IF(Main!$E$12=A49598,A49598,\"\")),\"\")","v":""},"","","","","","","",""]
[{"$nulls":23},{"$f":"IF(A49599<>\"\",IF(Main!$E$12=\"ALL\",A49599,IF(Main!$E$12=A49599,A49599,\"\")),\"\")","v":""},"","","","","","","",""]
[{"$nulls":23},{"$f":"IF(A49600<>\"\",IF(Main!$E$12=\"ALL\",A49600,IF(Main!$E$12=A49600,A49600,\"\")),\"\")","v":""},"","","","","","","",""]
[{"$nulls":23},{"$f":"IF(A49601<>\"\",IF(Main!$E$12=\"ALL\",A49601,IF(Main!$E$12=A49601,A49601,\"\")),\"\")","v":""},"","","","","","","",""]
[{"$nulls":23},{"$f":"IF(A49602<>\"\",IF(Main!$E$12=\"ALL\",A49602,IF(Main!$E$12=A49602,A49602,\"\")),\"\")","v":""},"","","","","","","",""]
[{"$nulls":23},{"$f":"IF(A49603<>\"\",IF(Main!$E$12=\"ALL\",A49603,IF(Main!$E$12=A49603,A49603,\"\")),\"\")","v":""},{"$f":"IF($X49603=\"\",\"\",D49603)","v":""},{"$f":"IF($X49603=\"\",\"\",F49603)","v":""},{"$f":"IF($X49603=\"\",\"\",J49603)","v":""},{"$f":"IF($X49603=\"\",\"\",N49603)","v":""},{"$f":"IF($X49603=\"\",\"\",IF(P49603=\"\",\"\",P49603))","v":""},{"$f":"IF($X49603=\"\",\"\",R49603)","v":""},{"$f":"IF($X49603=\"\",\"\",T49603)","v":""},{"$f":"IF($X49603=\"\",\"\",V49603)","v":""}]
[{"$nulls":23},{"$f":"IF(A49604<>\"\",IF(Main!$E$12=\"ALL\",A49604,IF(Main!$E$12=A49604,A49604,\"\")),\"\")","v":""},"","","","","","","",""]
[{"$nulls":23},{"$f":"IF(A49605<>\"\",IF(Main!$E$12=\"ALL\",A49605,IF(Main!$E$12=A49605,A49605,\"\")),\"\")","v":""},"","","","","","","",""]
[{"$nulls":23},{"$f":"IF(A49606<>\"\",IF(Main!$E$12=\"ALL\",A49606,IF(Main!$E$12=A49606,A49606,\"\")),\"\")","v":""},"","","","","","","",""]
[{"$nulls":23},{"$f":"IF(A49607<>\"\",IF(Main!$E$12=\"ALL\",A49607,IF(Main!$E$12=A49607,A49607,\"\")),\"\")","v":""},"","","","","","","",""]
[{"$nulls":23},{"$f":"IF(A49608<>\"\",IF(Main!$E$12=\"ALL\",A49608,IF(Main!$E$12=A49608,A49608,\"\")),\"\")","v":""},"","","","","","","",""]
[{"$nulls":23},{"$f":"IF(A49609<>\"\",IF(Main!$E$12=\"ALL\",A49609,IF(Main!$E$12=A49609,A49609,\"\")),\"\")","v":""},"","","","","","","",""]
[{"$nulls":23},{"$f":"IF(A49610<>\"\",IF(Main!$E$12=\"ALL\",A49610,IF(Main!$E$12=A49610,A49610,\"\")),\"\")","v":""},"","","","","","","",""]
[{"$nulls":23},{"$f":"IF(A49611<>\"\",IF(Main!$E$12=\"ALL\",A49611,IF(Main!$E$12=A49611,A49611,\"\")),\"\")","v":""},"","","","","","","",""]
[{"$nulls":23},{"$f":"IF(A49612<>\"\",IF(Main!$E$12=\"ALL\",A49612,IF(Main!$E$12=A49612,A49612,\"\")),\"\")","v":""},"","","","","","","",""]
[{"$nulls":23},{"$f":"IF(A49613<>\"\",IF(Main!$E$12=\"ALL\",A49613,IF(Main!$E$12=A49613,A49613,\"\")),\"\")","v":""},"","","","","","","",""]
[{"$nulls":23},{"$f":"IF(A49614<>\"\",IF(Main!$E$12=\"ALL\",A49614,IF(Main!$E$12=A49614,A49614,\"\")),\"\")","v":""},"","","","","","","",""]
[{"$nulls":23},{"$f":"IF(A49615<>\"\",IF(Main!$E$12=\"ALL\",A49615,IF(Main!$E$12=A49615,A49615,\"\")),\"\")","v":""},"","","","","","","",""]
[{"$nulls":23},{"$f":"IF(A49616<>\"\",IF(Main!$E$12=\"ALL\",A49616,IF(Main!$E$12=A49616,A49616,\"\")),\"\")","v":""},"","","","","","","",""]
[{"$nulls":23},{"$f":"IF(A49617<>\"\",IF(Main!$E$12=\"ALL\",A49617,IF(Main!$E$12=A49617,A49617,\"\")),\"\")","v":""},"","","","","","","",""]
[{"$nulls":23},{"$f":"IF(A49618<>\"\",IF(Main!$E$12=\"ALL\",A49618,IF(Main!$E$12=A49618,A49618,\"\")),\"\")","v":""},"","","","","","","",""]
[{"$nulls":23},{"$f":"IF(A49619<>\"\",IF(Main!$E$12=\"ALL\",A49619,IF(Main!$E$12=A49619,A49619,\"\")),\"\")","v":""},"","","","","","","",""]
[{"$nulls":23},{"$f":"IF(A49620<>\"\",IF(Main!$E$12=\"ALL\",A49620,IF(Main!$E$12=A49620,A49620,\"\")),\"\")","v":""},"","","","","","","",""]
[{"$nulls":23},{"$f":"IF(A49621<>\"\",IF(Main!$E$12=\"ALL\",A49621,IF(Main!$E$12=A49621,A49621,\"\")),\"\")","v":""},"","","","","","","",""]
[{"$nulls":23},{"$f":"IF(A49622<>\"\",IF(Main!$E$12=\"ALL\",A49622,IF(Main!$E$12=A49622,A49622,\"\")),\"\")","v":""},"","","","","","","",""]
[{"$nulls":23},{"$f":"IF(A49623<>\"\",IF(Main!$E$12=\"ALL\",A49623,IF(Main!$E$12=A49623,A49623,\"\")),\"\")","v":""},"","","","","","","",""]
[{"$nulls":23},{"$f":"IF(A49624<>\"\",IF(Main!$E$12=\"ALL\",A49624,IF(Main!$E$12=A49624,A49624,\"\")),\"\")","v":""},"","","","","","","",""]
[{"$nulls":23},{"$f":"IF(A49625<>\"\",IF(Main!$E$12=\"ALL\",A49625,IF(Main!$E$12=A49625,A49625,\"\")),\"\")","v":""},"","","","","","","",""]
[{"$nulls":23},{"$f":"IF(A49626<>\"\",IF(Main!$E$12=\"ALL\",A49626,IF(Main!$E$12=A49626,A49626,\"\")),\"\")","v":""},"","","","","","","",""]
[{"$nulls":23},{"$f":"IF(A49627<>\"\",IF(Main!$E$12=\"ALL\",A49627,IF(Main!$E$12=A49627,A49627,\"\")),\"\")","v":""},"","","","","","","",""]
[{"$nulls":23},{"$f":"IF(A49628<>\"\",IF(Main!$E$12=\"ALL\",A49628,IF(Main!$E$12=A49628,A49628,\"\")),\"\")","v":""},"","","","","","","",""]
[{"$nulls":23},{"$f":"IF(A49629<>\"\",IF(Main!$E$12=\"ALL\",A49629,IF(Main!$E$12=A49629,A49629,\"\")),\"\")","v":""},"","","","","","","",""]
[{"$nulls":23},{"$f":"IF(A49630<>\"\",IF(Main!$E$12=\"ALL\",A49630,IF(Main!$E$12=A49630,A49630,\"\")),\"\")","v":""},"","","","","","","",""]
[{"$nulls":23},{"$f":"IF(A49631<>\"\",IF(Main!$E$12=\"ALL\",A49631,IF(Main!$E$12=A49631,A49631,\"\")),\"\")","v":""},"","","","","","","",""]
[{"$nulls":23},{"$f":"IF(A49632<>\"\",IF(Main!$E$12=\"ALL\",A49632,IF(Main!$E$12=A49632,A49632,\"\")),\"\")","v":""},"","","","","","","",""]
[{"$nulls":23},{"$f":"IF(A49633<>\"\",IF(Main!$E$12=\"ALL\",A49633,IF(Main!$E$12=A49633,A49633,\"\")),\"\")","v":""},"","","","","","","",""]
[{"$nulls":23},{"$f":"IF(A49634<>\"\",IF(Main!$E$12=\"ALL\",A49634,IF(Main!$E$12=A49634,A49634,\"\")),\"\")","v":""},"","","","","","","",""]
[{"$nulls":23},{"$f":"IF(A49635<>\"\",IF(Main!$E$12=\"ALL\",A49635,IF(Main!$E$12=A49635,A49635,\"\")),\"\")","v":""},"","","","","","","",""]
[{"$nulls":23},{"$f":"IF(A49636<>\"\",IF(Main!$E$12=\"ALL\",A49636,IF(Main!$E$12=A49636,A49636,\"\")),\"\")","v":""},"","","","","","","",""]
[{"$nulls":23},{"$f":"IF(A49637<>\"\",IF(Main!$E$12=\"ALL\",A49637,IF(Main!$E$12=A49637,A49637,\"\")),\"\")","v":""},"","","","","","","",""]
[{"$nulls":23},{"$f":"IF(A49638<>\"\",IF(Main!$E$12=\"ALL\",A49638,IF(Main!$E$12=A49638,A49638,\"\")),\"\")","v":""},"","","","","","","",""]
[{"$nulls":23},{"$f":"IF(A49639<>\"\",IF(Main!$E$12=\"ALL\",A49639,IF(Main!$E$12=A49639,A49639,\"\")),\"\")","v":""},"","","","","","","",""]
[{"$nulls":23},{"$f":"IF(A49640<>\"\",IF(Main!$E$12=\"ALL\",A49640,IF(Main!$E$12=A49640,A49640,\"\")),\"\")","v":""},"","","","","","","",""]
[{"$nulls":23},{"$f":"IF(A49641<>\"\",IF(Main!$E$12=\"ALL\",A49641,IF(Main!$E$12=A49641,A49641,\"\")),\"\")","v":""},"","","","","","","",""]
[{"$nulls":23},{"$f":"IF(A49642<>\"\",IF(Main!$E$12=\"ALL\",A49642,IF(Main!$E$12=A49642,A49642,\"\")),\"\")","v":""},"","","","","","","",""]
[{"$nulls":23},{"$f":"IF(A49643<>\"\",IF(Main!$E$12=\"ALL\",A49643,IF(Main!$E$12=A49643,A49643,\"\")),\"\")","v":""},"","","","","","","",""]
[{"$nulls":23},{"$f":"IF(A49644<>\"\",IF(Main!$E$12=\"ALL\",A49644,IF(Main!$E$12=A49644,A49644,\"\")),\"\")","v":""},"","","","","","","",""]
[{"$nulls":23},{"$f":"IF(A49645<>\"\",IF(Main!$E$12=\"ALL\",A49645,IF(Main!$E$12=A49645,A49645,\"\")),\"\")","v":""},"","","","","","","",""]
[{"$nulls":23},{"$f":"IF(A49646<>\"\",IF(Main!$E$12=\"ALL\",A49646,IF(Main!$E$12=A49646,A49646,\"\")),\"\")","v":""},"","","","","","","",""]
[{"$nulls":23},{"$f":"IF(A49647<>\"\",IF(Main!$E$12=\"ALL\",A49647,IF(Main!$E$12=A49647,A49647,\"\")),\"\")","v":""},"","","","","","","",""]
[{"$nulls":23},{"$f":"IF(A49648<>\"\",IF(Main!$E$12=\"ALL\",A49648,IF(Main!$E$12=A49648,A49648,\"\")),\"\")","v":""},"","","","","","","",""]
[{"$nulls":23},{"$f":"IF(A49649<>\"\",IF(Main!$E$12=\"ALL\",A49649,IF(Main!$E$12=A49649,A49649,\"\")),\"\")","v":""},"","","","","","","",""]
[{"$nulls":23},{"$f":"IF(A49650<>\"\",IF(Main!$E$12=\"ALL\",A49650,IF(Main!$E$12=A49650,A49650,\"\")),\"\")","v":""},"","","","","","","",""]
[{"$nulls":23},{"$f":"IF(A49651<>\"\",IF(Main!$E$12=\"ALL\",A49651,IF(Main!$E$12=A49651,A49651,\"\")),\"\")","v":""},"","","","","","","",""]
[{"$nulls":23},{"$f":"IF(A49652<>\"\",IF(Main!$E$12=\"ALL\",A49652,IF(Main!$E$12=A49652,A49652,\"\")),\"\")","v":""},"","","","","","","",""]
[{"$nulls":23},{"$f":"IF(A49653<>\"\",IF(Main!$E$12=\"ALL\",A49653,IF(Main!$E$12=A49653,A49653,\"\")),\"\")","v":""},"","","","","","","",""]
[{"$nulls":23},{"$f":"IF(A49654<>\"\",IF(Main!$E$12=\"ALL\",A49654,IF(Main!$E$12=A49654,A49654,\"\")),\"\")","v":""},"","","","","","","",""]
[{"$nulls":23},{"$f":"IF(A49655<>\"\",IF(Main!$E$12=\"ALL\",A49655,IF(Main!$E$12=A49655,A49655,\"\")),\"\")","v":""},"","","","","","","",""]
[{"$nulls":23},{"$f":"IF(A49656<>\"\",IF(Main!$E$12=\"ALL\",A49656,IF(Main!$E$12=A49656,A49656,\"\")),\"\")","v":""},"","","","","","","",""]
[{"$nulls":23},{"$f":"IF(A49657<>\"\",IF(Main!$E$12=\"ALL\",A49657,IF(Main!$E$12=A49657,A49657,\"\")),\"\")","v":""},"","","","","","","",""]
[{"$nulls":23},{"$f":"IF(A49658<>\"\",IF(Main!$E$12=\"ALL\",A49658,IF(Main!$E$12=A49658,A49658,\"\")),\"\")","v":""},"","","","","","","",""]
[{"$nulls":23},{"$f":"IF(A49659<>\"\",IF(Main!$E$12=\"ALL\",A49659,IF(Main!$E$12=A49659,A49659,\"\")),\"\")","v":""},"","","","","","","",""]
[{"$nulls":23},{"$f":"IF(A49660<>\"\",IF(Main!$E$12=\"ALL\",A49660,IF(Main!$E$12=A49660,A49660,\"\")),\"\")","v":""},"","","","","","","",""]
[{"$nulls":23},{"$f":"IF(A49661<>\"\",IF(Main!$E$12=\"ALL\",A49661,IF(Main!$E$12=A49661,A49661,\"\")),\"\")","v":""},"","","","","","","",""]
[{"$nulls":23},{"$f":"IF(A49662<>\"\",IF(Main!$E$12=\"ALL\",A49662,IF(Main!$E$12=A49662,A49662,\"\")),\"\")","v":""},"","","","","","","",""]
[{"$nulls":23},{"$f":"IF(A49663<>\"\",IF(Main!$E$12=\"ALL\",A49663,IF(Main!$E$12=A49663,A49663,\"\")),\"\")","v":""},"","","","","","","",""]
[{"$nulls":23},{"$f":"IF(A49664<>\"\",IF(Main!$E$12=\"ALL\",A49664,IF(Main!$E$12=A49664,A49664,\"\")),\"\")","v":""},"","","","","","","",""]
[{"$nulls":23},{"$f":"IF(A49665<>\"\",IF(Main!$E$12=\"ALL\",A49665,IF(Main!$E$12=A49665,A49665,\"\")),\"\")","v":""},"","","","","","","",""]
[{"$nulls":23},{"$f":"IF(A49666<>\"\",IF(Main!$E$12=\"ALL\",A49666,IF(Main!$E$12=A49666,A49666,\"\")),\"\")","v":""},"","","","","","","",""]
[{"$nulls":23},{"$f":"IF(A49667<>\"\",IF(Main!$E$12=\"ALL\",A49667,IF(Main!$E$12=A49667,A49667,\"\")),\"\")","v":""},{"$f":"IF($X49667=\"\",\"\",D49667)","v":""},{"$f":"IF($X49667=\"\",\"\",F49667)","v":""},{"$f":"IF($X49667=\"\",\"\",J49667)","v":""},{"$f":"IF($X49667=\"\",\"\",N49667)","v":""},{"$f":"IF($X49667=\"\",\"\",IF(P49667=\"\",\"\",P49667))","v":""},{"$f":"IF($X49667=\"\",\"\",R49667)","v":""},{"$f":"IF($X49667=\"\",\"\",T49667)","v":""},{"$f":"IF($X49667=\"\",\"\",V49667)","v":""}]
[{"$nulls":23},{"$f":"IF(A49668<>\"\",IF(Main!$E$12=\"ALL\",A49668,IF(Main!$E$12=A49668,A49668,\"\")),\"\")","v":""},"","","","","","","",""]
[{"$nulls":23},{"$f":"IF(A49669<>\"\",IF(Main!$E$12=\"ALL\",A49669,IF(Main!$E$12=A49669,A49669,\"\")),\"\")","v":""},"","","","","","","",""]
[{"$nulls":23},{"$f":"IF(A49670<>\"\",IF(Main!$E$12=\"ALL\",A49670,IF(Main!$E$12=A49670,A49670,\"\")),\"\")","v":""},"","","","","","","",""]
[{"$nulls":23},{"$f":"IF(A49671<>\"\",IF(Main!$E$12=\"ALL\",A49671,IF(Main!$E$12=A49671,A49671,\"\")),\"\")","v":""},"","","","","","","",""]
[{"$nulls":23},{"$f":"IF(A49672<>\"\",IF(Main!$E$12=\"ALL\",A49672,IF(Main!$E$12=A49672,A49672,\"\")),\"\")","v":""},"","","","","","","",""]
[{"$nulls":23},{"$f":"IF(A49673<>\"\",IF(Main!$E$12=\"ALL\",A49673,IF(Main!$E$12=A49673,A49673,\"\")),\"\")","v":""},"","","","","","","",""]
[{"$nulls":23},{"$f":"IF(A49674<>\"\",IF(Main!$E$12=\"ALL\",A49674,IF(Main!$E$12=A49674,A49674,\"\")),\"\")","v":""},"","","","","","","",""]
[{"$nulls":23},{"$f":"IF(A49675<>\"\",IF(Main!$E$12=\"ALL\",A49675,IF(Main!$E$12=A49675,A49675,\"\")),\"\")","v":""},"","","","","","","",""]
[{"$nulls":23},{"$f":"IF(A49676<>\"\",IF(Main!$E$12=\"ALL\",A49676,IF(Main!$E$12=A49676,A49676,\"\")),\"\")","v":""},"","","","","","","",""]
[{"$nulls":23},{"$f":"IF(A49677<>\"\",IF(Main!$E$12=\"ALL\",A49677,IF(Main!$E$12=A49677,A49677,\"\")),\"\")","v":""},"","","","","","","",""]
[{"$nulls":23},{"$f":"IF(A49678<>\"\",IF(Main!$E$12=\"ALL\",A49678,IF(Main!$E$12=A49678,A49678,\"\")),\"\")","v":""},"","","","","","","",""]
[{"$nulls":23},{"$f":"IF(A49679<>\"\",IF(Main!$E$12=\"ALL\",A49679,IF(Main!$E$12=A49679,A49679,\"\")),\"\")","v":""},"","","","","","","",""]
[{"$nulls":23},{"$f":"IF(A49680<>\"\",IF(Main!$E$12=\"ALL\",A49680,IF(Main!$E$12=A49680,A49680,\"\")),\"\")","v":""},"","","","","","","",""]
[{"$nulls":23},{"$f":"IF(A49681<>\"\",IF(Main!$E$12=\"ALL\",A49681,IF(Main!$E$12=A49681,A49681,\"\")),\"\")","v":""},"","","","","","","",""]
[{"$nulls":23},{"$f":"IF(A49682<>\"\",IF(Main!$E$12=\"ALL\",A49682,IF(Main!$E$12=A49682,A49682,\"\")),\"\")","v":""},"","","","","","","",""]
[{"$nulls":23},{"$f":"IF(A49683<>\"\",IF(Main!$E$12=\"ALL\",A49683,IF(Main!$E$12=A49683,A49683,\"\")),\"\")","v":""},"","","","","","","",""]
[{"$nulls":23},{"$f":"IF(A49684<>\"\",IF(Main!$E$12=\"ALL\",A49684,IF(Main!$E$12=A49684,A49684,\"\")),\"\")","v":""},"","","","","","","",""]
[{"$nulls":23},{"$f":"IF(A49685<>\"\",IF(Main!$E$12=\"ALL\",A49685,IF(Main!$E$12=A49685,A49685,\"\")),\"\")","v":""},"","","","","","","",""]
[{"$nulls":23},{"$f":"IF(A49686<>\"\",IF(Main!$E$12=\"ALL\",A49686,IF(Main!$E$12=A49686,A49686,\"\")),\"\")","v":""},"","","","","","","",""]
[{"$nulls":23},{"$f":"IF(A49687<>\"\",IF(Main!$E$12=\"ALL\",A49687,IF(Main!$E$12=A49687,A49687,\"\")),\"\")","v":""},"","","","","","","",""]
[{"$nulls":23},{"$f":"IF(A49688<>\"\",IF(Main!$E$12=\"ALL\",A49688,IF(Main!$E$12=A49688,A49688,\"\")),\"\")","v":""},"","","","","","","",""]
[{"$nulls":23},{"$f":"IF(A49689<>\"\",IF(Main!$E$12=\"ALL\",A49689,IF(Main!$E$12=A49689,A49689,\"\")),\"\")","v":""},"","","","","","","",""]
[{"$nulls":23},{"$f":"IF(A49690<>\"\",IF(Main!$E$12=\"ALL\",A49690,IF(Main!$E$12=A49690,A49690,\"\")),\"\")","v":""},"","","","","","","",""]
[{"$nulls":23},{"$f":"IF(A49691<>\"\",IF(Main!$E$12=\"ALL\",A49691,IF(Main!$E$12=A49691,A49691,\"\")),\"\")","v":""},"","","","","","","",""]
[{"$nulls":23},{"$f":"IF(A49692<>\"\",IF(Main!$E$12=\"ALL\",A49692,IF(Main!$E$12=A49692,A49692,\"\")),\"\")","v":""},"","","","","","","",""]
[{"$nulls":23},{"$f":"IF(A49693<>\"\",IF(Main!$E$12=\"ALL\",A49693,IF(Main!$E$12=A49693,A49693,\"\")),\"\")","v":""},"","","","","","","",""]
[{"$nulls":23},{"$f":"IF(A49694<>\"\",IF(Main!$E$12=\"ALL\",A49694,IF(Main!$E$12=A49694,A49694,\"\")),\"\")","v":""},"","","","","","","",""]
[{"$nulls":23},{"$f":"IF(A49695<>\"\",IF(Main!$E$12=\"ALL\",A49695,IF(Main!$E$12=A49695,A49695,\"\")),\"\")","v":""},"","","","","","","",""]
[{"$nulls":23},{"$f":"IF(A49696<>\"\",IF(Main!$E$12=\"ALL\",A49696,IF(Main!$E$12=A49696,A49696,\"\")),\"\")","v":""},"","","","","","","",""]
[{"$nulls":23},{"$f":"IF(A49697<>\"\",IF(Main!$E$12=\"ALL\",A49697,IF(Main!$E$12=A49697,A49697,\"\")),\"\")","v":""},"","","","","","","",""]
[{"$nulls":23},{"$f":"IF(A49698<>\"\",IF(Main!$E$12=\"ALL\",A49698,IF(Main!$E$12=A49698,A49698,\"\")),\"\")","v":""},"","","","","","","",""]
[{"$nulls":23},{"$f":"IF(A49699<>\"\",IF(Main!$E$12=\"ALL\",A49699,IF(Main!$E$12=A49699,A49699,\"\")),\"\")","v":""},"","","","","","","",""]
[{"$nulls":23},{"$f":"IF(A49700<>\"\",IF(Main!$E$12=\"ALL\",A49700,IF(Main!$E$12=A49700,A49700,\"\")),\"\")","v":""},"","","","","","","",""]
[{"$nulls":23},{"$f":"IF(A49701<>\"\",IF(Main!$E$12=\"ALL\",A49701,IF(Main!$E$12=A49701,A49701,\"\")),\"\")","v":""},"","","","","","","",""]
[{"$nulls":23},{"$f":"IF(A49702<>\"\",IF(Main!$E$12=\"ALL\",A49702,IF(Main!$E$12=A49702,A49702,\"\")),\"\")","v":""},"","","","","","","",""]
[{"$nulls":23},{"$f":"IF(A49703<>\"\",IF(Main!$E$12=\"ALL\",A49703,IF(Main!$E$12=A49703,A49703,\"\")),\"\")","v":""},"","","","","","","",""]
[{"$nulls":23},{"$f":"IF(A49704<>\"\",IF(Main!$E$12=\"ALL\",A49704,IF(Main!$E$12=A49704,A49704,\"\")),\"\")","v":""},"","","","","","","",""]
[{"$nulls":23},{"$f":"IF(A49705<>\"\",IF(Main!$E$12=\"ALL\",A49705,IF(Main!$E$12=A49705,A49705,\"\")),\"\")","v":""},"","","","","","","",""]
[{"$nulls":23},{"$f":"IF(A49706<>\"\",IF(Main!$E$12=\"ALL\",A49706,IF(Main!$E$12=A49706,A49706,\"\")),\"\")","v":""},"","","","","","","",""]
[{"$nulls":23},{"$f":"IF(A49707<>\"\",IF(Main!$E$12=\"ALL\",A49707,IF(Main!$E$12=A49707,A49707,\"\")),\"\")","v":""},"","","","","","","",""]
[{"$nulls":23},{"$f":"IF(A49708<>\"\",IF(Main!$E$12=\"ALL\",A49708,IF(Main!$E$12=A49708,A49708,\"\")),\"\")","v":""},"","","","","","","",""]
[{"$nulls":23},{"$f":"IF(A49709<>\"\",IF(Main!$E$12=\"ALL\",A49709,IF(Main!$E$12=A49709,A49709,\"\")),\"\")","v":""},"","","","","","","",""]
[{"$nulls":23},{"$f":"IF(A49710<>\"\",IF(Main!$E$12=\"ALL\",A49710,IF(Main!$E$12=A49710,A49710,\"\")),\"\")","v":""},"","","","","","","",""]
[{"$nulls":23},{"$f":"IF(A49711<>\"\",IF(Main!$E$12=\"ALL\",A49711,IF(Main!$E$12=A49711,A49711,\"\")),\"\")","v":""},"","","","","","","",""]
[{"$nulls":23},{"$f":"IF(A49712<>\"\",IF(Main!$E$12=\"ALL\",A49712,IF(Main!$E$12=A49712,A49712,\"\")),\"\")","v":""},"","","","","","","",""]
[{"$nulls":23},{"$f":"IF(A49713<>\"\",IF(Main!$E$12=\"ALL\",A49713,IF(Main!$E$12=A49713,A49713,\"\")),\"\")","v":""},"","","","","","","",""]
[{"$nulls":23},{"$f":"IF(A49714<>\"\",IF(Main!$E$12=\"ALL\",A49714,IF(Main!$E$12=A49714,A49714,\"\")),\"\")","v":""},"","","","","","","",""]
[{"$nulls":23},{"$f":"IF(A49715<>\"\",IF(Main!$E$12=\"ALL\",A49715,IF(Main!$E$12=A49715,A49715,\"\")),\"\")","v":""},"","","","","","","",""]
[{"$nulls":23},{"$f":"IF(A49716<>\"\",IF(Main!$E$12=\"ALL\",A49716,IF(Main!$E$12=A49716,A49716,\"\")),\"\")","v":""},"","","","","","","",""]
[{"$nulls":23},{"$f":"IF(A49717<>\"\",IF(Main!$E$12=\"ALL\",A49717,IF(Main!$E$12=A49717,A49717,\"\")),\"\")","v":""},"","","","","","","",""]
[{"$nulls":23},{"$f":"IF(A49718<>\"\",IF(Main!$E$12=\"ALL\",A49718,IF(Main!$E$12=A49718,A49718,\"\")),\"\")","v":""},"","","","","","","",""]
[{"$nulls":23},{"$f":"IF(A49719<>\"\",IF(Main!$E$12=\"ALL\",A49719,IF(Main!$E$12=A49719,A49719,\"\")),\"\")","v":""},"","","","","","","",""]
[{"$nulls":23},{"$f":"IF(A49720<>\"\",IF(Main!$E$12=\"ALL\",A49720,IF(Main!$E$12=A49720,A49720,\"\")),\"\")","v":""},"","","","","","","",""]
[{"$nulls":23},{"$f":"IF(A49721<>\"\",IF(Main!$E$12=\"ALL\",A49721,IF(Main!$E$12=A49721,A49721,\"\")),\"\")","v":""},"","","","","","","",""]
[{"$nulls":23},{"$f":"IF(A49722<>\"\",IF(Main!$E$12=\"ALL\",A49722,IF(Main!$E$12=A49722,A49722,\"\")),\"\")","v":""},"","","","","","","",""]
[{"$nulls":23},{"$f":"IF(A49723<>\"\",IF(Main!$E$12=\"ALL\",A49723,IF(Main!$E$12=A49723,A49723,\"\")),\"\")","v":""},"","","","","","","",""]
[{"$nulls":23},{"$f":"IF(A49724<>\"\",IF(Main!$E$12=\"ALL\",A49724,IF(Main!$E$12=A49724,A49724,\"\")),\"\")","v":""},"","","","","","","",""]
[{"$nulls":23},{"$f":"IF(A49725<>\"\",IF(Main!$E$12=\"ALL\",A49725,IF(Main!$E$12=A49725,A49725,\"\")),\"\")","v":""},"","","","","","","",""]
[{"$nulls":23},{"$f":"IF(A49726<>\"\",IF(Main!$E$12=\"ALL\",A49726,IF(Main!$E$12=A49726,A49726,\"\")),\"\")","v":""},"","","","","","","",""]
[{"$nulls":23},{"$f":"IF(A49727<>\"\",IF(Main!$E$12=\"ALL\",A49727,IF(Main!$E$12=A49727,A49727,\"\")),\"\")","v":""},"","","","","","","",""]
[{"$nulls":23},{"$f":"IF(A49728<>\"\",IF(Main!$E$12=\"ALL\",A49728,IF(Main!$E$12=A49728,A49728,\"\")),\"\")","v":""},"","","","","","","",""]
[{"$nulls":23},{"$f":"IF(A49729<>\"\",IF(Main!$E$12=\"ALL\",A49729,IF(Main!$E$12=A49729,A49729,\"\")),\"\")","v":""},"","","","","","","",""]
[{"$nulls":23},{"$f":"IF(A49730<>\"\",IF(Main!$E$12=\"ALL\",A49730,IF(Main!$E$12=A49730,A49730,\"\")),\"\")","v":""},"","","","","","","",""]
[{"$nulls":23},{"$f":"IF(A49731<>\"\",IF(Main!$E$12=\"ALL\",A49731,IF(Main!$E$12=A49731,A49731,\"\")),\"\")","v":""},{"$f":"IF($X49731=\"\",\"\",D49731)","v":""},{"$f":"IF($X49731=\"\",\"\",F49731)","v":""},{"$f":"IF($X49731=\"\",\"\",J49731)","v":""},{"$f":"IF($X49731=\"\",\"\",N49731)","v":""},{"$f":"IF($X49731=\"\",\"\",IF(P49731=\"\",\"\",P49731))","v":""},{"$f":"IF($X49731=\"\",\"\",R49731)","v":""},{"$f":"IF($X49731=\"\",\"\",T49731)","v":""},{"$f":"IF($X49731=\"\",\"\",V49731)","v":""}]
[{"$nulls":23},{"$f":"IF(A49732<>\"\",IF(Main!$E$12=\"ALL\",A49732,IF(Main!$E$12=A49732,A49732,\"\")),\"\")","v":""},"","","","","","","",""]
[{"$nulls":23},{"$f":"IF(A49733<>\"\",IF(Main!$E$12=\"ALL\",A49733,IF(Main!$E$12=A49733,A49733,\"\")),\"\")","v":""},"","","","","","","",""]
[{"$nulls":23},{"$f":"IF(A49734<>\"\",IF(Main!$E$12=\"ALL\",A49734,IF(Main!$E$12=A49734,A49734,\"\")),\"\")","v":""},"","","","","","","",""]
[{"$nulls":23},{"$f":"IF(A49735<>\"\",IF(Main!$E$12=\"ALL\",A49735,IF(Main!$E$12=A49735,A49735,\"\")),\"\")","v":""},"","","","","","","",""]
[{"$nulls":23},{"$f":"IF(A49736<>\"\",IF(Main!$E$12=\"ALL\",A49736,IF(Main!$E$12=A49736,A49736,\"\")),\"\")","v":""},"","","","","","","",""]
[{"$nulls":23},{"$f":"IF(A49737<>\"\",IF(Main!$E$12=\"ALL\",A49737,IF(Main!$E$12=A49737,A49737,\"\")),\"\")","v":""},"","","","","","","",""]
[{"$nulls":23},{"$f":"IF(A49738<>\"\",IF(Main!$E$12=\"ALL\",A49738,IF(Main!$E$12=A49738,A49738,\"\")),\"\")","v":""},"","","","","","","",""]
[{"$nulls":23},{"$f":"IF(A49739<>\"\",IF(Main!$E$12=\"ALL\",A49739,IF(Main!$E$12=A49739,A49739,\"\")),\"\")","v":""},"","","","","","","",""]
[{"$nulls":23},{"$f":"IF(A49740<>\"\",IF(Main!$E$12=\"ALL\",A49740,IF(Main!$E$12=A49740,A49740,\"\")),\"\")","v":""},"","","","","","","",""]
[{"$nulls":23},{"$f":"IF(A49741<>\"\",IF(Main!$E$12=\"ALL\",A49741,IF(Main!$E$12=A49741,A49741,\"\")),\"\")","v":""},"","","","","","","",""]
[{"$nulls":23},{"$f":"IF(A49742<>\"\",IF(Main!$E$12=\"ALL\",A49742,IF(Main!$E$12=A49742,A49742,\"\")),\"\")","v":""},"","","","","","","",""]
[{"$nulls":23},{"$f":"IF(A49743<>\"\",IF(Main!$E$12=\"ALL\",A49743,IF(Main!$E$12=A49743,A49743,\"\")),\"\")","v":""},"","","","","","","",""]
[{"$nulls":23},{"$f":"IF(A49744<>\"\",IF(Main!$E$12=\"ALL\",A49744,IF(Main!$E$12=A49744,A49744,\"\")),\"\")","v":""},"","","","","","","",""]
[{"$nulls":23},{"$f":"IF(A49745<>\"\",IF(Main!$E$12=\"ALL\",A49745,IF(Main!$E$12=A49745,A49745,\"\")),\"\")","v":""},"","","","","","","",""]
[{"$nulls":23},{"$f":"IF(A49746<>\"\",IF(Main!$E$12=\"ALL\",A49746,IF(Main!$E$12=A49746,A49746,\"\")),\"\")","v":""},"","","","","","","",""]
[{"$nulls":23},{"$f":"IF(A49747<>\"\",IF(Main!$E$12=\"ALL\",A49747,IF(Main!$E$12=A49747,A49747,\"\")),\"\")","v":""},"","","","","","","",""]
[{"$nulls":23},{"$f":"IF(A49748<>\"\",IF(Main!$E$12=\"ALL\",A49748,IF(Main!$E$12=A49748,A49748,\"\")),\"\")","v":""},"","","","","","","",""]
[{"$nulls":23},{"$f":"IF(A49749<>\"\",IF(Main!$E$12=\"ALL\",A49749,IF(Main!$E$12=A49749,A49749,\"\")),\"\")","v":""},"","","","","","","",""]
[{"$nulls":23},{"$f":"IF(A49750<>\"\",IF(Main!$E$12=\"ALL\",A49750,IF(Main!$E$12=A49750,A49750,\"\")),\"\")","v":""},"","","","","","","",""]
[{"$nulls":23},{"$f":"IF(A49751<>\"\",IF(Main!$E$12=\"ALL\",A49751,IF(Main!$E$12=A49751,A49751,\"\")),\"\")","v":""},"","","","","","","",""]
[{"$nulls":23},{"$f":"IF(A49752<>\"\",IF(Main!$E$12=\"ALL\",A49752,IF(Main!$E$12=A49752,A49752,\"\")),\"\")","v":""},"","","","","","","",""]
[{"$nulls":23},{"$f":"IF(A49753<>\"\",IF(Main!$E$12=\"ALL\",A49753,IF(Main!$E$12=A49753,A49753,\"\")),\"\")","v":""},"","","","","","","",""]
[{"$nulls":23},{"$f":"IF(A49754<>\"\",IF(Main!$E$12=\"ALL\",A49754,IF(Main!$E$12=A49754,A49754,\"\")),\"\")","v":""},"","","","","","","",""]
[{"$nulls":23},{"$f":"IF(A49755<>\"\",IF(Main!$E$12=\"ALL\",A49755,IF(Main!$E$12=A49755,A49755,\"\")),\"\")","v":""},"","","","","","","",""]
[{"$nulls":23},{"$f":"IF(A49756<>\"\",IF(Main!$E$12=\"ALL\",A49756,IF(Main!$E$12=A49756,A49756,\"\")),\"\")","v":""},"","","","","","","",""]
[{"$nulls":23},{"$f":"IF(A49757<>\"\",IF(Main!$E$12=\"ALL\",A49757,IF(Main!$E$12=A49757,A49757,\"\")),\"\")","v":""},"","","","","","","",""]
[{"$nulls":23},{"$f":"IF(A49758<>\"\",IF(Main!$E$12=\"ALL\",A49758,IF(Main!$E$12=A49758,A49758,\"\")),\"\")","v":""},"","","","","","","",""]
[{"$nulls":23},{"$f":"IF(A49759<>\"\",IF(Main!$E$12=\"ALL\",A49759,IF(Main!$E$12=A49759,A49759,\"\")),\"\")","v":""},"","","","","","","",""]
[{"$nulls":23},{"$f":"IF(A49760<>\"\",IF(Main!$E$12=\"ALL\",A49760,IF(Main!$E$12=A49760,A49760,\"\")),\"\")","v":""},"","","","","","","",""]
[{"$nulls":23},{"$f":"IF(A49761<>\"\",IF(Main!$E$12=\"ALL\",A49761,IF(Main!$E$12=A49761,A49761,\"\")),\"\")","v":""},"","","","","","","",""]
[{"$nulls":23},{"$f":"IF(A49762<>\"\",IF(Main!$E$12=\"ALL\",A49762,IF(Main!$E$12=A49762,A49762,\"\")),\"\")","v":""},"","","","","","","",""]
[{"$nulls":23},{"$f":"IF(A49763<>\"\",IF(Main!$E$12=\"ALL\",A49763,IF(Main!$E$12=A49763,A49763,\"\")),\"\")","v":""},"","","","","","","",""]
[{"$nulls":23},{"$f":"IF(A49764<>\"\",IF(Main!$E$12=\"ALL\",A49764,IF(Main!$E$12=A49764,A49764,\"\")),\"\")","v":""},"","","","","","","",""]
[{"$nulls":23},{"$f":"IF(A49765<>\"\",IF(Main!$E$12=\"ALL\",A49765,IF(Main!$E$12=A49765,A49765,\"\")),\"\")","v":""},"","","","","","","",""]
[{"$nulls":23},{"$f":"IF(A49766<>\"\",IF(Main!$E$12=\"ALL\",A49766,IF(Main!$E$12=A49766,A49766,\"\")),\"\")","v":""},"","","","","","","",""]
[{"$nulls":23},{"$f":"IF(A49767<>\"\",IF(Main!$E$12=\"ALL\",A49767,IF(Main!$E$12=A49767,A49767,\"\")),\"\")","v":""},"","","","","","","",""]
[{"$nulls":23},{"$f":"IF(A49768<>\"\",IF(Main!$E$12=\"ALL\",A49768,IF(Main!$E$12=A49768,A49768,\"\")),\"\")","v":""},"","","","","","","",""]
[{"$nulls":23},{"$f":"IF(A49769<>\"\",IF(Main!$E$12=\"ALL\",A49769,IF(Main!$E$12=A49769,A49769,\"\")),\"\")","v":""},"","","","","","","",""]
[{"$nulls":23},{"$f":"IF(A49770<>\"\",IF(Main!$E$12=\"ALL\",A49770,IF(Main!$E$12=A49770,A49770,\"\")),\"\")","v":""},"","","","","","","",""]
[{"$nulls":23},{"$f":"IF(A49771<>\"\",IF(Main!$E$12=\"ALL\",A49771,IF(Main!$E$12=A49771,A49771,\"\")),\"\")","v":""},"","","","","","","",""]
[{"$nulls":23},{"$f":"IF(A49772<>\"\",IF(Main!$E$12=\"ALL\",A49772,IF(Main!$E$12=A49772,A49772,\"\")),\"\")","v":""},"","","","","","","",""]
[{"$nulls":23},{"$f":"IF(A49773<>\"\",IF(Main!$E$12=\"ALL\",A49773,IF(Main!$E$12=A49773,A49773,\"\")),\"\")","v":""},"","","","","","","",""]
[{"$nulls":23},{"$f":"IF(A49774<>\"\",IF(Main!$E$12=\"ALL\",A49774,IF(Main!$E$12=A49774,A49774,\"\")),\"\")","v":""},"","","","","","","",""]
[{"$nulls":23},{"$f":"IF(A49775<>\"\",IF(Main!$E$12=\"ALL\",A49775,IF(Main!$E$12=A49775,A49775,\"\")),\"\")","v":""},"","","","","","","",""]
[{"$nulls":23},{"$f":"IF(A49776<>\"\",IF(Main!$E$12=\"ALL\",A49776,IF(Main!$E$12=A49776,A49776,\"\")),\"\")","v":""},"","","","","","","",""]
[{"$nulls":23},{"$f":"IF(A49777<>\"\",IF(Main!$E$12=\"ALL\",A49777,IF(Main!$E$12=A49777,A49777,\"\")),\"\")","v":""},"","","","","","","",""]
[{"$nulls":23},{"$f":"IF(A49778<>\"\",IF(Main!$E$12=\"ALL\",A49778,IF(Main!$E$12=A49778,A49778,\"\")),\"\")","v":""},"","","","","","","",""]
[{"$nulls":23},{"$f":"IF(A49779<>\"\",IF(Main!$E$12=\"ALL\",A49779,IF(Main!$E$12=A49779,A49779,\"\")),\"\")","v":""},"","","","","","","",""]
[{"$nulls":23},{"$f":"IF(A49780<>\"\",IF(Main!$E$12=\"ALL\",A49780,IF(Main!$E$12=A49780,A49780,\"\")),\"\")","v":""},"","","","","","","",""]
[{"$nulls":23},{"$f":"IF(A49781<>\"\",IF(Main!$E$12=\"ALL\",A49781,IF(Main!$E$12=A49781,A49781,\"\")),\"\")","v":""},"","","","","","","",""]
[{"$nulls":23},{"$f":"IF(A49782<>\"\",IF(Main!$E$12=\"ALL\",A49782,IF(Main!$E$12=A49782,A49782,\"\")),\"\")","v":""},"","","","","","","",""]
[{"$nulls":23},{"$f":"IF(A49783<>\"\",IF(Main!$E$12=\"ALL\",A49783,IF(Main!$E$12=A49783,A49783,\"\")),\"\")","v":""},"","","","","","","",""]
[{"$nulls":23},{"$f":"IF(A49784<>\"\",IF(Main!$E$12=\"ALL\",A49784,IF(Main!$E$12=A49784,A49784,\"\")),\"\")","v":""},"","","","","","","",""]
[{"$nulls":23},{"$f":"IF(A49785<>\"\",IF(Main!$E$12=\"ALL\",A49785,IF(Main!$E$12=A49785,A49785,\"\")),\"\")","v":""},"","","","","","","",""]
[{"$nulls":23},{"$f":"IF(A49786<>\"\",IF(Main!$E$12=\"ALL\",A49786,IF(Main!$E$12=A49786,A49786,\"\")),\"\")","v":""},"","","","","","","",""]
[{"$nulls":23},{"$f":"IF(A49787<>\"\",IF(Main!$E$12=\"ALL\",A49787,IF(Main!$E$12=A49787,A49787,\"\")),\"\")","v":""},"","","","","","","",""]
[{"$nulls":23},{"$f":"IF(A49788<>\"\",IF(Main!$E$12=\"ALL\",A49788,IF(Main!$E$12=A49788,A49788,\"\")),\"\")","v":""},"","","","","","","",""]
[{"$nulls":23},{"$f":"IF(A49789<>\"\",IF(Main!$E$12=\"ALL\",A49789,IF(Main!$E$12=A49789,A49789,\"\")),\"\")","v":""},"","","","","","","",""]
[{"$nulls":23},{"$f":"IF(A49790<>\"\",IF(Main!$E$12=\"ALL\",A49790,IF(Main!$E$12=A49790,A49790,\"\")),\"\")","v":""},"","","","","","","",""]
[{"$nulls":23},{"$f":"IF(A49791<>\"\",IF(Main!$E$12=\"ALL\",A49791,IF(Main!$E$12=A49791,A49791,\"\")),\"\")","v":""},"","","","","","","",""]
[{"$nulls":23},{"$f":"IF(A49792<>\"\",IF(Main!$E$12=\"ALL\",A49792,IF(Main!$E$12=A49792,A49792,\"\")),\"\")","v":""},"","","","","","","",""]
[{"$nulls":23},{"$f":"IF(A49793<>\"\",IF(Main!$E$12=\"ALL\",A49793,IF(Main!$E$12=A49793,A49793,\"\")),\"\")","v":""},"","","","","","","",""]
[{"$nulls":23},{"$f":"IF(A49794<>\"\",IF(Main!$E$12=\"ALL\",A49794,IF(Main!$E$12=A49794,A49794,\"\")),\"\")","v":""},"","","","","","","",""]
[{"$nulls":23},{"$f":"IF(A49795<>\"\",IF(Main!$E$12=\"ALL\",A49795,IF(Main!$E$12=A49795,A49795,\"\")),\"\")","v":""},{"$f":"IF($X49795=\"\",\"\",D49795)","v":""},{"$f":"IF($X49795=\"\",\"\",F49795)","v":""},{"$f":"IF($X49795=\"\",\"\",J49795)","v":""},{"$f":"IF($X49795=\"\",\"\",N49795)","v":""},{"$f":"IF($X49795=\"\",\"\",IF(P49795=\"\",\"\",P49795))","v":""},{"$f":"IF($X49795=\"\",\"\",R49795)","v":""},{"$f":"IF($X49795=\"\",\"\",T49795)","v":""},{"$f":"IF($X49795=\"\",\"\",V49795)","v":""}]
[{"$nulls":23},{"$f":"IF(A49796<>\"\",IF(Main!$E$12=\"ALL\",A49796,IF(Main!$E$12=A49796,A49796,\"\")),\"\")","v":""},"","","","","","","",""]
[{"$nulls":23},{"$f":"IF(A49797<>\"\",IF(Main!$E$12=\"ALL\",A49797,IF(Main!$E$12=A49797,A49797,\"\")),\"\")","v":""},"","","","","","","",""]
[{"$nulls":23},{"$f":"IF(A49798<>\"\",IF(Main!$E$12=\"ALL\",A49798,IF(Main!$E$12=A49798,A49798,\"\")),\"\")","v":""},"","","","","","","",""]
[{"$nulls":23},{"$f":"IF(A49799<>\"\",IF(Main!$E$12=\"ALL\",A49799,IF(Main!$E$12=A49799,A49799,\"\")),\"\")","v":""},"","","","","","","",""]
[{"$nulls":23},{"$f":"IF(A49800<>\"\",IF(Main!$E$12=\"ALL\",A49800,IF(Main!$E$12=A49800,A49800,\"\")),\"\")","v":""},"","","","","","","",""]
[{"$nulls":23},{"$f":"IF(A49801<>\"\",IF(Main!$E$12=\"ALL\",A49801,IF(Main!$E$12=A49801,A49801,\"\")),\"\")","v":""},"","","","","","","",""]
[{"$nulls":23},{"$f":"IF(A49802<>\"\",IF(Main!$E$12=\"ALL\",A49802,IF(Main!$E$12=A49802,A49802,\"\")),\"\")","v":""},"","","","","","","",""]
[{"$nulls":23},{"$f":"IF(A49803<>\"\",IF(Main!$E$12=\"ALL\",A49803,IF(Main!$E$12=A49803,A49803,\"\")),\"\")","v":""},"","","","","","","",""]
[{"$nulls":23},{"$f":"IF(A49804<>\"\",IF(Main!$E$12=\"ALL\",A49804,IF(Main!$E$12=A49804,A49804,\"\")),\"\")","v":""},"","","","","","","",""]
[{"$nulls":23},{"$f":"IF(A49805<>\"\",IF(Main!$E$12=\"ALL\",A49805,IF(Main!$E$12=A49805,A49805,\"\")),\"\")","v":""},"","","","","","","",""]
[{"$nulls":23},{"$f":"IF(A49806<>\"\",IF(Main!$E$12=\"ALL\",A49806,IF(Main!$E$12=A49806,A49806,\"\")),\"\")","v":""},"","","","","","","",""]
[{"$nulls":23},{"$f":"IF(A49807<>\"\",IF(Main!$E$12=\"ALL\",A49807,IF(Main!$E$12=A49807,A49807,\"\")),\"\")","v":""},"","","","","","","",""]
[{"$nulls":23},{"$f":"IF(A49808<>\"\",IF(Main!$E$12=\"ALL\",A49808,IF(Main!$E$12=A49808,A49808,\"\")),\"\")","v":""},"","","","","","","",""]
[{"$nulls":23},{"$f":"IF(A49809<>\"\",IF(Main!$E$12=\"ALL\",A49809,IF(Main!$E$12=A49809,A49809,\"\")),\"\")","v":""},"","","","","","","",""]
[{"$nulls":23},{"$f":"IF(A49810<>\"\",IF(Main!$E$12=\"ALL\",A49810,IF(Main!$E$12=A49810,A49810,\"\")),\"\")","v":""},"","","","","","","",""]
[{"$nulls":23},{"$f":"IF(A49811<>\"\",IF(Main!$E$12=\"ALL\",A49811,IF(Main!$E$12=A49811,A49811,\"\")),\"\")","v":""},"","","","","","","",""]
[{"$nulls":23},{"$f":"IF(A49812<>\"\",IF(Main!$E$12=\"ALL\",A49812,IF(Main!$E$12=A49812,A49812,\"\")),\"\")","v":""},"","","","","","","",""]
[{"$nulls":23},{"$f":"IF(A49813<>\"\",IF(Main!$E$12=\"ALL\",A49813,IF(Main!$E$12=A49813,A49813,\"\")),\"\")","v":""},"","","","","","","",""]
[{"$nulls":23},{"$f":"IF(A49814<>\"\",IF(Main!$E$12=\"ALL\",A49814,IF(Main!$E$12=A49814,A49814,\"\")),\"\")","v":""},"","","","","","","",""]
[{"$nulls":23},{"$f":"IF(A49815<>\"\",IF(Main!$E$12=\"ALL\",A49815,IF(Main!$E$12=A49815,A49815,\"\")),\"\")","v":""},"","","","","","","",""]
[{"$nulls":23},{"$f":"IF(A49816<>\"\",IF(Main!$E$12=\"ALL\",A49816,IF(Main!$E$12=A49816,A49816,\"\")),\"\")","v":""},"","","","","","","",""]
[{"$nulls":23},{"$f":"IF(A49817<>\"\",IF(Main!$E$12=\"ALL\",A49817,IF(Main!$E$12=A49817,A49817,\"\")),\"\")","v":""},"","","","","","","",""]
[{"$nulls":23},{"$f":"IF(A49818<>\"\",IF(Main!$E$12=\"ALL\",A49818,IF(Main!$E$12=A49818,A49818,\"\")),\"\")","v":""},"","","","","","","",""]
[{"$nulls":23},{"$f":"IF(A49819<>\"\",IF(Main!$E$12=\"ALL\",A49819,IF(Main!$E$12=A49819,A49819,\"\")),\"\")","v":""},"","","","","","","",""]
[{"$nulls":23},{"$f":"IF(A49820<>\"\",IF(Main!$E$12=\"ALL\",A49820,IF(Main!$E$12=A49820,A49820,\"\")),\"\")","v":""},"","","","","","","",""]
[{"$nulls":23},{"$f":"IF(A49821<>\"\",IF(Main!$E$12=\"ALL\",A49821,IF(Main!$E$12=A49821,A49821,\"\")),\"\")","v":""},"","","","","","","",""]
[{"$nulls":23},{"$f":"IF(A49822<>\"\",IF(Main!$E$12=\"ALL\",A49822,IF(Main!$E$12=A49822,A49822,\"\")),\"\")","v":""},"","","","","","","",""]
[{"$nulls":23},{"$f":"IF(A49823<>\"\",IF(Main!$E$12=\"ALL\",A49823,IF(Main!$E$12=A49823,A49823,\"\")),\"\")","v":""},"","","","","","","",""]
[{"$nulls":23},{"$f":"IF(A49824<>\"\",IF(Main!$E$12=\"ALL\",A49824,IF(Main!$E$12=A49824,A49824,\"\")),\"\")","v":""},"","","","","","","",""]
[{"$nulls":23},{"$f":"IF(A49825<>\"\",IF(Main!$E$12=\"ALL\",A49825,IF(Main!$E$12=A49825,A49825,\"\")),\"\")","v":""},"","","","","","","",""]
[{"$nulls":23},{"$f":"IF(A49826<>\"\",IF(Main!$E$12=\"ALL\",A49826,IF(Main!$E$12=A49826,A49826,\"\")),\"\")","v":""},"","","","","","","",""]
[{"$nulls":23},{"$f":"IF(A49827<>\"\",IF(Main!$E$12=\"ALL\",A49827,IF(Main!$E$12=A49827,A49827,\"\")),\"\")","v":""},"","","","","","","",""]
[{"$nulls":23},{"$f":"IF(A49828<>\"\",IF(Main!$E$12=\"ALL\",A49828,IF(Main!$E$12=A49828,A49828,\"\")),\"\")","v":""},"","","","","","","",""]
[{"$nulls":23},{"$f":"IF(A49829<>\"\",IF(Main!$E$12=\"ALL\",A49829,IF(Main!$E$12=A49829,A49829,\"\")),\"\")","v":""},"","","","","","","",""]
[{"$nulls":23},{"$f":"IF(A49830<>\"\",IF(Main!$E$12=\"ALL\",A49830,IF(Main!$E$12=A49830,A49830,\"\")),\"\")","v":""},"","","","","","","",""]
[{"$nulls":23},{"$f":"IF(A49831<>\"\",IF(Main!$E$12=\"ALL\",A49831,IF(Main!$E$12=A49831,A49831,\"\")),\"\")","v":""},"","","","","","","",""]
[{"$nulls":23},{"$f":"IF(A49832<>\"\",IF(Main!$E$12=\"ALL\",A49832,IF(Main!$E$12=A49832,A49832,\"\")),\"\")","v":""},"","","","","","","",""]
[{"$nulls":23},{"$f":"IF(A49833<>\"\",IF(Main!$E$12=\"ALL\",A49833,IF(Main!$E$12=A49833,A49833,\"\")),\"\")","v":""},"","","","","","","",""]
[{"$nulls":23},{"$f":"IF(A49834<>\"\",IF(Main!$E$12=\"ALL\",A49834,IF(Main!$E$12=A49834,A49834,\"\")),\"\")","v":""},"","","","","","","",""]
[{"$nulls":23},{"$f":"IF(A49835<>\"\",IF(Main!$E$12=\"ALL\",A49835,IF(Main!$E$12=A49835,A49835,\"\")),\"\")","v":""},"","","","","","","",""]
[{"$nulls":23},{"$f":"IF(A49836<>\"\",IF(Main!$E$12=\"ALL\",A49836,IF(Main!$E$12=A49836,A49836,\"\")),\"\")","v":""},"","","","","","","",""]
[{"$nulls":23},{"$f":"IF(A49837<>\"\",IF(Main!$E$12=\"ALL\",A49837,IF(Main!$E$12=A49837,A49837,\"\")),\"\")","v":""},"","","","","","","",""]
[{"$nulls":23},{"$f":"IF(A49838<>\"\",IF(Main!$E$12=\"ALL\",A49838,IF(Main!$E$12=A49838,A49838,\"\")),\"\")","v":""},"","","","","","","",""]
[{"$nulls":23},{"$f":"IF(A49839<>\"\",IF(Main!$E$12=\"ALL\",A49839,IF(Main!$E$12=A49839,A49839,\"\")),\"\")","v":""},"","","","","","","",""]
[{"$nulls":23},{"$f":"IF(A49840<>\"\",IF(Main!$E$12=\"ALL\",A49840,IF(Main!$E$12=A49840,A49840,\"\")),\"\")","v":""},"","","","","","","",""]
[{"$nulls":23},{"$f":"IF(A49841<>\"\",IF(Main!$E$12=\"ALL\",A49841,IF(Main!$E$12=A49841,A49841,\"\")),\"\")","v":""},"","","","","","","",""]
[{"$nulls":23},{"$f":"IF(A49842<>\"\",IF(Main!$E$12=\"ALL\",A49842,IF(Main!$E$12=A49842,A49842,\"\")),\"\")","v":""},"","","","","","","",""]
[{"$nulls":23},{"$f":"IF(A49843<>\"\",IF(Main!$E$12=\"ALL\",A49843,IF(Main!$E$12=A49843,A49843,\"\")),\"\")","v":""},"","","","","","","",""]
[{"$nulls":23},{"$f":"IF(A49844<>\"\",IF(Main!$E$12=\"ALL\",A49844,IF(Main!$E$12=A49844,A49844,\"\")),\"\")","v":""},"","","","","","","",""]
[{"$nulls":23},{"$f":"IF(A49845<>\"\",IF(Main!$E$12=\"ALL\",A49845,IF(Main!$E$12=A49845,A49845,\"\")),\"\")","v":""},"","","","","","","",""]
[{"$nulls":23},{"$f":"IF(A49846<>\"\",IF(Main!$E$12=\"ALL\",A49846,IF(Main!$E$12=A49846,A49846,\"\")),\"\")","v":""},"","","","","","","",""]
[{"$nulls":23},{"$f":"IF(A49847<>\"\",IF(Main!$E$12=\"ALL\",A49847,IF(Main!$E$12=A49847,A49847,\"\")),\"\")","v":""},"","","","","","","",""]
[{"$nulls":23},{"$f":"IF(A49848<>\"\",IF(Main!$E$12=\"ALL\",A49848,IF(Main!$E$12=A49848,A49848,\"\")),\"\")","v":""},"","","","","","","",""]
[{"$nulls":23},{"$f":"IF(A49849<>\"\",IF(Main!$E$12=\"ALL\",A49849,IF(Main!$E$12=A49849,A49849,\"\")),\"\")","v":""},"","","","","","","",""]
[{"$nulls":23},{"$f":"IF(A49850<>\"\",IF(Main!$E$12=\"ALL\",A49850,IF(Main!$E$12=A49850,A49850,\"\")),\"\")","v":""},"","","","","","","",""]
[{"$nulls":23},{"$f":"IF(A49851<>\"\",IF(Main!$E$12=\"ALL\",A49851,IF(Main!$E$12=A49851,A49851,\"\")),\"\")","v":""},"","","","","","","",""]
[{"$nulls":23},{"$f":"IF(A49852<>\"\",IF(Main!$E$12=\"ALL\",A49852,IF(Main!$E$12=A49852,A49852,\"\")),\"\")","v":""},"","","","","","","",""]
[{"$nulls":23},{"$f":"IF(A49853<>\"\",IF(Main!$E$12=\"ALL\",A49853,IF(Main!$E$12=A49853,A49853,\"\")),\"\")","v":""},"","","","","","","",""]
[{"$nulls":23},{"$f":"IF(A49854<>\"\",IF(Main!$E$12=\"ALL\",A49854,IF(Main!$E$12=A49854,A49854,\"\")),\"\")","v":""},"","","","","","","",""]
[{"$nulls":23},{"$f":"IF(A49855<>\"\",IF(Main!$E$12=\"ALL\",A49855,IF(Main!$E$12=A49855,A49855,\"\")),\"\")","v":""},"","","","","","","",""]
[{"$nulls":23},{"$f":"IF(A49856<>\"\",IF(Main!$E$12=\"ALL\",A49856,IF(Main!$E$12=A49856,A49856,\"\")),\"\")","v":""},"","","","","","","",""]
[{"$nulls":23},{"$f":"IF(A49857<>\"\",IF(Main!$E$12=\"ALL\",A49857,IF(Main!$E$12=A49857,A49857,\"\")),\"\")","v":""},"","","","","","","",""]
[{"$nulls":23},{"$f":"IF(A49858<>\"\",IF(Main!$E$12=\"ALL\",A49858,IF(Main!$E$12=A49858,A49858,\"\")),\"\")","v":""},"","","","","","","",""]
[{"$nulls":23},{"$f":"IF(A49859<>\"\",IF(Main!$E$12=\"ALL\",A49859,IF(Main!$E$12=A49859,A49859,\"\")),\"\")","v":""},{"$f":"IF($X49859=\"\",\"\",D49859)","v":""},{"$f":"IF($X49859=\"\",\"\",F49859)","v":""},{"$f":"IF($X49859=\"\",\"\",J49859)","v":""},{"$f":"IF($X49859=\"\",\"\",N49859)","v":""},{"$f":"IF($X49859=\"\",\"\",IF(P49859=\"\",\"\",P49859))","v":""},{"$f":"IF($X49859=\"\",\"\",R49859)","v":""},{"$f":"IF($X49859=\"\",\"\",T49859)","v":""},{"$f":"IF($X49859=\"\",\"\",V49859)","v":""}]
[{"$nulls":23},{"$f":"IF(A49860<>\"\",IF(Main!$E$12=\"ALL\",A49860,IF(Main!$E$12=A49860,A49860,\"\")),\"\")","v":""},"","","","","","","",""]
[{"$nulls":23},{"$f":"IF(A49861<>\"\",IF(Main!$E$12=\"ALL\",A49861,IF(Main!$E$12=A49861,A49861,\"\")),\"\")","v":""},"","","","","","","",""]
[{"$nulls":23},{"$f":"IF(A49862<>\"\",IF(Main!$E$12=\"ALL\",A49862,IF(Main!$E$12=A49862,A49862,\"\")),\"\")","v":""},"","","","","","","",""]
[{"$nulls":23},{"$f":"IF(A49863<>\"\",IF(Main!$E$12=\"ALL\",A49863,IF(Main!$E$12=A49863,A49863,\"\")),\"\")","v":""},"","","","","","","",""]
[{"$nulls":23},{"$f":"IF(A49864<>\"\",IF(Main!$E$12=\"ALL\",A49864,IF(Main!$E$12=A49864,A49864,\"\")),\"\")","v":""},"","","","","","","",""]
[{"$nulls":23},{"$f":"IF(A49865<>\"\",IF(Main!$E$12=\"ALL\",A49865,IF(Main!$E$12=A49865,A49865,\"\")),\"\")","v":""},"","","","","","","",""]
[{"$nulls":23},{"$f":"IF(A49866<>\"\",IF(Main!$E$12=\"ALL\",A49866,IF(Main!$E$12=A49866,A49866,\"\")),\"\")","v":""},"","","","","","","",""]
[{"$nulls":23},{"$f":"IF(A49867<>\"\",IF(Main!$E$12=\"ALL\",A49867,IF(Main!$E$12=A49867,A49867,\"\")),\"\")","v":""},"","","","","","","",""]
[{"$nulls":23},{"$f":"IF(A49868<>\"\",IF(Main!$E$12=\"ALL\",A49868,IF(Main!$E$12=A49868,A49868,\"\")),\"\")","v":""},"","","","","","","",""]
[{"$nulls":23},{"$f":"IF(A49869<>\"\",IF(Main!$E$12=\"ALL\",A49869,IF(Main!$E$12=A49869,A49869,\"\")),\"\")","v":""},"","","","","","","",""]
[{"$nulls":23},{"$f":"IF(A49870<>\"\",IF(Main!$E$12=\"ALL\",A49870,IF(Main!$E$12=A49870,A49870,\"\")),\"\")","v":""},"","","","","","","",""]
[{"$nulls":23},{"$f":"IF(A49871<>\"\",IF(Main!$E$12=\"ALL\",A49871,IF(Main!$E$12=A49871,A49871,\"\")),\"\")","v":""},"","","","","","","",""]
[{"$nulls":23},{"$f":"IF(A49872<>\"\",IF(Main!$E$12=\"ALL\",A49872,IF(Main!$E$12=A49872,A49872,\"\")),\"\")","v":""},"","","","","","","",""]
[{"$nulls":23},{"$f":"IF(A49873<>\"\",IF(Main!$E$12=\"ALL\",A49873,IF(Main!$E$12=A49873,A49873,\"\")),\"\")","v":""},"","","","","","","",""]
[{"$nulls":23},{"$f":"IF(A49874<>\"\",IF(Main!$E$12=\"ALL\",A49874,IF(Main!$E$12=A49874,A49874,\"\")),\"\")","v":""},"","","","","","","",""]
[{"$nulls":23},{"$f":"IF(A49875<>\"\",IF(Main!$E$12=\"ALL\",A49875,IF(Main!$E$12=A49875,A49875,\"\")),\"\")","v":""},"","","","","","","",""]
[{"$nulls":23},{"$f":"IF(A49876<>\"\",IF(Main!$E$12=\"ALL\",A49876,IF(Main!$E$12=A49876,A49876,\"\")),\"\")","v":""},"","","","","","","",""]
[{"$nulls":23},{"$f":"IF(A49877<>\"\",IF(Main!$E$12=\"ALL\",A49877,IF(Main!$E$12=A49877,A49877,\"\")),\"\")","v":""},"","","","","","","",""]
[{"$nulls":23},{"$f":"IF(A49878<>\"\",IF(Main!$E$12=\"ALL\",A49878,IF(Main!$E$12=A49878,A49878,\"\")),\"\")","v":""},"","","","","","","",""]
[{"$nulls":23},{"$f":"IF(A49879<>\"\",IF(Main!$E$12=\"ALL\",A49879,IF(Main!$E$12=A49879,A49879,\"\")),\"\")","v":""},"","","","","","","",""]
[{"$nulls":23},{"$f":"IF(A49880<>\"\",IF(Main!$E$12=\"ALL\",A49880,IF(Main!$E$12=A49880,A49880,\"\")),\"\")","v":""},"","","","","","","",""]
[{"$nulls":23},{"$f":"IF(A49881<>\"\",IF(Main!$E$12=\"ALL\",A49881,IF(Main!$E$12=A49881,A49881,\"\")),\"\")","v":""},"","","","","","","",""]
[{"$nulls":23},{"$f":"IF(A49882<>\"\",IF(Main!$E$12=\"ALL\",A49882,IF(Main!$E$12=A49882,A49882,\"\")),\"\")","v":""},"","","","","","","",""]
[{"$nulls":23},{"$f":"IF(A49883<>\"\",IF(Main!$E$12=\"ALL\",A49883,IF(Main!$E$12=A49883,A49883,\"\")),\"\")","v":""},"","","","","","","",""]
[{"$nulls":23},{"$f":"IF(A49884<>\"\",IF(Main!$E$12=\"ALL\",A49884,IF(Main!$E$12=A49884,A49884,\"\")),\"\")","v":""},"","","","","","","",""]
[{"$nulls":23},{"$f":"IF(A49885<>\"\",IF(Main!$E$12=\"ALL\",A49885,IF(Main!$E$12=A49885,A49885,\"\")),\"\")","v":""},"","","","","","","",""]
[{"$nulls":23},{"$f":"IF(A49886<>\"\",IF(Main!$E$12=\"ALL\",A49886,IF(Main!$E$12=A49886,A49886,\"\")),\"\")","v":""},"","","","","","","",""]
[{"$nulls":23},{"$f":"IF(A49887<>\"\",IF(Main!$E$12=\"ALL\",A49887,IF(Main!$E$12=A49887,A49887,\"\")),\"\")","v":""},"","","","","","","",""]
[{"$nulls":23},{"$f":"IF(A49888<>\"\",IF(Main!$E$12=\"ALL\",A49888,IF(Main!$E$12=A49888,A49888,\"\")),\"\")","v":""},"","","","","","","",""]
[{"$nulls":23},{"$f":"IF(A49889<>\"\",IF(Main!$E$12=\"ALL\",A49889,IF(Main!$E$12=A49889,A49889,\"\")),\"\")","v":""},"","","","","","","",""]
[{"$nulls":23},{"$f":"IF(A49890<>\"\",IF(Main!$E$12=\"ALL\",A49890,IF(Main!$E$12=A49890,A49890,\"\")),\"\")","v":""},"","","","","","","",""]
[{"$nulls":23},{"$f":"IF(A49891<>\"\",IF(Main!$E$12=\"ALL\",A49891,IF(Main!$E$12=A49891,A49891,\"\")),\"\")","v":""},"","","","","","","",""]
[{"$nulls":23},{"$f":"IF(A49892<>\"\",IF(Main!$E$12=\"ALL\",A49892,IF(Main!$E$12=A49892,A49892,\"\")),\"\")","v":""},"","","","","","","",""]
[{"$nulls":23},{"$f":"IF(A49893<>\"\",IF(Main!$E$12=\"ALL\",A49893,IF(Main!$E$12=A49893,A49893,\"\")),\"\")","v":""},"","","","","","","",""]
[{"$nulls":23},{"$f":"IF(A49894<>\"\",IF(Main!$E$12=\"ALL\",A49894,IF(Main!$E$12=A49894,A49894,\"\")),\"\")","v":""},"","","","","","","",""]
[{"$nulls":23},{"$f":"IF(A49895<>\"\",IF(Main!$E$12=\"ALL\",A49895,IF(Main!$E$12=A49895,A49895,\"\")),\"\")","v":""},"","","","","","","",""]
[{"$nulls":23},{"$f":"IF(A49896<>\"\",IF(Main!$E$12=\"ALL\",A49896,IF(Main!$E$12=A49896,A49896,\"\")),\"\")","v":""},"","","","","","","",""]
[{"$nulls":23},{"$f":"IF(A49897<>\"\",IF(Main!$E$12=\"ALL\",A49897,IF(Main!$E$12=A49897,A49897,\"\")),\"\")","v":""},"","","","","","","",""]
[{"$nulls":23},{"$f":"IF(A49898<>\"\",IF(Main!$E$12=\"ALL\",A49898,IF(Main!$E$12=A49898,A49898,\"\")),\"\")","v":""},"","","","","","","",""]
[{"$nulls":23},{"$f":"IF(A49899<>\"\",IF(Main!$E$12=\"ALL\",A49899,IF(Main!$E$12=A49899,A49899,\"\")),\"\")","v":""},"","","","","","","",""]
[{"$nulls":23},{"$f":"IF(A49900<>\"\",IF(Main!$E$12=\"ALL\",A49900,IF(Main!$E$12=A49900,A49900,\"\")),\"\")","v":""},"","","","","","","",""]
[{"$nulls":23},{"$f":"IF(A49901<>\"\",IF(Main!$E$12=\"ALL\",A49901,IF(Main!$E$12=A49901,A49901,\"\")),\"\")","v":""},"","","","","","","",""]
[{"$nulls":23},{"$f":"IF(A49902<>\"\",IF(Main!$E$12=\"ALL\",A49902,IF(Main!$E$12=A49902,A49902,\"\")),\"\")","v":""},"","","","","","","",""]
[{"$nulls":23},{"$f":"IF(A49903<>\"\",IF(Main!$E$12=\"ALL\",A49903,IF(Main!$E$12=A49903,A49903,\"\")),\"\")","v":""},"","","","","","","",""]
[{"$nulls":23},{"$f":"IF(A49904<>\"\",IF(Main!$E$12=\"ALL\",A49904,IF(Main!$E$12=A49904,A49904,\"\")),\"\")","v":""},"","","","","","","",""]
[{"$nulls":23},{"$f":"IF(A49905<>\"\",IF(Main!$E$12=\"ALL\",A49905,IF(Main!$E$12=A49905,A49905,\"\")),\"\")","v":""},"","","","","","","",""]
[{"$nulls":23},{"$f":"IF(A49906<>\"\",IF(Main!$E$12=\"ALL\",A49906,IF(Main!$E$12=A49906,A49906,\"\")),\"\")","v":""},"","","","","","","",""]
[{"$nulls":23},{"$f":"IF(A49907<>\"\",IF(Main!$E$12=\"ALL\",A49907,IF(Main!$E$12=A49907,A49907,\"\")),\"\")","v":""},"","","","","","","",""]
[{"$nulls":23},{"$f":"IF(A49908<>\"\",IF(Main!$E$12=\"ALL\",A49908,IF(Main!$E$12=A49908,A49908,\"\")),\"\")","v":""},"","","","","","","",""]
[{"$nulls":23},{"$f":"IF(A49909<>\"\",IF(Main!$E$12=\"ALL\",A49909,IF(Main!$E$12=A49909,A49909,\"\")),\"\")","v":""},"","","","","","","",""]
[{"$nulls":23},{"$f":"IF(A49910<>\"\",IF(Main!$E$12=\"ALL\",A49910,IF(Main!$E$12=A49910,A49910,\"\")),\"\")","v":""},"","","","","","","",""]
[{"$nulls":23},{"$f":"IF(A49911<>\"\",IF(Main!$E$12=\"ALL\",A49911,IF(Main!$E$12=A49911,A49911,\"\")),\"\")","v":""},"","","","","","","",""]
[{"$nulls":23},{"$f":"IF(A49912<>\"\",IF(Main!$E$12=\"ALL\",A49912,IF(Main!$E$12=A49912,A49912,\"\")),\"\")","v":""},"","","","","","","",""]
[{"$nulls":23},{"$f":"IF(A49913<>\"\",IF(Main!$E$12=\"ALL\",A49913,IF(Main!$E$12=A49913,A49913,\"\")),\"\")","v":""},"","","","","","","",""]
[{"$nulls":23},{"$f":"IF(A49914<>\"\",IF(Main!$E$12=\"ALL\",A49914,IF(Main!$E$12=A49914,A49914,\"\")),\"\")","v":""},"","","","","","","",""]
[{"$nulls":23},{"$f":"IF(A49915<>\"\",IF(Main!$E$12=\"ALL\",A49915,IF(Main!$E$12=A49915,A49915,\"\")),\"\")","v":""},"","","","","","","",""]
[{"$nulls":23},{"$f":"IF(A49916<>\"\",IF(Main!$E$12=\"ALL\",A49916,IF(Main!$E$12=A49916,A49916,\"\")),\"\")","v":""},"","","","","","","",""]
[{"$nulls":23},{"$f":"IF(A49917<>\"\",IF(Main!$E$12=\"ALL\",A49917,IF(Main!$E$12=A49917,A49917,\"\")),\"\")","v":""},"","","","","","","",""]
[{"$nulls":23},{"$f":"IF(A49918<>\"\",IF(Main!$E$12=\"ALL\",A49918,IF(Main!$E$12=A49918,A49918,\"\")),\"\")","v":""},"","","","","","","",""]
[{"$nulls":23},{"$f":"IF(A49919<>\"\",IF(Main!$E$12=\"ALL\",A49919,IF(Main!$E$12=A49919,A49919,\"\")),\"\")","v":""},"","","","","","","",""]
[{"$nulls":23},{"$f":"IF(A49920<>\"\",IF(Main!$E$12=\"ALL\",A49920,IF(Main!$E$12=A49920,A49920,\"\")),\"\")","v":""},"","","","","","","",""]
[{"$nulls":23},{"$f":"IF(A49921<>\"\",IF(Main!$E$12=\"ALL\",A49921,IF(Main!$E$12=A49921,A49921,\"\")),\"\")","v":""},"","","","","","","",""]
[{"$nulls":23},{"$f":"IF(A49922<>\"\",IF(Main!$E$12=\"ALL\",A49922,IF(Main!$E$12=A49922,A49922,\"\")),\"\")","v":""},"","","","","","","",""]
[{"$nulls":23},{"$f":"IF(A49923<>\"\",IF(Main!$E$12=\"ALL\",A49923,IF(Main!$E$12=A49923,A49923,\"\")),\"\")","v":""},{"$f":"IF($X49923=\"\",\"\",D49923)","v":""},{"$f":"IF($X49923=\"\",\"\",F49923)","v":""},{"$f":"IF($X49923=\"\",\"\",J49923)","v":""},{"$f":"IF($X49923=\"\",\"\",N49923)","v":""},{"$f":"IF($X49923=\"\",\"\",IF(P49923=\"\",\"\",P49923))","v":""},{"$f":"IF($X49923=\"\",\"\",R49923)","v":""},{"$f":"IF($X49923=\"\",\"\",T49923)","v":""},{"$f":"IF($X49923=\"\",\"\",V49923)","v":""}]
[{"$nulls":23},{"$f":"IF(A49924<>\"\",IF(Main!$E$12=\"ALL\",A49924,IF(Main!$E$12=A49924,A49924,\"\")),\"\")","v":""},"","","","","","","",""]
[{"$nulls":23},{"$f":"IF(A49925<>\"\",IF(Main!$E$12=\"ALL\",A49925,IF(Main!$E$12=A49925,A49925,\"\")),\"\")","v":""},"","","","","","","",""]
[{"$nulls":23},{"$f":"IF(A49926<>\"\",IF(Main!$E$12=\"ALL\",A49926,IF(Main!$E$12=A49926,A49926,\"\")),\"\")","v":""},"","","","","","","",""]
[{"$nulls":23},{"$f":"IF(A49927<>\"\",IF(Main!$E$12=\"ALL\",A49927,IF(Main!$E$12=A49927,A49927,\"\")),\"\")","v":""},"","","","","","","",""]
[{"$nulls":23},{"$f":"IF(A49928<>\"\",IF(Main!$E$12=\"ALL\",A49928,IF(Main!$E$12=A49928,A49928,\"\")),\"\")","v":""},"","","","","","","",""]
[{"$nulls":23},{"$f":"IF(A49929<>\"\",IF(Main!$E$12=\"ALL\",A49929,IF(Main!$E$12=A49929,A49929,\"\")),\"\")","v":""},"","","","","","","",""]
[{"$nulls":23},{"$f":"IF(A49930<>\"\",IF(Main!$E$12=\"ALL\",A49930,IF(Main!$E$12=A49930,A49930,\"\")),\"\")","v":""},"","","","","","","",""]
[{"$nulls":23},{"$f":"IF(A49931<>\"\",IF(Main!$E$12=\"ALL\",A49931,IF(Main!$E$12=A49931,A49931,\"\")),\"\")","v":""},"","","","","","","",""]
[{"$nulls":23},{"$f":"IF(A49932<>\"\",IF(Main!$E$12=\"ALL\",A49932,IF(Main!$E$12=A49932,A49932,\"\")),\"\")","v":""},"","","","","","","",""]
[{"$nulls":23},{"$f":"IF(A49933<>\"\",IF(Main!$E$12=\"ALL\",A49933,IF(Main!$E$12=A49933,A49933,\"\")),\"\")","v":""},"","","","","","","",""]
[{"$nulls":23},{"$f":"IF(A49934<>\"\",IF(Main!$E$12=\"ALL\",A49934,IF(Main!$E$12=A49934,A49934,\"\")),\"\")","v":""},"","","","","","","",""]
[{"$nulls":23},{"$f":"IF(A49935<>\"\",IF(Main!$E$12=\"ALL\",A49935,IF(Main!$E$12=A49935,A49935,\"\")),\"\")","v":""},"","","","","","","",""]
[{"$nulls":23},{"$f":"IF(A49936<>\"\",IF(Main!$E$12=\"ALL\",A49936,IF(Main!$E$12=A49936,A49936,\"\")),\"\")","v":""},"","","","","","","",""]
[{"$nulls":23},{"$f":"IF(A49937<>\"\",IF(Main!$E$12=\"ALL\",A49937,IF(Main!$E$12=A49937,A49937,\"\")),\"\")","v":""},"","","","","","","",""]
[{"$nulls":23},{"$f":"IF(A49938<>\"\",IF(Main!$E$12=\"ALL\",A49938,IF(Main!$E$12=A49938,A49938,\"\")),\"\")","v":""},"","","","","","","",""]
[{"$nulls":23},{"$f":"IF(A49939<>\"\",IF(Main!$E$12=\"ALL\",A49939,IF(Main!$E$12=A49939,A49939,\"\")),\"\")","v":""},"","","","","","","",""]
[{"$nulls":23},{"$f":"IF(A49940<>\"\",IF(Main!$E$12=\"ALL\",A49940,IF(Main!$E$12=A49940,A49940,\"\")),\"\")","v":""},"","","","","","","",""]
[{"$nulls":23},{"$f":"IF(A49941<>\"\",IF(Main!$E$12=\"ALL\",A49941,IF(Main!$E$12=A49941,A49941,\"\")),\"\")","v":""},"","","","","","","",""]
[{"$nulls":23},{"$f":"IF(A49942<>\"\",IF(Main!$E$12=\"ALL\",A49942,IF(Main!$E$12=A49942,A49942,\"\")),\"\")","v":""},"","","","","","","",""]
[{"$nulls":23},{"$f":"IF(A49943<>\"\",IF(Main!$E$12=\"ALL\",A49943,IF(Main!$E$12=A49943,A49943,\"\")),\"\")","v":""},"","","","","","","",""]
[{"$nulls":23},{"$f":"IF(A49944<>\"\",IF(Main!$E$12=\"ALL\",A49944,IF(Main!$E$12=A49944,A49944,\"\")),\"\")","v":""},"","","","","","","",""]
[{"$nulls":23},{"$f":"IF(A49945<>\"\",IF(Main!$E$12=\"ALL\",A49945,IF(Main!$E$12=A49945,A49945,\"\")),\"\")","v":""},"","","","","","","",""]
[{"$nulls":23},{"$f":"IF(A49946<>\"\",IF(Main!$E$12=\"ALL\",A49946,IF(Main!$E$12=A49946,A49946,\"\")),\"\")","v":""},"","","","","","","",""]
[{"$nulls":23},{"$f":"IF(A49947<>\"\",IF(Main!$E$12=\"ALL\",A49947,IF(Main!$E$12=A49947,A49947,\"\")),\"\")","v":""},"","","","","","","",""]
[{"$nulls":23},{"$f":"IF(A49948<>\"\",IF(Main!$E$12=\"ALL\",A49948,IF(Main!$E$12=A49948,A49948,\"\")),\"\")","v":""},"","","","","","","",""]
[{"$nulls":23},{"$f":"IF(A49949<>\"\",IF(Main!$E$12=\"ALL\",A49949,IF(Main!$E$12=A49949,A49949,\"\")),\"\")","v":""},"","","","","","","",""]
[{"$nulls":23},{"$f":"IF(A49950<>\"\",IF(Main!$E$12=\"ALL\",A49950,IF(Main!$E$12=A49950,A49950,\"\")),\"\")","v":""},"","","","","","","",""]
[{"$nulls":23},{"$f":"IF(A49951<>\"\",IF(Main!$E$12=\"ALL\",A49951,IF(Main!$E$12=A49951,A49951,\"\")),\"\")","v":""},"","","","","","","",""]
[{"$nulls":23},{"$f":"IF(A49952<>\"\",IF(Main!$E$12=\"ALL\",A49952,IF(Main!$E$12=A49952,A49952,\"\")),\"\")","v":""},"","","","","","","",""]
[{"$nulls":23},{"$f":"IF(A49953<>\"\",IF(Main!$E$12=\"ALL\",A49953,IF(Main!$E$12=A49953,A49953,\"\")),\"\")","v":""},"","","","","","","",""]
[{"$nulls":23},{"$f":"IF(A49954<>\"\",IF(Main!$E$12=\"ALL\",A49954,IF(Main!$E$12=A49954,A49954,\"\")),\"\")","v":""},"","","","","","","",""]
[{"$nulls":23},{"$f":"IF(A49955<>\"\",IF(Main!$E$12=\"ALL\",A49955,IF(Main!$E$12=A49955,A49955,\"\")),\"\")","v":""},"","","","","","","",""]
[{"$nulls":23},{"$f":"IF(A49956<>\"\",IF(Main!$E$12=\"ALL\",A49956,IF(Main!$E$12=A49956,A49956,\"\")),\"\")","v":""},"","","","","","","",""]
[{"$nulls":23},{"$f":"IF(A49957<>\"\",IF(Main!$E$12=\"ALL\",A49957,IF(Main!$E$12=A49957,A49957,\"\")),\"\")","v":""},"","","","","","","",""]
[{"$nulls":23},{"$f":"IF(A49958<>\"\",IF(Main!$E$12=\"ALL\",A49958,IF(Main!$E$12=A49958,A49958,\"\")),\"\")","v":""},"","","","","","","",""]
[{"$nulls":23},{"$f":"IF(A49959<>\"\",IF(Main!$E$12=\"ALL\",A49959,IF(Main!$E$12=A49959,A49959,\"\")),\"\")","v":""},"","","","","","","",""]
[{"$nulls":23},{"$f":"IF(A49960<>\"\",IF(Main!$E$12=\"ALL\",A49960,IF(Main!$E$12=A49960,A49960,\"\")),\"\")","v":""},"","","","","","","",""]
[{"$nulls":23},{"$f":"IF(A49961<>\"\",IF(Main!$E$12=\"ALL\",A49961,IF(Main!$E$12=A49961,A49961,\"\")),\"\")","v":""},"","","","","","","",""]
[{"$nulls":23},{"$f":"IF(A49962<>\"\",IF(Main!$E$12=\"ALL\",A49962,IF(Main!$E$12=A49962,A49962,\"\")),\"\")","v":""},"","","","","","","",""]
[{"$nulls":23},{"$f":"IF(A49963<>\"\",IF(Main!$E$12=\"ALL\",A49963,IF(Main!$E$12=A49963,A49963,\"\")),\"\")","v":""},"","","","","","","",""]
[{"$nulls":23},{"$f":"IF(A49964<>\"\",IF(Main!$E$12=\"ALL\",A49964,IF(Main!$E$12=A49964,A49964,\"\")),\"\")","v":""},"","","","","","","",""]
[{"$nulls":23},{"$f":"IF(A49965<>\"\",IF(Main!$E$12=\"ALL\",A49965,IF(Main!$E$12=A49965,A49965,\"\")),\"\")","v":""},"","","","","","","",""]
[{"$nulls":23},{"$f":"IF(A49966<>\"\",IF(Main!$E$12=\"ALL\",A49966,IF(Main!$E$12=A49966,A49966,\"\")),\"\")","v":""},"","","","","","","",""]
[{"$nulls":23},{"$f":"IF(A49967<>\"\",IF(Main!$E$12=\"ALL\",A49967,IF(Main!$E$12=A49967,A49967,\"\")),\"\")","v":""},"","","","","","","",""]
[{"$nulls":23},{"$f":"IF(A49968<>\"\",IF(Main!$E$12=\"ALL\",A49968,IF(Main!$E$12=A49968,A49968,\"\")),\"\")","v":""},"","","","","","","",""]
[{"$nulls":23},{"$f":"IF(A49969<>\"\",IF(Main!$E$12=\"ALL\",A49969,IF(Main!$E$12=A49969,A49969,\"\")),\"\")","v":""},"","","","","","","",""]
[{"$nulls":23},{"$f":"IF(A49970<>\"\",IF(Main!$E$12=\"ALL\",A49970,IF(Main!$E$12=A49970,A49970,\"\")),\"\")","v":""},"","","","","","","",""]
[{"$nulls":23},{"$f":"IF(A49971<>\"\",IF(Main!$E$12=\"ALL\",A49971,IF(Main!$E$12=A49971,A49971,\"\")),\"\")","v":""},"","","","","","","",""]
[{"$nulls":23},{"$f":"IF(A49972<>\"\",IF(Main!$E$12=\"ALL\",A49972,IF(Main!$E$12=A49972,A49972,\"\")),\"\")","v":""},"","","","","","","",""]
[{"$nulls":23},{"$f":"IF(A49973<>\"\",IF(Main!$E$12=\"ALL\",A49973,IF(Main!$E$12=A49973,A49973,\"\")),\"\")","v":""},"","","","","","","",""]
[{"$nulls":23},{"$f":"IF(A49974<>\"\",IF(Main!$E$12=\"ALL\",A49974,IF(Main!$E$12=A49974,A49974,\"\")),\"\")","v":""},"","","","","","","",""]
[{"$nulls":23},{"$f":"IF(A49975<>\"\",IF(Main!$E$12=\"ALL\",A49975,IF(Main!$E$12=A49975,A49975,\"\")),\"\")","v":""},"","","","","","","",""]
[{"$nulls":23},{"$f":"IF(A49976<>\"\",IF(Main!$E$12=\"ALL\",A49976,IF(Main!$E$12=A49976,A49976,\"\")),\"\")","v":""},"","","","","","","",""]
[{"$nulls":23},{"$f":"IF(A49977<>\"\",IF(Main!$E$12=\"ALL\",A49977,IF(Main!$E$12=A49977,A49977,\"\")),\"\")","v":""},"","","","","","","",""]
[{"$nulls":23},{"$f":"IF(A49978<>\"\",IF(Main!$E$12=\"ALL\",A49978,IF(Main!$E$12=A49978,A49978,\"\")),\"\")","v":""},"","","","","","","",""]
[{"$nulls":23},{"$f":"IF(A49979<>\"\",IF(Main!$E$12=\"ALL\",A49979,IF(Main!$E$12=A49979,A49979,\"\")),\"\")","v":""},"","","","","","","",""]
[{"$nulls":23},{"$f":"IF(A49980<>\"\",IF(Main!$E$12=\"ALL\",A49980,IF(Main!$E$12=A49980,A49980,\"\")),\"\")","v":""},"","","","","","","",""]
[{"$nulls":23},{"$f":"IF(A49981<>\"\",IF(Main!$E$12=\"ALL\",A49981,IF(Main!$E$12=A49981,A49981,\"\")),\"\")","v":""},"","","","","","","",""]
[{"$nulls":23},{"$f":"IF(A49982<>\"\",IF(Main!$E$12=\"ALL\",A49982,IF(Main!$E$12=A49982,A49982,\"\")),\"\")","v":""},"","","","","","","",""]
[{"$nulls":23},{"$f":"IF(A49983<>\"\",IF(Main!$E$12=\"ALL\",A49983,IF(Main!$E$12=A49983,A49983,\"\")),\"\")","v":""},"","","","","","","",""]
[{"$nulls":23},{"$f":"IF(A49984<>\"\",IF(Main!$E$12=\"ALL\",A49984,IF(Main!$E$12=A49984,A49984,\"\")),\"\")","v":""},"","","","","","","",""]
[{"$nulls":23},{"$f":"IF(A49985<>\"\",IF(Main!$E$12=\"ALL\",A49985,IF(Main!$E$12=A49985,A49985,\"\")),\"\")","v":""},"","","","","","","",""]
[{"$nulls":23},{"$f":"IF(A49986<>\"\",IF(Main!$E$12=\"ALL\",A49986,IF(Main!$E$12=A49986,A49986,\"\")),\"\")","v":""},"","","","","","","",""]
[{"$nulls":23},{"$f":"IF(A49987<>\"\",IF(Main!$E$12=\"ALL\",A49987,IF(Main!$E$12=A49987,A49987,\"\")),\"\")","v":""},{"$f":"IF($X49987=\"\",\"\",D49987)","v":""},{"$f":"IF($X49987=\"\",\"\",F49987)","v":""},{"$f":"IF($X49987=\"\",\"\",J49987)","v":""},{"$f":"IF($X49987=\"\",\"\",N49987)","v":""},{"$f":"IF($X49987=\"\",\"\",IF(P49987=\"\",\"\",P49987))","v":""},{"$f":"IF($X49987=\"\",\"\",R49987)","v":""},{"$f":"IF($X49987=\"\",\"\",T49987)","v":""},{"$f":"IF($X49987=\"\",\"\",V49987)","v":""}]
[{"$nulls":23},{"$f":"IF(A49988<>\"\",IF(Main!$E$12=\"ALL\",A49988,IF(Main!$E$12=A49988,A49988,\"\")),\"\")","v":""},"","","","","","","",""]
[{"$nulls":23},{"$f":"IF(A49989<>\"\",IF(Main!$E$12=\"ALL\",A49989,IF(Main!$E$12=A49989,A49989,\"\")),\"\")","v":""},"","","","","","","",""]
[{"$nulls":23},{"$f":"IF(A49990<>\"\",IF(Main!$E$12=\"ALL\",A49990,IF(Main!$E$12=A49990,A49990,\"\")),\"\")","v":""},"","","","","","","",""]
[{"$nulls":23},{"$f":"IF(A49991<>\"\",IF(Main!$E$12=\"ALL\",A49991,IF(Main!$E$12=A49991,A49991,\"\")),\"\")","v":""},"","","","","","","",""]
[{"$nulls":23},{"$f":"IF(A49992<>\"\",IF(Main!$E$12=\"ALL\",A49992,IF(Main!$E$12=A49992,A49992,\"\")),\"\")","v":""},"","","","","","","",""]
[{"$nulls":23},{"$f":"IF(A49993<>\"\",IF(Main!$E$12=\"ALL\",A49993,IF(Main!$E$12=A49993,A49993,\"\")),\"\")","v":""},"","","","","","","",""]
[{"$nulls":23},{"$f":"IF(A49994<>\"\",IF(Main!$E$12=\"ALL\",A49994,IF(Main!$E$12=A49994,A49994,\"\")),\"\")","v":""},"","","","","","","",""]
[{"$nulls":23},{"$f":"IF(A49995<>\"\",IF(Main!$E$12=\"ALL\",A49995,IF(Main!$E$12=A49995,A49995,\"\")),\"\")","v":""},"","","","","","","",""]
[{"$nulls":23},{"$f":"IF(A49996<>\"\",IF(Main!$E$12=\"ALL\",A49996,IF(Main!$E$12=A49996,A49996,\"\")),\"\")","v":""},"","","","","","","",""]
[{"$nulls":23},{"$f":"IF(A49997<>\"\",IF(Main!$E$12=\"ALL\",A49997,IF(Main!$E$12=A49997,A49997,\"\")),\"\")","v":""},"","","","","","","",""]
[{"$nulls":23},{"$f":"IF(A49998<>\"\",IF(Main!$E$12=\"ALL\",A49998,IF(Main!$E$12=A49998,A49998,\"\")),\"\")","v":""},"","","","","","","",""]
[{"$nulls":23},{"$f":"IF(A49999<>\"\",IF(Main!$E$12=\"ALL\",A49999,IF(Main!$E$12=A49999,A49999,\"\")),\"\")","v":""},"","","","","","","",""]
[{"$nulls":23},{"$f":"IF(A50000<>\"\",IF(Main!$E$12=\"ALL\",A50000,IF(Main!$E$12=A50000,A50000,\"\")),\"\")","v":""},"","","","","","","",""]
[{"$nulls":23},{"$f":"IF(A50001<>\"\",IF(Main!$E$12=\"ALL\",A50001,IF(Main!$E$12=A50001,A50001,\"\")),\"\")","v":""},"","","","","","","",""]
[{"$nulls":23},{"$f":"IF(A50002<>\"\",IF(Main!$E$12=\"ALL\",A50002,IF(Main!$E$12=A50002,A50002,\"\")),\"\")","v":""},"","","","","","","",""]

{"sheet":"Instructions","index":2,"n_rows":18,"n_cols":10,"rows_kept":18,"cut":false,"hidden":false,"merged":[]}
[]
[]
[]
[]
[]
[{"$nulls":9},"Instructions"]
[]
[{"$nulls":9},"On the \"Main\" sheet you can add bets and asign them an ID to put them in groups, to create a new \"Sports/Betting ID\" in the lower box type the name you want,"]
[{"$nulls":9}," then you just need to press \"Add ID\" you can then start to add bet information when done you can press \"Add Bet\", "]
[{"$nulls":9},"you are also able to add betting agencies the same way you add the bet id."]
[{"$nulls":9},"When adding new bets to the same id just select it from drop down box add the info needed then press \"Add Ber\" if you have saved betting agencies you can also select that from the other drop down box."]
[{"$nulls":9},"You don't have to add anything to the yellow boxes as they will calculate on there own."]
[]
[{"$nulls":9},"To see how your bets are performing just select the ID from the top box and the info will be shown, if you select \"ALL\" you will see an overall display of info."]
[{"$nulls":9},"You can manually alter the database if needed on the \"Database\" sheet, there are formulas in the grey area and the database will hold 5000 bets,"]
[{"$nulls":9},"if you need more than that you can just extend the formulas at the end in the grey section."]
[]
[{"$nulls":9},"I have left some data on the sheet so you can test, when you are ready just clear rows A2 to V30 leave the headings."]